BEGIN:VCALENDAR
VERSION:2.0
PRODID:-//kalenderwoche.info//Kalender//DE
CALSCALE:GREGORIAN
METHOD:PUBLISH
X-WR-CALNAME:Kalenderwochen 1582
X-WR-CALDESC:Alle Kalenderwochen für das Jahr 1582
X-WR-TIMEZONE:Europe/Berlin
BEGIN:VEVENT
UID:kw-1582-1@kalenderwoche.info
DTSTAMP:20260426T035817Z
DTSTART;VALUE=DATE:15820104
DTEND;VALUE=DATE:15820111
SUMMARY:KW 1 (ungerade)
DESCRIPTION:Kalenderwoche 1 im Jahr 1582\nMontag: 04.01.1582\nSonntag: 10.01.1582\nTyp: ungerade Woche\nMehr unter: https://kalenderwoche.info/1582/kw-1
URL:https://kalenderwoche.info/1582/kw-1
CATEGORIES:Kalenderwoche
TRANSP:TRANSPARENT
END:VEVENT
BEGIN:VEVENT
UID:kw-1582-2@kalenderwoche.info
DTSTAMP:20260426T035817Z
DTSTART;VALUE=DATE:15820111
DTEND;VALUE=DATE:15820118
SUMMARY:KW 2 (gerade)
DESCRIPTION:Kalenderwoche 2 im Jahr 1582\nMontag: 11.01.1582\nSonntag: 17.01.1582\nTyp: gerade Woche\nMehr unter: https://kalenderwoche.info/1582/kw-2
URL:https://kalenderwoche.info/1582/kw-2
CATEGORIES:Kalenderwoche
TRANSP:TRANSPARENT
END:VEVENT
BEGIN:VEVENT
UID:kw-1582-3@kalenderwoche.info
DTSTAMP:20260426T035817Z
DTSTART;VALUE=DATE:15820118
DTEND;VALUE=DATE:15820125
SUMMARY:KW 3 (ungerade)
DESCRIPTION:Kalenderwoche 3 im Jahr 1582\nMontag: 18.01.1582\nSonntag: 24.01.1582\nTyp: ungerade Woche\nMehr unter: https://kalenderwoche.info/1582/kw-3
URL:https://kalenderwoche.info/1582/kw-3
CATEGORIES:Kalenderwoche
TRANSP:TRANSPARENT
END:VEVENT
BEGIN:VEVENT
UID:kw-1582-4@kalenderwoche.info
DTSTAMP:20260426T035817Z
DTSTART;VALUE=DATE:15820125
DTEND;VALUE=DATE:15820201
SUMMARY:KW 4 (gerade)
DESCRIPTION:Kalenderwoche 4 im Jahr 1582\nMontag: 25.01.1582\nSonntag: 31.01.1582\nTyp: gerade Woche\nMehr unter: https://kalenderwoche.info/1582/kw-4
URL:https://kalenderwoche.info/1582/kw-4
CATEGORIES:Kalenderwoche
TRANSP:TRANSPARENT
END:VEVENT
BEGIN:VEVENT
UID:kw-1582-5@kalenderwoche.info
DTSTAMP:20260426T035817Z
DTSTART;VALUE=DATE:15820201
DTEND;VALUE=DATE:15820208
SUMMARY:KW 5 (ungerade)
DESCRIPTION:Kalenderwoche 5 im Jahr 1582\nMontag: 01.02.1582\nSonntag: 07.02.1582\nTyp: ungerade Woche\nMehr unter: https://kalenderwoche.info/1582/kw-5
URL:https://kalenderwoche.info/1582/kw-5
CATEGORIES:Kalenderwoche
TRANSP:TRANSPARENT
END:VEVENT
BEGIN:VEVENT
UID:kw-1582-6@kalenderwoche.info
DTSTAMP:20260426T035817Z
DTSTART;VALUE=DATE:15820208
DTEND;VALUE=DATE:15820215
SUMMARY:KW 6 (gerade)
DESCRIPTION:Kalenderwoche 6 im Jahr 1582\nMontag: 08.02.1582\nSonntag: 14.02.1582\nTyp: gerade Woche\nMehr unter: https://kalenderwoche.info/1582/kw-6
URL:https://kalenderwoche.info/1582/kw-6
CATEGORIES:Kalenderwoche
TRANSP:TRANSPARENT
END:VEVENT
BEGIN:VEVENT
UID:kw-1582-7@kalenderwoche.info
DTSTAMP:20260426T035817Z
DTSTART;VALUE=DATE:15820215
DTEND;VALUE=DATE:15820222
SUMMARY:KW 7 (ungerade)
DESCRIPTION:Kalenderwoche 7 im Jahr 1582\nMontag: 15.02.1582\nSonntag: 21.02.1582\nTyp: ungerade Woche\nMehr unter: https://kalenderwoche.info/1582/kw-7
URL:https://kalenderwoche.info/1582/kw-7
CATEGORIES:Kalenderwoche
TRANSP:TRANSPARENT
END:VEVENT
BEGIN:VEVENT
UID:kw-1582-8@kalenderwoche.info
DTSTAMP:20260426T035817Z
DTSTART;VALUE=DATE:15820222
DTEND;VALUE=DATE:15820301
SUMMARY:KW 8 (gerade)
DESCRIPTION:Kalenderwoche 8 im Jahr 1582\nMontag: 22.02.1582\nSonntag: 28.02.1582\nTyp: gerade Woche\nMehr unter: https://kalenderwoche.info/1582/kw-8
URL:https://kalenderwoche.info/1582/kw-8
CATEGORIES:Kalenderwoche
TRANSP:TRANSPARENT
END:VEVENT
BEGIN:VEVENT
UID:kw-1582-9@kalenderwoche.info
DTSTAMP:20260426T035817Z
DTSTART;VALUE=DATE:15820301
DTEND;VALUE=DATE:15820308
SUMMARY:KW 9 (ungerade)
DESCRIPTION:Kalenderwoche 9 im Jahr 1582\nMontag: 01.03.1582\nSonntag: 07.03.1582\nTyp: ungerade Woche\nMehr unter: https://kalenderwoche.info/1582/kw-9
URL:https://kalenderwoche.info/1582/kw-9
CATEGORIES:Kalenderwoche
TRANSP:TRANSPARENT
END:VEVENT
BEGIN:VEVENT
UID:kw-1582-10@kalenderwoche.info
DTSTAMP:20260426T035817Z
DTSTART;VALUE=DATE:15820308
DTEND;VALUE=DATE:15820315
SUMMARY:KW 10 (gerade)
DESCRIPTION:Kalenderwoche 10 im Jahr 1582\nMontag: 08.03.1582\nSonntag: 14.03.1582\nTyp: gerade Woche\nMehr unter: https://kalenderwoche.info/1582/kw-10
URL:https://kalenderwoche.info/1582/kw-10
CATEGORIES:Kalenderwoche
TRANSP:TRANSPARENT
END:VEVENT
BEGIN:VEVENT
UID:kw-1582-11@kalenderwoche.info
DTSTAMP:20260426T035817Z
DTSTART;VALUE=DATE:15820315
DTEND;VALUE=DATE:15820322
SUMMARY:KW 11 (ungerade)
DESCRIPTION:Kalenderwoche 11 im Jahr 1582\nMontag: 15.03.1582\nSonntag: 21.03.1582\nTyp: ungerade Woche\nMehr unter: https://kalenderwoche.info/1582/kw-11
URL:https://kalenderwoche.info/1582/kw-11
CATEGORIES:Kalenderwoche
TRANSP:TRANSPARENT
END:VEVENT
BEGIN:VEVENT
UID:kw-1582-12@kalenderwoche.info
DTSTAMP:20260426T035817Z
DTSTART;VALUE=DATE:15820322
DTEND;VALUE=DATE:15820329
SUMMARY:KW 12 (gerade)
DESCRIPTION:Kalenderwoche 12 im Jahr 1582\nMontag: 22.03.1582\nSonntag: 28.03.1582\nTyp: gerade Woche\nMehr unter: https://kalenderwoche.info/1582/kw-12
URL:https://kalenderwoche.info/1582/kw-12
CATEGORIES:Kalenderwoche
TRANSP:TRANSPARENT
END:VEVENT
BEGIN:VEVENT
UID:kw-1582-13@kalenderwoche.info
DTSTAMP:20260426T035817Z
DTSTART;VALUE=DATE:15820329
DTEND;VALUE=DATE:15820405
SUMMARY:KW 13 (ungerade)
DESCRIPTION:Kalenderwoche 13 im Jahr 1582\nMontag: 29.03.1582\nSonntag: 04.04.1582\nTyp: ungerade Woche\nMehr unter: https://kalenderwoche.info/1582/kw-13
URL:https://kalenderwoche.info/1582/kw-13
CATEGORIES:Kalenderwoche
TRANSP:TRANSPARENT
END:VEVENT
BEGIN:VEVENT
UID:kw-1582-14@kalenderwoche.info
DTSTAMP:20260426T035817Z
DTSTART;VALUE=DATE:15820405
DTEND;VALUE=DATE:15820412
SUMMARY:KW 14 (gerade)
DESCRIPTION:Kalenderwoche 14 im Jahr 1582\nMontag: 05.04.1582\nSonntag: 11.04.1582\nTyp: gerade Woche\nMehr unter: https://kalenderwoche.info/1582/kw-14
URL:https://kalenderwoche.info/1582/kw-14
CATEGORIES:Kalenderwoche
TRANSP:TRANSPARENT
END:VEVENT
BEGIN:VEVENT
UID:kw-1582-15@kalenderwoche.info
DTSTAMP:20260426T035817Z
DTSTART;VALUE=DATE:15820412
DTEND;VALUE=DATE:15820419
SUMMARY:KW 15 (ungerade)
DESCRIPTION:Kalenderwoche 15 im Jahr 1582\nMontag: 12.04.1582\nSonntag: 18.04.1582\nTyp: ungerade Woche\nMehr unter: https://kalenderwoche.info/1582/kw-15
URL:https://kalenderwoche.info/1582/kw-15
CATEGORIES:Kalenderwoche
TRANSP:TRANSPARENT
END:VEVENT
BEGIN:VEVENT
UID:kw-1582-16@kalenderwoche.info
DTSTAMP:20260426T035817Z
DTSTART;VALUE=DATE:15820419
DTEND;VALUE=DATE:15820426
SUMMARY:KW 16 (gerade)
DESCRIPTION:Kalenderwoche 16 im Jahr 1582\nMontag: 19.04.1582\nSonntag: 25.04.1582\nTyp: gerade Woche\nMehr unter: https://kalenderwoche.info/1582/kw-16
URL:https://kalenderwoche.info/1582/kw-16
CATEGORIES:Kalenderwoche
TRANSP:TRANSPARENT
END:VEVENT
BEGIN:VEVENT
UID:kw-1582-17@kalenderwoche.info
DTSTAMP:20260426T035817Z
DTSTART;VALUE=DATE:15820426
DTEND;VALUE=DATE:15820503
SUMMARY:KW 17 (ungerade)
DESCRIPTION:Kalenderwoche 17 im Jahr 1582\nMontag: 26.04.1582\nSonntag: 02.05.1582\nTyp: ungerade Woche\nMehr unter: https://kalenderwoche.info/1582/kw-17
URL:https://kalenderwoche.info/1582/kw-17
CATEGORIES:Kalenderwoche
TRANSP:TRANSPARENT
END:VEVENT
BEGIN:VEVENT
UID:kw-1582-18@kalenderwoche.info
DTSTAMP:20260426T035817Z
DTSTART;VALUE=DATE:15820503
DTEND;VALUE=DATE:15820510
SUMMARY:KW 18 (gerade)
DESCRIPTION:Kalenderwoche 18 im Jahr 1582\nMontag: 03.05.1582\nSonntag: 09.05.1582\nTyp: gerade Woche\nMehr unter: https://kalenderwoche.info/1582/kw-18
URL:https://kalenderwoche.info/1582/kw-18
CATEGORIES:Kalenderwoche
TRANSP:TRANSPARENT
END:VEVENT
BEGIN:VEVENT
UID:kw-1582-19@kalenderwoche.info
DTSTAMP:20260426T035817Z
DTSTART;VALUE=DATE:15820510
DTEND;VALUE=DATE:15820517
SUMMARY:KW 19 (ungerade)
DESCRIPTION:Kalenderwoche 19 im Jahr 1582\nMontag: 10.05.1582\nSonntag: 16.05.1582\nTyp: ungerade Woche\nMehr unter: https://kalenderwoche.info/1582/kw-19
URL:https://kalenderwoche.info/1582/kw-19
CATEGORIES:Kalenderwoche
TRANSP:TRANSPARENT
END:VEVENT
BEGIN:VEVENT
UID:kw-1582-20@kalenderwoche.info
DTSTAMP:20260426T035817Z
DTSTART;VALUE=DATE:15820517
DTEND;VALUE=DATE:15820524
SUMMARY:KW 20 (gerade)
DESCRIPTION:Kalenderwoche 20 im Jahr 1582\nMontag: 17.05.1582\nSonntag: 23.05.1582\nTyp: gerade Woche\nMehr unter: https://kalenderwoche.info/1582/kw-20
URL:https://kalenderwoche.info/1582/kw-20
CATEGORIES:Kalenderwoche
TRANSP:TRANSPARENT
END:VEVENT
BEGIN:VEVENT
UID:kw-1582-21@kalenderwoche.info
DTSTAMP:20260426T035817Z
DTSTART;VALUE=DATE:15820524
DTEND;VALUE=DATE:15820531
SUMMARY:KW 21 (ungerade)
DESCRIPTION:Kalenderwoche 21 im Jahr 1582\nMontag: 24.05.1582\nSonntag: 30.05.1582\nTyp: ungerade Woche\nMehr unter: https://kalenderwoche.info/1582/kw-21
URL:https://kalenderwoche.info/1582/kw-21
CATEGORIES:Kalenderwoche
TRANSP:TRANSPARENT
END:VEVENT
BEGIN:VEVENT
UID:kw-1582-22@kalenderwoche.info
DTSTAMP:20260426T035817Z
DTSTART;VALUE=DATE:15820531
DTEND;VALUE=DATE:15820607
SUMMARY:KW 22 (gerade)
DESCRIPTION:Kalenderwoche 22 im Jahr 1582\nMontag: 31.05.1582\nSonntag: 06.06.1582\nTyp: gerade Woche\nMehr unter: https://kalenderwoche.info/1582/kw-22
URL:https://kalenderwoche.info/1582/kw-22
CATEGORIES:Kalenderwoche
TRANSP:TRANSPARENT
END:VEVENT
BEGIN:VEVENT
UID:kw-1582-23@kalenderwoche.info
DTSTAMP:20260426T035817Z
DTSTART;VALUE=DATE:15820607
DTEND;VALUE=DATE:15820614
SUMMARY:KW 23 (ungerade)
DESCRIPTION:Kalenderwoche 23 im Jahr 1582\nMontag: 07.06.1582\nSonntag: 13.06.1582\nTyp: ungerade Woche\nMehr unter: https://kalenderwoche.info/1582/kw-23
URL:https://kalenderwoche.info/1582/kw-23
CATEGORIES:Kalenderwoche
TRANSP:TRANSPARENT
END:VEVENT
BEGIN:VEVENT
UID:kw-1582-24@kalenderwoche.info
DTSTAMP:20260426T035817Z
DTSTART;VALUE=DATE:15820614
DTEND;VALUE=DATE:15820621
SUMMARY:KW 24 (gerade)
DESCRIPTION:Kalenderwoche 24 im Jahr 1582\nMontag: 14.06.1582\nSonntag: 20.06.1582\nTyp: gerade Woche\nMehr unter: https://kalenderwoche.info/1582/kw-24
URL:https://kalenderwoche.info/1582/kw-24
CATEGORIES:Kalenderwoche
TRANSP:TRANSPARENT
END:VEVENT
BEGIN:VEVENT
UID:kw-1582-25@kalenderwoche.info
DTSTAMP:20260426T035817Z
DTSTART;VALUE=DATE:15820621
DTEND;VALUE=DATE:15820628
SUMMARY:KW 25 (ungerade)
DESCRIPTION:Kalenderwoche 25 im Jahr 1582\nMontag: 21.06.1582\nSonntag: 27.06.1582\nTyp: ungerade Woche\nMehr unter: https://kalenderwoche.info/1582/kw-25
URL:https://kalenderwoche.info/1582/kw-25
CATEGORIES:Kalenderwoche
TRANSP:TRANSPARENT
END:VEVENT
BEGIN:VEVENT
UID:kw-1582-26@kalenderwoche.info
DTSTAMP:20260426T035817Z
DTSTART;VALUE=DATE:15820628
DTEND;VALUE=DATE:15820705
SUMMARY:KW 26 (gerade)
DESCRIPTION:Kalenderwoche 26 im Jahr 1582\nMontag: 28.06.1582\nSonntag: 04.07.1582\nTyp: gerade Woche\nMehr unter: https://kalenderwoche.info/1582/kw-26
URL:https://kalenderwoche.info/1582/kw-26
CATEGORIES:Kalenderwoche
TRANSP:TRANSPARENT
END:VEVENT
BEGIN:VEVENT
UID:kw-1582-27@kalenderwoche.info
DTSTAMP:20260426T035817Z
DTSTART;VALUE=DATE:15820705
DTEND;VALUE=DATE:15820712
SUMMARY:KW 27 (ungerade)
DESCRIPTION:Kalenderwoche 27 im Jahr 1582\nMontag: 05.07.1582\nSonntag: 11.07.1582\nTyp: ungerade Woche\nMehr unter: https://kalenderwoche.info/1582/kw-27
URL:https://kalenderwoche.info/1582/kw-27
CATEGORIES:Kalenderwoche
TRANSP:TRANSPARENT
END:VEVENT
BEGIN:VEVENT
UID:kw-1582-28@kalenderwoche.info
DTSTAMP:20260426T035817Z
DTSTART;VALUE=DATE:15820712
DTEND;VALUE=DATE:15820719
SUMMARY:KW 28 (gerade)
DESCRIPTION:Kalenderwoche 28 im Jahr 1582\nMontag: 12.07.1582\nSonntag: 18.07.1582\nTyp: gerade Woche\nMehr unter: https://kalenderwoche.info/1582/kw-28
URL:https://kalenderwoche.info/1582/kw-28
CATEGORIES:Kalenderwoche
TRANSP:TRANSPARENT
END:VEVENT
BEGIN:VEVENT
UID:kw-1582-29@kalenderwoche.info
DTSTAMP:20260426T035817Z
DTSTART;VALUE=DATE:15820719
DTEND;VALUE=DATE:15820726
SUMMARY:KW 29 (ungerade)
DESCRIPTION:Kalenderwoche 29 im Jahr 1582\nMontag: 19.07.1582\nSonntag: 25.07.1582\nTyp: ungerade Woche\nMehr unter: https://kalenderwoche.info/1582/kw-29
URL:https://kalenderwoche.info/1582/kw-29
CATEGORIES:Kalenderwoche
TRANSP:TRANSPARENT
END:VEVENT
BEGIN:VEVENT
UID:kw-1582-30@kalenderwoche.info
DTSTAMP:20260426T035817Z
DTSTART;VALUE=DATE:15820726
DTEND;VALUE=DATE:15820802
SUMMARY:KW 30 (gerade)
DESCRIPTION:Kalenderwoche 30 im Jahr 1582\nMontag: 26.07.1582\nSonntag: 01.08.1582\nTyp: gerade Woche\nMehr unter: https://kalenderwoche.info/1582/kw-30
URL:https://kalenderwoche.info/1582/kw-30
CATEGORIES:Kalenderwoche
TRANSP:TRANSPARENT
END:VEVENT
BEGIN:VEVENT
UID:kw-1582-31@kalenderwoche.info
DTSTAMP:20260426T035817Z
DTSTART;VALUE=DATE:15820802
DTEND;VALUE=DATE:15820809
SUMMARY:KW 31 (ungerade)
DESCRIPTION:Kalenderwoche 31 im Jahr 1582\nMontag: 02.08.1582\nSonntag: 08.08.1582\nTyp: ungerade Woche\nMehr unter: https://kalenderwoche.info/1582/kw-31
URL:https://kalenderwoche.info/1582/kw-31
CATEGORIES:Kalenderwoche
TRANSP:TRANSPARENT
END:VEVENT
BEGIN:VEVENT
UID:kw-1582-32@kalenderwoche.info
DTSTAMP:20260426T035817Z
DTSTART;VALUE=DATE:15820809
DTEND;VALUE=DATE:15820816
SUMMARY:KW 32 (gerade)
DESCRIPTION:Kalenderwoche 32 im Jahr 1582\nMontag: 09.08.1582\nSonntag: 15.08.1582\nTyp: gerade Woche\nMehr unter: https://kalenderwoche.info/1582/kw-32
URL:https://kalenderwoche.info/1582/kw-32
CATEGORIES:Kalenderwoche
TRANSP:TRANSPARENT
END:VEVENT
BEGIN:VEVENT
UID:kw-1582-33@kalenderwoche.info
DTSTAMP:20260426T035817Z
DTSTART;VALUE=DATE:15820816
DTEND;VALUE=DATE:15820823
SUMMARY:KW 33 (ungerade)
DESCRIPTION:Kalenderwoche 33 im Jahr 1582\nMontag: 16.08.1582\nSonntag: 22.08.1582\nTyp: ungerade Woche\nMehr unter: https://kalenderwoche.info/1582/kw-33
URL:https://kalenderwoche.info/1582/kw-33
CATEGORIES:Kalenderwoche
TRANSP:TRANSPARENT
END:VEVENT
BEGIN:VEVENT
UID:kw-1582-34@kalenderwoche.info
DTSTAMP:20260426T035817Z
DTSTART;VALUE=DATE:15820823
DTEND;VALUE=DATE:15820830
SUMMARY:KW 34 (gerade)
DESCRIPTION:Kalenderwoche 34 im Jahr 1582\nMontag: 23.08.1582\nSonntag: 29.08.1582\nTyp: gerade Woche\nMehr unter: https://kalenderwoche.info/1582/kw-34
URL:https://kalenderwoche.info/1582/kw-34
CATEGORIES:Kalenderwoche
TRANSP:TRANSPARENT
END:VEVENT
BEGIN:VEVENT
UID:kw-1582-35@kalenderwoche.info
DTSTAMP:20260426T035817Z
DTSTART;VALUE=DATE:15820830
DTEND;VALUE=DATE:15820906
SUMMARY:KW 35 (ungerade)
DESCRIPTION:Kalenderwoche 35 im Jahr 1582\nMontag: 30.08.1582\nSonntag: 05.09.1582\nTyp: ungerade Woche\nMehr unter: https://kalenderwoche.info/1582/kw-35
URL:https://kalenderwoche.info/1582/kw-35
CATEGORIES:Kalenderwoche
TRANSP:TRANSPARENT
END:VEVENT
BEGIN:VEVENT
UID:kw-1582-36@kalenderwoche.info
DTSTAMP:20260426T035817Z
DTSTART;VALUE=DATE:15820906
DTEND;VALUE=DATE:15820913
SUMMARY:KW 36 (gerade)
DESCRIPTION:Kalenderwoche 36 im Jahr 1582\nMontag: 06.09.1582\nSonntag: 12.09.1582\nTyp: gerade Woche\nMehr unter: https://kalenderwoche.info/1582/kw-36
URL:https://kalenderwoche.info/1582/kw-36
CATEGORIES:Kalenderwoche
TRANSP:TRANSPARENT
END:VEVENT
BEGIN:VEVENT
UID:kw-1582-37@kalenderwoche.info
DTSTAMP:20260426T035817Z
DTSTART;VALUE=DATE:15820913
DTEND;VALUE=DATE:15820920
SUMMARY:KW 37 (ungerade)
DESCRIPTION:Kalenderwoche 37 im Jahr 1582\nMontag: 13.09.1582\nSonntag: 19.09.1582\nTyp: ungerade Woche\nMehr unter: https://kalenderwoche.info/1582/kw-37
URL:https://kalenderwoche.info/1582/kw-37
CATEGORIES:Kalenderwoche
TRANSP:TRANSPARENT
END:VEVENT
BEGIN:VEVENT
UID:kw-1582-38@kalenderwoche.info
DTSTAMP:20260426T035817Z
DTSTART;VALUE=DATE:15820920
DTEND;VALUE=DATE:15820927
SUMMARY:KW 38 (gerade)
DESCRIPTION:Kalenderwoche 38 im Jahr 1582\nMontag: 20.09.1582\nSonntag: 26.09.1582\nTyp: gerade Woche\nMehr unter: https://kalenderwoche.info/1582/kw-38
URL:https://kalenderwoche.info/1582/kw-38
CATEGORIES:Kalenderwoche
TRANSP:TRANSPARENT
END:VEVENT
BEGIN:VEVENT
UID:kw-1582-39@kalenderwoche.info
DTSTAMP:20260426T035817Z
DTSTART;VALUE=DATE:15820927
DTEND;VALUE=DATE:15821004
SUMMARY:KW 39 (ungerade)
DESCRIPTION:Kalenderwoche 39 im Jahr 1582\nMontag: 27.09.1582\nSonntag: 03.10.1582\nTyp: ungerade Woche\nMehr unter: https://kalenderwoche.info/1582/kw-39
URL:https://kalenderwoche.info/1582/kw-39
CATEGORIES:Kalenderwoche
TRANSP:TRANSPARENT
END:VEVENT
BEGIN:VEVENT
UID:kw-1582-40@kalenderwoche.info
DTSTAMP:20260426T035817Z
DTSTART;VALUE=DATE:15821004
DTEND;VALUE=DATE:15821011
SUMMARY:KW 40 (gerade)
DESCRIPTION:Kalenderwoche 40 im Jahr 1582\nMontag: 04.10.1582\nSonntag: 10.10.1582\nTyp: gerade Woche\nMehr unter: https://kalenderwoche.info/1582/kw-40
URL:https://kalenderwoche.info/1582/kw-40
CATEGORIES:Kalenderwoche
TRANSP:TRANSPARENT
END:VEVENT
BEGIN:VEVENT
UID:kw-1582-41@kalenderwoche.info
DTSTAMP:20260426T035817Z
DTSTART;VALUE=DATE:15821011
DTEND;VALUE=DATE:15821018
SUMMARY:KW 41 (ungerade)
DESCRIPTION:Kalenderwoche 41 im Jahr 1582\nMontag: 11.10.1582\nSonntag: 17.10.1582\nTyp: ungerade Woche\nMehr unter: https://kalenderwoche.info/1582/kw-41
URL:https://kalenderwoche.info/1582/kw-41
CATEGORIES:Kalenderwoche
TRANSP:TRANSPARENT
END:VEVENT
BEGIN:VEVENT
UID:kw-1582-42@kalenderwoche.info
DTSTAMP:20260426T035817Z
DTSTART;VALUE=DATE:15821018
DTEND;VALUE=DATE:15821025
SUMMARY:KW 42 (gerade)
DESCRIPTION:Kalenderwoche 42 im Jahr 1582\nMontag: 18.10.1582\nSonntag: 24.10.1582\nTyp: gerade Woche\nMehr unter: https://kalenderwoche.info/1582/kw-42
URL:https://kalenderwoche.info/1582/kw-42
CATEGORIES:Kalenderwoche
TRANSP:TRANSPARENT
END:VEVENT
BEGIN:VEVENT
UID:kw-1582-43@kalenderwoche.info
DTSTAMP:20260426T035817Z
DTSTART;VALUE=DATE:15821025
DTEND;VALUE=DATE:15821101
SUMMARY:KW 43 (ungerade)
DESCRIPTION:Kalenderwoche 43 im Jahr 1582\nMontag: 25.10.1582\nSonntag: 31.10.1582\nTyp: ungerade Woche\nMehr unter: https://kalenderwoche.info/1582/kw-43
URL:https://kalenderwoche.info/1582/kw-43
CATEGORIES:Kalenderwoche
TRANSP:TRANSPARENT
END:VEVENT
BEGIN:VEVENT
UID:kw-1582-44@kalenderwoche.info
DTSTAMP:20260426T035817Z
DTSTART;VALUE=DATE:15821101
DTEND;VALUE=DATE:15821108
SUMMARY:KW 44 (gerade)
DESCRIPTION:Kalenderwoche 44 im Jahr 1582\nMontag: 01.11.1582\nSonntag: 07.11.1582\nTyp: gerade Woche\nMehr unter: https://kalenderwoche.info/1582/kw-44
URL:https://kalenderwoche.info/1582/kw-44
CATEGORIES:Kalenderwoche
TRANSP:TRANSPARENT
END:VEVENT
BEGIN:VEVENT
UID:kw-1582-45@kalenderwoche.info
DTSTAMP:20260426T035817Z
DTSTART;VALUE=DATE:15821108
DTEND;VALUE=DATE:15821115
SUMMARY:KW 45 (ungerade)
DESCRIPTION:Kalenderwoche 45 im Jahr 1582\nMontag: 08.11.1582\nSonntag: 14.11.1582\nTyp: ungerade Woche\nMehr unter: https://kalenderwoche.info/1582/kw-45
URL:https://kalenderwoche.info/1582/kw-45
CATEGORIES:Kalenderwoche
TRANSP:TRANSPARENT
END:VEVENT
BEGIN:VEVENT
UID:kw-1582-46@kalenderwoche.info
DTSTAMP:20260426T035817Z
DTSTART;VALUE=DATE:15821115
DTEND;VALUE=DATE:15821122
SUMMARY:KW 46 (gerade)
DESCRIPTION:Kalenderwoche 46 im Jahr 1582\nMontag: 15.11.1582\nSonntag: 21.11.1582\nTyp: gerade Woche\nMehr unter: https://kalenderwoche.info/1582/kw-46
URL:https://kalenderwoche.info/1582/kw-46
CATEGORIES:Kalenderwoche
TRANSP:TRANSPARENT
END:VEVENT
BEGIN:VEVENT
UID:kw-1582-47@kalenderwoche.info
DTSTAMP:20260426T035817Z
DTSTART;VALUE=DATE:15821122
DTEND;VALUE=DATE:15821129
SUMMARY:KW 47 (ungerade)
DESCRIPTION:Kalenderwoche 47 im Jahr 1582\nMontag: 22.11.1582\nSonntag: 28.11.1582\nTyp: ungerade Woche\nMehr unter: https://kalenderwoche.info/1582/kw-47
URL:https://kalenderwoche.info/1582/kw-47
CATEGORIES:Kalenderwoche
TRANSP:TRANSPARENT
END:VEVENT
BEGIN:VEVENT
UID:kw-1582-48@kalenderwoche.info
DTSTAMP:20260426T035817Z
DTSTART;VALUE=DATE:15821129
DTEND;VALUE=DATE:15821206
SUMMARY:KW 48 (gerade)
DESCRIPTION:Kalenderwoche 48 im Jahr 1582\nMontag: 29.11.1582\nSonntag: 05.12.1582\nTyp: gerade Woche\nMehr unter: https://kalenderwoche.info/1582/kw-48
URL:https://kalenderwoche.info/1582/kw-48
CATEGORIES:Kalenderwoche
TRANSP:TRANSPARENT
END:VEVENT
BEGIN:VEVENT
UID:kw-1582-49@kalenderwoche.info
DTSTAMP:20260426T035817Z
DTSTART;VALUE=DATE:15821206
DTEND;VALUE=DATE:15821213
SUMMARY:KW 49 (ungerade)
DESCRIPTION:Kalenderwoche 49 im Jahr 1582\nMontag: 06.12.1582\nSonntag: 12.12.1582\nTyp: ungerade Woche\nMehr unter: https://kalenderwoche.info/1582/kw-49
URL:https://kalenderwoche.info/1582/kw-49
CATEGORIES:Kalenderwoche
TRANSP:TRANSPARENT
END:VEVENT
BEGIN:VEVENT
UID:kw-1582-50@kalenderwoche.info
DTSTAMP:20260426T035817Z
DTSTART;VALUE=DATE:15821213
DTEND;VALUE=DATE:15821220
SUMMARY:KW 50 (gerade)
DESCRIPTION:Kalenderwoche 50 im Jahr 1582\nMontag: 13.12.1582\nSonntag: 19.12.1582\nTyp: gerade Woche\nMehr unter: https://kalenderwoche.info/1582/kw-50
URL:https://kalenderwoche.info/1582/kw-50
CATEGORIES:Kalenderwoche
TRANSP:TRANSPARENT
END:VEVENT
BEGIN:VEVENT
UID:kw-1582-51@kalenderwoche.info
DTSTAMP:20260426T035817Z
DTSTART;VALUE=DATE:15821220
DTEND;VALUE=DATE:15821227
SUMMARY:KW 51 (ungerade)
DESCRIPTION:Kalenderwoche 51 im Jahr 1582\nMontag: 20.12.1582\nSonntag: 26.12.1582\nTyp: ungerade Woche\nMehr unter: https://kalenderwoche.info/1582/kw-51
URL:https://kalenderwoche.info/1582/kw-51
CATEGORIES:Kalenderwoche
TRANSP:TRANSPARENT
END:VEVENT
BEGIN:VEVENT
UID:kw-1582-52@kalenderwoche.info
DTSTAMP:20260426T035817Z
DTSTART;VALUE=DATE:15821227
DTEND;VALUE=DATE:15830103
SUMMARY:KW 52 (gerade)
DESCRIPTION:Kalenderwoche 52 im Jahr 1582\nMontag: 27.12.1582\nSonntag: 02.01.1583\nTyp: gerade Woche\nMehr unter: https://kalenderwoche.info/1582/kw-52
URL:https://kalenderwoche.info/1582/kw-52
CATEGORIES:Kalenderwoche
TRANSP:TRANSPARENT
END:VEVENT
END:VCALENDAR
