BEGIN:VCALENDAR
VERSION:2.0
PRODID:-//kalenderwoche.info//Kalender//DE
CALSCALE:GREGORIAN
METHOD:PUBLISH
X-WR-CALNAME:Kalenderwochen 1583
X-WR-CALDESC:Alle Kalenderwochen für das Jahr 1583
X-WR-TIMEZONE:Europe/Berlin
BEGIN:VEVENT
UID:kw-1583-1@kalenderwoche.info
DTSTAMP:20260426T023724Z
DTSTART;VALUE=DATE:15830103
DTEND;VALUE=DATE:15830110
SUMMARY:KW 1 (ungerade)
DESCRIPTION:Kalenderwoche 1 im Jahr 1583\nMontag: 03.01.1583\nSonntag: 09.01.1583\nTyp: ungerade Woche\nMehr unter: https://kalenderwoche.info/1583/kw-1
URL:https://kalenderwoche.info/1583/kw-1
CATEGORIES:Kalenderwoche
TRANSP:TRANSPARENT
END:VEVENT
BEGIN:VEVENT
UID:kw-1583-2@kalenderwoche.info
DTSTAMP:20260426T023724Z
DTSTART;VALUE=DATE:15830110
DTEND;VALUE=DATE:15830117
SUMMARY:KW 2 (gerade)
DESCRIPTION:Kalenderwoche 2 im Jahr 1583\nMontag: 10.01.1583\nSonntag: 16.01.1583\nTyp: gerade Woche\nMehr unter: https://kalenderwoche.info/1583/kw-2
URL:https://kalenderwoche.info/1583/kw-2
CATEGORIES:Kalenderwoche
TRANSP:TRANSPARENT
END:VEVENT
BEGIN:VEVENT
UID:kw-1583-3@kalenderwoche.info
DTSTAMP:20260426T023724Z
DTSTART;VALUE=DATE:15830117
DTEND;VALUE=DATE:15830124
SUMMARY:KW 3 (ungerade)
DESCRIPTION:Kalenderwoche 3 im Jahr 1583\nMontag: 17.01.1583\nSonntag: 23.01.1583\nTyp: ungerade Woche\nMehr unter: https://kalenderwoche.info/1583/kw-3
URL:https://kalenderwoche.info/1583/kw-3
CATEGORIES:Kalenderwoche
TRANSP:TRANSPARENT
END:VEVENT
BEGIN:VEVENT
UID:kw-1583-4@kalenderwoche.info
DTSTAMP:20260426T023724Z
DTSTART;VALUE=DATE:15830124
DTEND;VALUE=DATE:15830131
SUMMARY:KW 4 (gerade)
DESCRIPTION:Kalenderwoche 4 im Jahr 1583\nMontag: 24.01.1583\nSonntag: 30.01.1583\nTyp: gerade Woche\nMehr unter: https://kalenderwoche.info/1583/kw-4
URL:https://kalenderwoche.info/1583/kw-4
CATEGORIES:Kalenderwoche
TRANSP:TRANSPARENT
END:VEVENT
BEGIN:VEVENT
UID:kw-1583-5@kalenderwoche.info
DTSTAMP:20260426T023724Z
DTSTART;VALUE=DATE:15830131
DTEND;VALUE=DATE:15830207
SUMMARY:KW 5 (ungerade)
DESCRIPTION:Kalenderwoche 5 im Jahr 1583\nMontag: 31.01.1583\nSonntag: 06.02.1583\nTyp: ungerade Woche\nMehr unter: https://kalenderwoche.info/1583/kw-5
URL:https://kalenderwoche.info/1583/kw-5
CATEGORIES:Kalenderwoche
TRANSP:TRANSPARENT
END:VEVENT
BEGIN:VEVENT
UID:kw-1583-6@kalenderwoche.info
DTSTAMP:20260426T023724Z
DTSTART;VALUE=DATE:15830207
DTEND;VALUE=DATE:15830214
SUMMARY:KW 6 (gerade)
DESCRIPTION:Kalenderwoche 6 im Jahr 1583\nMontag: 07.02.1583\nSonntag: 13.02.1583\nTyp: gerade Woche\nMehr unter: https://kalenderwoche.info/1583/kw-6
URL:https://kalenderwoche.info/1583/kw-6
CATEGORIES:Kalenderwoche
TRANSP:TRANSPARENT
END:VEVENT
BEGIN:VEVENT
UID:kw-1583-7@kalenderwoche.info
DTSTAMP:20260426T023724Z
DTSTART;VALUE=DATE:15830214
DTEND;VALUE=DATE:15830221
SUMMARY:KW 7 (ungerade)
DESCRIPTION:Kalenderwoche 7 im Jahr 1583\nMontag: 14.02.1583\nSonntag: 20.02.1583\nTyp: ungerade Woche\nMehr unter: https://kalenderwoche.info/1583/kw-7
URL:https://kalenderwoche.info/1583/kw-7
CATEGORIES:Kalenderwoche
TRANSP:TRANSPARENT
END:VEVENT
BEGIN:VEVENT
UID:kw-1583-8@kalenderwoche.info
DTSTAMP:20260426T023724Z
DTSTART;VALUE=DATE:15830221
DTEND;VALUE=DATE:15830228
SUMMARY:KW 8 (gerade)
DESCRIPTION:Kalenderwoche 8 im Jahr 1583\nMontag: 21.02.1583\nSonntag: 27.02.1583\nTyp: gerade Woche\nMehr unter: https://kalenderwoche.info/1583/kw-8
URL:https://kalenderwoche.info/1583/kw-8
CATEGORIES:Kalenderwoche
TRANSP:TRANSPARENT
END:VEVENT
BEGIN:VEVENT
UID:kw-1583-9@kalenderwoche.info
DTSTAMP:20260426T023724Z
DTSTART;VALUE=DATE:15830228
DTEND;VALUE=DATE:15830307
SUMMARY:KW 9 (ungerade)
DESCRIPTION:Kalenderwoche 9 im Jahr 1583\nMontag: 28.02.1583\nSonntag: 06.03.1583\nTyp: ungerade Woche\nMehr unter: https://kalenderwoche.info/1583/kw-9
URL:https://kalenderwoche.info/1583/kw-9
CATEGORIES:Kalenderwoche
TRANSP:TRANSPARENT
END:VEVENT
BEGIN:VEVENT
UID:kw-1583-10@kalenderwoche.info
DTSTAMP:20260426T023724Z
DTSTART;VALUE=DATE:15830307
DTEND;VALUE=DATE:15830314
SUMMARY:KW 10 (gerade)
DESCRIPTION:Kalenderwoche 10 im Jahr 1583\nMontag: 07.03.1583\nSonntag: 13.03.1583\nTyp: gerade Woche\nMehr unter: https://kalenderwoche.info/1583/kw-10
URL:https://kalenderwoche.info/1583/kw-10
CATEGORIES:Kalenderwoche
TRANSP:TRANSPARENT
END:VEVENT
BEGIN:VEVENT
UID:kw-1583-11@kalenderwoche.info
DTSTAMP:20260426T023724Z
DTSTART;VALUE=DATE:15830314
DTEND;VALUE=DATE:15830321
SUMMARY:KW 11 (ungerade)
DESCRIPTION:Kalenderwoche 11 im Jahr 1583\nMontag: 14.03.1583\nSonntag: 20.03.1583\nTyp: ungerade Woche\nMehr unter: https://kalenderwoche.info/1583/kw-11
URL:https://kalenderwoche.info/1583/kw-11
CATEGORIES:Kalenderwoche
TRANSP:TRANSPARENT
END:VEVENT
BEGIN:VEVENT
UID:kw-1583-12@kalenderwoche.info
DTSTAMP:20260426T023724Z
DTSTART;VALUE=DATE:15830321
DTEND;VALUE=DATE:15830328
SUMMARY:KW 12 (gerade)
DESCRIPTION:Kalenderwoche 12 im Jahr 1583\nMontag: 21.03.1583\nSonntag: 27.03.1583\nTyp: gerade Woche\nMehr unter: https://kalenderwoche.info/1583/kw-12
URL:https://kalenderwoche.info/1583/kw-12
CATEGORIES:Kalenderwoche
TRANSP:TRANSPARENT
END:VEVENT
BEGIN:VEVENT
UID:kw-1583-13@kalenderwoche.info
DTSTAMP:20260426T023724Z
DTSTART;VALUE=DATE:15830328
DTEND;VALUE=DATE:15830404
SUMMARY:KW 13 (ungerade)
DESCRIPTION:Kalenderwoche 13 im Jahr 1583\nMontag: 28.03.1583\nSonntag: 03.04.1583\nTyp: ungerade Woche\nMehr unter: https://kalenderwoche.info/1583/kw-13
URL:https://kalenderwoche.info/1583/kw-13
CATEGORIES:Kalenderwoche
TRANSP:TRANSPARENT
END:VEVENT
BEGIN:VEVENT
UID:kw-1583-14@kalenderwoche.info
DTSTAMP:20260426T023724Z
DTSTART;VALUE=DATE:15830404
DTEND;VALUE=DATE:15830411
SUMMARY:KW 14 (gerade)
DESCRIPTION:Kalenderwoche 14 im Jahr 1583\nMontag: 04.04.1583\nSonntag: 10.04.1583\nTyp: gerade Woche\nMehr unter: https://kalenderwoche.info/1583/kw-14
URL:https://kalenderwoche.info/1583/kw-14
CATEGORIES:Kalenderwoche
TRANSP:TRANSPARENT
END:VEVENT
BEGIN:VEVENT
UID:kw-1583-15@kalenderwoche.info
DTSTAMP:20260426T023724Z
DTSTART;VALUE=DATE:15830411
DTEND;VALUE=DATE:15830418
SUMMARY:KW 15 (ungerade)
DESCRIPTION:Kalenderwoche 15 im Jahr 1583\nMontag: 11.04.1583\nSonntag: 17.04.1583\nTyp: ungerade Woche\nMehr unter: https://kalenderwoche.info/1583/kw-15
URL:https://kalenderwoche.info/1583/kw-15
CATEGORIES:Kalenderwoche
TRANSP:TRANSPARENT
END:VEVENT
BEGIN:VEVENT
UID:kw-1583-16@kalenderwoche.info
DTSTAMP:20260426T023724Z
DTSTART;VALUE=DATE:15830418
DTEND;VALUE=DATE:15830425
SUMMARY:KW 16 (gerade)
DESCRIPTION:Kalenderwoche 16 im Jahr 1583\nMontag: 18.04.1583\nSonntag: 24.04.1583\nTyp: gerade Woche\nMehr unter: https://kalenderwoche.info/1583/kw-16
URL:https://kalenderwoche.info/1583/kw-16
CATEGORIES:Kalenderwoche
TRANSP:TRANSPARENT
END:VEVENT
BEGIN:VEVENT
UID:kw-1583-17@kalenderwoche.info
DTSTAMP:20260426T023724Z
DTSTART;VALUE=DATE:15830425
DTEND;VALUE=DATE:15830502
SUMMARY:KW 17 (ungerade)
DESCRIPTION:Kalenderwoche 17 im Jahr 1583\nMontag: 25.04.1583\nSonntag: 01.05.1583\nTyp: ungerade Woche\nMehr unter: https://kalenderwoche.info/1583/kw-17
URL:https://kalenderwoche.info/1583/kw-17
CATEGORIES:Kalenderwoche
TRANSP:TRANSPARENT
END:VEVENT
BEGIN:VEVENT
UID:kw-1583-18@kalenderwoche.info
DTSTAMP:20260426T023724Z
DTSTART;VALUE=DATE:15830502
DTEND;VALUE=DATE:15830509
SUMMARY:KW 18 (gerade)
DESCRIPTION:Kalenderwoche 18 im Jahr 1583\nMontag: 02.05.1583\nSonntag: 08.05.1583\nTyp: gerade Woche\nMehr unter: https://kalenderwoche.info/1583/kw-18
URL:https://kalenderwoche.info/1583/kw-18
CATEGORIES:Kalenderwoche
TRANSP:TRANSPARENT
END:VEVENT
BEGIN:VEVENT
UID:kw-1583-19@kalenderwoche.info
DTSTAMP:20260426T023724Z
DTSTART;VALUE=DATE:15830509
DTEND;VALUE=DATE:15830516
SUMMARY:KW 19 (ungerade)
DESCRIPTION:Kalenderwoche 19 im Jahr 1583\nMontag: 09.05.1583\nSonntag: 15.05.1583\nTyp: ungerade Woche\nMehr unter: https://kalenderwoche.info/1583/kw-19
URL:https://kalenderwoche.info/1583/kw-19
CATEGORIES:Kalenderwoche
TRANSP:TRANSPARENT
END:VEVENT
BEGIN:VEVENT
UID:kw-1583-20@kalenderwoche.info
DTSTAMP:20260426T023724Z
DTSTART;VALUE=DATE:15830516
DTEND;VALUE=DATE:15830523
SUMMARY:KW 20 (gerade)
DESCRIPTION:Kalenderwoche 20 im Jahr 1583\nMontag: 16.05.1583\nSonntag: 22.05.1583\nTyp: gerade Woche\nMehr unter: https://kalenderwoche.info/1583/kw-20
URL:https://kalenderwoche.info/1583/kw-20
CATEGORIES:Kalenderwoche
TRANSP:TRANSPARENT
END:VEVENT
BEGIN:VEVENT
UID:kw-1583-21@kalenderwoche.info
DTSTAMP:20260426T023724Z
DTSTART;VALUE=DATE:15830523
DTEND;VALUE=DATE:15830530
SUMMARY:KW 21 (ungerade)
DESCRIPTION:Kalenderwoche 21 im Jahr 1583\nMontag: 23.05.1583\nSonntag: 29.05.1583\nTyp: ungerade Woche\nMehr unter: https://kalenderwoche.info/1583/kw-21
URL:https://kalenderwoche.info/1583/kw-21
CATEGORIES:Kalenderwoche
TRANSP:TRANSPARENT
END:VEVENT
BEGIN:VEVENT
UID:kw-1583-22@kalenderwoche.info
DTSTAMP:20260426T023724Z
DTSTART;VALUE=DATE:15830530
DTEND;VALUE=DATE:15830606
SUMMARY:KW 22 (gerade)
DESCRIPTION:Kalenderwoche 22 im Jahr 1583\nMontag: 30.05.1583\nSonntag: 05.06.1583\nTyp: gerade Woche\nMehr unter: https://kalenderwoche.info/1583/kw-22
URL:https://kalenderwoche.info/1583/kw-22
CATEGORIES:Kalenderwoche
TRANSP:TRANSPARENT
END:VEVENT
BEGIN:VEVENT
UID:kw-1583-23@kalenderwoche.info
DTSTAMP:20260426T023724Z
DTSTART;VALUE=DATE:15830606
DTEND;VALUE=DATE:15830613
SUMMARY:KW 23 (ungerade)
DESCRIPTION:Kalenderwoche 23 im Jahr 1583\nMontag: 06.06.1583\nSonntag: 12.06.1583\nTyp: ungerade Woche\nMehr unter: https://kalenderwoche.info/1583/kw-23
URL:https://kalenderwoche.info/1583/kw-23
CATEGORIES:Kalenderwoche
TRANSP:TRANSPARENT
END:VEVENT
BEGIN:VEVENT
UID:kw-1583-24@kalenderwoche.info
DTSTAMP:20260426T023724Z
DTSTART;VALUE=DATE:15830613
DTEND;VALUE=DATE:15830620
SUMMARY:KW 24 (gerade)
DESCRIPTION:Kalenderwoche 24 im Jahr 1583\nMontag: 13.06.1583\nSonntag: 19.06.1583\nTyp: gerade Woche\nMehr unter: https://kalenderwoche.info/1583/kw-24
URL:https://kalenderwoche.info/1583/kw-24
CATEGORIES:Kalenderwoche
TRANSP:TRANSPARENT
END:VEVENT
BEGIN:VEVENT
UID:kw-1583-25@kalenderwoche.info
DTSTAMP:20260426T023724Z
DTSTART;VALUE=DATE:15830620
DTEND;VALUE=DATE:15830627
SUMMARY:KW 25 (ungerade)
DESCRIPTION:Kalenderwoche 25 im Jahr 1583\nMontag: 20.06.1583\nSonntag: 26.06.1583\nTyp: ungerade Woche\nMehr unter: https://kalenderwoche.info/1583/kw-25
URL:https://kalenderwoche.info/1583/kw-25
CATEGORIES:Kalenderwoche
TRANSP:TRANSPARENT
END:VEVENT
BEGIN:VEVENT
UID:kw-1583-26@kalenderwoche.info
DTSTAMP:20260426T023724Z
DTSTART;VALUE=DATE:15830627
DTEND;VALUE=DATE:15830704
SUMMARY:KW 26 (gerade)
DESCRIPTION:Kalenderwoche 26 im Jahr 1583\nMontag: 27.06.1583\nSonntag: 03.07.1583\nTyp: gerade Woche\nMehr unter: https://kalenderwoche.info/1583/kw-26
URL:https://kalenderwoche.info/1583/kw-26
CATEGORIES:Kalenderwoche
TRANSP:TRANSPARENT
END:VEVENT
BEGIN:VEVENT
UID:kw-1583-27@kalenderwoche.info
DTSTAMP:20260426T023724Z
DTSTART;VALUE=DATE:15830704
DTEND;VALUE=DATE:15830711
SUMMARY:KW 27 (ungerade)
DESCRIPTION:Kalenderwoche 27 im Jahr 1583\nMontag: 04.07.1583\nSonntag: 10.07.1583\nTyp: ungerade Woche\nMehr unter: https://kalenderwoche.info/1583/kw-27
URL:https://kalenderwoche.info/1583/kw-27
CATEGORIES:Kalenderwoche
TRANSP:TRANSPARENT
END:VEVENT
BEGIN:VEVENT
UID:kw-1583-28@kalenderwoche.info
DTSTAMP:20260426T023724Z
DTSTART;VALUE=DATE:15830711
DTEND;VALUE=DATE:15830718
SUMMARY:KW 28 (gerade)
DESCRIPTION:Kalenderwoche 28 im Jahr 1583\nMontag: 11.07.1583\nSonntag: 17.07.1583\nTyp: gerade Woche\nMehr unter: https://kalenderwoche.info/1583/kw-28
URL:https://kalenderwoche.info/1583/kw-28
CATEGORIES:Kalenderwoche
TRANSP:TRANSPARENT
END:VEVENT
BEGIN:VEVENT
UID:kw-1583-29@kalenderwoche.info
DTSTAMP:20260426T023724Z
DTSTART;VALUE=DATE:15830718
DTEND;VALUE=DATE:15830725
SUMMARY:KW 29 (ungerade)
DESCRIPTION:Kalenderwoche 29 im Jahr 1583\nMontag: 18.07.1583\nSonntag: 24.07.1583\nTyp: ungerade Woche\nMehr unter: https://kalenderwoche.info/1583/kw-29
URL:https://kalenderwoche.info/1583/kw-29
CATEGORIES:Kalenderwoche
TRANSP:TRANSPARENT
END:VEVENT
BEGIN:VEVENT
UID:kw-1583-30@kalenderwoche.info
DTSTAMP:20260426T023724Z
DTSTART;VALUE=DATE:15830725
DTEND;VALUE=DATE:15830801
SUMMARY:KW 30 (gerade)
DESCRIPTION:Kalenderwoche 30 im Jahr 1583\nMontag: 25.07.1583\nSonntag: 31.07.1583\nTyp: gerade Woche\nMehr unter: https://kalenderwoche.info/1583/kw-30
URL:https://kalenderwoche.info/1583/kw-30
CATEGORIES:Kalenderwoche
TRANSP:TRANSPARENT
END:VEVENT
BEGIN:VEVENT
UID:kw-1583-31@kalenderwoche.info
DTSTAMP:20260426T023724Z
DTSTART;VALUE=DATE:15830801
DTEND;VALUE=DATE:15830808
SUMMARY:KW 31 (ungerade)
DESCRIPTION:Kalenderwoche 31 im Jahr 1583\nMontag: 01.08.1583\nSonntag: 07.08.1583\nTyp: ungerade Woche\nMehr unter: https://kalenderwoche.info/1583/kw-31
URL:https://kalenderwoche.info/1583/kw-31
CATEGORIES:Kalenderwoche
TRANSP:TRANSPARENT
END:VEVENT
BEGIN:VEVENT
UID:kw-1583-32@kalenderwoche.info
DTSTAMP:20260426T023724Z
DTSTART;VALUE=DATE:15830808
DTEND;VALUE=DATE:15830815
SUMMARY:KW 32 (gerade)
DESCRIPTION:Kalenderwoche 32 im Jahr 1583\nMontag: 08.08.1583\nSonntag: 14.08.1583\nTyp: gerade Woche\nMehr unter: https://kalenderwoche.info/1583/kw-32
URL:https://kalenderwoche.info/1583/kw-32
CATEGORIES:Kalenderwoche
TRANSP:TRANSPARENT
END:VEVENT
BEGIN:VEVENT
UID:kw-1583-33@kalenderwoche.info
DTSTAMP:20260426T023724Z
DTSTART;VALUE=DATE:15830815
DTEND;VALUE=DATE:15830822
SUMMARY:KW 33 (ungerade)
DESCRIPTION:Kalenderwoche 33 im Jahr 1583\nMontag: 15.08.1583\nSonntag: 21.08.1583\nTyp: ungerade Woche\nMehr unter: https://kalenderwoche.info/1583/kw-33
URL:https://kalenderwoche.info/1583/kw-33
CATEGORIES:Kalenderwoche
TRANSP:TRANSPARENT
END:VEVENT
BEGIN:VEVENT
UID:kw-1583-34@kalenderwoche.info
DTSTAMP:20260426T023724Z
DTSTART;VALUE=DATE:15830822
DTEND;VALUE=DATE:15830829
SUMMARY:KW 34 (gerade)
DESCRIPTION:Kalenderwoche 34 im Jahr 1583\nMontag: 22.08.1583\nSonntag: 28.08.1583\nTyp: gerade Woche\nMehr unter: https://kalenderwoche.info/1583/kw-34
URL:https://kalenderwoche.info/1583/kw-34
CATEGORIES:Kalenderwoche
TRANSP:TRANSPARENT
END:VEVENT
BEGIN:VEVENT
UID:kw-1583-35@kalenderwoche.info
DTSTAMP:20260426T023724Z
DTSTART;VALUE=DATE:15830829
DTEND;VALUE=DATE:15830905
SUMMARY:KW 35 (ungerade)
DESCRIPTION:Kalenderwoche 35 im Jahr 1583\nMontag: 29.08.1583\nSonntag: 04.09.1583\nTyp: ungerade Woche\nMehr unter: https://kalenderwoche.info/1583/kw-35
URL:https://kalenderwoche.info/1583/kw-35
CATEGORIES:Kalenderwoche
TRANSP:TRANSPARENT
END:VEVENT
BEGIN:VEVENT
UID:kw-1583-36@kalenderwoche.info
DTSTAMP:20260426T023724Z
DTSTART;VALUE=DATE:15830905
DTEND;VALUE=DATE:15830912
SUMMARY:KW 36 (gerade)
DESCRIPTION:Kalenderwoche 36 im Jahr 1583\nMontag: 05.09.1583\nSonntag: 11.09.1583\nTyp: gerade Woche\nMehr unter: https://kalenderwoche.info/1583/kw-36
URL:https://kalenderwoche.info/1583/kw-36
CATEGORIES:Kalenderwoche
TRANSP:TRANSPARENT
END:VEVENT
BEGIN:VEVENT
UID:kw-1583-37@kalenderwoche.info
DTSTAMP:20260426T023724Z
DTSTART;VALUE=DATE:15830912
DTEND;VALUE=DATE:15830919
SUMMARY:KW 37 (ungerade)
DESCRIPTION:Kalenderwoche 37 im Jahr 1583\nMontag: 12.09.1583\nSonntag: 18.09.1583\nTyp: ungerade Woche\nMehr unter: https://kalenderwoche.info/1583/kw-37
URL:https://kalenderwoche.info/1583/kw-37
CATEGORIES:Kalenderwoche
TRANSP:TRANSPARENT
END:VEVENT
BEGIN:VEVENT
UID:kw-1583-38@kalenderwoche.info
DTSTAMP:20260426T023724Z
DTSTART;VALUE=DATE:15830919
DTEND;VALUE=DATE:15830926
SUMMARY:KW 38 (gerade)
DESCRIPTION:Kalenderwoche 38 im Jahr 1583\nMontag: 19.09.1583\nSonntag: 25.09.1583\nTyp: gerade Woche\nMehr unter: https://kalenderwoche.info/1583/kw-38
URL:https://kalenderwoche.info/1583/kw-38
CATEGORIES:Kalenderwoche
TRANSP:TRANSPARENT
END:VEVENT
BEGIN:VEVENT
UID:kw-1583-39@kalenderwoche.info
DTSTAMP:20260426T023724Z
DTSTART;VALUE=DATE:15830926
DTEND;VALUE=DATE:15831003
SUMMARY:KW 39 (ungerade)
DESCRIPTION:Kalenderwoche 39 im Jahr 1583\nMontag: 26.09.1583\nSonntag: 02.10.1583\nTyp: ungerade Woche\nMehr unter: https://kalenderwoche.info/1583/kw-39
URL:https://kalenderwoche.info/1583/kw-39
CATEGORIES:Kalenderwoche
TRANSP:TRANSPARENT
END:VEVENT
BEGIN:VEVENT
UID:kw-1583-40@kalenderwoche.info
DTSTAMP:20260426T023724Z
DTSTART;VALUE=DATE:15831003
DTEND;VALUE=DATE:15831010
SUMMARY:KW 40 (gerade)
DESCRIPTION:Kalenderwoche 40 im Jahr 1583\nMontag: 03.10.1583\nSonntag: 09.10.1583\nTyp: gerade Woche\nMehr unter: https://kalenderwoche.info/1583/kw-40
URL:https://kalenderwoche.info/1583/kw-40
CATEGORIES:Kalenderwoche
TRANSP:TRANSPARENT
END:VEVENT
BEGIN:VEVENT
UID:kw-1583-41@kalenderwoche.info
DTSTAMP:20260426T023724Z
DTSTART;VALUE=DATE:15831010
DTEND;VALUE=DATE:15831017
SUMMARY:KW 41 (ungerade)
DESCRIPTION:Kalenderwoche 41 im Jahr 1583\nMontag: 10.10.1583\nSonntag: 16.10.1583\nTyp: ungerade Woche\nMehr unter: https://kalenderwoche.info/1583/kw-41
URL:https://kalenderwoche.info/1583/kw-41
CATEGORIES:Kalenderwoche
TRANSP:TRANSPARENT
END:VEVENT
BEGIN:VEVENT
UID:kw-1583-42@kalenderwoche.info
DTSTAMP:20260426T023724Z
DTSTART;VALUE=DATE:15831017
DTEND;VALUE=DATE:15831024
SUMMARY:KW 42 (gerade)
DESCRIPTION:Kalenderwoche 42 im Jahr 1583\nMontag: 17.10.1583\nSonntag: 23.10.1583\nTyp: gerade Woche\nMehr unter: https://kalenderwoche.info/1583/kw-42
URL:https://kalenderwoche.info/1583/kw-42
CATEGORIES:Kalenderwoche
TRANSP:TRANSPARENT
END:VEVENT
BEGIN:VEVENT
UID:kw-1583-43@kalenderwoche.info
DTSTAMP:20260426T023724Z
DTSTART;VALUE=DATE:15831024
DTEND;VALUE=DATE:15831031
SUMMARY:KW 43 (ungerade)
DESCRIPTION:Kalenderwoche 43 im Jahr 1583\nMontag: 24.10.1583\nSonntag: 30.10.1583\nTyp: ungerade Woche\nMehr unter: https://kalenderwoche.info/1583/kw-43
URL:https://kalenderwoche.info/1583/kw-43
CATEGORIES:Kalenderwoche
TRANSP:TRANSPARENT
END:VEVENT
BEGIN:VEVENT
UID:kw-1583-44@kalenderwoche.info
DTSTAMP:20260426T023724Z
DTSTART;VALUE=DATE:15831031
DTEND;VALUE=DATE:15831107
SUMMARY:KW 44 (gerade)
DESCRIPTION:Kalenderwoche 44 im Jahr 1583\nMontag: 31.10.1583\nSonntag: 06.11.1583\nTyp: gerade Woche\nMehr unter: https://kalenderwoche.info/1583/kw-44
URL:https://kalenderwoche.info/1583/kw-44
CATEGORIES:Kalenderwoche
TRANSP:TRANSPARENT
END:VEVENT
BEGIN:VEVENT
UID:kw-1583-45@kalenderwoche.info
DTSTAMP:20260426T023724Z
DTSTART;VALUE=DATE:15831107
DTEND;VALUE=DATE:15831114
SUMMARY:KW 45 (ungerade)
DESCRIPTION:Kalenderwoche 45 im Jahr 1583\nMontag: 07.11.1583\nSonntag: 13.11.1583\nTyp: ungerade Woche\nMehr unter: https://kalenderwoche.info/1583/kw-45
URL:https://kalenderwoche.info/1583/kw-45
CATEGORIES:Kalenderwoche
TRANSP:TRANSPARENT
END:VEVENT
BEGIN:VEVENT
UID:kw-1583-46@kalenderwoche.info
DTSTAMP:20260426T023724Z
DTSTART;VALUE=DATE:15831114
DTEND;VALUE=DATE:15831121
SUMMARY:KW 46 (gerade)
DESCRIPTION:Kalenderwoche 46 im Jahr 1583\nMontag: 14.11.1583\nSonntag: 20.11.1583\nTyp: gerade Woche\nMehr unter: https://kalenderwoche.info/1583/kw-46
URL:https://kalenderwoche.info/1583/kw-46
CATEGORIES:Kalenderwoche
TRANSP:TRANSPARENT
END:VEVENT
BEGIN:VEVENT
UID:kw-1583-47@kalenderwoche.info
DTSTAMP:20260426T023724Z
DTSTART;VALUE=DATE:15831121
DTEND;VALUE=DATE:15831128
SUMMARY:KW 47 (ungerade)
DESCRIPTION:Kalenderwoche 47 im Jahr 1583\nMontag: 21.11.1583\nSonntag: 27.11.1583\nTyp: ungerade Woche\nMehr unter: https://kalenderwoche.info/1583/kw-47
URL:https://kalenderwoche.info/1583/kw-47
CATEGORIES:Kalenderwoche
TRANSP:TRANSPARENT
END:VEVENT
BEGIN:VEVENT
UID:kw-1583-48@kalenderwoche.info
DTSTAMP:20260426T023724Z
DTSTART;VALUE=DATE:15831128
DTEND;VALUE=DATE:15831205
SUMMARY:KW 48 (gerade)
DESCRIPTION:Kalenderwoche 48 im Jahr 1583\nMontag: 28.11.1583\nSonntag: 04.12.1583\nTyp: gerade Woche\nMehr unter: https://kalenderwoche.info/1583/kw-48
URL:https://kalenderwoche.info/1583/kw-48
CATEGORIES:Kalenderwoche
TRANSP:TRANSPARENT
END:VEVENT
BEGIN:VEVENT
UID:kw-1583-49@kalenderwoche.info
DTSTAMP:20260426T023724Z
DTSTART;VALUE=DATE:15831205
DTEND;VALUE=DATE:15831212
SUMMARY:KW 49 (ungerade)
DESCRIPTION:Kalenderwoche 49 im Jahr 1583\nMontag: 05.12.1583\nSonntag: 11.12.1583\nTyp: ungerade Woche\nMehr unter: https://kalenderwoche.info/1583/kw-49
URL:https://kalenderwoche.info/1583/kw-49
CATEGORIES:Kalenderwoche
TRANSP:TRANSPARENT
END:VEVENT
BEGIN:VEVENT
UID:kw-1583-50@kalenderwoche.info
DTSTAMP:20260426T023724Z
DTSTART;VALUE=DATE:15831212
DTEND;VALUE=DATE:15831219
SUMMARY:KW 50 (gerade)
DESCRIPTION:Kalenderwoche 50 im Jahr 1583\nMontag: 12.12.1583\nSonntag: 18.12.1583\nTyp: gerade Woche\nMehr unter: https://kalenderwoche.info/1583/kw-50
URL:https://kalenderwoche.info/1583/kw-50
CATEGORIES:Kalenderwoche
TRANSP:TRANSPARENT
END:VEVENT
BEGIN:VEVENT
UID:kw-1583-51@kalenderwoche.info
DTSTAMP:20260426T023724Z
DTSTART;VALUE=DATE:15831219
DTEND;VALUE=DATE:15831226
SUMMARY:KW 51 (ungerade)
DESCRIPTION:Kalenderwoche 51 im Jahr 1583\nMontag: 19.12.1583\nSonntag: 25.12.1583\nTyp: ungerade Woche\nMehr unter: https://kalenderwoche.info/1583/kw-51
URL:https://kalenderwoche.info/1583/kw-51
CATEGORIES:Kalenderwoche
TRANSP:TRANSPARENT
END:VEVENT
BEGIN:VEVENT
UID:kw-1583-52@kalenderwoche.info
DTSTAMP:20260426T023724Z
DTSTART;VALUE=DATE:15831226
DTEND;VALUE=DATE:15840102
SUMMARY:KW 52 (gerade)
DESCRIPTION:Kalenderwoche 52 im Jahr 1583\nMontag: 26.12.1583\nSonntag: 01.01.1584\nTyp: gerade Woche\nMehr unter: https://kalenderwoche.info/1583/kw-52
URL:https://kalenderwoche.info/1583/kw-52
CATEGORIES:Kalenderwoche
TRANSP:TRANSPARENT
END:VEVENT
END:VCALENDAR
