BEGIN:VCALENDAR
VERSION:2.0
PRODID:-//kalenderwoche.info//Kalender//DE
CALSCALE:GREGORIAN
METHOD:PUBLISH
X-WR-CALNAME:Kalenderwochen 1585
X-WR-CALDESC:Alle Kalenderwochen für das Jahr 1585
X-WR-TIMEZONE:Europe/Berlin
BEGIN:VEVENT
UID:kw-1585-1@kalenderwoche.info
DTSTAMP:20260426T000207Z
DTSTART;VALUE=DATE:15841231
DTEND;VALUE=DATE:15850107
SUMMARY:KW 1 (ungerade)
DESCRIPTION:Kalenderwoche 1 im Jahr 1585\nMontag: 31.12.1584\nSonntag: 06.01.1585\nTyp: ungerade Woche\nMehr unter: https://kalenderwoche.info/1585/kw-1
URL:https://kalenderwoche.info/1585/kw-1
CATEGORIES:Kalenderwoche
TRANSP:TRANSPARENT
END:VEVENT
BEGIN:VEVENT
UID:kw-1585-2@kalenderwoche.info
DTSTAMP:20260426T000207Z
DTSTART;VALUE=DATE:15850107
DTEND;VALUE=DATE:15850114
SUMMARY:KW 2 (gerade)
DESCRIPTION:Kalenderwoche 2 im Jahr 1585\nMontag: 07.01.1585\nSonntag: 13.01.1585\nTyp: gerade Woche\nMehr unter: https://kalenderwoche.info/1585/kw-2
URL:https://kalenderwoche.info/1585/kw-2
CATEGORIES:Kalenderwoche
TRANSP:TRANSPARENT
END:VEVENT
BEGIN:VEVENT
UID:kw-1585-3@kalenderwoche.info
DTSTAMP:20260426T000207Z
DTSTART;VALUE=DATE:15850114
DTEND;VALUE=DATE:15850121
SUMMARY:KW 3 (ungerade)
DESCRIPTION:Kalenderwoche 3 im Jahr 1585\nMontag: 14.01.1585\nSonntag: 20.01.1585\nTyp: ungerade Woche\nMehr unter: https://kalenderwoche.info/1585/kw-3
URL:https://kalenderwoche.info/1585/kw-3
CATEGORIES:Kalenderwoche
TRANSP:TRANSPARENT
END:VEVENT
BEGIN:VEVENT
UID:kw-1585-4@kalenderwoche.info
DTSTAMP:20260426T000207Z
DTSTART;VALUE=DATE:15850121
DTEND;VALUE=DATE:15850128
SUMMARY:KW 4 (gerade)
DESCRIPTION:Kalenderwoche 4 im Jahr 1585\nMontag: 21.01.1585\nSonntag: 27.01.1585\nTyp: gerade Woche\nMehr unter: https://kalenderwoche.info/1585/kw-4
URL:https://kalenderwoche.info/1585/kw-4
CATEGORIES:Kalenderwoche
TRANSP:TRANSPARENT
END:VEVENT
BEGIN:VEVENT
UID:kw-1585-5@kalenderwoche.info
DTSTAMP:20260426T000207Z
DTSTART;VALUE=DATE:15850128
DTEND;VALUE=DATE:15850204
SUMMARY:KW 5 (ungerade)
DESCRIPTION:Kalenderwoche 5 im Jahr 1585\nMontag: 28.01.1585\nSonntag: 03.02.1585\nTyp: ungerade Woche\nMehr unter: https://kalenderwoche.info/1585/kw-5
URL:https://kalenderwoche.info/1585/kw-5
CATEGORIES:Kalenderwoche
TRANSP:TRANSPARENT
END:VEVENT
BEGIN:VEVENT
UID:kw-1585-6@kalenderwoche.info
DTSTAMP:20260426T000207Z
DTSTART;VALUE=DATE:15850204
DTEND;VALUE=DATE:15850211
SUMMARY:KW 6 (gerade)
DESCRIPTION:Kalenderwoche 6 im Jahr 1585\nMontag: 04.02.1585\nSonntag: 10.02.1585\nTyp: gerade Woche\nMehr unter: https://kalenderwoche.info/1585/kw-6
URL:https://kalenderwoche.info/1585/kw-6
CATEGORIES:Kalenderwoche
TRANSP:TRANSPARENT
END:VEVENT
BEGIN:VEVENT
UID:kw-1585-7@kalenderwoche.info
DTSTAMP:20260426T000207Z
DTSTART;VALUE=DATE:15850211
DTEND;VALUE=DATE:15850218
SUMMARY:KW 7 (ungerade)
DESCRIPTION:Kalenderwoche 7 im Jahr 1585\nMontag: 11.02.1585\nSonntag: 17.02.1585\nTyp: ungerade Woche\nMehr unter: https://kalenderwoche.info/1585/kw-7
URL:https://kalenderwoche.info/1585/kw-7
CATEGORIES:Kalenderwoche
TRANSP:TRANSPARENT
END:VEVENT
BEGIN:VEVENT
UID:kw-1585-8@kalenderwoche.info
DTSTAMP:20260426T000207Z
DTSTART;VALUE=DATE:15850218
DTEND;VALUE=DATE:15850225
SUMMARY:KW 8 (gerade)
DESCRIPTION:Kalenderwoche 8 im Jahr 1585\nMontag: 18.02.1585\nSonntag: 24.02.1585\nTyp: gerade Woche\nMehr unter: https://kalenderwoche.info/1585/kw-8
URL:https://kalenderwoche.info/1585/kw-8
CATEGORIES:Kalenderwoche
TRANSP:TRANSPARENT
END:VEVENT
BEGIN:VEVENT
UID:kw-1585-9@kalenderwoche.info
DTSTAMP:20260426T000207Z
DTSTART;VALUE=DATE:15850225
DTEND;VALUE=DATE:15850304
SUMMARY:KW 9 (ungerade)
DESCRIPTION:Kalenderwoche 9 im Jahr 1585\nMontag: 25.02.1585\nSonntag: 03.03.1585\nTyp: ungerade Woche\nMehr unter: https://kalenderwoche.info/1585/kw-9
URL:https://kalenderwoche.info/1585/kw-9
CATEGORIES:Kalenderwoche
TRANSP:TRANSPARENT
END:VEVENT
BEGIN:VEVENT
UID:kw-1585-10@kalenderwoche.info
DTSTAMP:20260426T000207Z
DTSTART;VALUE=DATE:15850304
DTEND;VALUE=DATE:15850311
SUMMARY:KW 10 (gerade)
DESCRIPTION:Kalenderwoche 10 im Jahr 1585\nMontag: 04.03.1585\nSonntag: 10.03.1585\nTyp: gerade Woche\nMehr unter: https://kalenderwoche.info/1585/kw-10
URL:https://kalenderwoche.info/1585/kw-10
CATEGORIES:Kalenderwoche
TRANSP:TRANSPARENT
END:VEVENT
BEGIN:VEVENT
UID:kw-1585-11@kalenderwoche.info
DTSTAMP:20260426T000207Z
DTSTART;VALUE=DATE:15850311
DTEND;VALUE=DATE:15850318
SUMMARY:KW 11 (ungerade)
DESCRIPTION:Kalenderwoche 11 im Jahr 1585\nMontag: 11.03.1585\nSonntag: 17.03.1585\nTyp: ungerade Woche\nMehr unter: https://kalenderwoche.info/1585/kw-11
URL:https://kalenderwoche.info/1585/kw-11
CATEGORIES:Kalenderwoche
TRANSP:TRANSPARENT
END:VEVENT
BEGIN:VEVENT
UID:kw-1585-12@kalenderwoche.info
DTSTAMP:20260426T000207Z
DTSTART;VALUE=DATE:15850318
DTEND;VALUE=DATE:15850325
SUMMARY:KW 12 (gerade)
DESCRIPTION:Kalenderwoche 12 im Jahr 1585\nMontag: 18.03.1585\nSonntag: 24.03.1585\nTyp: gerade Woche\nMehr unter: https://kalenderwoche.info/1585/kw-12
URL:https://kalenderwoche.info/1585/kw-12
CATEGORIES:Kalenderwoche
TRANSP:TRANSPARENT
END:VEVENT
BEGIN:VEVENT
UID:kw-1585-13@kalenderwoche.info
DTSTAMP:20260426T000207Z
DTSTART;VALUE=DATE:15850325
DTEND;VALUE=DATE:15850401
SUMMARY:KW 13 (ungerade)
DESCRIPTION:Kalenderwoche 13 im Jahr 1585\nMontag: 25.03.1585\nSonntag: 31.03.1585\nTyp: ungerade Woche\nMehr unter: https://kalenderwoche.info/1585/kw-13
URL:https://kalenderwoche.info/1585/kw-13
CATEGORIES:Kalenderwoche
TRANSP:TRANSPARENT
END:VEVENT
BEGIN:VEVENT
UID:kw-1585-14@kalenderwoche.info
DTSTAMP:20260426T000207Z
DTSTART;VALUE=DATE:15850401
DTEND;VALUE=DATE:15850408
SUMMARY:KW 14 (gerade)
DESCRIPTION:Kalenderwoche 14 im Jahr 1585\nMontag: 01.04.1585\nSonntag: 07.04.1585\nTyp: gerade Woche\nMehr unter: https://kalenderwoche.info/1585/kw-14
URL:https://kalenderwoche.info/1585/kw-14
CATEGORIES:Kalenderwoche
TRANSP:TRANSPARENT
END:VEVENT
BEGIN:VEVENT
UID:kw-1585-15@kalenderwoche.info
DTSTAMP:20260426T000207Z
DTSTART;VALUE=DATE:15850408
DTEND;VALUE=DATE:15850415
SUMMARY:KW 15 (ungerade)
DESCRIPTION:Kalenderwoche 15 im Jahr 1585\nMontag: 08.04.1585\nSonntag: 14.04.1585\nTyp: ungerade Woche\nMehr unter: https://kalenderwoche.info/1585/kw-15
URL:https://kalenderwoche.info/1585/kw-15
CATEGORIES:Kalenderwoche
TRANSP:TRANSPARENT
END:VEVENT
BEGIN:VEVENT
UID:kw-1585-16@kalenderwoche.info
DTSTAMP:20260426T000207Z
DTSTART;VALUE=DATE:15850415
DTEND;VALUE=DATE:15850422
SUMMARY:KW 16 (gerade)
DESCRIPTION:Kalenderwoche 16 im Jahr 1585\nMontag: 15.04.1585\nSonntag: 21.04.1585\nTyp: gerade Woche\nMehr unter: https://kalenderwoche.info/1585/kw-16
URL:https://kalenderwoche.info/1585/kw-16
CATEGORIES:Kalenderwoche
TRANSP:TRANSPARENT
END:VEVENT
BEGIN:VEVENT
UID:kw-1585-17@kalenderwoche.info
DTSTAMP:20260426T000207Z
DTSTART;VALUE=DATE:15850422
DTEND;VALUE=DATE:15850429
SUMMARY:KW 17 (ungerade)
DESCRIPTION:Kalenderwoche 17 im Jahr 1585\nMontag: 22.04.1585\nSonntag: 28.04.1585\nTyp: ungerade Woche\nMehr unter: https://kalenderwoche.info/1585/kw-17
URL:https://kalenderwoche.info/1585/kw-17
CATEGORIES:Kalenderwoche
TRANSP:TRANSPARENT
END:VEVENT
BEGIN:VEVENT
UID:kw-1585-18@kalenderwoche.info
DTSTAMP:20260426T000207Z
DTSTART;VALUE=DATE:15850429
DTEND;VALUE=DATE:15850506
SUMMARY:KW 18 (gerade)
DESCRIPTION:Kalenderwoche 18 im Jahr 1585\nMontag: 29.04.1585\nSonntag: 05.05.1585\nTyp: gerade Woche\nMehr unter: https://kalenderwoche.info/1585/kw-18
URL:https://kalenderwoche.info/1585/kw-18
CATEGORIES:Kalenderwoche
TRANSP:TRANSPARENT
END:VEVENT
BEGIN:VEVENT
UID:kw-1585-19@kalenderwoche.info
DTSTAMP:20260426T000207Z
DTSTART;VALUE=DATE:15850506
DTEND;VALUE=DATE:15850513
SUMMARY:KW 19 (ungerade)
DESCRIPTION:Kalenderwoche 19 im Jahr 1585\nMontag: 06.05.1585\nSonntag: 12.05.1585\nTyp: ungerade Woche\nMehr unter: https://kalenderwoche.info/1585/kw-19
URL:https://kalenderwoche.info/1585/kw-19
CATEGORIES:Kalenderwoche
TRANSP:TRANSPARENT
END:VEVENT
BEGIN:VEVENT
UID:kw-1585-20@kalenderwoche.info
DTSTAMP:20260426T000207Z
DTSTART;VALUE=DATE:15850513
DTEND;VALUE=DATE:15850520
SUMMARY:KW 20 (gerade)
DESCRIPTION:Kalenderwoche 20 im Jahr 1585\nMontag: 13.05.1585\nSonntag: 19.05.1585\nTyp: gerade Woche\nMehr unter: https://kalenderwoche.info/1585/kw-20
URL:https://kalenderwoche.info/1585/kw-20
CATEGORIES:Kalenderwoche
TRANSP:TRANSPARENT
END:VEVENT
BEGIN:VEVENT
UID:kw-1585-21@kalenderwoche.info
DTSTAMP:20260426T000207Z
DTSTART;VALUE=DATE:15850520
DTEND;VALUE=DATE:15850527
SUMMARY:KW 21 (ungerade)
DESCRIPTION:Kalenderwoche 21 im Jahr 1585\nMontag: 20.05.1585\nSonntag: 26.05.1585\nTyp: ungerade Woche\nMehr unter: https://kalenderwoche.info/1585/kw-21
URL:https://kalenderwoche.info/1585/kw-21
CATEGORIES:Kalenderwoche
TRANSP:TRANSPARENT
END:VEVENT
BEGIN:VEVENT
UID:kw-1585-22@kalenderwoche.info
DTSTAMP:20260426T000207Z
DTSTART;VALUE=DATE:15850527
DTEND;VALUE=DATE:15850603
SUMMARY:KW 22 (gerade)
DESCRIPTION:Kalenderwoche 22 im Jahr 1585\nMontag: 27.05.1585\nSonntag: 02.06.1585\nTyp: gerade Woche\nMehr unter: https://kalenderwoche.info/1585/kw-22
URL:https://kalenderwoche.info/1585/kw-22
CATEGORIES:Kalenderwoche
TRANSP:TRANSPARENT
END:VEVENT
BEGIN:VEVENT
UID:kw-1585-23@kalenderwoche.info
DTSTAMP:20260426T000207Z
DTSTART;VALUE=DATE:15850603
DTEND;VALUE=DATE:15850610
SUMMARY:KW 23 (ungerade)
DESCRIPTION:Kalenderwoche 23 im Jahr 1585\nMontag: 03.06.1585\nSonntag: 09.06.1585\nTyp: ungerade Woche\nMehr unter: https://kalenderwoche.info/1585/kw-23
URL:https://kalenderwoche.info/1585/kw-23
CATEGORIES:Kalenderwoche
TRANSP:TRANSPARENT
END:VEVENT
BEGIN:VEVENT
UID:kw-1585-24@kalenderwoche.info
DTSTAMP:20260426T000207Z
DTSTART;VALUE=DATE:15850610
DTEND;VALUE=DATE:15850617
SUMMARY:KW 24 (gerade)
DESCRIPTION:Kalenderwoche 24 im Jahr 1585\nMontag: 10.06.1585\nSonntag: 16.06.1585\nTyp: gerade Woche\nMehr unter: https://kalenderwoche.info/1585/kw-24
URL:https://kalenderwoche.info/1585/kw-24
CATEGORIES:Kalenderwoche
TRANSP:TRANSPARENT
END:VEVENT
BEGIN:VEVENT
UID:kw-1585-25@kalenderwoche.info
DTSTAMP:20260426T000207Z
DTSTART;VALUE=DATE:15850617
DTEND;VALUE=DATE:15850624
SUMMARY:KW 25 (ungerade)
DESCRIPTION:Kalenderwoche 25 im Jahr 1585\nMontag: 17.06.1585\nSonntag: 23.06.1585\nTyp: ungerade Woche\nMehr unter: https://kalenderwoche.info/1585/kw-25
URL:https://kalenderwoche.info/1585/kw-25
CATEGORIES:Kalenderwoche
TRANSP:TRANSPARENT
END:VEVENT
BEGIN:VEVENT
UID:kw-1585-26@kalenderwoche.info
DTSTAMP:20260426T000207Z
DTSTART;VALUE=DATE:15850624
DTEND;VALUE=DATE:15850701
SUMMARY:KW 26 (gerade)
DESCRIPTION:Kalenderwoche 26 im Jahr 1585\nMontag: 24.06.1585\nSonntag: 30.06.1585\nTyp: gerade Woche\nMehr unter: https://kalenderwoche.info/1585/kw-26
URL:https://kalenderwoche.info/1585/kw-26
CATEGORIES:Kalenderwoche
TRANSP:TRANSPARENT
END:VEVENT
BEGIN:VEVENT
UID:kw-1585-27@kalenderwoche.info
DTSTAMP:20260426T000207Z
DTSTART;VALUE=DATE:15850701
DTEND;VALUE=DATE:15850708
SUMMARY:KW 27 (ungerade)
DESCRIPTION:Kalenderwoche 27 im Jahr 1585\nMontag: 01.07.1585\nSonntag: 07.07.1585\nTyp: ungerade Woche\nMehr unter: https://kalenderwoche.info/1585/kw-27
URL:https://kalenderwoche.info/1585/kw-27
CATEGORIES:Kalenderwoche
TRANSP:TRANSPARENT
END:VEVENT
BEGIN:VEVENT
UID:kw-1585-28@kalenderwoche.info
DTSTAMP:20260426T000207Z
DTSTART;VALUE=DATE:15850708
DTEND;VALUE=DATE:15850715
SUMMARY:KW 28 (gerade)
DESCRIPTION:Kalenderwoche 28 im Jahr 1585\nMontag: 08.07.1585\nSonntag: 14.07.1585\nTyp: gerade Woche\nMehr unter: https://kalenderwoche.info/1585/kw-28
URL:https://kalenderwoche.info/1585/kw-28
CATEGORIES:Kalenderwoche
TRANSP:TRANSPARENT
END:VEVENT
BEGIN:VEVENT
UID:kw-1585-29@kalenderwoche.info
DTSTAMP:20260426T000207Z
DTSTART;VALUE=DATE:15850715
DTEND;VALUE=DATE:15850722
SUMMARY:KW 29 (ungerade)
DESCRIPTION:Kalenderwoche 29 im Jahr 1585\nMontag: 15.07.1585\nSonntag: 21.07.1585\nTyp: ungerade Woche\nMehr unter: https://kalenderwoche.info/1585/kw-29
URL:https://kalenderwoche.info/1585/kw-29
CATEGORIES:Kalenderwoche
TRANSP:TRANSPARENT
END:VEVENT
BEGIN:VEVENT
UID:kw-1585-30@kalenderwoche.info
DTSTAMP:20260426T000207Z
DTSTART;VALUE=DATE:15850722
DTEND;VALUE=DATE:15850729
SUMMARY:KW 30 (gerade)
DESCRIPTION:Kalenderwoche 30 im Jahr 1585\nMontag: 22.07.1585\nSonntag: 28.07.1585\nTyp: gerade Woche\nMehr unter: https://kalenderwoche.info/1585/kw-30
URL:https://kalenderwoche.info/1585/kw-30
CATEGORIES:Kalenderwoche
TRANSP:TRANSPARENT
END:VEVENT
BEGIN:VEVENT
UID:kw-1585-31@kalenderwoche.info
DTSTAMP:20260426T000207Z
DTSTART;VALUE=DATE:15850729
DTEND;VALUE=DATE:15850805
SUMMARY:KW 31 (ungerade)
DESCRIPTION:Kalenderwoche 31 im Jahr 1585\nMontag: 29.07.1585\nSonntag: 04.08.1585\nTyp: ungerade Woche\nMehr unter: https://kalenderwoche.info/1585/kw-31
URL:https://kalenderwoche.info/1585/kw-31
CATEGORIES:Kalenderwoche
TRANSP:TRANSPARENT
END:VEVENT
BEGIN:VEVENT
UID:kw-1585-32@kalenderwoche.info
DTSTAMP:20260426T000207Z
DTSTART;VALUE=DATE:15850805
DTEND;VALUE=DATE:15850812
SUMMARY:KW 32 (gerade)
DESCRIPTION:Kalenderwoche 32 im Jahr 1585\nMontag: 05.08.1585\nSonntag: 11.08.1585\nTyp: gerade Woche\nMehr unter: https://kalenderwoche.info/1585/kw-32
URL:https://kalenderwoche.info/1585/kw-32
CATEGORIES:Kalenderwoche
TRANSP:TRANSPARENT
END:VEVENT
BEGIN:VEVENT
UID:kw-1585-33@kalenderwoche.info
DTSTAMP:20260426T000207Z
DTSTART;VALUE=DATE:15850812
DTEND;VALUE=DATE:15850819
SUMMARY:KW 33 (ungerade)
DESCRIPTION:Kalenderwoche 33 im Jahr 1585\nMontag: 12.08.1585\nSonntag: 18.08.1585\nTyp: ungerade Woche\nMehr unter: https://kalenderwoche.info/1585/kw-33
URL:https://kalenderwoche.info/1585/kw-33
CATEGORIES:Kalenderwoche
TRANSP:TRANSPARENT
END:VEVENT
BEGIN:VEVENT
UID:kw-1585-34@kalenderwoche.info
DTSTAMP:20260426T000207Z
DTSTART;VALUE=DATE:15850819
DTEND;VALUE=DATE:15850826
SUMMARY:KW 34 (gerade)
DESCRIPTION:Kalenderwoche 34 im Jahr 1585\nMontag: 19.08.1585\nSonntag: 25.08.1585\nTyp: gerade Woche\nMehr unter: https://kalenderwoche.info/1585/kw-34
URL:https://kalenderwoche.info/1585/kw-34
CATEGORIES:Kalenderwoche
TRANSP:TRANSPARENT
END:VEVENT
BEGIN:VEVENT
UID:kw-1585-35@kalenderwoche.info
DTSTAMP:20260426T000207Z
DTSTART;VALUE=DATE:15850826
DTEND;VALUE=DATE:15850902
SUMMARY:KW 35 (ungerade)
DESCRIPTION:Kalenderwoche 35 im Jahr 1585\nMontag: 26.08.1585\nSonntag: 01.09.1585\nTyp: ungerade Woche\nMehr unter: https://kalenderwoche.info/1585/kw-35
URL:https://kalenderwoche.info/1585/kw-35
CATEGORIES:Kalenderwoche
TRANSP:TRANSPARENT
END:VEVENT
BEGIN:VEVENT
UID:kw-1585-36@kalenderwoche.info
DTSTAMP:20260426T000207Z
DTSTART;VALUE=DATE:15850902
DTEND;VALUE=DATE:15850909
SUMMARY:KW 36 (gerade)
DESCRIPTION:Kalenderwoche 36 im Jahr 1585\nMontag: 02.09.1585\nSonntag: 08.09.1585\nTyp: gerade Woche\nMehr unter: https://kalenderwoche.info/1585/kw-36
URL:https://kalenderwoche.info/1585/kw-36
CATEGORIES:Kalenderwoche
TRANSP:TRANSPARENT
END:VEVENT
BEGIN:VEVENT
UID:kw-1585-37@kalenderwoche.info
DTSTAMP:20260426T000207Z
DTSTART;VALUE=DATE:15850909
DTEND;VALUE=DATE:15850916
SUMMARY:KW 37 (ungerade)
DESCRIPTION:Kalenderwoche 37 im Jahr 1585\nMontag: 09.09.1585\nSonntag: 15.09.1585\nTyp: ungerade Woche\nMehr unter: https://kalenderwoche.info/1585/kw-37
URL:https://kalenderwoche.info/1585/kw-37
CATEGORIES:Kalenderwoche
TRANSP:TRANSPARENT
END:VEVENT
BEGIN:VEVENT
UID:kw-1585-38@kalenderwoche.info
DTSTAMP:20260426T000207Z
DTSTART;VALUE=DATE:15850916
DTEND;VALUE=DATE:15850923
SUMMARY:KW 38 (gerade)
DESCRIPTION:Kalenderwoche 38 im Jahr 1585\nMontag: 16.09.1585\nSonntag: 22.09.1585\nTyp: gerade Woche\nMehr unter: https://kalenderwoche.info/1585/kw-38
URL:https://kalenderwoche.info/1585/kw-38
CATEGORIES:Kalenderwoche
TRANSP:TRANSPARENT
END:VEVENT
BEGIN:VEVENT
UID:kw-1585-39@kalenderwoche.info
DTSTAMP:20260426T000207Z
DTSTART;VALUE=DATE:15850923
DTEND;VALUE=DATE:15850930
SUMMARY:KW 39 (ungerade)
DESCRIPTION:Kalenderwoche 39 im Jahr 1585\nMontag: 23.09.1585\nSonntag: 29.09.1585\nTyp: ungerade Woche\nMehr unter: https://kalenderwoche.info/1585/kw-39
URL:https://kalenderwoche.info/1585/kw-39
CATEGORIES:Kalenderwoche
TRANSP:TRANSPARENT
END:VEVENT
BEGIN:VEVENT
UID:kw-1585-40@kalenderwoche.info
DTSTAMP:20260426T000207Z
DTSTART;VALUE=DATE:15850930
DTEND;VALUE=DATE:15851007
SUMMARY:KW 40 (gerade)
DESCRIPTION:Kalenderwoche 40 im Jahr 1585\nMontag: 30.09.1585\nSonntag: 06.10.1585\nTyp: gerade Woche\nMehr unter: https://kalenderwoche.info/1585/kw-40
URL:https://kalenderwoche.info/1585/kw-40
CATEGORIES:Kalenderwoche
TRANSP:TRANSPARENT
END:VEVENT
BEGIN:VEVENT
UID:kw-1585-41@kalenderwoche.info
DTSTAMP:20260426T000207Z
DTSTART;VALUE=DATE:15851007
DTEND;VALUE=DATE:15851014
SUMMARY:KW 41 (ungerade)
DESCRIPTION:Kalenderwoche 41 im Jahr 1585\nMontag: 07.10.1585\nSonntag: 13.10.1585\nTyp: ungerade Woche\nMehr unter: https://kalenderwoche.info/1585/kw-41
URL:https://kalenderwoche.info/1585/kw-41
CATEGORIES:Kalenderwoche
TRANSP:TRANSPARENT
END:VEVENT
BEGIN:VEVENT
UID:kw-1585-42@kalenderwoche.info
DTSTAMP:20260426T000207Z
DTSTART;VALUE=DATE:15851014
DTEND;VALUE=DATE:15851021
SUMMARY:KW 42 (gerade)
DESCRIPTION:Kalenderwoche 42 im Jahr 1585\nMontag: 14.10.1585\nSonntag: 20.10.1585\nTyp: gerade Woche\nMehr unter: https://kalenderwoche.info/1585/kw-42
URL:https://kalenderwoche.info/1585/kw-42
CATEGORIES:Kalenderwoche
TRANSP:TRANSPARENT
END:VEVENT
BEGIN:VEVENT
UID:kw-1585-43@kalenderwoche.info
DTSTAMP:20260426T000207Z
DTSTART;VALUE=DATE:15851021
DTEND;VALUE=DATE:15851028
SUMMARY:KW 43 (ungerade)
DESCRIPTION:Kalenderwoche 43 im Jahr 1585\nMontag: 21.10.1585\nSonntag: 27.10.1585\nTyp: ungerade Woche\nMehr unter: https://kalenderwoche.info/1585/kw-43
URL:https://kalenderwoche.info/1585/kw-43
CATEGORIES:Kalenderwoche
TRANSP:TRANSPARENT
END:VEVENT
BEGIN:VEVENT
UID:kw-1585-44@kalenderwoche.info
DTSTAMP:20260426T000207Z
DTSTART;VALUE=DATE:15851028
DTEND;VALUE=DATE:15851104
SUMMARY:KW 44 (gerade)
DESCRIPTION:Kalenderwoche 44 im Jahr 1585\nMontag: 28.10.1585\nSonntag: 03.11.1585\nTyp: gerade Woche\nMehr unter: https://kalenderwoche.info/1585/kw-44
URL:https://kalenderwoche.info/1585/kw-44
CATEGORIES:Kalenderwoche
TRANSP:TRANSPARENT
END:VEVENT
BEGIN:VEVENT
UID:kw-1585-45@kalenderwoche.info
DTSTAMP:20260426T000207Z
DTSTART;VALUE=DATE:15851104
DTEND;VALUE=DATE:15851111
SUMMARY:KW 45 (ungerade)
DESCRIPTION:Kalenderwoche 45 im Jahr 1585\nMontag: 04.11.1585\nSonntag: 10.11.1585\nTyp: ungerade Woche\nMehr unter: https://kalenderwoche.info/1585/kw-45
URL:https://kalenderwoche.info/1585/kw-45
CATEGORIES:Kalenderwoche
TRANSP:TRANSPARENT
END:VEVENT
BEGIN:VEVENT
UID:kw-1585-46@kalenderwoche.info
DTSTAMP:20260426T000207Z
DTSTART;VALUE=DATE:15851111
DTEND;VALUE=DATE:15851118
SUMMARY:KW 46 (gerade)
DESCRIPTION:Kalenderwoche 46 im Jahr 1585\nMontag: 11.11.1585\nSonntag: 17.11.1585\nTyp: gerade Woche\nMehr unter: https://kalenderwoche.info/1585/kw-46
URL:https://kalenderwoche.info/1585/kw-46
CATEGORIES:Kalenderwoche
TRANSP:TRANSPARENT
END:VEVENT
BEGIN:VEVENT
UID:kw-1585-47@kalenderwoche.info
DTSTAMP:20260426T000207Z
DTSTART;VALUE=DATE:15851118
DTEND;VALUE=DATE:15851125
SUMMARY:KW 47 (ungerade)
DESCRIPTION:Kalenderwoche 47 im Jahr 1585\nMontag: 18.11.1585\nSonntag: 24.11.1585\nTyp: ungerade Woche\nMehr unter: https://kalenderwoche.info/1585/kw-47
URL:https://kalenderwoche.info/1585/kw-47
CATEGORIES:Kalenderwoche
TRANSP:TRANSPARENT
END:VEVENT
BEGIN:VEVENT
UID:kw-1585-48@kalenderwoche.info
DTSTAMP:20260426T000207Z
DTSTART;VALUE=DATE:15851125
DTEND;VALUE=DATE:15851202
SUMMARY:KW 48 (gerade)
DESCRIPTION:Kalenderwoche 48 im Jahr 1585\nMontag: 25.11.1585\nSonntag: 01.12.1585\nTyp: gerade Woche\nMehr unter: https://kalenderwoche.info/1585/kw-48
URL:https://kalenderwoche.info/1585/kw-48
CATEGORIES:Kalenderwoche
TRANSP:TRANSPARENT
END:VEVENT
BEGIN:VEVENT
UID:kw-1585-49@kalenderwoche.info
DTSTAMP:20260426T000207Z
DTSTART;VALUE=DATE:15851202
DTEND;VALUE=DATE:15851209
SUMMARY:KW 49 (ungerade)
DESCRIPTION:Kalenderwoche 49 im Jahr 1585\nMontag: 02.12.1585\nSonntag: 08.12.1585\nTyp: ungerade Woche\nMehr unter: https://kalenderwoche.info/1585/kw-49
URL:https://kalenderwoche.info/1585/kw-49
CATEGORIES:Kalenderwoche
TRANSP:TRANSPARENT
END:VEVENT
BEGIN:VEVENT
UID:kw-1585-50@kalenderwoche.info
DTSTAMP:20260426T000207Z
DTSTART;VALUE=DATE:15851209
DTEND;VALUE=DATE:15851216
SUMMARY:KW 50 (gerade)
DESCRIPTION:Kalenderwoche 50 im Jahr 1585\nMontag: 09.12.1585\nSonntag: 15.12.1585\nTyp: gerade Woche\nMehr unter: https://kalenderwoche.info/1585/kw-50
URL:https://kalenderwoche.info/1585/kw-50
CATEGORIES:Kalenderwoche
TRANSP:TRANSPARENT
END:VEVENT
BEGIN:VEVENT
UID:kw-1585-51@kalenderwoche.info
DTSTAMP:20260426T000207Z
DTSTART;VALUE=DATE:15851216
DTEND;VALUE=DATE:15851223
SUMMARY:KW 51 (ungerade)
DESCRIPTION:Kalenderwoche 51 im Jahr 1585\nMontag: 16.12.1585\nSonntag: 22.12.1585\nTyp: ungerade Woche\nMehr unter: https://kalenderwoche.info/1585/kw-51
URL:https://kalenderwoche.info/1585/kw-51
CATEGORIES:Kalenderwoche
TRANSP:TRANSPARENT
END:VEVENT
BEGIN:VEVENT
UID:kw-1585-52@kalenderwoche.info
DTSTAMP:20260426T000207Z
DTSTART;VALUE=DATE:15851223
DTEND;VALUE=DATE:15851230
SUMMARY:KW 52 (gerade)
DESCRIPTION:Kalenderwoche 52 im Jahr 1585\nMontag: 23.12.1585\nSonntag: 29.12.1585\nTyp: gerade Woche\nMehr unter: https://kalenderwoche.info/1585/kw-52
URL:https://kalenderwoche.info/1585/kw-52
CATEGORIES:Kalenderwoche
TRANSP:TRANSPARENT
END:VEVENT
END:VCALENDAR
