BEGIN:VCALENDAR
VERSION:2.0
PRODID:-//kalenderwoche.info//Kalender//DE
CALSCALE:GREGORIAN
METHOD:PUBLISH
X-WR-CALNAME:Kalenderwochen 1606
X-WR-CALDESC:Alle Kalenderwochen für das Jahr 1606
X-WR-TIMEZONE:Europe/Berlin
BEGIN:VEVENT
UID:kw-1606-1@kalenderwoche.info
DTSTAMP:20260424T205002Z
DTSTART;VALUE=DATE:16060102
DTEND;VALUE=DATE:16060109
SUMMARY:KW 1 (ungerade)
DESCRIPTION:Kalenderwoche 1 im Jahr 1606\nMontag: 02.01.1606\nSonntag: 08.01.1606\nTyp: ungerade Woche\nMehr unter: https://kalenderwoche.info/1606/kw-1
URL:https://kalenderwoche.info/1606/kw-1
CATEGORIES:Kalenderwoche
TRANSP:TRANSPARENT
END:VEVENT
BEGIN:VEVENT
UID:kw-1606-2@kalenderwoche.info
DTSTAMP:20260424T205002Z
DTSTART;VALUE=DATE:16060109
DTEND;VALUE=DATE:16060116
SUMMARY:KW 2 (gerade)
DESCRIPTION:Kalenderwoche 2 im Jahr 1606\nMontag: 09.01.1606\nSonntag: 15.01.1606\nTyp: gerade Woche\nMehr unter: https://kalenderwoche.info/1606/kw-2
URL:https://kalenderwoche.info/1606/kw-2
CATEGORIES:Kalenderwoche
TRANSP:TRANSPARENT
END:VEVENT
BEGIN:VEVENT
UID:kw-1606-3@kalenderwoche.info
DTSTAMP:20260424T205002Z
DTSTART;VALUE=DATE:16060116
DTEND;VALUE=DATE:16060123
SUMMARY:KW 3 (ungerade)
DESCRIPTION:Kalenderwoche 3 im Jahr 1606\nMontag: 16.01.1606\nSonntag: 22.01.1606\nTyp: ungerade Woche\nMehr unter: https://kalenderwoche.info/1606/kw-3
URL:https://kalenderwoche.info/1606/kw-3
CATEGORIES:Kalenderwoche
TRANSP:TRANSPARENT
END:VEVENT
BEGIN:VEVENT
UID:kw-1606-4@kalenderwoche.info
DTSTAMP:20260424T205002Z
DTSTART;VALUE=DATE:16060123
DTEND;VALUE=DATE:16060130
SUMMARY:KW 4 (gerade)
DESCRIPTION:Kalenderwoche 4 im Jahr 1606\nMontag: 23.01.1606\nSonntag: 29.01.1606\nTyp: gerade Woche\nMehr unter: https://kalenderwoche.info/1606/kw-4
URL:https://kalenderwoche.info/1606/kw-4
CATEGORIES:Kalenderwoche
TRANSP:TRANSPARENT
END:VEVENT
BEGIN:VEVENT
UID:kw-1606-5@kalenderwoche.info
DTSTAMP:20260424T205002Z
DTSTART;VALUE=DATE:16060130
DTEND;VALUE=DATE:16060206
SUMMARY:KW 5 (ungerade)
DESCRIPTION:Kalenderwoche 5 im Jahr 1606\nMontag: 30.01.1606\nSonntag: 05.02.1606\nTyp: ungerade Woche\nMehr unter: https://kalenderwoche.info/1606/kw-5
URL:https://kalenderwoche.info/1606/kw-5
CATEGORIES:Kalenderwoche
TRANSP:TRANSPARENT
END:VEVENT
BEGIN:VEVENT
UID:kw-1606-6@kalenderwoche.info
DTSTAMP:20260424T205002Z
DTSTART;VALUE=DATE:16060206
DTEND;VALUE=DATE:16060213
SUMMARY:KW 6 (gerade)
DESCRIPTION:Kalenderwoche 6 im Jahr 1606\nMontag: 06.02.1606\nSonntag: 12.02.1606\nTyp: gerade Woche\nMehr unter: https://kalenderwoche.info/1606/kw-6
URL:https://kalenderwoche.info/1606/kw-6
CATEGORIES:Kalenderwoche
TRANSP:TRANSPARENT
END:VEVENT
BEGIN:VEVENT
UID:kw-1606-7@kalenderwoche.info
DTSTAMP:20260424T205002Z
DTSTART;VALUE=DATE:16060213
DTEND;VALUE=DATE:16060220
SUMMARY:KW 7 (ungerade)
DESCRIPTION:Kalenderwoche 7 im Jahr 1606\nMontag: 13.02.1606\nSonntag: 19.02.1606\nTyp: ungerade Woche\nMehr unter: https://kalenderwoche.info/1606/kw-7
URL:https://kalenderwoche.info/1606/kw-7
CATEGORIES:Kalenderwoche
TRANSP:TRANSPARENT
END:VEVENT
BEGIN:VEVENT
UID:kw-1606-8@kalenderwoche.info
DTSTAMP:20260424T205002Z
DTSTART;VALUE=DATE:16060220
DTEND;VALUE=DATE:16060227
SUMMARY:KW 8 (gerade)
DESCRIPTION:Kalenderwoche 8 im Jahr 1606\nMontag: 20.02.1606\nSonntag: 26.02.1606\nTyp: gerade Woche\nMehr unter: https://kalenderwoche.info/1606/kw-8
URL:https://kalenderwoche.info/1606/kw-8
CATEGORIES:Kalenderwoche
TRANSP:TRANSPARENT
END:VEVENT
BEGIN:VEVENT
UID:kw-1606-9@kalenderwoche.info
DTSTAMP:20260424T205002Z
DTSTART;VALUE=DATE:16060227
DTEND;VALUE=DATE:16060306
SUMMARY:KW 9 (ungerade)
DESCRIPTION:Kalenderwoche 9 im Jahr 1606\nMontag: 27.02.1606\nSonntag: 05.03.1606\nTyp: ungerade Woche\nMehr unter: https://kalenderwoche.info/1606/kw-9
URL:https://kalenderwoche.info/1606/kw-9
CATEGORIES:Kalenderwoche
TRANSP:TRANSPARENT
END:VEVENT
BEGIN:VEVENT
UID:kw-1606-10@kalenderwoche.info
DTSTAMP:20260424T205002Z
DTSTART;VALUE=DATE:16060306
DTEND;VALUE=DATE:16060313
SUMMARY:KW 10 (gerade)
DESCRIPTION:Kalenderwoche 10 im Jahr 1606\nMontag: 06.03.1606\nSonntag: 12.03.1606\nTyp: gerade Woche\nMehr unter: https://kalenderwoche.info/1606/kw-10
URL:https://kalenderwoche.info/1606/kw-10
CATEGORIES:Kalenderwoche
TRANSP:TRANSPARENT
END:VEVENT
BEGIN:VEVENT
UID:kw-1606-11@kalenderwoche.info
DTSTAMP:20260424T205002Z
DTSTART;VALUE=DATE:16060313
DTEND;VALUE=DATE:16060320
SUMMARY:KW 11 (ungerade)
DESCRIPTION:Kalenderwoche 11 im Jahr 1606\nMontag: 13.03.1606\nSonntag: 19.03.1606\nTyp: ungerade Woche\nMehr unter: https://kalenderwoche.info/1606/kw-11
URL:https://kalenderwoche.info/1606/kw-11
CATEGORIES:Kalenderwoche
TRANSP:TRANSPARENT
END:VEVENT
BEGIN:VEVENT
UID:kw-1606-12@kalenderwoche.info
DTSTAMP:20260424T205002Z
DTSTART;VALUE=DATE:16060320
DTEND;VALUE=DATE:16060327
SUMMARY:KW 12 (gerade)
DESCRIPTION:Kalenderwoche 12 im Jahr 1606\nMontag: 20.03.1606\nSonntag: 26.03.1606\nTyp: gerade Woche\nMehr unter: https://kalenderwoche.info/1606/kw-12
URL:https://kalenderwoche.info/1606/kw-12
CATEGORIES:Kalenderwoche
TRANSP:TRANSPARENT
END:VEVENT
BEGIN:VEVENT
UID:kw-1606-13@kalenderwoche.info
DTSTAMP:20260424T205002Z
DTSTART;VALUE=DATE:16060327
DTEND;VALUE=DATE:16060403
SUMMARY:KW 13 (ungerade)
DESCRIPTION:Kalenderwoche 13 im Jahr 1606\nMontag: 27.03.1606\nSonntag: 02.04.1606\nTyp: ungerade Woche\nMehr unter: https://kalenderwoche.info/1606/kw-13
URL:https://kalenderwoche.info/1606/kw-13
CATEGORIES:Kalenderwoche
TRANSP:TRANSPARENT
END:VEVENT
BEGIN:VEVENT
UID:kw-1606-14@kalenderwoche.info
DTSTAMP:20260424T205002Z
DTSTART;VALUE=DATE:16060403
DTEND;VALUE=DATE:16060410
SUMMARY:KW 14 (gerade)
DESCRIPTION:Kalenderwoche 14 im Jahr 1606\nMontag: 03.04.1606\nSonntag: 09.04.1606\nTyp: gerade Woche\nMehr unter: https://kalenderwoche.info/1606/kw-14
URL:https://kalenderwoche.info/1606/kw-14
CATEGORIES:Kalenderwoche
TRANSP:TRANSPARENT
END:VEVENT
BEGIN:VEVENT
UID:kw-1606-15@kalenderwoche.info
DTSTAMP:20260424T205002Z
DTSTART;VALUE=DATE:16060410
DTEND;VALUE=DATE:16060417
SUMMARY:KW 15 (ungerade)
DESCRIPTION:Kalenderwoche 15 im Jahr 1606\nMontag: 10.04.1606\nSonntag: 16.04.1606\nTyp: ungerade Woche\nMehr unter: https://kalenderwoche.info/1606/kw-15
URL:https://kalenderwoche.info/1606/kw-15
CATEGORIES:Kalenderwoche
TRANSP:TRANSPARENT
END:VEVENT
BEGIN:VEVENT
UID:kw-1606-16@kalenderwoche.info
DTSTAMP:20260424T205002Z
DTSTART;VALUE=DATE:16060417
DTEND;VALUE=DATE:16060424
SUMMARY:KW 16 (gerade)
DESCRIPTION:Kalenderwoche 16 im Jahr 1606\nMontag: 17.04.1606\nSonntag: 23.04.1606\nTyp: gerade Woche\nMehr unter: https://kalenderwoche.info/1606/kw-16
URL:https://kalenderwoche.info/1606/kw-16
CATEGORIES:Kalenderwoche
TRANSP:TRANSPARENT
END:VEVENT
BEGIN:VEVENT
UID:kw-1606-17@kalenderwoche.info
DTSTAMP:20260424T205002Z
DTSTART;VALUE=DATE:16060424
DTEND;VALUE=DATE:16060501
SUMMARY:KW 17 (ungerade)
DESCRIPTION:Kalenderwoche 17 im Jahr 1606\nMontag: 24.04.1606\nSonntag: 30.04.1606\nTyp: ungerade Woche\nMehr unter: https://kalenderwoche.info/1606/kw-17
URL:https://kalenderwoche.info/1606/kw-17
CATEGORIES:Kalenderwoche
TRANSP:TRANSPARENT
END:VEVENT
BEGIN:VEVENT
UID:kw-1606-18@kalenderwoche.info
DTSTAMP:20260424T205002Z
DTSTART;VALUE=DATE:16060501
DTEND;VALUE=DATE:16060508
SUMMARY:KW 18 (gerade)
DESCRIPTION:Kalenderwoche 18 im Jahr 1606\nMontag: 01.05.1606\nSonntag: 07.05.1606\nTyp: gerade Woche\nMehr unter: https://kalenderwoche.info/1606/kw-18
URL:https://kalenderwoche.info/1606/kw-18
CATEGORIES:Kalenderwoche
TRANSP:TRANSPARENT
END:VEVENT
BEGIN:VEVENT
UID:kw-1606-19@kalenderwoche.info
DTSTAMP:20260424T205002Z
DTSTART;VALUE=DATE:16060508
DTEND;VALUE=DATE:16060515
SUMMARY:KW 19 (ungerade)
DESCRIPTION:Kalenderwoche 19 im Jahr 1606\nMontag: 08.05.1606\nSonntag: 14.05.1606\nTyp: ungerade Woche\nMehr unter: https://kalenderwoche.info/1606/kw-19
URL:https://kalenderwoche.info/1606/kw-19
CATEGORIES:Kalenderwoche
TRANSP:TRANSPARENT
END:VEVENT
BEGIN:VEVENT
UID:kw-1606-20@kalenderwoche.info
DTSTAMP:20260424T205002Z
DTSTART;VALUE=DATE:16060515
DTEND;VALUE=DATE:16060522
SUMMARY:KW 20 (gerade)
DESCRIPTION:Kalenderwoche 20 im Jahr 1606\nMontag: 15.05.1606\nSonntag: 21.05.1606\nTyp: gerade Woche\nMehr unter: https://kalenderwoche.info/1606/kw-20
URL:https://kalenderwoche.info/1606/kw-20
CATEGORIES:Kalenderwoche
TRANSP:TRANSPARENT
END:VEVENT
BEGIN:VEVENT
UID:kw-1606-21@kalenderwoche.info
DTSTAMP:20260424T205002Z
DTSTART;VALUE=DATE:16060522
DTEND;VALUE=DATE:16060529
SUMMARY:KW 21 (ungerade)
DESCRIPTION:Kalenderwoche 21 im Jahr 1606\nMontag: 22.05.1606\nSonntag: 28.05.1606\nTyp: ungerade Woche\nMehr unter: https://kalenderwoche.info/1606/kw-21
URL:https://kalenderwoche.info/1606/kw-21
CATEGORIES:Kalenderwoche
TRANSP:TRANSPARENT
END:VEVENT
BEGIN:VEVENT
UID:kw-1606-22@kalenderwoche.info
DTSTAMP:20260424T205002Z
DTSTART;VALUE=DATE:16060529
DTEND;VALUE=DATE:16060605
SUMMARY:KW 22 (gerade)
DESCRIPTION:Kalenderwoche 22 im Jahr 1606\nMontag: 29.05.1606\nSonntag: 04.06.1606\nTyp: gerade Woche\nMehr unter: https://kalenderwoche.info/1606/kw-22
URL:https://kalenderwoche.info/1606/kw-22
CATEGORIES:Kalenderwoche
TRANSP:TRANSPARENT
END:VEVENT
BEGIN:VEVENT
UID:kw-1606-23@kalenderwoche.info
DTSTAMP:20260424T205002Z
DTSTART;VALUE=DATE:16060605
DTEND;VALUE=DATE:16060612
SUMMARY:KW 23 (ungerade)
DESCRIPTION:Kalenderwoche 23 im Jahr 1606\nMontag: 05.06.1606\nSonntag: 11.06.1606\nTyp: ungerade Woche\nMehr unter: https://kalenderwoche.info/1606/kw-23
URL:https://kalenderwoche.info/1606/kw-23
CATEGORIES:Kalenderwoche
TRANSP:TRANSPARENT
END:VEVENT
BEGIN:VEVENT
UID:kw-1606-24@kalenderwoche.info
DTSTAMP:20260424T205002Z
DTSTART;VALUE=DATE:16060612
DTEND;VALUE=DATE:16060619
SUMMARY:KW 24 (gerade)
DESCRIPTION:Kalenderwoche 24 im Jahr 1606\nMontag: 12.06.1606\nSonntag: 18.06.1606\nTyp: gerade Woche\nMehr unter: https://kalenderwoche.info/1606/kw-24
URL:https://kalenderwoche.info/1606/kw-24
CATEGORIES:Kalenderwoche
TRANSP:TRANSPARENT
END:VEVENT
BEGIN:VEVENT
UID:kw-1606-25@kalenderwoche.info
DTSTAMP:20260424T205002Z
DTSTART;VALUE=DATE:16060619
DTEND;VALUE=DATE:16060626
SUMMARY:KW 25 (ungerade)
DESCRIPTION:Kalenderwoche 25 im Jahr 1606\nMontag: 19.06.1606\nSonntag: 25.06.1606\nTyp: ungerade Woche\nMehr unter: https://kalenderwoche.info/1606/kw-25
URL:https://kalenderwoche.info/1606/kw-25
CATEGORIES:Kalenderwoche
TRANSP:TRANSPARENT
END:VEVENT
BEGIN:VEVENT
UID:kw-1606-26@kalenderwoche.info
DTSTAMP:20260424T205002Z
DTSTART;VALUE=DATE:16060626
DTEND;VALUE=DATE:16060703
SUMMARY:KW 26 (gerade)
DESCRIPTION:Kalenderwoche 26 im Jahr 1606\nMontag: 26.06.1606\nSonntag: 02.07.1606\nTyp: gerade Woche\nMehr unter: https://kalenderwoche.info/1606/kw-26
URL:https://kalenderwoche.info/1606/kw-26
CATEGORIES:Kalenderwoche
TRANSP:TRANSPARENT
END:VEVENT
BEGIN:VEVENT
UID:kw-1606-27@kalenderwoche.info
DTSTAMP:20260424T205002Z
DTSTART;VALUE=DATE:16060703
DTEND;VALUE=DATE:16060710
SUMMARY:KW 27 (ungerade)
DESCRIPTION:Kalenderwoche 27 im Jahr 1606\nMontag: 03.07.1606\nSonntag: 09.07.1606\nTyp: ungerade Woche\nMehr unter: https://kalenderwoche.info/1606/kw-27
URL:https://kalenderwoche.info/1606/kw-27
CATEGORIES:Kalenderwoche
TRANSP:TRANSPARENT
END:VEVENT
BEGIN:VEVENT
UID:kw-1606-28@kalenderwoche.info
DTSTAMP:20260424T205002Z
DTSTART;VALUE=DATE:16060710
DTEND;VALUE=DATE:16060717
SUMMARY:KW 28 (gerade)
DESCRIPTION:Kalenderwoche 28 im Jahr 1606\nMontag: 10.07.1606\nSonntag: 16.07.1606\nTyp: gerade Woche\nMehr unter: https://kalenderwoche.info/1606/kw-28
URL:https://kalenderwoche.info/1606/kw-28
CATEGORIES:Kalenderwoche
TRANSP:TRANSPARENT
END:VEVENT
BEGIN:VEVENT
UID:kw-1606-29@kalenderwoche.info
DTSTAMP:20260424T205002Z
DTSTART;VALUE=DATE:16060717
DTEND;VALUE=DATE:16060724
SUMMARY:KW 29 (ungerade)
DESCRIPTION:Kalenderwoche 29 im Jahr 1606\nMontag: 17.07.1606\nSonntag: 23.07.1606\nTyp: ungerade Woche\nMehr unter: https://kalenderwoche.info/1606/kw-29
URL:https://kalenderwoche.info/1606/kw-29
CATEGORIES:Kalenderwoche
TRANSP:TRANSPARENT
END:VEVENT
BEGIN:VEVENT
UID:kw-1606-30@kalenderwoche.info
DTSTAMP:20260424T205002Z
DTSTART;VALUE=DATE:16060724
DTEND;VALUE=DATE:16060731
SUMMARY:KW 30 (gerade)
DESCRIPTION:Kalenderwoche 30 im Jahr 1606\nMontag: 24.07.1606\nSonntag: 30.07.1606\nTyp: gerade Woche\nMehr unter: https://kalenderwoche.info/1606/kw-30
URL:https://kalenderwoche.info/1606/kw-30
CATEGORIES:Kalenderwoche
TRANSP:TRANSPARENT
END:VEVENT
BEGIN:VEVENT
UID:kw-1606-31@kalenderwoche.info
DTSTAMP:20260424T205002Z
DTSTART;VALUE=DATE:16060731
DTEND;VALUE=DATE:16060807
SUMMARY:KW 31 (ungerade)
DESCRIPTION:Kalenderwoche 31 im Jahr 1606\nMontag: 31.07.1606\nSonntag: 06.08.1606\nTyp: ungerade Woche\nMehr unter: https://kalenderwoche.info/1606/kw-31
URL:https://kalenderwoche.info/1606/kw-31
CATEGORIES:Kalenderwoche
TRANSP:TRANSPARENT
END:VEVENT
BEGIN:VEVENT
UID:kw-1606-32@kalenderwoche.info
DTSTAMP:20260424T205002Z
DTSTART;VALUE=DATE:16060807
DTEND;VALUE=DATE:16060814
SUMMARY:KW 32 (gerade)
DESCRIPTION:Kalenderwoche 32 im Jahr 1606\nMontag: 07.08.1606\nSonntag: 13.08.1606\nTyp: gerade Woche\nMehr unter: https://kalenderwoche.info/1606/kw-32
URL:https://kalenderwoche.info/1606/kw-32
CATEGORIES:Kalenderwoche
TRANSP:TRANSPARENT
END:VEVENT
BEGIN:VEVENT
UID:kw-1606-33@kalenderwoche.info
DTSTAMP:20260424T205002Z
DTSTART;VALUE=DATE:16060814
DTEND;VALUE=DATE:16060821
SUMMARY:KW 33 (ungerade)
DESCRIPTION:Kalenderwoche 33 im Jahr 1606\nMontag: 14.08.1606\nSonntag: 20.08.1606\nTyp: ungerade Woche\nMehr unter: https://kalenderwoche.info/1606/kw-33
URL:https://kalenderwoche.info/1606/kw-33
CATEGORIES:Kalenderwoche
TRANSP:TRANSPARENT
END:VEVENT
BEGIN:VEVENT
UID:kw-1606-34@kalenderwoche.info
DTSTAMP:20260424T205002Z
DTSTART;VALUE=DATE:16060821
DTEND;VALUE=DATE:16060828
SUMMARY:KW 34 (gerade)
DESCRIPTION:Kalenderwoche 34 im Jahr 1606\nMontag: 21.08.1606\nSonntag: 27.08.1606\nTyp: gerade Woche\nMehr unter: https://kalenderwoche.info/1606/kw-34
URL:https://kalenderwoche.info/1606/kw-34
CATEGORIES:Kalenderwoche
TRANSP:TRANSPARENT
END:VEVENT
BEGIN:VEVENT
UID:kw-1606-35@kalenderwoche.info
DTSTAMP:20260424T205002Z
DTSTART;VALUE=DATE:16060828
DTEND;VALUE=DATE:16060904
SUMMARY:KW 35 (ungerade)
DESCRIPTION:Kalenderwoche 35 im Jahr 1606\nMontag: 28.08.1606\nSonntag: 03.09.1606\nTyp: ungerade Woche\nMehr unter: https://kalenderwoche.info/1606/kw-35
URL:https://kalenderwoche.info/1606/kw-35
CATEGORIES:Kalenderwoche
TRANSP:TRANSPARENT
END:VEVENT
BEGIN:VEVENT
UID:kw-1606-36@kalenderwoche.info
DTSTAMP:20260424T205002Z
DTSTART;VALUE=DATE:16060904
DTEND;VALUE=DATE:16060911
SUMMARY:KW 36 (gerade)
DESCRIPTION:Kalenderwoche 36 im Jahr 1606\nMontag: 04.09.1606\nSonntag: 10.09.1606\nTyp: gerade Woche\nMehr unter: https://kalenderwoche.info/1606/kw-36
URL:https://kalenderwoche.info/1606/kw-36
CATEGORIES:Kalenderwoche
TRANSP:TRANSPARENT
END:VEVENT
BEGIN:VEVENT
UID:kw-1606-37@kalenderwoche.info
DTSTAMP:20260424T205002Z
DTSTART;VALUE=DATE:16060911
DTEND;VALUE=DATE:16060918
SUMMARY:KW 37 (ungerade)
DESCRIPTION:Kalenderwoche 37 im Jahr 1606\nMontag: 11.09.1606\nSonntag: 17.09.1606\nTyp: ungerade Woche\nMehr unter: https://kalenderwoche.info/1606/kw-37
URL:https://kalenderwoche.info/1606/kw-37
CATEGORIES:Kalenderwoche
TRANSP:TRANSPARENT
END:VEVENT
BEGIN:VEVENT
UID:kw-1606-38@kalenderwoche.info
DTSTAMP:20260424T205002Z
DTSTART;VALUE=DATE:16060918
DTEND;VALUE=DATE:16060925
SUMMARY:KW 38 (gerade)
DESCRIPTION:Kalenderwoche 38 im Jahr 1606\nMontag: 18.09.1606\nSonntag: 24.09.1606\nTyp: gerade Woche\nMehr unter: https://kalenderwoche.info/1606/kw-38
URL:https://kalenderwoche.info/1606/kw-38
CATEGORIES:Kalenderwoche
TRANSP:TRANSPARENT
END:VEVENT
BEGIN:VEVENT
UID:kw-1606-39@kalenderwoche.info
DTSTAMP:20260424T205002Z
DTSTART;VALUE=DATE:16060925
DTEND;VALUE=DATE:16061002
SUMMARY:KW 39 (ungerade)
DESCRIPTION:Kalenderwoche 39 im Jahr 1606\nMontag: 25.09.1606\nSonntag: 01.10.1606\nTyp: ungerade Woche\nMehr unter: https://kalenderwoche.info/1606/kw-39
URL:https://kalenderwoche.info/1606/kw-39
CATEGORIES:Kalenderwoche
TRANSP:TRANSPARENT
END:VEVENT
BEGIN:VEVENT
UID:kw-1606-40@kalenderwoche.info
DTSTAMP:20260424T205002Z
DTSTART;VALUE=DATE:16061002
DTEND;VALUE=DATE:16061009
SUMMARY:KW 40 (gerade)
DESCRIPTION:Kalenderwoche 40 im Jahr 1606\nMontag: 02.10.1606\nSonntag: 08.10.1606\nTyp: gerade Woche\nMehr unter: https://kalenderwoche.info/1606/kw-40
URL:https://kalenderwoche.info/1606/kw-40
CATEGORIES:Kalenderwoche
TRANSP:TRANSPARENT
END:VEVENT
BEGIN:VEVENT
UID:kw-1606-41@kalenderwoche.info
DTSTAMP:20260424T205002Z
DTSTART;VALUE=DATE:16061009
DTEND;VALUE=DATE:16061016
SUMMARY:KW 41 (ungerade)
DESCRIPTION:Kalenderwoche 41 im Jahr 1606\nMontag: 09.10.1606\nSonntag: 15.10.1606\nTyp: ungerade Woche\nMehr unter: https://kalenderwoche.info/1606/kw-41
URL:https://kalenderwoche.info/1606/kw-41
CATEGORIES:Kalenderwoche
TRANSP:TRANSPARENT
END:VEVENT
BEGIN:VEVENT
UID:kw-1606-42@kalenderwoche.info
DTSTAMP:20260424T205002Z
DTSTART;VALUE=DATE:16061016
DTEND;VALUE=DATE:16061023
SUMMARY:KW 42 (gerade)
DESCRIPTION:Kalenderwoche 42 im Jahr 1606\nMontag: 16.10.1606\nSonntag: 22.10.1606\nTyp: gerade Woche\nMehr unter: https://kalenderwoche.info/1606/kw-42
URL:https://kalenderwoche.info/1606/kw-42
CATEGORIES:Kalenderwoche
TRANSP:TRANSPARENT
END:VEVENT
BEGIN:VEVENT
UID:kw-1606-43@kalenderwoche.info
DTSTAMP:20260424T205002Z
DTSTART;VALUE=DATE:16061023
DTEND;VALUE=DATE:16061030
SUMMARY:KW 43 (ungerade)
DESCRIPTION:Kalenderwoche 43 im Jahr 1606\nMontag: 23.10.1606\nSonntag: 29.10.1606\nTyp: ungerade Woche\nMehr unter: https://kalenderwoche.info/1606/kw-43
URL:https://kalenderwoche.info/1606/kw-43
CATEGORIES:Kalenderwoche
TRANSP:TRANSPARENT
END:VEVENT
BEGIN:VEVENT
UID:kw-1606-44@kalenderwoche.info
DTSTAMP:20260424T205002Z
DTSTART;VALUE=DATE:16061030
DTEND;VALUE=DATE:16061106
SUMMARY:KW 44 (gerade)
DESCRIPTION:Kalenderwoche 44 im Jahr 1606\nMontag: 30.10.1606\nSonntag: 05.11.1606\nTyp: gerade Woche\nMehr unter: https://kalenderwoche.info/1606/kw-44
URL:https://kalenderwoche.info/1606/kw-44
CATEGORIES:Kalenderwoche
TRANSP:TRANSPARENT
END:VEVENT
BEGIN:VEVENT
UID:kw-1606-45@kalenderwoche.info
DTSTAMP:20260424T205002Z
DTSTART;VALUE=DATE:16061106
DTEND;VALUE=DATE:16061113
SUMMARY:KW 45 (ungerade)
DESCRIPTION:Kalenderwoche 45 im Jahr 1606\nMontag: 06.11.1606\nSonntag: 12.11.1606\nTyp: ungerade Woche\nMehr unter: https://kalenderwoche.info/1606/kw-45
URL:https://kalenderwoche.info/1606/kw-45
CATEGORIES:Kalenderwoche
TRANSP:TRANSPARENT
END:VEVENT
BEGIN:VEVENT
UID:kw-1606-46@kalenderwoche.info
DTSTAMP:20260424T205002Z
DTSTART;VALUE=DATE:16061113
DTEND;VALUE=DATE:16061120
SUMMARY:KW 46 (gerade)
DESCRIPTION:Kalenderwoche 46 im Jahr 1606\nMontag: 13.11.1606\nSonntag: 19.11.1606\nTyp: gerade Woche\nMehr unter: https://kalenderwoche.info/1606/kw-46
URL:https://kalenderwoche.info/1606/kw-46
CATEGORIES:Kalenderwoche
TRANSP:TRANSPARENT
END:VEVENT
BEGIN:VEVENT
UID:kw-1606-47@kalenderwoche.info
DTSTAMP:20260424T205002Z
DTSTART;VALUE=DATE:16061120
DTEND;VALUE=DATE:16061127
SUMMARY:KW 47 (ungerade)
DESCRIPTION:Kalenderwoche 47 im Jahr 1606\nMontag: 20.11.1606\nSonntag: 26.11.1606\nTyp: ungerade Woche\nMehr unter: https://kalenderwoche.info/1606/kw-47
URL:https://kalenderwoche.info/1606/kw-47
CATEGORIES:Kalenderwoche
TRANSP:TRANSPARENT
END:VEVENT
BEGIN:VEVENT
UID:kw-1606-48@kalenderwoche.info
DTSTAMP:20260424T205002Z
DTSTART;VALUE=DATE:16061127
DTEND;VALUE=DATE:16061204
SUMMARY:KW 48 (gerade)
DESCRIPTION:Kalenderwoche 48 im Jahr 1606\nMontag: 27.11.1606\nSonntag: 03.12.1606\nTyp: gerade Woche\nMehr unter: https://kalenderwoche.info/1606/kw-48
URL:https://kalenderwoche.info/1606/kw-48
CATEGORIES:Kalenderwoche
TRANSP:TRANSPARENT
END:VEVENT
BEGIN:VEVENT
UID:kw-1606-49@kalenderwoche.info
DTSTAMP:20260424T205002Z
DTSTART;VALUE=DATE:16061204
DTEND;VALUE=DATE:16061211
SUMMARY:KW 49 (ungerade)
DESCRIPTION:Kalenderwoche 49 im Jahr 1606\nMontag: 04.12.1606\nSonntag: 10.12.1606\nTyp: ungerade Woche\nMehr unter: https://kalenderwoche.info/1606/kw-49
URL:https://kalenderwoche.info/1606/kw-49
CATEGORIES:Kalenderwoche
TRANSP:TRANSPARENT
END:VEVENT
BEGIN:VEVENT
UID:kw-1606-50@kalenderwoche.info
DTSTAMP:20260424T205002Z
DTSTART;VALUE=DATE:16061211
DTEND;VALUE=DATE:16061218
SUMMARY:KW 50 (gerade)
DESCRIPTION:Kalenderwoche 50 im Jahr 1606\nMontag: 11.12.1606\nSonntag: 17.12.1606\nTyp: gerade Woche\nMehr unter: https://kalenderwoche.info/1606/kw-50
URL:https://kalenderwoche.info/1606/kw-50
CATEGORIES:Kalenderwoche
TRANSP:TRANSPARENT
END:VEVENT
BEGIN:VEVENT
UID:kw-1606-51@kalenderwoche.info
DTSTAMP:20260424T205002Z
DTSTART;VALUE=DATE:16061218
DTEND;VALUE=DATE:16061225
SUMMARY:KW 51 (ungerade)
DESCRIPTION:Kalenderwoche 51 im Jahr 1606\nMontag: 18.12.1606\nSonntag: 24.12.1606\nTyp: ungerade Woche\nMehr unter: https://kalenderwoche.info/1606/kw-51
URL:https://kalenderwoche.info/1606/kw-51
CATEGORIES:Kalenderwoche
TRANSP:TRANSPARENT
END:VEVENT
BEGIN:VEVENT
UID:kw-1606-52@kalenderwoche.info
DTSTAMP:20260424T205002Z
DTSTART;VALUE=DATE:16061225
DTEND;VALUE=DATE:16070101
SUMMARY:KW 52 (gerade)
DESCRIPTION:Kalenderwoche 52 im Jahr 1606\nMontag: 25.12.1606\nSonntag: 31.12.1606\nTyp: gerade Woche\nMehr unter: https://kalenderwoche.info/1606/kw-52
URL:https://kalenderwoche.info/1606/kw-52
CATEGORIES:Kalenderwoche
TRANSP:TRANSPARENT
END:VEVENT
END:VCALENDAR
