BEGIN:VCALENDAR
VERSION:2.0
PRODID:-//kalenderwoche.info//Kalender//DE
CALSCALE:GREGORIAN
METHOD:PUBLISH
X-WR-CALNAME:Kalenderwochen 1613
X-WR-CALDESC:Alle Kalenderwochen für das Jahr 1613
X-WR-TIMEZONE:Europe/Berlin
BEGIN:VEVENT
UID:kw-1613-1@kalenderwoche.info
DTSTAMP:20260424T114005Z
DTSTART;VALUE=DATE:16121231
DTEND;VALUE=DATE:16130107
SUMMARY:KW 1 (ungerade)
DESCRIPTION:Kalenderwoche 1 im Jahr 1613\nMontag: 31.12.1612\nSonntag: 06.01.1613\nTyp: ungerade Woche\nMehr unter: https://kalenderwoche.info/1613/kw-1
URL:https://kalenderwoche.info/1613/kw-1
CATEGORIES:Kalenderwoche
TRANSP:TRANSPARENT
END:VEVENT
BEGIN:VEVENT
UID:kw-1613-2@kalenderwoche.info
DTSTAMP:20260424T114005Z
DTSTART;VALUE=DATE:16130107
DTEND;VALUE=DATE:16130114
SUMMARY:KW 2 (gerade)
DESCRIPTION:Kalenderwoche 2 im Jahr 1613\nMontag: 07.01.1613\nSonntag: 13.01.1613\nTyp: gerade Woche\nMehr unter: https://kalenderwoche.info/1613/kw-2
URL:https://kalenderwoche.info/1613/kw-2
CATEGORIES:Kalenderwoche
TRANSP:TRANSPARENT
END:VEVENT
BEGIN:VEVENT
UID:kw-1613-3@kalenderwoche.info
DTSTAMP:20260424T114005Z
DTSTART;VALUE=DATE:16130114
DTEND;VALUE=DATE:16130121
SUMMARY:KW 3 (ungerade)
DESCRIPTION:Kalenderwoche 3 im Jahr 1613\nMontag: 14.01.1613\nSonntag: 20.01.1613\nTyp: ungerade Woche\nMehr unter: https://kalenderwoche.info/1613/kw-3
URL:https://kalenderwoche.info/1613/kw-3
CATEGORIES:Kalenderwoche
TRANSP:TRANSPARENT
END:VEVENT
BEGIN:VEVENT
UID:kw-1613-4@kalenderwoche.info
DTSTAMP:20260424T114005Z
DTSTART;VALUE=DATE:16130121
DTEND;VALUE=DATE:16130128
SUMMARY:KW 4 (gerade)
DESCRIPTION:Kalenderwoche 4 im Jahr 1613\nMontag: 21.01.1613\nSonntag: 27.01.1613\nTyp: gerade Woche\nMehr unter: https://kalenderwoche.info/1613/kw-4
URL:https://kalenderwoche.info/1613/kw-4
CATEGORIES:Kalenderwoche
TRANSP:TRANSPARENT
END:VEVENT
BEGIN:VEVENT
UID:kw-1613-5@kalenderwoche.info
DTSTAMP:20260424T114005Z
DTSTART;VALUE=DATE:16130128
DTEND;VALUE=DATE:16130204
SUMMARY:KW 5 (ungerade)
DESCRIPTION:Kalenderwoche 5 im Jahr 1613\nMontag: 28.01.1613\nSonntag: 03.02.1613\nTyp: ungerade Woche\nMehr unter: https://kalenderwoche.info/1613/kw-5
URL:https://kalenderwoche.info/1613/kw-5
CATEGORIES:Kalenderwoche
TRANSP:TRANSPARENT
END:VEVENT
BEGIN:VEVENT
UID:kw-1613-6@kalenderwoche.info
DTSTAMP:20260424T114005Z
DTSTART;VALUE=DATE:16130204
DTEND;VALUE=DATE:16130211
SUMMARY:KW 6 (gerade)
DESCRIPTION:Kalenderwoche 6 im Jahr 1613\nMontag: 04.02.1613\nSonntag: 10.02.1613\nTyp: gerade Woche\nMehr unter: https://kalenderwoche.info/1613/kw-6
URL:https://kalenderwoche.info/1613/kw-6
CATEGORIES:Kalenderwoche
TRANSP:TRANSPARENT
END:VEVENT
BEGIN:VEVENT
UID:kw-1613-7@kalenderwoche.info
DTSTAMP:20260424T114005Z
DTSTART;VALUE=DATE:16130211
DTEND;VALUE=DATE:16130218
SUMMARY:KW 7 (ungerade)
DESCRIPTION:Kalenderwoche 7 im Jahr 1613\nMontag: 11.02.1613\nSonntag: 17.02.1613\nTyp: ungerade Woche\nMehr unter: https://kalenderwoche.info/1613/kw-7
URL:https://kalenderwoche.info/1613/kw-7
CATEGORIES:Kalenderwoche
TRANSP:TRANSPARENT
END:VEVENT
BEGIN:VEVENT
UID:kw-1613-8@kalenderwoche.info
DTSTAMP:20260424T114005Z
DTSTART;VALUE=DATE:16130218
DTEND;VALUE=DATE:16130225
SUMMARY:KW 8 (gerade)
DESCRIPTION:Kalenderwoche 8 im Jahr 1613\nMontag: 18.02.1613\nSonntag: 24.02.1613\nTyp: gerade Woche\nMehr unter: https://kalenderwoche.info/1613/kw-8
URL:https://kalenderwoche.info/1613/kw-8
CATEGORIES:Kalenderwoche
TRANSP:TRANSPARENT
END:VEVENT
BEGIN:VEVENT
UID:kw-1613-9@kalenderwoche.info
DTSTAMP:20260424T114005Z
DTSTART;VALUE=DATE:16130225
DTEND;VALUE=DATE:16130304
SUMMARY:KW 9 (ungerade)
DESCRIPTION:Kalenderwoche 9 im Jahr 1613\nMontag: 25.02.1613\nSonntag: 03.03.1613\nTyp: ungerade Woche\nMehr unter: https://kalenderwoche.info/1613/kw-9
URL:https://kalenderwoche.info/1613/kw-9
CATEGORIES:Kalenderwoche
TRANSP:TRANSPARENT
END:VEVENT
BEGIN:VEVENT
UID:kw-1613-10@kalenderwoche.info
DTSTAMP:20260424T114005Z
DTSTART;VALUE=DATE:16130304
DTEND;VALUE=DATE:16130311
SUMMARY:KW 10 (gerade)
DESCRIPTION:Kalenderwoche 10 im Jahr 1613\nMontag: 04.03.1613\nSonntag: 10.03.1613\nTyp: gerade Woche\nMehr unter: https://kalenderwoche.info/1613/kw-10
URL:https://kalenderwoche.info/1613/kw-10
CATEGORIES:Kalenderwoche
TRANSP:TRANSPARENT
END:VEVENT
BEGIN:VEVENT
UID:kw-1613-11@kalenderwoche.info
DTSTAMP:20260424T114005Z
DTSTART;VALUE=DATE:16130311
DTEND;VALUE=DATE:16130318
SUMMARY:KW 11 (ungerade)
DESCRIPTION:Kalenderwoche 11 im Jahr 1613\nMontag: 11.03.1613\nSonntag: 17.03.1613\nTyp: ungerade Woche\nMehr unter: https://kalenderwoche.info/1613/kw-11
URL:https://kalenderwoche.info/1613/kw-11
CATEGORIES:Kalenderwoche
TRANSP:TRANSPARENT
END:VEVENT
BEGIN:VEVENT
UID:kw-1613-12@kalenderwoche.info
DTSTAMP:20260424T114005Z
DTSTART;VALUE=DATE:16130318
DTEND;VALUE=DATE:16130325
SUMMARY:KW 12 (gerade)
DESCRIPTION:Kalenderwoche 12 im Jahr 1613\nMontag: 18.03.1613\nSonntag: 24.03.1613\nTyp: gerade Woche\nMehr unter: https://kalenderwoche.info/1613/kw-12
URL:https://kalenderwoche.info/1613/kw-12
CATEGORIES:Kalenderwoche
TRANSP:TRANSPARENT
END:VEVENT
BEGIN:VEVENT
UID:kw-1613-13@kalenderwoche.info
DTSTAMP:20260424T114005Z
DTSTART;VALUE=DATE:16130325
DTEND;VALUE=DATE:16130401
SUMMARY:KW 13 (ungerade)
DESCRIPTION:Kalenderwoche 13 im Jahr 1613\nMontag: 25.03.1613\nSonntag: 31.03.1613\nTyp: ungerade Woche\nMehr unter: https://kalenderwoche.info/1613/kw-13
URL:https://kalenderwoche.info/1613/kw-13
CATEGORIES:Kalenderwoche
TRANSP:TRANSPARENT
END:VEVENT
BEGIN:VEVENT
UID:kw-1613-14@kalenderwoche.info
DTSTAMP:20260424T114005Z
DTSTART;VALUE=DATE:16130401
DTEND;VALUE=DATE:16130408
SUMMARY:KW 14 (gerade)
DESCRIPTION:Kalenderwoche 14 im Jahr 1613\nMontag: 01.04.1613\nSonntag: 07.04.1613\nTyp: gerade Woche\nMehr unter: https://kalenderwoche.info/1613/kw-14
URL:https://kalenderwoche.info/1613/kw-14
CATEGORIES:Kalenderwoche
TRANSP:TRANSPARENT
END:VEVENT
BEGIN:VEVENT
UID:kw-1613-15@kalenderwoche.info
DTSTAMP:20260424T114005Z
DTSTART;VALUE=DATE:16130408
DTEND;VALUE=DATE:16130415
SUMMARY:KW 15 (ungerade)
DESCRIPTION:Kalenderwoche 15 im Jahr 1613\nMontag: 08.04.1613\nSonntag: 14.04.1613\nTyp: ungerade Woche\nMehr unter: https://kalenderwoche.info/1613/kw-15
URL:https://kalenderwoche.info/1613/kw-15
CATEGORIES:Kalenderwoche
TRANSP:TRANSPARENT
END:VEVENT
BEGIN:VEVENT
UID:kw-1613-16@kalenderwoche.info
DTSTAMP:20260424T114005Z
DTSTART;VALUE=DATE:16130415
DTEND;VALUE=DATE:16130422
SUMMARY:KW 16 (gerade)
DESCRIPTION:Kalenderwoche 16 im Jahr 1613\nMontag: 15.04.1613\nSonntag: 21.04.1613\nTyp: gerade Woche\nMehr unter: https://kalenderwoche.info/1613/kw-16
URL:https://kalenderwoche.info/1613/kw-16
CATEGORIES:Kalenderwoche
TRANSP:TRANSPARENT
END:VEVENT
BEGIN:VEVENT
UID:kw-1613-17@kalenderwoche.info
DTSTAMP:20260424T114005Z
DTSTART;VALUE=DATE:16130422
DTEND;VALUE=DATE:16130429
SUMMARY:KW 17 (ungerade)
DESCRIPTION:Kalenderwoche 17 im Jahr 1613\nMontag: 22.04.1613\nSonntag: 28.04.1613\nTyp: ungerade Woche\nMehr unter: https://kalenderwoche.info/1613/kw-17
URL:https://kalenderwoche.info/1613/kw-17
CATEGORIES:Kalenderwoche
TRANSP:TRANSPARENT
END:VEVENT
BEGIN:VEVENT
UID:kw-1613-18@kalenderwoche.info
DTSTAMP:20260424T114005Z
DTSTART;VALUE=DATE:16130429
DTEND;VALUE=DATE:16130506
SUMMARY:KW 18 (gerade)
DESCRIPTION:Kalenderwoche 18 im Jahr 1613\nMontag: 29.04.1613\nSonntag: 05.05.1613\nTyp: gerade Woche\nMehr unter: https://kalenderwoche.info/1613/kw-18
URL:https://kalenderwoche.info/1613/kw-18
CATEGORIES:Kalenderwoche
TRANSP:TRANSPARENT
END:VEVENT
BEGIN:VEVENT
UID:kw-1613-19@kalenderwoche.info
DTSTAMP:20260424T114005Z
DTSTART;VALUE=DATE:16130506
DTEND;VALUE=DATE:16130513
SUMMARY:KW 19 (ungerade)
DESCRIPTION:Kalenderwoche 19 im Jahr 1613\nMontag: 06.05.1613\nSonntag: 12.05.1613\nTyp: ungerade Woche\nMehr unter: https://kalenderwoche.info/1613/kw-19
URL:https://kalenderwoche.info/1613/kw-19
CATEGORIES:Kalenderwoche
TRANSP:TRANSPARENT
END:VEVENT
BEGIN:VEVENT
UID:kw-1613-20@kalenderwoche.info
DTSTAMP:20260424T114005Z
DTSTART;VALUE=DATE:16130513
DTEND;VALUE=DATE:16130520
SUMMARY:KW 20 (gerade)
DESCRIPTION:Kalenderwoche 20 im Jahr 1613\nMontag: 13.05.1613\nSonntag: 19.05.1613\nTyp: gerade Woche\nMehr unter: https://kalenderwoche.info/1613/kw-20
URL:https://kalenderwoche.info/1613/kw-20
CATEGORIES:Kalenderwoche
TRANSP:TRANSPARENT
END:VEVENT
BEGIN:VEVENT
UID:kw-1613-21@kalenderwoche.info
DTSTAMP:20260424T114005Z
DTSTART;VALUE=DATE:16130520
DTEND;VALUE=DATE:16130527
SUMMARY:KW 21 (ungerade)
DESCRIPTION:Kalenderwoche 21 im Jahr 1613\nMontag: 20.05.1613\nSonntag: 26.05.1613\nTyp: ungerade Woche\nMehr unter: https://kalenderwoche.info/1613/kw-21
URL:https://kalenderwoche.info/1613/kw-21
CATEGORIES:Kalenderwoche
TRANSP:TRANSPARENT
END:VEVENT
BEGIN:VEVENT
UID:kw-1613-22@kalenderwoche.info
DTSTAMP:20260424T114005Z
DTSTART;VALUE=DATE:16130527
DTEND;VALUE=DATE:16130603
SUMMARY:KW 22 (gerade)
DESCRIPTION:Kalenderwoche 22 im Jahr 1613\nMontag: 27.05.1613\nSonntag: 02.06.1613\nTyp: gerade Woche\nMehr unter: https://kalenderwoche.info/1613/kw-22
URL:https://kalenderwoche.info/1613/kw-22
CATEGORIES:Kalenderwoche
TRANSP:TRANSPARENT
END:VEVENT
BEGIN:VEVENT
UID:kw-1613-23@kalenderwoche.info
DTSTAMP:20260424T114005Z
DTSTART;VALUE=DATE:16130603
DTEND;VALUE=DATE:16130610
SUMMARY:KW 23 (ungerade)
DESCRIPTION:Kalenderwoche 23 im Jahr 1613\nMontag: 03.06.1613\nSonntag: 09.06.1613\nTyp: ungerade Woche\nMehr unter: https://kalenderwoche.info/1613/kw-23
URL:https://kalenderwoche.info/1613/kw-23
CATEGORIES:Kalenderwoche
TRANSP:TRANSPARENT
END:VEVENT
BEGIN:VEVENT
UID:kw-1613-24@kalenderwoche.info
DTSTAMP:20260424T114005Z
DTSTART;VALUE=DATE:16130610
DTEND;VALUE=DATE:16130617
SUMMARY:KW 24 (gerade)
DESCRIPTION:Kalenderwoche 24 im Jahr 1613\nMontag: 10.06.1613\nSonntag: 16.06.1613\nTyp: gerade Woche\nMehr unter: https://kalenderwoche.info/1613/kw-24
URL:https://kalenderwoche.info/1613/kw-24
CATEGORIES:Kalenderwoche
TRANSP:TRANSPARENT
END:VEVENT
BEGIN:VEVENT
UID:kw-1613-25@kalenderwoche.info
DTSTAMP:20260424T114005Z
DTSTART;VALUE=DATE:16130617
DTEND;VALUE=DATE:16130624
SUMMARY:KW 25 (ungerade)
DESCRIPTION:Kalenderwoche 25 im Jahr 1613\nMontag: 17.06.1613\nSonntag: 23.06.1613\nTyp: ungerade Woche\nMehr unter: https://kalenderwoche.info/1613/kw-25
URL:https://kalenderwoche.info/1613/kw-25
CATEGORIES:Kalenderwoche
TRANSP:TRANSPARENT
END:VEVENT
BEGIN:VEVENT
UID:kw-1613-26@kalenderwoche.info
DTSTAMP:20260424T114005Z
DTSTART;VALUE=DATE:16130624
DTEND;VALUE=DATE:16130701
SUMMARY:KW 26 (gerade)
DESCRIPTION:Kalenderwoche 26 im Jahr 1613\nMontag: 24.06.1613\nSonntag: 30.06.1613\nTyp: gerade Woche\nMehr unter: https://kalenderwoche.info/1613/kw-26
URL:https://kalenderwoche.info/1613/kw-26
CATEGORIES:Kalenderwoche
TRANSP:TRANSPARENT
END:VEVENT
BEGIN:VEVENT
UID:kw-1613-27@kalenderwoche.info
DTSTAMP:20260424T114005Z
DTSTART;VALUE=DATE:16130701
DTEND;VALUE=DATE:16130708
SUMMARY:KW 27 (ungerade)
DESCRIPTION:Kalenderwoche 27 im Jahr 1613\nMontag: 01.07.1613\nSonntag: 07.07.1613\nTyp: ungerade Woche\nMehr unter: https://kalenderwoche.info/1613/kw-27
URL:https://kalenderwoche.info/1613/kw-27
CATEGORIES:Kalenderwoche
TRANSP:TRANSPARENT
END:VEVENT
BEGIN:VEVENT
UID:kw-1613-28@kalenderwoche.info
DTSTAMP:20260424T114005Z
DTSTART;VALUE=DATE:16130708
DTEND;VALUE=DATE:16130715
SUMMARY:KW 28 (gerade)
DESCRIPTION:Kalenderwoche 28 im Jahr 1613\nMontag: 08.07.1613\nSonntag: 14.07.1613\nTyp: gerade Woche\nMehr unter: https://kalenderwoche.info/1613/kw-28
URL:https://kalenderwoche.info/1613/kw-28
CATEGORIES:Kalenderwoche
TRANSP:TRANSPARENT
END:VEVENT
BEGIN:VEVENT
UID:kw-1613-29@kalenderwoche.info
DTSTAMP:20260424T114005Z
DTSTART;VALUE=DATE:16130715
DTEND;VALUE=DATE:16130722
SUMMARY:KW 29 (ungerade)
DESCRIPTION:Kalenderwoche 29 im Jahr 1613\nMontag: 15.07.1613\nSonntag: 21.07.1613\nTyp: ungerade Woche\nMehr unter: https://kalenderwoche.info/1613/kw-29
URL:https://kalenderwoche.info/1613/kw-29
CATEGORIES:Kalenderwoche
TRANSP:TRANSPARENT
END:VEVENT
BEGIN:VEVENT
UID:kw-1613-30@kalenderwoche.info
DTSTAMP:20260424T114005Z
DTSTART;VALUE=DATE:16130722
DTEND;VALUE=DATE:16130729
SUMMARY:KW 30 (gerade)
DESCRIPTION:Kalenderwoche 30 im Jahr 1613\nMontag: 22.07.1613\nSonntag: 28.07.1613\nTyp: gerade Woche\nMehr unter: https://kalenderwoche.info/1613/kw-30
URL:https://kalenderwoche.info/1613/kw-30
CATEGORIES:Kalenderwoche
TRANSP:TRANSPARENT
END:VEVENT
BEGIN:VEVENT
UID:kw-1613-31@kalenderwoche.info
DTSTAMP:20260424T114005Z
DTSTART;VALUE=DATE:16130729
DTEND;VALUE=DATE:16130805
SUMMARY:KW 31 (ungerade)
DESCRIPTION:Kalenderwoche 31 im Jahr 1613\nMontag: 29.07.1613\nSonntag: 04.08.1613\nTyp: ungerade Woche\nMehr unter: https://kalenderwoche.info/1613/kw-31
URL:https://kalenderwoche.info/1613/kw-31
CATEGORIES:Kalenderwoche
TRANSP:TRANSPARENT
END:VEVENT
BEGIN:VEVENT
UID:kw-1613-32@kalenderwoche.info
DTSTAMP:20260424T114005Z
DTSTART;VALUE=DATE:16130805
DTEND;VALUE=DATE:16130812
SUMMARY:KW 32 (gerade)
DESCRIPTION:Kalenderwoche 32 im Jahr 1613\nMontag: 05.08.1613\nSonntag: 11.08.1613\nTyp: gerade Woche\nMehr unter: https://kalenderwoche.info/1613/kw-32
URL:https://kalenderwoche.info/1613/kw-32
CATEGORIES:Kalenderwoche
TRANSP:TRANSPARENT
END:VEVENT
BEGIN:VEVENT
UID:kw-1613-33@kalenderwoche.info
DTSTAMP:20260424T114005Z
DTSTART;VALUE=DATE:16130812
DTEND;VALUE=DATE:16130819
SUMMARY:KW 33 (ungerade)
DESCRIPTION:Kalenderwoche 33 im Jahr 1613\nMontag: 12.08.1613\nSonntag: 18.08.1613\nTyp: ungerade Woche\nMehr unter: https://kalenderwoche.info/1613/kw-33
URL:https://kalenderwoche.info/1613/kw-33
CATEGORIES:Kalenderwoche
TRANSP:TRANSPARENT
END:VEVENT
BEGIN:VEVENT
UID:kw-1613-34@kalenderwoche.info
DTSTAMP:20260424T114005Z
DTSTART;VALUE=DATE:16130819
DTEND;VALUE=DATE:16130826
SUMMARY:KW 34 (gerade)
DESCRIPTION:Kalenderwoche 34 im Jahr 1613\nMontag: 19.08.1613\nSonntag: 25.08.1613\nTyp: gerade Woche\nMehr unter: https://kalenderwoche.info/1613/kw-34
URL:https://kalenderwoche.info/1613/kw-34
CATEGORIES:Kalenderwoche
TRANSP:TRANSPARENT
END:VEVENT
BEGIN:VEVENT
UID:kw-1613-35@kalenderwoche.info
DTSTAMP:20260424T114005Z
DTSTART;VALUE=DATE:16130826
DTEND;VALUE=DATE:16130902
SUMMARY:KW 35 (ungerade)
DESCRIPTION:Kalenderwoche 35 im Jahr 1613\nMontag: 26.08.1613\nSonntag: 01.09.1613\nTyp: ungerade Woche\nMehr unter: https://kalenderwoche.info/1613/kw-35
URL:https://kalenderwoche.info/1613/kw-35
CATEGORIES:Kalenderwoche
TRANSP:TRANSPARENT
END:VEVENT
BEGIN:VEVENT
UID:kw-1613-36@kalenderwoche.info
DTSTAMP:20260424T114005Z
DTSTART;VALUE=DATE:16130902
DTEND;VALUE=DATE:16130909
SUMMARY:KW 36 (gerade)
DESCRIPTION:Kalenderwoche 36 im Jahr 1613\nMontag: 02.09.1613\nSonntag: 08.09.1613\nTyp: gerade Woche\nMehr unter: https://kalenderwoche.info/1613/kw-36
URL:https://kalenderwoche.info/1613/kw-36
CATEGORIES:Kalenderwoche
TRANSP:TRANSPARENT
END:VEVENT
BEGIN:VEVENT
UID:kw-1613-37@kalenderwoche.info
DTSTAMP:20260424T114005Z
DTSTART;VALUE=DATE:16130909
DTEND;VALUE=DATE:16130916
SUMMARY:KW 37 (ungerade)
DESCRIPTION:Kalenderwoche 37 im Jahr 1613\nMontag: 09.09.1613\nSonntag: 15.09.1613\nTyp: ungerade Woche\nMehr unter: https://kalenderwoche.info/1613/kw-37
URL:https://kalenderwoche.info/1613/kw-37
CATEGORIES:Kalenderwoche
TRANSP:TRANSPARENT
END:VEVENT
BEGIN:VEVENT
UID:kw-1613-38@kalenderwoche.info
DTSTAMP:20260424T114005Z
DTSTART;VALUE=DATE:16130916
DTEND;VALUE=DATE:16130923
SUMMARY:KW 38 (gerade)
DESCRIPTION:Kalenderwoche 38 im Jahr 1613\nMontag: 16.09.1613\nSonntag: 22.09.1613\nTyp: gerade Woche\nMehr unter: https://kalenderwoche.info/1613/kw-38
URL:https://kalenderwoche.info/1613/kw-38
CATEGORIES:Kalenderwoche
TRANSP:TRANSPARENT
END:VEVENT
BEGIN:VEVENT
UID:kw-1613-39@kalenderwoche.info
DTSTAMP:20260424T114005Z
DTSTART;VALUE=DATE:16130923
DTEND;VALUE=DATE:16130930
SUMMARY:KW 39 (ungerade)
DESCRIPTION:Kalenderwoche 39 im Jahr 1613\nMontag: 23.09.1613\nSonntag: 29.09.1613\nTyp: ungerade Woche\nMehr unter: https://kalenderwoche.info/1613/kw-39
URL:https://kalenderwoche.info/1613/kw-39
CATEGORIES:Kalenderwoche
TRANSP:TRANSPARENT
END:VEVENT
BEGIN:VEVENT
UID:kw-1613-40@kalenderwoche.info
DTSTAMP:20260424T114005Z
DTSTART;VALUE=DATE:16130930
DTEND;VALUE=DATE:16131007
SUMMARY:KW 40 (gerade)
DESCRIPTION:Kalenderwoche 40 im Jahr 1613\nMontag: 30.09.1613\nSonntag: 06.10.1613\nTyp: gerade Woche\nMehr unter: https://kalenderwoche.info/1613/kw-40
URL:https://kalenderwoche.info/1613/kw-40
CATEGORIES:Kalenderwoche
TRANSP:TRANSPARENT
END:VEVENT
BEGIN:VEVENT
UID:kw-1613-41@kalenderwoche.info
DTSTAMP:20260424T114005Z
DTSTART;VALUE=DATE:16131007
DTEND;VALUE=DATE:16131014
SUMMARY:KW 41 (ungerade)
DESCRIPTION:Kalenderwoche 41 im Jahr 1613\nMontag: 07.10.1613\nSonntag: 13.10.1613\nTyp: ungerade Woche\nMehr unter: https://kalenderwoche.info/1613/kw-41
URL:https://kalenderwoche.info/1613/kw-41
CATEGORIES:Kalenderwoche
TRANSP:TRANSPARENT
END:VEVENT
BEGIN:VEVENT
UID:kw-1613-42@kalenderwoche.info
DTSTAMP:20260424T114005Z
DTSTART;VALUE=DATE:16131014
DTEND;VALUE=DATE:16131021
SUMMARY:KW 42 (gerade)
DESCRIPTION:Kalenderwoche 42 im Jahr 1613\nMontag: 14.10.1613\nSonntag: 20.10.1613\nTyp: gerade Woche\nMehr unter: https://kalenderwoche.info/1613/kw-42
URL:https://kalenderwoche.info/1613/kw-42
CATEGORIES:Kalenderwoche
TRANSP:TRANSPARENT
END:VEVENT
BEGIN:VEVENT
UID:kw-1613-43@kalenderwoche.info
DTSTAMP:20260424T114005Z
DTSTART;VALUE=DATE:16131021
DTEND;VALUE=DATE:16131028
SUMMARY:KW 43 (ungerade)
DESCRIPTION:Kalenderwoche 43 im Jahr 1613\nMontag: 21.10.1613\nSonntag: 27.10.1613\nTyp: ungerade Woche\nMehr unter: https://kalenderwoche.info/1613/kw-43
URL:https://kalenderwoche.info/1613/kw-43
CATEGORIES:Kalenderwoche
TRANSP:TRANSPARENT
END:VEVENT
BEGIN:VEVENT
UID:kw-1613-44@kalenderwoche.info
DTSTAMP:20260424T114005Z
DTSTART;VALUE=DATE:16131028
DTEND;VALUE=DATE:16131104
SUMMARY:KW 44 (gerade)
DESCRIPTION:Kalenderwoche 44 im Jahr 1613\nMontag: 28.10.1613\nSonntag: 03.11.1613\nTyp: gerade Woche\nMehr unter: https://kalenderwoche.info/1613/kw-44
URL:https://kalenderwoche.info/1613/kw-44
CATEGORIES:Kalenderwoche
TRANSP:TRANSPARENT
END:VEVENT
BEGIN:VEVENT
UID:kw-1613-45@kalenderwoche.info
DTSTAMP:20260424T114005Z
DTSTART;VALUE=DATE:16131104
DTEND;VALUE=DATE:16131111
SUMMARY:KW 45 (ungerade)
DESCRIPTION:Kalenderwoche 45 im Jahr 1613\nMontag: 04.11.1613\nSonntag: 10.11.1613\nTyp: ungerade Woche\nMehr unter: https://kalenderwoche.info/1613/kw-45
URL:https://kalenderwoche.info/1613/kw-45
CATEGORIES:Kalenderwoche
TRANSP:TRANSPARENT
END:VEVENT
BEGIN:VEVENT
UID:kw-1613-46@kalenderwoche.info
DTSTAMP:20260424T114005Z
DTSTART;VALUE=DATE:16131111
DTEND;VALUE=DATE:16131118
SUMMARY:KW 46 (gerade)
DESCRIPTION:Kalenderwoche 46 im Jahr 1613\nMontag: 11.11.1613\nSonntag: 17.11.1613\nTyp: gerade Woche\nMehr unter: https://kalenderwoche.info/1613/kw-46
URL:https://kalenderwoche.info/1613/kw-46
CATEGORIES:Kalenderwoche
TRANSP:TRANSPARENT
END:VEVENT
BEGIN:VEVENT
UID:kw-1613-47@kalenderwoche.info
DTSTAMP:20260424T114005Z
DTSTART;VALUE=DATE:16131118
DTEND;VALUE=DATE:16131125
SUMMARY:KW 47 (ungerade)
DESCRIPTION:Kalenderwoche 47 im Jahr 1613\nMontag: 18.11.1613\nSonntag: 24.11.1613\nTyp: ungerade Woche\nMehr unter: https://kalenderwoche.info/1613/kw-47
URL:https://kalenderwoche.info/1613/kw-47
CATEGORIES:Kalenderwoche
TRANSP:TRANSPARENT
END:VEVENT
BEGIN:VEVENT
UID:kw-1613-48@kalenderwoche.info
DTSTAMP:20260424T114005Z
DTSTART;VALUE=DATE:16131125
DTEND;VALUE=DATE:16131202
SUMMARY:KW 48 (gerade)
DESCRIPTION:Kalenderwoche 48 im Jahr 1613\nMontag: 25.11.1613\nSonntag: 01.12.1613\nTyp: gerade Woche\nMehr unter: https://kalenderwoche.info/1613/kw-48
URL:https://kalenderwoche.info/1613/kw-48
CATEGORIES:Kalenderwoche
TRANSP:TRANSPARENT
END:VEVENT
BEGIN:VEVENT
UID:kw-1613-49@kalenderwoche.info
DTSTAMP:20260424T114005Z
DTSTART;VALUE=DATE:16131202
DTEND;VALUE=DATE:16131209
SUMMARY:KW 49 (ungerade)
DESCRIPTION:Kalenderwoche 49 im Jahr 1613\nMontag: 02.12.1613\nSonntag: 08.12.1613\nTyp: ungerade Woche\nMehr unter: https://kalenderwoche.info/1613/kw-49
URL:https://kalenderwoche.info/1613/kw-49
CATEGORIES:Kalenderwoche
TRANSP:TRANSPARENT
END:VEVENT
BEGIN:VEVENT
UID:kw-1613-50@kalenderwoche.info
DTSTAMP:20260424T114005Z
DTSTART;VALUE=DATE:16131209
DTEND;VALUE=DATE:16131216
SUMMARY:KW 50 (gerade)
DESCRIPTION:Kalenderwoche 50 im Jahr 1613\nMontag: 09.12.1613\nSonntag: 15.12.1613\nTyp: gerade Woche\nMehr unter: https://kalenderwoche.info/1613/kw-50
URL:https://kalenderwoche.info/1613/kw-50
CATEGORIES:Kalenderwoche
TRANSP:TRANSPARENT
END:VEVENT
BEGIN:VEVENT
UID:kw-1613-51@kalenderwoche.info
DTSTAMP:20260424T114005Z
DTSTART;VALUE=DATE:16131216
DTEND;VALUE=DATE:16131223
SUMMARY:KW 51 (ungerade)
DESCRIPTION:Kalenderwoche 51 im Jahr 1613\nMontag: 16.12.1613\nSonntag: 22.12.1613\nTyp: ungerade Woche\nMehr unter: https://kalenderwoche.info/1613/kw-51
URL:https://kalenderwoche.info/1613/kw-51
CATEGORIES:Kalenderwoche
TRANSP:TRANSPARENT
END:VEVENT
BEGIN:VEVENT
UID:kw-1613-52@kalenderwoche.info
DTSTAMP:20260424T114005Z
DTSTART;VALUE=DATE:16131223
DTEND;VALUE=DATE:16131230
SUMMARY:KW 52 (gerade)
DESCRIPTION:Kalenderwoche 52 im Jahr 1613\nMontag: 23.12.1613\nSonntag: 29.12.1613\nTyp: gerade Woche\nMehr unter: https://kalenderwoche.info/1613/kw-52
URL:https://kalenderwoche.info/1613/kw-52
CATEGORIES:Kalenderwoche
TRANSP:TRANSPARENT
END:VEVENT
END:VCALENDAR
