BEGIN:VCALENDAR
VERSION:2.0
PRODID:-//kalenderwoche.info//Kalender//DE
CALSCALE:GREGORIAN
METHOD:PUBLISH
X-WR-CALNAME:Kalenderwochen 1617
X-WR-CALDESC:Alle Kalenderwochen für das Jahr 1617
X-WR-TIMEZONE:Europe/Berlin
BEGIN:VEVENT
UID:kw-1617-1@kalenderwoche.info
DTSTAMP:20260424T064603Z
DTSTART;VALUE=DATE:16170102
DTEND;VALUE=DATE:16170109
SUMMARY:KW 1 (ungerade)
DESCRIPTION:Kalenderwoche 1 im Jahr 1617\nMontag: 02.01.1617\nSonntag: 08.01.1617\nTyp: ungerade Woche\nMehr unter: https://kalenderwoche.info/1617/kw-1
URL:https://kalenderwoche.info/1617/kw-1
CATEGORIES:Kalenderwoche
TRANSP:TRANSPARENT
END:VEVENT
BEGIN:VEVENT
UID:kw-1617-2@kalenderwoche.info
DTSTAMP:20260424T064603Z
DTSTART;VALUE=DATE:16170109
DTEND;VALUE=DATE:16170116
SUMMARY:KW 2 (gerade)
DESCRIPTION:Kalenderwoche 2 im Jahr 1617\nMontag: 09.01.1617\nSonntag: 15.01.1617\nTyp: gerade Woche\nMehr unter: https://kalenderwoche.info/1617/kw-2
URL:https://kalenderwoche.info/1617/kw-2
CATEGORIES:Kalenderwoche
TRANSP:TRANSPARENT
END:VEVENT
BEGIN:VEVENT
UID:kw-1617-3@kalenderwoche.info
DTSTAMP:20260424T064603Z
DTSTART;VALUE=DATE:16170116
DTEND;VALUE=DATE:16170123
SUMMARY:KW 3 (ungerade)
DESCRIPTION:Kalenderwoche 3 im Jahr 1617\nMontag: 16.01.1617\nSonntag: 22.01.1617\nTyp: ungerade Woche\nMehr unter: https://kalenderwoche.info/1617/kw-3
URL:https://kalenderwoche.info/1617/kw-3
CATEGORIES:Kalenderwoche
TRANSP:TRANSPARENT
END:VEVENT
BEGIN:VEVENT
UID:kw-1617-4@kalenderwoche.info
DTSTAMP:20260424T064603Z
DTSTART;VALUE=DATE:16170123
DTEND;VALUE=DATE:16170130
SUMMARY:KW 4 (gerade)
DESCRIPTION:Kalenderwoche 4 im Jahr 1617\nMontag: 23.01.1617\nSonntag: 29.01.1617\nTyp: gerade Woche\nMehr unter: https://kalenderwoche.info/1617/kw-4
URL:https://kalenderwoche.info/1617/kw-4
CATEGORIES:Kalenderwoche
TRANSP:TRANSPARENT
END:VEVENT
BEGIN:VEVENT
UID:kw-1617-5@kalenderwoche.info
DTSTAMP:20260424T064603Z
DTSTART;VALUE=DATE:16170130
DTEND;VALUE=DATE:16170206
SUMMARY:KW 5 (ungerade)
DESCRIPTION:Kalenderwoche 5 im Jahr 1617\nMontag: 30.01.1617\nSonntag: 05.02.1617\nTyp: ungerade Woche\nMehr unter: https://kalenderwoche.info/1617/kw-5
URL:https://kalenderwoche.info/1617/kw-5
CATEGORIES:Kalenderwoche
TRANSP:TRANSPARENT
END:VEVENT
BEGIN:VEVENT
UID:kw-1617-6@kalenderwoche.info
DTSTAMP:20260424T064603Z
DTSTART;VALUE=DATE:16170206
DTEND;VALUE=DATE:16170213
SUMMARY:KW 6 (gerade)
DESCRIPTION:Kalenderwoche 6 im Jahr 1617\nMontag: 06.02.1617\nSonntag: 12.02.1617\nTyp: gerade Woche\nMehr unter: https://kalenderwoche.info/1617/kw-6
URL:https://kalenderwoche.info/1617/kw-6
CATEGORIES:Kalenderwoche
TRANSP:TRANSPARENT
END:VEVENT
BEGIN:VEVENT
UID:kw-1617-7@kalenderwoche.info
DTSTAMP:20260424T064603Z
DTSTART;VALUE=DATE:16170213
DTEND;VALUE=DATE:16170220
SUMMARY:KW 7 (ungerade)
DESCRIPTION:Kalenderwoche 7 im Jahr 1617\nMontag: 13.02.1617\nSonntag: 19.02.1617\nTyp: ungerade Woche\nMehr unter: https://kalenderwoche.info/1617/kw-7
URL:https://kalenderwoche.info/1617/kw-7
CATEGORIES:Kalenderwoche
TRANSP:TRANSPARENT
END:VEVENT
BEGIN:VEVENT
UID:kw-1617-8@kalenderwoche.info
DTSTAMP:20260424T064603Z
DTSTART;VALUE=DATE:16170220
DTEND;VALUE=DATE:16170227
SUMMARY:KW 8 (gerade)
DESCRIPTION:Kalenderwoche 8 im Jahr 1617\nMontag: 20.02.1617\nSonntag: 26.02.1617\nTyp: gerade Woche\nMehr unter: https://kalenderwoche.info/1617/kw-8
URL:https://kalenderwoche.info/1617/kw-8
CATEGORIES:Kalenderwoche
TRANSP:TRANSPARENT
END:VEVENT
BEGIN:VEVENT
UID:kw-1617-9@kalenderwoche.info
DTSTAMP:20260424T064603Z
DTSTART;VALUE=DATE:16170227
DTEND;VALUE=DATE:16170306
SUMMARY:KW 9 (ungerade)
DESCRIPTION:Kalenderwoche 9 im Jahr 1617\nMontag: 27.02.1617\nSonntag: 05.03.1617\nTyp: ungerade Woche\nMehr unter: https://kalenderwoche.info/1617/kw-9
URL:https://kalenderwoche.info/1617/kw-9
CATEGORIES:Kalenderwoche
TRANSP:TRANSPARENT
END:VEVENT
BEGIN:VEVENT
UID:kw-1617-10@kalenderwoche.info
DTSTAMP:20260424T064603Z
DTSTART;VALUE=DATE:16170306
DTEND;VALUE=DATE:16170313
SUMMARY:KW 10 (gerade)
DESCRIPTION:Kalenderwoche 10 im Jahr 1617\nMontag: 06.03.1617\nSonntag: 12.03.1617\nTyp: gerade Woche\nMehr unter: https://kalenderwoche.info/1617/kw-10
URL:https://kalenderwoche.info/1617/kw-10
CATEGORIES:Kalenderwoche
TRANSP:TRANSPARENT
END:VEVENT
BEGIN:VEVENT
UID:kw-1617-11@kalenderwoche.info
DTSTAMP:20260424T064603Z
DTSTART;VALUE=DATE:16170313
DTEND;VALUE=DATE:16170320
SUMMARY:KW 11 (ungerade)
DESCRIPTION:Kalenderwoche 11 im Jahr 1617\nMontag: 13.03.1617\nSonntag: 19.03.1617\nTyp: ungerade Woche\nMehr unter: https://kalenderwoche.info/1617/kw-11
URL:https://kalenderwoche.info/1617/kw-11
CATEGORIES:Kalenderwoche
TRANSP:TRANSPARENT
END:VEVENT
BEGIN:VEVENT
UID:kw-1617-12@kalenderwoche.info
DTSTAMP:20260424T064603Z
DTSTART;VALUE=DATE:16170320
DTEND;VALUE=DATE:16170327
SUMMARY:KW 12 (gerade)
DESCRIPTION:Kalenderwoche 12 im Jahr 1617\nMontag: 20.03.1617\nSonntag: 26.03.1617\nTyp: gerade Woche\nMehr unter: https://kalenderwoche.info/1617/kw-12
URL:https://kalenderwoche.info/1617/kw-12
CATEGORIES:Kalenderwoche
TRANSP:TRANSPARENT
END:VEVENT
BEGIN:VEVENT
UID:kw-1617-13@kalenderwoche.info
DTSTAMP:20260424T064603Z
DTSTART;VALUE=DATE:16170327
DTEND;VALUE=DATE:16170403
SUMMARY:KW 13 (ungerade)
DESCRIPTION:Kalenderwoche 13 im Jahr 1617\nMontag: 27.03.1617\nSonntag: 02.04.1617\nTyp: ungerade Woche\nMehr unter: https://kalenderwoche.info/1617/kw-13
URL:https://kalenderwoche.info/1617/kw-13
CATEGORIES:Kalenderwoche
TRANSP:TRANSPARENT
END:VEVENT
BEGIN:VEVENT
UID:kw-1617-14@kalenderwoche.info
DTSTAMP:20260424T064603Z
DTSTART;VALUE=DATE:16170403
DTEND;VALUE=DATE:16170410
SUMMARY:KW 14 (gerade)
DESCRIPTION:Kalenderwoche 14 im Jahr 1617\nMontag: 03.04.1617\nSonntag: 09.04.1617\nTyp: gerade Woche\nMehr unter: https://kalenderwoche.info/1617/kw-14
URL:https://kalenderwoche.info/1617/kw-14
CATEGORIES:Kalenderwoche
TRANSP:TRANSPARENT
END:VEVENT
BEGIN:VEVENT
UID:kw-1617-15@kalenderwoche.info
DTSTAMP:20260424T064603Z
DTSTART;VALUE=DATE:16170410
DTEND;VALUE=DATE:16170417
SUMMARY:KW 15 (ungerade)
DESCRIPTION:Kalenderwoche 15 im Jahr 1617\nMontag: 10.04.1617\nSonntag: 16.04.1617\nTyp: ungerade Woche\nMehr unter: https://kalenderwoche.info/1617/kw-15
URL:https://kalenderwoche.info/1617/kw-15
CATEGORIES:Kalenderwoche
TRANSP:TRANSPARENT
END:VEVENT
BEGIN:VEVENT
UID:kw-1617-16@kalenderwoche.info
DTSTAMP:20260424T064603Z
DTSTART;VALUE=DATE:16170417
DTEND;VALUE=DATE:16170424
SUMMARY:KW 16 (gerade)
DESCRIPTION:Kalenderwoche 16 im Jahr 1617\nMontag: 17.04.1617\nSonntag: 23.04.1617\nTyp: gerade Woche\nMehr unter: https://kalenderwoche.info/1617/kw-16
URL:https://kalenderwoche.info/1617/kw-16
CATEGORIES:Kalenderwoche
TRANSP:TRANSPARENT
END:VEVENT
BEGIN:VEVENT
UID:kw-1617-17@kalenderwoche.info
DTSTAMP:20260424T064603Z
DTSTART;VALUE=DATE:16170424
DTEND;VALUE=DATE:16170501
SUMMARY:KW 17 (ungerade)
DESCRIPTION:Kalenderwoche 17 im Jahr 1617\nMontag: 24.04.1617\nSonntag: 30.04.1617\nTyp: ungerade Woche\nMehr unter: https://kalenderwoche.info/1617/kw-17
URL:https://kalenderwoche.info/1617/kw-17
CATEGORIES:Kalenderwoche
TRANSP:TRANSPARENT
END:VEVENT
BEGIN:VEVENT
UID:kw-1617-18@kalenderwoche.info
DTSTAMP:20260424T064603Z
DTSTART;VALUE=DATE:16170501
DTEND;VALUE=DATE:16170508
SUMMARY:KW 18 (gerade)
DESCRIPTION:Kalenderwoche 18 im Jahr 1617\nMontag: 01.05.1617\nSonntag: 07.05.1617\nTyp: gerade Woche\nMehr unter: https://kalenderwoche.info/1617/kw-18
URL:https://kalenderwoche.info/1617/kw-18
CATEGORIES:Kalenderwoche
TRANSP:TRANSPARENT
END:VEVENT
BEGIN:VEVENT
UID:kw-1617-19@kalenderwoche.info
DTSTAMP:20260424T064603Z
DTSTART;VALUE=DATE:16170508
DTEND;VALUE=DATE:16170515
SUMMARY:KW 19 (ungerade)
DESCRIPTION:Kalenderwoche 19 im Jahr 1617\nMontag: 08.05.1617\nSonntag: 14.05.1617\nTyp: ungerade Woche\nMehr unter: https://kalenderwoche.info/1617/kw-19
URL:https://kalenderwoche.info/1617/kw-19
CATEGORIES:Kalenderwoche
TRANSP:TRANSPARENT
END:VEVENT
BEGIN:VEVENT
UID:kw-1617-20@kalenderwoche.info
DTSTAMP:20260424T064603Z
DTSTART;VALUE=DATE:16170515
DTEND;VALUE=DATE:16170522
SUMMARY:KW 20 (gerade)
DESCRIPTION:Kalenderwoche 20 im Jahr 1617\nMontag: 15.05.1617\nSonntag: 21.05.1617\nTyp: gerade Woche\nMehr unter: https://kalenderwoche.info/1617/kw-20
URL:https://kalenderwoche.info/1617/kw-20
CATEGORIES:Kalenderwoche
TRANSP:TRANSPARENT
END:VEVENT
BEGIN:VEVENT
UID:kw-1617-21@kalenderwoche.info
DTSTAMP:20260424T064603Z
DTSTART;VALUE=DATE:16170522
DTEND;VALUE=DATE:16170529
SUMMARY:KW 21 (ungerade)
DESCRIPTION:Kalenderwoche 21 im Jahr 1617\nMontag: 22.05.1617\nSonntag: 28.05.1617\nTyp: ungerade Woche\nMehr unter: https://kalenderwoche.info/1617/kw-21
URL:https://kalenderwoche.info/1617/kw-21
CATEGORIES:Kalenderwoche
TRANSP:TRANSPARENT
END:VEVENT
BEGIN:VEVENT
UID:kw-1617-22@kalenderwoche.info
DTSTAMP:20260424T064603Z
DTSTART;VALUE=DATE:16170529
DTEND;VALUE=DATE:16170605
SUMMARY:KW 22 (gerade)
DESCRIPTION:Kalenderwoche 22 im Jahr 1617\nMontag: 29.05.1617\nSonntag: 04.06.1617\nTyp: gerade Woche\nMehr unter: https://kalenderwoche.info/1617/kw-22
URL:https://kalenderwoche.info/1617/kw-22
CATEGORIES:Kalenderwoche
TRANSP:TRANSPARENT
END:VEVENT
BEGIN:VEVENT
UID:kw-1617-23@kalenderwoche.info
DTSTAMP:20260424T064603Z
DTSTART;VALUE=DATE:16170605
DTEND;VALUE=DATE:16170612
SUMMARY:KW 23 (ungerade)
DESCRIPTION:Kalenderwoche 23 im Jahr 1617\nMontag: 05.06.1617\nSonntag: 11.06.1617\nTyp: ungerade Woche\nMehr unter: https://kalenderwoche.info/1617/kw-23
URL:https://kalenderwoche.info/1617/kw-23
CATEGORIES:Kalenderwoche
TRANSP:TRANSPARENT
END:VEVENT
BEGIN:VEVENT
UID:kw-1617-24@kalenderwoche.info
DTSTAMP:20260424T064603Z
DTSTART;VALUE=DATE:16170612
DTEND;VALUE=DATE:16170619
SUMMARY:KW 24 (gerade)
DESCRIPTION:Kalenderwoche 24 im Jahr 1617\nMontag: 12.06.1617\nSonntag: 18.06.1617\nTyp: gerade Woche\nMehr unter: https://kalenderwoche.info/1617/kw-24
URL:https://kalenderwoche.info/1617/kw-24
CATEGORIES:Kalenderwoche
TRANSP:TRANSPARENT
END:VEVENT
BEGIN:VEVENT
UID:kw-1617-25@kalenderwoche.info
DTSTAMP:20260424T064603Z
DTSTART;VALUE=DATE:16170619
DTEND;VALUE=DATE:16170626
SUMMARY:KW 25 (ungerade)
DESCRIPTION:Kalenderwoche 25 im Jahr 1617\nMontag: 19.06.1617\nSonntag: 25.06.1617\nTyp: ungerade Woche\nMehr unter: https://kalenderwoche.info/1617/kw-25
URL:https://kalenderwoche.info/1617/kw-25
CATEGORIES:Kalenderwoche
TRANSP:TRANSPARENT
END:VEVENT
BEGIN:VEVENT
UID:kw-1617-26@kalenderwoche.info
DTSTAMP:20260424T064603Z
DTSTART;VALUE=DATE:16170626
DTEND;VALUE=DATE:16170703
SUMMARY:KW 26 (gerade)
DESCRIPTION:Kalenderwoche 26 im Jahr 1617\nMontag: 26.06.1617\nSonntag: 02.07.1617\nTyp: gerade Woche\nMehr unter: https://kalenderwoche.info/1617/kw-26
URL:https://kalenderwoche.info/1617/kw-26
CATEGORIES:Kalenderwoche
TRANSP:TRANSPARENT
END:VEVENT
BEGIN:VEVENT
UID:kw-1617-27@kalenderwoche.info
DTSTAMP:20260424T064603Z
DTSTART;VALUE=DATE:16170703
DTEND;VALUE=DATE:16170710
SUMMARY:KW 27 (ungerade)
DESCRIPTION:Kalenderwoche 27 im Jahr 1617\nMontag: 03.07.1617\nSonntag: 09.07.1617\nTyp: ungerade Woche\nMehr unter: https://kalenderwoche.info/1617/kw-27
URL:https://kalenderwoche.info/1617/kw-27
CATEGORIES:Kalenderwoche
TRANSP:TRANSPARENT
END:VEVENT
BEGIN:VEVENT
UID:kw-1617-28@kalenderwoche.info
DTSTAMP:20260424T064603Z
DTSTART;VALUE=DATE:16170710
DTEND;VALUE=DATE:16170717
SUMMARY:KW 28 (gerade)
DESCRIPTION:Kalenderwoche 28 im Jahr 1617\nMontag: 10.07.1617\nSonntag: 16.07.1617\nTyp: gerade Woche\nMehr unter: https://kalenderwoche.info/1617/kw-28
URL:https://kalenderwoche.info/1617/kw-28
CATEGORIES:Kalenderwoche
TRANSP:TRANSPARENT
END:VEVENT
BEGIN:VEVENT
UID:kw-1617-29@kalenderwoche.info
DTSTAMP:20260424T064603Z
DTSTART;VALUE=DATE:16170717
DTEND;VALUE=DATE:16170724
SUMMARY:KW 29 (ungerade)
DESCRIPTION:Kalenderwoche 29 im Jahr 1617\nMontag: 17.07.1617\nSonntag: 23.07.1617\nTyp: ungerade Woche\nMehr unter: https://kalenderwoche.info/1617/kw-29
URL:https://kalenderwoche.info/1617/kw-29
CATEGORIES:Kalenderwoche
TRANSP:TRANSPARENT
END:VEVENT
BEGIN:VEVENT
UID:kw-1617-30@kalenderwoche.info
DTSTAMP:20260424T064603Z
DTSTART;VALUE=DATE:16170724
DTEND;VALUE=DATE:16170731
SUMMARY:KW 30 (gerade)
DESCRIPTION:Kalenderwoche 30 im Jahr 1617\nMontag: 24.07.1617\nSonntag: 30.07.1617\nTyp: gerade Woche\nMehr unter: https://kalenderwoche.info/1617/kw-30
URL:https://kalenderwoche.info/1617/kw-30
CATEGORIES:Kalenderwoche
TRANSP:TRANSPARENT
END:VEVENT
BEGIN:VEVENT
UID:kw-1617-31@kalenderwoche.info
DTSTAMP:20260424T064603Z
DTSTART;VALUE=DATE:16170731
DTEND;VALUE=DATE:16170807
SUMMARY:KW 31 (ungerade)
DESCRIPTION:Kalenderwoche 31 im Jahr 1617\nMontag: 31.07.1617\nSonntag: 06.08.1617\nTyp: ungerade Woche\nMehr unter: https://kalenderwoche.info/1617/kw-31
URL:https://kalenderwoche.info/1617/kw-31
CATEGORIES:Kalenderwoche
TRANSP:TRANSPARENT
END:VEVENT
BEGIN:VEVENT
UID:kw-1617-32@kalenderwoche.info
DTSTAMP:20260424T064603Z
DTSTART;VALUE=DATE:16170807
DTEND;VALUE=DATE:16170814
SUMMARY:KW 32 (gerade)
DESCRIPTION:Kalenderwoche 32 im Jahr 1617\nMontag: 07.08.1617\nSonntag: 13.08.1617\nTyp: gerade Woche\nMehr unter: https://kalenderwoche.info/1617/kw-32
URL:https://kalenderwoche.info/1617/kw-32
CATEGORIES:Kalenderwoche
TRANSP:TRANSPARENT
END:VEVENT
BEGIN:VEVENT
UID:kw-1617-33@kalenderwoche.info
DTSTAMP:20260424T064603Z
DTSTART;VALUE=DATE:16170814
DTEND;VALUE=DATE:16170821
SUMMARY:KW 33 (ungerade)
DESCRIPTION:Kalenderwoche 33 im Jahr 1617\nMontag: 14.08.1617\nSonntag: 20.08.1617\nTyp: ungerade Woche\nMehr unter: https://kalenderwoche.info/1617/kw-33
URL:https://kalenderwoche.info/1617/kw-33
CATEGORIES:Kalenderwoche
TRANSP:TRANSPARENT
END:VEVENT
BEGIN:VEVENT
UID:kw-1617-34@kalenderwoche.info
DTSTAMP:20260424T064603Z
DTSTART;VALUE=DATE:16170821
DTEND;VALUE=DATE:16170828
SUMMARY:KW 34 (gerade)
DESCRIPTION:Kalenderwoche 34 im Jahr 1617\nMontag: 21.08.1617\nSonntag: 27.08.1617\nTyp: gerade Woche\nMehr unter: https://kalenderwoche.info/1617/kw-34
URL:https://kalenderwoche.info/1617/kw-34
CATEGORIES:Kalenderwoche
TRANSP:TRANSPARENT
END:VEVENT
BEGIN:VEVENT
UID:kw-1617-35@kalenderwoche.info
DTSTAMP:20260424T064603Z
DTSTART;VALUE=DATE:16170828
DTEND;VALUE=DATE:16170904
SUMMARY:KW 35 (ungerade)
DESCRIPTION:Kalenderwoche 35 im Jahr 1617\nMontag: 28.08.1617\nSonntag: 03.09.1617\nTyp: ungerade Woche\nMehr unter: https://kalenderwoche.info/1617/kw-35
URL:https://kalenderwoche.info/1617/kw-35
CATEGORIES:Kalenderwoche
TRANSP:TRANSPARENT
END:VEVENT
BEGIN:VEVENT
UID:kw-1617-36@kalenderwoche.info
DTSTAMP:20260424T064603Z
DTSTART;VALUE=DATE:16170904
DTEND;VALUE=DATE:16170911
SUMMARY:KW 36 (gerade)
DESCRIPTION:Kalenderwoche 36 im Jahr 1617\nMontag: 04.09.1617\nSonntag: 10.09.1617\nTyp: gerade Woche\nMehr unter: https://kalenderwoche.info/1617/kw-36
URL:https://kalenderwoche.info/1617/kw-36
CATEGORIES:Kalenderwoche
TRANSP:TRANSPARENT
END:VEVENT
BEGIN:VEVENT
UID:kw-1617-37@kalenderwoche.info
DTSTAMP:20260424T064603Z
DTSTART;VALUE=DATE:16170911
DTEND;VALUE=DATE:16170918
SUMMARY:KW 37 (ungerade)
DESCRIPTION:Kalenderwoche 37 im Jahr 1617\nMontag: 11.09.1617\nSonntag: 17.09.1617\nTyp: ungerade Woche\nMehr unter: https://kalenderwoche.info/1617/kw-37
URL:https://kalenderwoche.info/1617/kw-37
CATEGORIES:Kalenderwoche
TRANSP:TRANSPARENT
END:VEVENT
BEGIN:VEVENT
UID:kw-1617-38@kalenderwoche.info
DTSTAMP:20260424T064603Z
DTSTART;VALUE=DATE:16170918
DTEND;VALUE=DATE:16170925
SUMMARY:KW 38 (gerade)
DESCRIPTION:Kalenderwoche 38 im Jahr 1617\nMontag: 18.09.1617\nSonntag: 24.09.1617\nTyp: gerade Woche\nMehr unter: https://kalenderwoche.info/1617/kw-38
URL:https://kalenderwoche.info/1617/kw-38
CATEGORIES:Kalenderwoche
TRANSP:TRANSPARENT
END:VEVENT
BEGIN:VEVENT
UID:kw-1617-39@kalenderwoche.info
DTSTAMP:20260424T064603Z
DTSTART;VALUE=DATE:16170925
DTEND;VALUE=DATE:16171002
SUMMARY:KW 39 (ungerade)
DESCRIPTION:Kalenderwoche 39 im Jahr 1617\nMontag: 25.09.1617\nSonntag: 01.10.1617\nTyp: ungerade Woche\nMehr unter: https://kalenderwoche.info/1617/kw-39
URL:https://kalenderwoche.info/1617/kw-39
CATEGORIES:Kalenderwoche
TRANSP:TRANSPARENT
END:VEVENT
BEGIN:VEVENT
UID:kw-1617-40@kalenderwoche.info
DTSTAMP:20260424T064603Z
DTSTART;VALUE=DATE:16171002
DTEND;VALUE=DATE:16171009
SUMMARY:KW 40 (gerade)
DESCRIPTION:Kalenderwoche 40 im Jahr 1617\nMontag: 02.10.1617\nSonntag: 08.10.1617\nTyp: gerade Woche\nMehr unter: https://kalenderwoche.info/1617/kw-40
URL:https://kalenderwoche.info/1617/kw-40
CATEGORIES:Kalenderwoche
TRANSP:TRANSPARENT
END:VEVENT
BEGIN:VEVENT
UID:kw-1617-41@kalenderwoche.info
DTSTAMP:20260424T064603Z
DTSTART;VALUE=DATE:16171009
DTEND;VALUE=DATE:16171016
SUMMARY:KW 41 (ungerade)
DESCRIPTION:Kalenderwoche 41 im Jahr 1617\nMontag: 09.10.1617\nSonntag: 15.10.1617\nTyp: ungerade Woche\nMehr unter: https://kalenderwoche.info/1617/kw-41
URL:https://kalenderwoche.info/1617/kw-41
CATEGORIES:Kalenderwoche
TRANSP:TRANSPARENT
END:VEVENT
BEGIN:VEVENT
UID:kw-1617-42@kalenderwoche.info
DTSTAMP:20260424T064603Z
DTSTART;VALUE=DATE:16171016
DTEND;VALUE=DATE:16171023
SUMMARY:KW 42 (gerade)
DESCRIPTION:Kalenderwoche 42 im Jahr 1617\nMontag: 16.10.1617\nSonntag: 22.10.1617\nTyp: gerade Woche\nMehr unter: https://kalenderwoche.info/1617/kw-42
URL:https://kalenderwoche.info/1617/kw-42
CATEGORIES:Kalenderwoche
TRANSP:TRANSPARENT
END:VEVENT
BEGIN:VEVENT
UID:kw-1617-43@kalenderwoche.info
DTSTAMP:20260424T064603Z
DTSTART;VALUE=DATE:16171023
DTEND;VALUE=DATE:16171030
SUMMARY:KW 43 (ungerade)
DESCRIPTION:Kalenderwoche 43 im Jahr 1617\nMontag: 23.10.1617\nSonntag: 29.10.1617\nTyp: ungerade Woche\nMehr unter: https://kalenderwoche.info/1617/kw-43
URL:https://kalenderwoche.info/1617/kw-43
CATEGORIES:Kalenderwoche
TRANSP:TRANSPARENT
END:VEVENT
BEGIN:VEVENT
UID:kw-1617-44@kalenderwoche.info
DTSTAMP:20260424T064603Z
DTSTART;VALUE=DATE:16171030
DTEND;VALUE=DATE:16171106
SUMMARY:KW 44 (gerade)
DESCRIPTION:Kalenderwoche 44 im Jahr 1617\nMontag: 30.10.1617\nSonntag: 05.11.1617\nTyp: gerade Woche\nMehr unter: https://kalenderwoche.info/1617/kw-44
URL:https://kalenderwoche.info/1617/kw-44
CATEGORIES:Kalenderwoche
TRANSP:TRANSPARENT
END:VEVENT
BEGIN:VEVENT
UID:kw-1617-45@kalenderwoche.info
DTSTAMP:20260424T064603Z
DTSTART;VALUE=DATE:16171106
DTEND;VALUE=DATE:16171113
SUMMARY:KW 45 (ungerade)
DESCRIPTION:Kalenderwoche 45 im Jahr 1617\nMontag: 06.11.1617\nSonntag: 12.11.1617\nTyp: ungerade Woche\nMehr unter: https://kalenderwoche.info/1617/kw-45
URL:https://kalenderwoche.info/1617/kw-45
CATEGORIES:Kalenderwoche
TRANSP:TRANSPARENT
END:VEVENT
BEGIN:VEVENT
UID:kw-1617-46@kalenderwoche.info
DTSTAMP:20260424T064603Z
DTSTART;VALUE=DATE:16171113
DTEND;VALUE=DATE:16171120
SUMMARY:KW 46 (gerade)
DESCRIPTION:Kalenderwoche 46 im Jahr 1617\nMontag: 13.11.1617\nSonntag: 19.11.1617\nTyp: gerade Woche\nMehr unter: https://kalenderwoche.info/1617/kw-46
URL:https://kalenderwoche.info/1617/kw-46
CATEGORIES:Kalenderwoche
TRANSP:TRANSPARENT
END:VEVENT
BEGIN:VEVENT
UID:kw-1617-47@kalenderwoche.info
DTSTAMP:20260424T064603Z
DTSTART;VALUE=DATE:16171120
DTEND;VALUE=DATE:16171127
SUMMARY:KW 47 (ungerade)
DESCRIPTION:Kalenderwoche 47 im Jahr 1617\nMontag: 20.11.1617\nSonntag: 26.11.1617\nTyp: ungerade Woche\nMehr unter: https://kalenderwoche.info/1617/kw-47
URL:https://kalenderwoche.info/1617/kw-47
CATEGORIES:Kalenderwoche
TRANSP:TRANSPARENT
END:VEVENT
BEGIN:VEVENT
UID:kw-1617-48@kalenderwoche.info
DTSTAMP:20260424T064603Z
DTSTART;VALUE=DATE:16171127
DTEND;VALUE=DATE:16171204
SUMMARY:KW 48 (gerade)
DESCRIPTION:Kalenderwoche 48 im Jahr 1617\nMontag: 27.11.1617\nSonntag: 03.12.1617\nTyp: gerade Woche\nMehr unter: https://kalenderwoche.info/1617/kw-48
URL:https://kalenderwoche.info/1617/kw-48
CATEGORIES:Kalenderwoche
TRANSP:TRANSPARENT
END:VEVENT
BEGIN:VEVENT
UID:kw-1617-49@kalenderwoche.info
DTSTAMP:20260424T064603Z
DTSTART;VALUE=DATE:16171204
DTEND;VALUE=DATE:16171211
SUMMARY:KW 49 (ungerade)
DESCRIPTION:Kalenderwoche 49 im Jahr 1617\nMontag: 04.12.1617\nSonntag: 10.12.1617\nTyp: ungerade Woche\nMehr unter: https://kalenderwoche.info/1617/kw-49
URL:https://kalenderwoche.info/1617/kw-49
CATEGORIES:Kalenderwoche
TRANSP:TRANSPARENT
END:VEVENT
BEGIN:VEVENT
UID:kw-1617-50@kalenderwoche.info
DTSTAMP:20260424T064603Z
DTSTART;VALUE=DATE:16171211
DTEND;VALUE=DATE:16171218
SUMMARY:KW 50 (gerade)
DESCRIPTION:Kalenderwoche 50 im Jahr 1617\nMontag: 11.12.1617\nSonntag: 17.12.1617\nTyp: gerade Woche\nMehr unter: https://kalenderwoche.info/1617/kw-50
URL:https://kalenderwoche.info/1617/kw-50
CATEGORIES:Kalenderwoche
TRANSP:TRANSPARENT
END:VEVENT
BEGIN:VEVENT
UID:kw-1617-51@kalenderwoche.info
DTSTAMP:20260424T064603Z
DTSTART;VALUE=DATE:16171218
DTEND;VALUE=DATE:16171225
SUMMARY:KW 51 (ungerade)
DESCRIPTION:Kalenderwoche 51 im Jahr 1617\nMontag: 18.12.1617\nSonntag: 24.12.1617\nTyp: ungerade Woche\nMehr unter: https://kalenderwoche.info/1617/kw-51
URL:https://kalenderwoche.info/1617/kw-51
CATEGORIES:Kalenderwoche
TRANSP:TRANSPARENT
END:VEVENT
BEGIN:VEVENT
UID:kw-1617-52@kalenderwoche.info
DTSTAMP:20260424T064603Z
DTSTART;VALUE=DATE:16171225
DTEND;VALUE=DATE:16180101
SUMMARY:KW 52 (gerade)
DESCRIPTION:Kalenderwoche 52 im Jahr 1617\nMontag: 25.12.1617\nSonntag: 31.12.1617\nTyp: gerade Woche\nMehr unter: https://kalenderwoche.info/1617/kw-52
URL:https://kalenderwoche.info/1617/kw-52
CATEGORIES:Kalenderwoche
TRANSP:TRANSPARENT
END:VEVENT
END:VCALENDAR
