BEGIN:VCALENDAR
VERSION:2.0
PRODID:-//kalenderwoche.info//Kalender//DE
CALSCALE:GREGORIAN
METHOD:PUBLISH
X-WR-CALNAME:Kalenderwochen 1618
X-WR-CALDESC:Alle Kalenderwochen für das Jahr 1618
X-WR-TIMEZONE:Europe/Berlin
BEGIN:VEVENT
UID:kw-1618-1@kalenderwoche.info
DTSTAMP:20260424T053600Z
DTSTART;VALUE=DATE:16180101
DTEND;VALUE=DATE:16180108
SUMMARY:KW 1 (ungerade)
DESCRIPTION:Kalenderwoche 1 im Jahr 1618\nMontag: 01.01.1618\nSonntag: 07.01.1618\nTyp: ungerade Woche\nMehr unter: https://kalenderwoche.info/1618/kw-1
URL:https://kalenderwoche.info/1618/kw-1
CATEGORIES:Kalenderwoche
TRANSP:TRANSPARENT
END:VEVENT
BEGIN:VEVENT
UID:kw-1618-2@kalenderwoche.info
DTSTAMP:20260424T053600Z
DTSTART;VALUE=DATE:16180108
DTEND;VALUE=DATE:16180115
SUMMARY:KW 2 (gerade)
DESCRIPTION:Kalenderwoche 2 im Jahr 1618\nMontag: 08.01.1618\nSonntag: 14.01.1618\nTyp: gerade Woche\nMehr unter: https://kalenderwoche.info/1618/kw-2
URL:https://kalenderwoche.info/1618/kw-2
CATEGORIES:Kalenderwoche
TRANSP:TRANSPARENT
END:VEVENT
BEGIN:VEVENT
UID:kw-1618-3@kalenderwoche.info
DTSTAMP:20260424T053600Z
DTSTART;VALUE=DATE:16180115
DTEND;VALUE=DATE:16180122
SUMMARY:KW 3 (ungerade)
DESCRIPTION:Kalenderwoche 3 im Jahr 1618\nMontag: 15.01.1618\nSonntag: 21.01.1618\nTyp: ungerade Woche\nMehr unter: https://kalenderwoche.info/1618/kw-3
URL:https://kalenderwoche.info/1618/kw-3
CATEGORIES:Kalenderwoche
TRANSP:TRANSPARENT
END:VEVENT
BEGIN:VEVENT
UID:kw-1618-4@kalenderwoche.info
DTSTAMP:20260424T053600Z
DTSTART;VALUE=DATE:16180122
DTEND;VALUE=DATE:16180129
SUMMARY:KW 4 (gerade)
DESCRIPTION:Kalenderwoche 4 im Jahr 1618\nMontag: 22.01.1618\nSonntag: 28.01.1618\nTyp: gerade Woche\nMehr unter: https://kalenderwoche.info/1618/kw-4
URL:https://kalenderwoche.info/1618/kw-4
CATEGORIES:Kalenderwoche
TRANSP:TRANSPARENT
END:VEVENT
BEGIN:VEVENT
UID:kw-1618-5@kalenderwoche.info
DTSTAMP:20260424T053600Z
DTSTART;VALUE=DATE:16180129
DTEND;VALUE=DATE:16180205
SUMMARY:KW 5 (ungerade)
DESCRIPTION:Kalenderwoche 5 im Jahr 1618\nMontag: 29.01.1618\nSonntag: 04.02.1618\nTyp: ungerade Woche\nMehr unter: https://kalenderwoche.info/1618/kw-5
URL:https://kalenderwoche.info/1618/kw-5
CATEGORIES:Kalenderwoche
TRANSP:TRANSPARENT
END:VEVENT
BEGIN:VEVENT
UID:kw-1618-6@kalenderwoche.info
DTSTAMP:20260424T053600Z
DTSTART;VALUE=DATE:16180205
DTEND;VALUE=DATE:16180212
SUMMARY:KW 6 (gerade)
DESCRIPTION:Kalenderwoche 6 im Jahr 1618\nMontag: 05.02.1618\nSonntag: 11.02.1618\nTyp: gerade Woche\nMehr unter: https://kalenderwoche.info/1618/kw-6
URL:https://kalenderwoche.info/1618/kw-6
CATEGORIES:Kalenderwoche
TRANSP:TRANSPARENT
END:VEVENT
BEGIN:VEVENT
UID:kw-1618-7@kalenderwoche.info
DTSTAMP:20260424T053600Z
DTSTART;VALUE=DATE:16180212
DTEND;VALUE=DATE:16180219
SUMMARY:KW 7 (ungerade)
DESCRIPTION:Kalenderwoche 7 im Jahr 1618\nMontag: 12.02.1618\nSonntag: 18.02.1618\nTyp: ungerade Woche\nMehr unter: https://kalenderwoche.info/1618/kw-7
URL:https://kalenderwoche.info/1618/kw-7
CATEGORIES:Kalenderwoche
TRANSP:TRANSPARENT
END:VEVENT
BEGIN:VEVENT
UID:kw-1618-8@kalenderwoche.info
DTSTAMP:20260424T053600Z
DTSTART;VALUE=DATE:16180219
DTEND;VALUE=DATE:16180226
SUMMARY:KW 8 (gerade)
DESCRIPTION:Kalenderwoche 8 im Jahr 1618\nMontag: 19.02.1618\nSonntag: 25.02.1618\nTyp: gerade Woche\nMehr unter: https://kalenderwoche.info/1618/kw-8
URL:https://kalenderwoche.info/1618/kw-8
CATEGORIES:Kalenderwoche
TRANSP:TRANSPARENT
END:VEVENT
BEGIN:VEVENT
UID:kw-1618-9@kalenderwoche.info
DTSTAMP:20260424T053600Z
DTSTART;VALUE=DATE:16180226
DTEND;VALUE=DATE:16180305
SUMMARY:KW 9 (ungerade)
DESCRIPTION:Kalenderwoche 9 im Jahr 1618\nMontag: 26.02.1618\nSonntag: 04.03.1618\nTyp: ungerade Woche\nMehr unter: https://kalenderwoche.info/1618/kw-9
URL:https://kalenderwoche.info/1618/kw-9
CATEGORIES:Kalenderwoche
TRANSP:TRANSPARENT
END:VEVENT
BEGIN:VEVENT
UID:kw-1618-10@kalenderwoche.info
DTSTAMP:20260424T053600Z
DTSTART;VALUE=DATE:16180305
DTEND;VALUE=DATE:16180312
SUMMARY:KW 10 (gerade)
DESCRIPTION:Kalenderwoche 10 im Jahr 1618\nMontag: 05.03.1618\nSonntag: 11.03.1618\nTyp: gerade Woche\nMehr unter: https://kalenderwoche.info/1618/kw-10
URL:https://kalenderwoche.info/1618/kw-10
CATEGORIES:Kalenderwoche
TRANSP:TRANSPARENT
END:VEVENT
BEGIN:VEVENT
UID:kw-1618-11@kalenderwoche.info
DTSTAMP:20260424T053600Z
DTSTART;VALUE=DATE:16180312
DTEND;VALUE=DATE:16180319
SUMMARY:KW 11 (ungerade)
DESCRIPTION:Kalenderwoche 11 im Jahr 1618\nMontag: 12.03.1618\nSonntag: 18.03.1618\nTyp: ungerade Woche\nMehr unter: https://kalenderwoche.info/1618/kw-11
URL:https://kalenderwoche.info/1618/kw-11
CATEGORIES:Kalenderwoche
TRANSP:TRANSPARENT
END:VEVENT
BEGIN:VEVENT
UID:kw-1618-12@kalenderwoche.info
DTSTAMP:20260424T053600Z
DTSTART;VALUE=DATE:16180319
DTEND;VALUE=DATE:16180326
SUMMARY:KW 12 (gerade)
DESCRIPTION:Kalenderwoche 12 im Jahr 1618\nMontag: 19.03.1618\nSonntag: 25.03.1618\nTyp: gerade Woche\nMehr unter: https://kalenderwoche.info/1618/kw-12
URL:https://kalenderwoche.info/1618/kw-12
CATEGORIES:Kalenderwoche
TRANSP:TRANSPARENT
END:VEVENT
BEGIN:VEVENT
UID:kw-1618-13@kalenderwoche.info
DTSTAMP:20260424T053600Z
DTSTART;VALUE=DATE:16180326
DTEND;VALUE=DATE:16180402
SUMMARY:KW 13 (ungerade)
DESCRIPTION:Kalenderwoche 13 im Jahr 1618\nMontag: 26.03.1618\nSonntag: 01.04.1618\nTyp: ungerade Woche\nMehr unter: https://kalenderwoche.info/1618/kw-13
URL:https://kalenderwoche.info/1618/kw-13
CATEGORIES:Kalenderwoche
TRANSP:TRANSPARENT
END:VEVENT
BEGIN:VEVENT
UID:kw-1618-14@kalenderwoche.info
DTSTAMP:20260424T053600Z
DTSTART;VALUE=DATE:16180402
DTEND;VALUE=DATE:16180409
SUMMARY:KW 14 (gerade)
DESCRIPTION:Kalenderwoche 14 im Jahr 1618\nMontag: 02.04.1618\nSonntag: 08.04.1618\nTyp: gerade Woche\nMehr unter: https://kalenderwoche.info/1618/kw-14
URL:https://kalenderwoche.info/1618/kw-14
CATEGORIES:Kalenderwoche
TRANSP:TRANSPARENT
END:VEVENT
BEGIN:VEVENT
UID:kw-1618-15@kalenderwoche.info
DTSTAMP:20260424T053600Z
DTSTART;VALUE=DATE:16180409
DTEND;VALUE=DATE:16180416
SUMMARY:KW 15 (ungerade)
DESCRIPTION:Kalenderwoche 15 im Jahr 1618\nMontag: 09.04.1618\nSonntag: 15.04.1618\nTyp: ungerade Woche\nMehr unter: https://kalenderwoche.info/1618/kw-15
URL:https://kalenderwoche.info/1618/kw-15
CATEGORIES:Kalenderwoche
TRANSP:TRANSPARENT
END:VEVENT
BEGIN:VEVENT
UID:kw-1618-16@kalenderwoche.info
DTSTAMP:20260424T053600Z
DTSTART;VALUE=DATE:16180416
DTEND;VALUE=DATE:16180423
SUMMARY:KW 16 (gerade)
DESCRIPTION:Kalenderwoche 16 im Jahr 1618\nMontag: 16.04.1618\nSonntag: 22.04.1618\nTyp: gerade Woche\nMehr unter: https://kalenderwoche.info/1618/kw-16
URL:https://kalenderwoche.info/1618/kw-16
CATEGORIES:Kalenderwoche
TRANSP:TRANSPARENT
END:VEVENT
BEGIN:VEVENT
UID:kw-1618-17@kalenderwoche.info
DTSTAMP:20260424T053600Z
DTSTART;VALUE=DATE:16180423
DTEND;VALUE=DATE:16180430
SUMMARY:KW 17 (ungerade)
DESCRIPTION:Kalenderwoche 17 im Jahr 1618\nMontag: 23.04.1618\nSonntag: 29.04.1618\nTyp: ungerade Woche\nMehr unter: https://kalenderwoche.info/1618/kw-17
URL:https://kalenderwoche.info/1618/kw-17
CATEGORIES:Kalenderwoche
TRANSP:TRANSPARENT
END:VEVENT
BEGIN:VEVENT
UID:kw-1618-18@kalenderwoche.info
DTSTAMP:20260424T053600Z
DTSTART;VALUE=DATE:16180430
DTEND;VALUE=DATE:16180507
SUMMARY:KW 18 (gerade)
DESCRIPTION:Kalenderwoche 18 im Jahr 1618\nMontag: 30.04.1618\nSonntag: 06.05.1618\nTyp: gerade Woche\nMehr unter: https://kalenderwoche.info/1618/kw-18
URL:https://kalenderwoche.info/1618/kw-18
CATEGORIES:Kalenderwoche
TRANSP:TRANSPARENT
END:VEVENT
BEGIN:VEVENT
UID:kw-1618-19@kalenderwoche.info
DTSTAMP:20260424T053600Z
DTSTART;VALUE=DATE:16180507
DTEND;VALUE=DATE:16180514
SUMMARY:KW 19 (ungerade)
DESCRIPTION:Kalenderwoche 19 im Jahr 1618\nMontag: 07.05.1618\nSonntag: 13.05.1618\nTyp: ungerade Woche\nMehr unter: https://kalenderwoche.info/1618/kw-19
URL:https://kalenderwoche.info/1618/kw-19
CATEGORIES:Kalenderwoche
TRANSP:TRANSPARENT
END:VEVENT
BEGIN:VEVENT
UID:kw-1618-20@kalenderwoche.info
DTSTAMP:20260424T053600Z
DTSTART;VALUE=DATE:16180514
DTEND;VALUE=DATE:16180521
SUMMARY:KW 20 (gerade)
DESCRIPTION:Kalenderwoche 20 im Jahr 1618\nMontag: 14.05.1618\nSonntag: 20.05.1618\nTyp: gerade Woche\nMehr unter: https://kalenderwoche.info/1618/kw-20
URL:https://kalenderwoche.info/1618/kw-20
CATEGORIES:Kalenderwoche
TRANSP:TRANSPARENT
END:VEVENT
BEGIN:VEVENT
UID:kw-1618-21@kalenderwoche.info
DTSTAMP:20260424T053600Z
DTSTART;VALUE=DATE:16180521
DTEND;VALUE=DATE:16180528
SUMMARY:KW 21 (ungerade)
DESCRIPTION:Kalenderwoche 21 im Jahr 1618\nMontag: 21.05.1618\nSonntag: 27.05.1618\nTyp: ungerade Woche\nMehr unter: https://kalenderwoche.info/1618/kw-21
URL:https://kalenderwoche.info/1618/kw-21
CATEGORIES:Kalenderwoche
TRANSP:TRANSPARENT
END:VEVENT
BEGIN:VEVENT
UID:kw-1618-22@kalenderwoche.info
DTSTAMP:20260424T053600Z
DTSTART;VALUE=DATE:16180528
DTEND;VALUE=DATE:16180604
SUMMARY:KW 22 (gerade)
DESCRIPTION:Kalenderwoche 22 im Jahr 1618\nMontag: 28.05.1618\nSonntag: 03.06.1618\nTyp: gerade Woche\nMehr unter: https://kalenderwoche.info/1618/kw-22
URL:https://kalenderwoche.info/1618/kw-22
CATEGORIES:Kalenderwoche
TRANSP:TRANSPARENT
END:VEVENT
BEGIN:VEVENT
UID:kw-1618-23@kalenderwoche.info
DTSTAMP:20260424T053600Z
DTSTART;VALUE=DATE:16180604
DTEND;VALUE=DATE:16180611
SUMMARY:KW 23 (ungerade)
DESCRIPTION:Kalenderwoche 23 im Jahr 1618\nMontag: 04.06.1618\nSonntag: 10.06.1618\nTyp: ungerade Woche\nMehr unter: https://kalenderwoche.info/1618/kw-23
URL:https://kalenderwoche.info/1618/kw-23
CATEGORIES:Kalenderwoche
TRANSP:TRANSPARENT
END:VEVENT
BEGIN:VEVENT
UID:kw-1618-24@kalenderwoche.info
DTSTAMP:20260424T053600Z
DTSTART;VALUE=DATE:16180611
DTEND;VALUE=DATE:16180618
SUMMARY:KW 24 (gerade)
DESCRIPTION:Kalenderwoche 24 im Jahr 1618\nMontag: 11.06.1618\nSonntag: 17.06.1618\nTyp: gerade Woche\nMehr unter: https://kalenderwoche.info/1618/kw-24
URL:https://kalenderwoche.info/1618/kw-24
CATEGORIES:Kalenderwoche
TRANSP:TRANSPARENT
END:VEVENT
BEGIN:VEVENT
UID:kw-1618-25@kalenderwoche.info
DTSTAMP:20260424T053600Z
DTSTART;VALUE=DATE:16180618
DTEND;VALUE=DATE:16180625
SUMMARY:KW 25 (ungerade)
DESCRIPTION:Kalenderwoche 25 im Jahr 1618\nMontag: 18.06.1618\nSonntag: 24.06.1618\nTyp: ungerade Woche\nMehr unter: https://kalenderwoche.info/1618/kw-25
URL:https://kalenderwoche.info/1618/kw-25
CATEGORIES:Kalenderwoche
TRANSP:TRANSPARENT
END:VEVENT
BEGIN:VEVENT
UID:kw-1618-26@kalenderwoche.info
DTSTAMP:20260424T053600Z
DTSTART;VALUE=DATE:16180625
DTEND;VALUE=DATE:16180702
SUMMARY:KW 26 (gerade)
DESCRIPTION:Kalenderwoche 26 im Jahr 1618\nMontag: 25.06.1618\nSonntag: 01.07.1618\nTyp: gerade Woche\nMehr unter: https://kalenderwoche.info/1618/kw-26
URL:https://kalenderwoche.info/1618/kw-26
CATEGORIES:Kalenderwoche
TRANSP:TRANSPARENT
END:VEVENT
BEGIN:VEVENT
UID:kw-1618-27@kalenderwoche.info
DTSTAMP:20260424T053600Z
DTSTART;VALUE=DATE:16180702
DTEND;VALUE=DATE:16180709
SUMMARY:KW 27 (ungerade)
DESCRIPTION:Kalenderwoche 27 im Jahr 1618\nMontag: 02.07.1618\nSonntag: 08.07.1618\nTyp: ungerade Woche\nMehr unter: https://kalenderwoche.info/1618/kw-27
URL:https://kalenderwoche.info/1618/kw-27
CATEGORIES:Kalenderwoche
TRANSP:TRANSPARENT
END:VEVENT
BEGIN:VEVENT
UID:kw-1618-28@kalenderwoche.info
DTSTAMP:20260424T053600Z
DTSTART;VALUE=DATE:16180709
DTEND;VALUE=DATE:16180716
SUMMARY:KW 28 (gerade)
DESCRIPTION:Kalenderwoche 28 im Jahr 1618\nMontag: 09.07.1618\nSonntag: 15.07.1618\nTyp: gerade Woche\nMehr unter: https://kalenderwoche.info/1618/kw-28
URL:https://kalenderwoche.info/1618/kw-28
CATEGORIES:Kalenderwoche
TRANSP:TRANSPARENT
END:VEVENT
BEGIN:VEVENT
UID:kw-1618-29@kalenderwoche.info
DTSTAMP:20260424T053600Z
DTSTART;VALUE=DATE:16180716
DTEND;VALUE=DATE:16180723
SUMMARY:KW 29 (ungerade)
DESCRIPTION:Kalenderwoche 29 im Jahr 1618\nMontag: 16.07.1618\nSonntag: 22.07.1618\nTyp: ungerade Woche\nMehr unter: https://kalenderwoche.info/1618/kw-29
URL:https://kalenderwoche.info/1618/kw-29
CATEGORIES:Kalenderwoche
TRANSP:TRANSPARENT
END:VEVENT
BEGIN:VEVENT
UID:kw-1618-30@kalenderwoche.info
DTSTAMP:20260424T053600Z
DTSTART;VALUE=DATE:16180723
DTEND;VALUE=DATE:16180730
SUMMARY:KW 30 (gerade)
DESCRIPTION:Kalenderwoche 30 im Jahr 1618\nMontag: 23.07.1618\nSonntag: 29.07.1618\nTyp: gerade Woche\nMehr unter: https://kalenderwoche.info/1618/kw-30
URL:https://kalenderwoche.info/1618/kw-30
CATEGORIES:Kalenderwoche
TRANSP:TRANSPARENT
END:VEVENT
BEGIN:VEVENT
UID:kw-1618-31@kalenderwoche.info
DTSTAMP:20260424T053600Z
DTSTART;VALUE=DATE:16180730
DTEND;VALUE=DATE:16180806
SUMMARY:KW 31 (ungerade)
DESCRIPTION:Kalenderwoche 31 im Jahr 1618\nMontag: 30.07.1618\nSonntag: 05.08.1618\nTyp: ungerade Woche\nMehr unter: https://kalenderwoche.info/1618/kw-31
URL:https://kalenderwoche.info/1618/kw-31
CATEGORIES:Kalenderwoche
TRANSP:TRANSPARENT
END:VEVENT
BEGIN:VEVENT
UID:kw-1618-32@kalenderwoche.info
DTSTAMP:20260424T053600Z
DTSTART;VALUE=DATE:16180806
DTEND;VALUE=DATE:16180813
SUMMARY:KW 32 (gerade)
DESCRIPTION:Kalenderwoche 32 im Jahr 1618\nMontag: 06.08.1618\nSonntag: 12.08.1618\nTyp: gerade Woche\nMehr unter: https://kalenderwoche.info/1618/kw-32
URL:https://kalenderwoche.info/1618/kw-32
CATEGORIES:Kalenderwoche
TRANSP:TRANSPARENT
END:VEVENT
BEGIN:VEVENT
UID:kw-1618-33@kalenderwoche.info
DTSTAMP:20260424T053600Z
DTSTART;VALUE=DATE:16180813
DTEND;VALUE=DATE:16180820
SUMMARY:KW 33 (ungerade)
DESCRIPTION:Kalenderwoche 33 im Jahr 1618\nMontag: 13.08.1618\nSonntag: 19.08.1618\nTyp: ungerade Woche\nMehr unter: https://kalenderwoche.info/1618/kw-33
URL:https://kalenderwoche.info/1618/kw-33
CATEGORIES:Kalenderwoche
TRANSP:TRANSPARENT
END:VEVENT
BEGIN:VEVENT
UID:kw-1618-34@kalenderwoche.info
DTSTAMP:20260424T053600Z
DTSTART;VALUE=DATE:16180820
DTEND;VALUE=DATE:16180827
SUMMARY:KW 34 (gerade)
DESCRIPTION:Kalenderwoche 34 im Jahr 1618\nMontag: 20.08.1618\nSonntag: 26.08.1618\nTyp: gerade Woche\nMehr unter: https://kalenderwoche.info/1618/kw-34
URL:https://kalenderwoche.info/1618/kw-34
CATEGORIES:Kalenderwoche
TRANSP:TRANSPARENT
END:VEVENT
BEGIN:VEVENT
UID:kw-1618-35@kalenderwoche.info
DTSTAMP:20260424T053600Z
DTSTART;VALUE=DATE:16180827
DTEND;VALUE=DATE:16180903
SUMMARY:KW 35 (ungerade)
DESCRIPTION:Kalenderwoche 35 im Jahr 1618\nMontag: 27.08.1618\nSonntag: 02.09.1618\nTyp: ungerade Woche\nMehr unter: https://kalenderwoche.info/1618/kw-35
URL:https://kalenderwoche.info/1618/kw-35
CATEGORIES:Kalenderwoche
TRANSP:TRANSPARENT
END:VEVENT
BEGIN:VEVENT
UID:kw-1618-36@kalenderwoche.info
DTSTAMP:20260424T053600Z
DTSTART;VALUE=DATE:16180903
DTEND;VALUE=DATE:16180910
SUMMARY:KW 36 (gerade)
DESCRIPTION:Kalenderwoche 36 im Jahr 1618\nMontag: 03.09.1618\nSonntag: 09.09.1618\nTyp: gerade Woche\nMehr unter: https://kalenderwoche.info/1618/kw-36
URL:https://kalenderwoche.info/1618/kw-36
CATEGORIES:Kalenderwoche
TRANSP:TRANSPARENT
END:VEVENT
BEGIN:VEVENT
UID:kw-1618-37@kalenderwoche.info
DTSTAMP:20260424T053600Z
DTSTART;VALUE=DATE:16180910
DTEND;VALUE=DATE:16180917
SUMMARY:KW 37 (ungerade)
DESCRIPTION:Kalenderwoche 37 im Jahr 1618\nMontag: 10.09.1618\nSonntag: 16.09.1618\nTyp: ungerade Woche\nMehr unter: https://kalenderwoche.info/1618/kw-37
URL:https://kalenderwoche.info/1618/kw-37
CATEGORIES:Kalenderwoche
TRANSP:TRANSPARENT
END:VEVENT
BEGIN:VEVENT
UID:kw-1618-38@kalenderwoche.info
DTSTAMP:20260424T053600Z
DTSTART;VALUE=DATE:16180917
DTEND;VALUE=DATE:16180924
SUMMARY:KW 38 (gerade)
DESCRIPTION:Kalenderwoche 38 im Jahr 1618\nMontag: 17.09.1618\nSonntag: 23.09.1618\nTyp: gerade Woche\nMehr unter: https://kalenderwoche.info/1618/kw-38
URL:https://kalenderwoche.info/1618/kw-38
CATEGORIES:Kalenderwoche
TRANSP:TRANSPARENT
END:VEVENT
BEGIN:VEVENT
UID:kw-1618-39@kalenderwoche.info
DTSTAMP:20260424T053600Z
DTSTART;VALUE=DATE:16180924
DTEND;VALUE=DATE:16181001
SUMMARY:KW 39 (ungerade)
DESCRIPTION:Kalenderwoche 39 im Jahr 1618\nMontag: 24.09.1618\nSonntag: 30.09.1618\nTyp: ungerade Woche\nMehr unter: https://kalenderwoche.info/1618/kw-39
URL:https://kalenderwoche.info/1618/kw-39
CATEGORIES:Kalenderwoche
TRANSP:TRANSPARENT
END:VEVENT
BEGIN:VEVENT
UID:kw-1618-40@kalenderwoche.info
DTSTAMP:20260424T053600Z
DTSTART;VALUE=DATE:16181001
DTEND;VALUE=DATE:16181008
SUMMARY:KW 40 (gerade)
DESCRIPTION:Kalenderwoche 40 im Jahr 1618\nMontag: 01.10.1618\nSonntag: 07.10.1618\nTyp: gerade Woche\nMehr unter: https://kalenderwoche.info/1618/kw-40
URL:https://kalenderwoche.info/1618/kw-40
CATEGORIES:Kalenderwoche
TRANSP:TRANSPARENT
END:VEVENT
BEGIN:VEVENT
UID:kw-1618-41@kalenderwoche.info
DTSTAMP:20260424T053600Z
DTSTART;VALUE=DATE:16181008
DTEND;VALUE=DATE:16181015
SUMMARY:KW 41 (ungerade)
DESCRIPTION:Kalenderwoche 41 im Jahr 1618\nMontag: 08.10.1618\nSonntag: 14.10.1618\nTyp: ungerade Woche\nMehr unter: https://kalenderwoche.info/1618/kw-41
URL:https://kalenderwoche.info/1618/kw-41
CATEGORIES:Kalenderwoche
TRANSP:TRANSPARENT
END:VEVENT
BEGIN:VEVENT
UID:kw-1618-42@kalenderwoche.info
DTSTAMP:20260424T053600Z
DTSTART;VALUE=DATE:16181015
DTEND;VALUE=DATE:16181022
SUMMARY:KW 42 (gerade)
DESCRIPTION:Kalenderwoche 42 im Jahr 1618\nMontag: 15.10.1618\nSonntag: 21.10.1618\nTyp: gerade Woche\nMehr unter: https://kalenderwoche.info/1618/kw-42
URL:https://kalenderwoche.info/1618/kw-42
CATEGORIES:Kalenderwoche
TRANSP:TRANSPARENT
END:VEVENT
BEGIN:VEVENT
UID:kw-1618-43@kalenderwoche.info
DTSTAMP:20260424T053600Z
DTSTART;VALUE=DATE:16181022
DTEND;VALUE=DATE:16181029
SUMMARY:KW 43 (ungerade)
DESCRIPTION:Kalenderwoche 43 im Jahr 1618\nMontag: 22.10.1618\nSonntag: 28.10.1618\nTyp: ungerade Woche\nMehr unter: https://kalenderwoche.info/1618/kw-43
URL:https://kalenderwoche.info/1618/kw-43
CATEGORIES:Kalenderwoche
TRANSP:TRANSPARENT
END:VEVENT
BEGIN:VEVENT
UID:kw-1618-44@kalenderwoche.info
DTSTAMP:20260424T053600Z
DTSTART;VALUE=DATE:16181029
DTEND;VALUE=DATE:16181105
SUMMARY:KW 44 (gerade)
DESCRIPTION:Kalenderwoche 44 im Jahr 1618\nMontag: 29.10.1618\nSonntag: 04.11.1618\nTyp: gerade Woche\nMehr unter: https://kalenderwoche.info/1618/kw-44
URL:https://kalenderwoche.info/1618/kw-44
CATEGORIES:Kalenderwoche
TRANSP:TRANSPARENT
END:VEVENT
BEGIN:VEVENT
UID:kw-1618-45@kalenderwoche.info
DTSTAMP:20260424T053600Z
DTSTART;VALUE=DATE:16181105
DTEND;VALUE=DATE:16181112
SUMMARY:KW 45 (ungerade)
DESCRIPTION:Kalenderwoche 45 im Jahr 1618\nMontag: 05.11.1618\nSonntag: 11.11.1618\nTyp: ungerade Woche\nMehr unter: https://kalenderwoche.info/1618/kw-45
URL:https://kalenderwoche.info/1618/kw-45
CATEGORIES:Kalenderwoche
TRANSP:TRANSPARENT
END:VEVENT
BEGIN:VEVENT
UID:kw-1618-46@kalenderwoche.info
DTSTAMP:20260424T053600Z
DTSTART;VALUE=DATE:16181112
DTEND;VALUE=DATE:16181119
SUMMARY:KW 46 (gerade)
DESCRIPTION:Kalenderwoche 46 im Jahr 1618\nMontag: 12.11.1618\nSonntag: 18.11.1618\nTyp: gerade Woche\nMehr unter: https://kalenderwoche.info/1618/kw-46
URL:https://kalenderwoche.info/1618/kw-46
CATEGORIES:Kalenderwoche
TRANSP:TRANSPARENT
END:VEVENT
BEGIN:VEVENT
UID:kw-1618-47@kalenderwoche.info
DTSTAMP:20260424T053600Z
DTSTART;VALUE=DATE:16181119
DTEND;VALUE=DATE:16181126
SUMMARY:KW 47 (ungerade)
DESCRIPTION:Kalenderwoche 47 im Jahr 1618\nMontag: 19.11.1618\nSonntag: 25.11.1618\nTyp: ungerade Woche\nMehr unter: https://kalenderwoche.info/1618/kw-47
URL:https://kalenderwoche.info/1618/kw-47
CATEGORIES:Kalenderwoche
TRANSP:TRANSPARENT
END:VEVENT
BEGIN:VEVENT
UID:kw-1618-48@kalenderwoche.info
DTSTAMP:20260424T053600Z
DTSTART;VALUE=DATE:16181126
DTEND;VALUE=DATE:16181203
SUMMARY:KW 48 (gerade)
DESCRIPTION:Kalenderwoche 48 im Jahr 1618\nMontag: 26.11.1618\nSonntag: 02.12.1618\nTyp: gerade Woche\nMehr unter: https://kalenderwoche.info/1618/kw-48
URL:https://kalenderwoche.info/1618/kw-48
CATEGORIES:Kalenderwoche
TRANSP:TRANSPARENT
END:VEVENT
BEGIN:VEVENT
UID:kw-1618-49@kalenderwoche.info
DTSTAMP:20260424T053600Z
DTSTART;VALUE=DATE:16181203
DTEND;VALUE=DATE:16181210
SUMMARY:KW 49 (ungerade)
DESCRIPTION:Kalenderwoche 49 im Jahr 1618\nMontag: 03.12.1618\nSonntag: 09.12.1618\nTyp: ungerade Woche\nMehr unter: https://kalenderwoche.info/1618/kw-49
URL:https://kalenderwoche.info/1618/kw-49
CATEGORIES:Kalenderwoche
TRANSP:TRANSPARENT
END:VEVENT
BEGIN:VEVENT
UID:kw-1618-50@kalenderwoche.info
DTSTAMP:20260424T053600Z
DTSTART;VALUE=DATE:16181210
DTEND;VALUE=DATE:16181217
SUMMARY:KW 50 (gerade)
DESCRIPTION:Kalenderwoche 50 im Jahr 1618\nMontag: 10.12.1618\nSonntag: 16.12.1618\nTyp: gerade Woche\nMehr unter: https://kalenderwoche.info/1618/kw-50
URL:https://kalenderwoche.info/1618/kw-50
CATEGORIES:Kalenderwoche
TRANSP:TRANSPARENT
END:VEVENT
BEGIN:VEVENT
UID:kw-1618-51@kalenderwoche.info
DTSTAMP:20260424T053600Z
DTSTART;VALUE=DATE:16181217
DTEND;VALUE=DATE:16181224
SUMMARY:KW 51 (ungerade)
DESCRIPTION:Kalenderwoche 51 im Jahr 1618\nMontag: 17.12.1618\nSonntag: 23.12.1618\nTyp: ungerade Woche\nMehr unter: https://kalenderwoche.info/1618/kw-51
URL:https://kalenderwoche.info/1618/kw-51
CATEGORIES:Kalenderwoche
TRANSP:TRANSPARENT
END:VEVENT
BEGIN:VEVENT
UID:kw-1618-52@kalenderwoche.info
DTSTAMP:20260424T053600Z
DTSTART;VALUE=DATE:16181224
DTEND;VALUE=DATE:16181231
SUMMARY:KW 52 (gerade)
DESCRIPTION:Kalenderwoche 52 im Jahr 1618\nMontag: 24.12.1618\nSonntag: 30.12.1618\nTyp: gerade Woche\nMehr unter: https://kalenderwoche.info/1618/kw-52
URL:https://kalenderwoche.info/1618/kw-52
CATEGORIES:Kalenderwoche
TRANSP:TRANSPARENT
END:VEVENT
END:VCALENDAR
