BEGIN:VCALENDAR
VERSION:2.0
PRODID:-//kalenderwoche.info//Kalender//DE
CALSCALE:GREGORIAN
METHOD:PUBLISH
X-WR-CALNAME:Kalenderwochen 1621
X-WR-CALDESC:Alle Kalenderwochen für das Jahr 1621
X-WR-TIMEZONE:Europe/Berlin
BEGIN:VEVENT
UID:kw-1621-1@kalenderwoche.info
DTSTAMP:20260424T014430Z
DTSTART;VALUE=DATE:16210104
DTEND;VALUE=DATE:16210111
SUMMARY:KW 1 (ungerade)
DESCRIPTION:Kalenderwoche 1 im Jahr 1621\nMontag: 04.01.1621\nSonntag: 10.01.1621\nTyp: ungerade Woche\nMehr unter: https://kalenderwoche.info/1621/kw-1
URL:https://kalenderwoche.info/1621/kw-1
CATEGORIES:Kalenderwoche
TRANSP:TRANSPARENT
END:VEVENT
BEGIN:VEVENT
UID:kw-1621-2@kalenderwoche.info
DTSTAMP:20260424T014430Z
DTSTART;VALUE=DATE:16210111
DTEND;VALUE=DATE:16210118
SUMMARY:KW 2 (gerade)
DESCRIPTION:Kalenderwoche 2 im Jahr 1621\nMontag: 11.01.1621\nSonntag: 17.01.1621\nTyp: gerade Woche\nMehr unter: https://kalenderwoche.info/1621/kw-2
URL:https://kalenderwoche.info/1621/kw-2
CATEGORIES:Kalenderwoche
TRANSP:TRANSPARENT
END:VEVENT
BEGIN:VEVENT
UID:kw-1621-3@kalenderwoche.info
DTSTAMP:20260424T014430Z
DTSTART;VALUE=DATE:16210118
DTEND;VALUE=DATE:16210125
SUMMARY:KW 3 (ungerade)
DESCRIPTION:Kalenderwoche 3 im Jahr 1621\nMontag: 18.01.1621\nSonntag: 24.01.1621\nTyp: ungerade Woche\nMehr unter: https://kalenderwoche.info/1621/kw-3
URL:https://kalenderwoche.info/1621/kw-3
CATEGORIES:Kalenderwoche
TRANSP:TRANSPARENT
END:VEVENT
BEGIN:VEVENT
UID:kw-1621-4@kalenderwoche.info
DTSTAMP:20260424T014430Z
DTSTART;VALUE=DATE:16210125
DTEND;VALUE=DATE:16210201
SUMMARY:KW 4 (gerade)
DESCRIPTION:Kalenderwoche 4 im Jahr 1621\nMontag: 25.01.1621\nSonntag: 31.01.1621\nTyp: gerade Woche\nMehr unter: https://kalenderwoche.info/1621/kw-4
URL:https://kalenderwoche.info/1621/kw-4
CATEGORIES:Kalenderwoche
TRANSP:TRANSPARENT
END:VEVENT
BEGIN:VEVENT
UID:kw-1621-5@kalenderwoche.info
DTSTAMP:20260424T014430Z
DTSTART;VALUE=DATE:16210201
DTEND;VALUE=DATE:16210208
SUMMARY:KW 5 (ungerade)
DESCRIPTION:Kalenderwoche 5 im Jahr 1621\nMontag: 01.02.1621\nSonntag: 07.02.1621\nTyp: ungerade Woche\nMehr unter: https://kalenderwoche.info/1621/kw-5
URL:https://kalenderwoche.info/1621/kw-5
CATEGORIES:Kalenderwoche
TRANSP:TRANSPARENT
END:VEVENT
BEGIN:VEVENT
UID:kw-1621-6@kalenderwoche.info
DTSTAMP:20260424T014430Z
DTSTART;VALUE=DATE:16210208
DTEND;VALUE=DATE:16210215
SUMMARY:KW 6 (gerade)
DESCRIPTION:Kalenderwoche 6 im Jahr 1621\nMontag: 08.02.1621\nSonntag: 14.02.1621\nTyp: gerade Woche\nMehr unter: https://kalenderwoche.info/1621/kw-6
URL:https://kalenderwoche.info/1621/kw-6
CATEGORIES:Kalenderwoche
TRANSP:TRANSPARENT
END:VEVENT
BEGIN:VEVENT
UID:kw-1621-7@kalenderwoche.info
DTSTAMP:20260424T014430Z
DTSTART;VALUE=DATE:16210215
DTEND;VALUE=DATE:16210222
SUMMARY:KW 7 (ungerade)
DESCRIPTION:Kalenderwoche 7 im Jahr 1621\nMontag: 15.02.1621\nSonntag: 21.02.1621\nTyp: ungerade Woche\nMehr unter: https://kalenderwoche.info/1621/kw-7
URL:https://kalenderwoche.info/1621/kw-7
CATEGORIES:Kalenderwoche
TRANSP:TRANSPARENT
END:VEVENT
BEGIN:VEVENT
UID:kw-1621-8@kalenderwoche.info
DTSTAMP:20260424T014430Z
DTSTART;VALUE=DATE:16210222
DTEND;VALUE=DATE:16210301
SUMMARY:KW 8 (gerade)
DESCRIPTION:Kalenderwoche 8 im Jahr 1621\nMontag: 22.02.1621\nSonntag: 28.02.1621\nTyp: gerade Woche\nMehr unter: https://kalenderwoche.info/1621/kw-8
URL:https://kalenderwoche.info/1621/kw-8
CATEGORIES:Kalenderwoche
TRANSP:TRANSPARENT
END:VEVENT
BEGIN:VEVENT
UID:kw-1621-9@kalenderwoche.info
DTSTAMP:20260424T014430Z
DTSTART;VALUE=DATE:16210301
DTEND;VALUE=DATE:16210308
SUMMARY:KW 9 (ungerade)
DESCRIPTION:Kalenderwoche 9 im Jahr 1621\nMontag: 01.03.1621\nSonntag: 07.03.1621\nTyp: ungerade Woche\nMehr unter: https://kalenderwoche.info/1621/kw-9
URL:https://kalenderwoche.info/1621/kw-9
CATEGORIES:Kalenderwoche
TRANSP:TRANSPARENT
END:VEVENT
BEGIN:VEVENT
UID:kw-1621-10@kalenderwoche.info
DTSTAMP:20260424T014430Z
DTSTART;VALUE=DATE:16210308
DTEND;VALUE=DATE:16210315
SUMMARY:KW 10 (gerade)
DESCRIPTION:Kalenderwoche 10 im Jahr 1621\nMontag: 08.03.1621\nSonntag: 14.03.1621\nTyp: gerade Woche\nMehr unter: https://kalenderwoche.info/1621/kw-10
URL:https://kalenderwoche.info/1621/kw-10
CATEGORIES:Kalenderwoche
TRANSP:TRANSPARENT
END:VEVENT
BEGIN:VEVENT
UID:kw-1621-11@kalenderwoche.info
DTSTAMP:20260424T014430Z
DTSTART;VALUE=DATE:16210315
DTEND;VALUE=DATE:16210322
SUMMARY:KW 11 (ungerade)
DESCRIPTION:Kalenderwoche 11 im Jahr 1621\nMontag: 15.03.1621\nSonntag: 21.03.1621\nTyp: ungerade Woche\nMehr unter: https://kalenderwoche.info/1621/kw-11
URL:https://kalenderwoche.info/1621/kw-11
CATEGORIES:Kalenderwoche
TRANSP:TRANSPARENT
END:VEVENT
BEGIN:VEVENT
UID:kw-1621-12@kalenderwoche.info
DTSTAMP:20260424T014430Z
DTSTART;VALUE=DATE:16210322
DTEND;VALUE=DATE:16210329
SUMMARY:KW 12 (gerade)
DESCRIPTION:Kalenderwoche 12 im Jahr 1621\nMontag: 22.03.1621\nSonntag: 28.03.1621\nTyp: gerade Woche\nMehr unter: https://kalenderwoche.info/1621/kw-12
URL:https://kalenderwoche.info/1621/kw-12
CATEGORIES:Kalenderwoche
TRANSP:TRANSPARENT
END:VEVENT
BEGIN:VEVENT
UID:kw-1621-13@kalenderwoche.info
DTSTAMP:20260424T014430Z
DTSTART;VALUE=DATE:16210329
DTEND;VALUE=DATE:16210405
SUMMARY:KW 13 (ungerade)
DESCRIPTION:Kalenderwoche 13 im Jahr 1621\nMontag: 29.03.1621\nSonntag: 04.04.1621\nTyp: ungerade Woche\nMehr unter: https://kalenderwoche.info/1621/kw-13
URL:https://kalenderwoche.info/1621/kw-13
CATEGORIES:Kalenderwoche
TRANSP:TRANSPARENT
END:VEVENT
BEGIN:VEVENT
UID:kw-1621-14@kalenderwoche.info
DTSTAMP:20260424T014430Z
DTSTART;VALUE=DATE:16210405
DTEND;VALUE=DATE:16210412
SUMMARY:KW 14 (gerade)
DESCRIPTION:Kalenderwoche 14 im Jahr 1621\nMontag: 05.04.1621\nSonntag: 11.04.1621\nTyp: gerade Woche\nMehr unter: https://kalenderwoche.info/1621/kw-14
URL:https://kalenderwoche.info/1621/kw-14
CATEGORIES:Kalenderwoche
TRANSP:TRANSPARENT
END:VEVENT
BEGIN:VEVENT
UID:kw-1621-15@kalenderwoche.info
DTSTAMP:20260424T014430Z
DTSTART;VALUE=DATE:16210412
DTEND;VALUE=DATE:16210419
SUMMARY:KW 15 (ungerade)
DESCRIPTION:Kalenderwoche 15 im Jahr 1621\nMontag: 12.04.1621\nSonntag: 18.04.1621\nTyp: ungerade Woche\nMehr unter: https://kalenderwoche.info/1621/kw-15
URL:https://kalenderwoche.info/1621/kw-15
CATEGORIES:Kalenderwoche
TRANSP:TRANSPARENT
END:VEVENT
BEGIN:VEVENT
UID:kw-1621-16@kalenderwoche.info
DTSTAMP:20260424T014430Z
DTSTART;VALUE=DATE:16210419
DTEND;VALUE=DATE:16210426
SUMMARY:KW 16 (gerade)
DESCRIPTION:Kalenderwoche 16 im Jahr 1621\nMontag: 19.04.1621\nSonntag: 25.04.1621\nTyp: gerade Woche\nMehr unter: https://kalenderwoche.info/1621/kw-16
URL:https://kalenderwoche.info/1621/kw-16
CATEGORIES:Kalenderwoche
TRANSP:TRANSPARENT
END:VEVENT
BEGIN:VEVENT
UID:kw-1621-17@kalenderwoche.info
DTSTAMP:20260424T014430Z
DTSTART;VALUE=DATE:16210426
DTEND;VALUE=DATE:16210503
SUMMARY:KW 17 (ungerade)
DESCRIPTION:Kalenderwoche 17 im Jahr 1621\nMontag: 26.04.1621\nSonntag: 02.05.1621\nTyp: ungerade Woche\nMehr unter: https://kalenderwoche.info/1621/kw-17
URL:https://kalenderwoche.info/1621/kw-17
CATEGORIES:Kalenderwoche
TRANSP:TRANSPARENT
END:VEVENT
BEGIN:VEVENT
UID:kw-1621-18@kalenderwoche.info
DTSTAMP:20260424T014430Z
DTSTART;VALUE=DATE:16210503
DTEND;VALUE=DATE:16210510
SUMMARY:KW 18 (gerade)
DESCRIPTION:Kalenderwoche 18 im Jahr 1621\nMontag: 03.05.1621\nSonntag: 09.05.1621\nTyp: gerade Woche\nMehr unter: https://kalenderwoche.info/1621/kw-18
URL:https://kalenderwoche.info/1621/kw-18
CATEGORIES:Kalenderwoche
TRANSP:TRANSPARENT
END:VEVENT
BEGIN:VEVENT
UID:kw-1621-19@kalenderwoche.info
DTSTAMP:20260424T014430Z
DTSTART;VALUE=DATE:16210510
DTEND;VALUE=DATE:16210517
SUMMARY:KW 19 (ungerade)
DESCRIPTION:Kalenderwoche 19 im Jahr 1621\nMontag: 10.05.1621\nSonntag: 16.05.1621\nTyp: ungerade Woche\nMehr unter: https://kalenderwoche.info/1621/kw-19
URL:https://kalenderwoche.info/1621/kw-19
CATEGORIES:Kalenderwoche
TRANSP:TRANSPARENT
END:VEVENT
BEGIN:VEVENT
UID:kw-1621-20@kalenderwoche.info
DTSTAMP:20260424T014430Z
DTSTART;VALUE=DATE:16210517
DTEND;VALUE=DATE:16210524
SUMMARY:KW 20 (gerade)
DESCRIPTION:Kalenderwoche 20 im Jahr 1621\nMontag: 17.05.1621\nSonntag: 23.05.1621\nTyp: gerade Woche\nMehr unter: https://kalenderwoche.info/1621/kw-20
URL:https://kalenderwoche.info/1621/kw-20
CATEGORIES:Kalenderwoche
TRANSP:TRANSPARENT
END:VEVENT
BEGIN:VEVENT
UID:kw-1621-21@kalenderwoche.info
DTSTAMP:20260424T014430Z
DTSTART;VALUE=DATE:16210524
DTEND;VALUE=DATE:16210531
SUMMARY:KW 21 (ungerade)
DESCRIPTION:Kalenderwoche 21 im Jahr 1621\nMontag: 24.05.1621\nSonntag: 30.05.1621\nTyp: ungerade Woche\nMehr unter: https://kalenderwoche.info/1621/kw-21
URL:https://kalenderwoche.info/1621/kw-21
CATEGORIES:Kalenderwoche
TRANSP:TRANSPARENT
END:VEVENT
BEGIN:VEVENT
UID:kw-1621-22@kalenderwoche.info
DTSTAMP:20260424T014430Z
DTSTART;VALUE=DATE:16210531
DTEND;VALUE=DATE:16210607
SUMMARY:KW 22 (gerade)
DESCRIPTION:Kalenderwoche 22 im Jahr 1621\nMontag: 31.05.1621\nSonntag: 06.06.1621\nTyp: gerade Woche\nMehr unter: https://kalenderwoche.info/1621/kw-22
URL:https://kalenderwoche.info/1621/kw-22
CATEGORIES:Kalenderwoche
TRANSP:TRANSPARENT
END:VEVENT
BEGIN:VEVENT
UID:kw-1621-23@kalenderwoche.info
DTSTAMP:20260424T014430Z
DTSTART;VALUE=DATE:16210607
DTEND;VALUE=DATE:16210614
SUMMARY:KW 23 (ungerade)
DESCRIPTION:Kalenderwoche 23 im Jahr 1621\nMontag: 07.06.1621\nSonntag: 13.06.1621\nTyp: ungerade Woche\nMehr unter: https://kalenderwoche.info/1621/kw-23
URL:https://kalenderwoche.info/1621/kw-23
CATEGORIES:Kalenderwoche
TRANSP:TRANSPARENT
END:VEVENT
BEGIN:VEVENT
UID:kw-1621-24@kalenderwoche.info
DTSTAMP:20260424T014430Z
DTSTART;VALUE=DATE:16210614
DTEND;VALUE=DATE:16210621
SUMMARY:KW 24 (gerade)
DESCRIPTION:Kalenderwoche 24 im Jahr 1621\nMontag: 14.06.1621\nSonntag: 20.06.1621\nTyp: gerade Woche\nMehr unter: https://kalenderwoche.info/1621/kw-24
URL:https://kalenderwoche.info/1621/kw-24
CATEGORIES:Kalenderwoche
TRANSP:TRANSPARENT
END:VEVENT
BEGIN:VEVENT
UID:kw-1621-25@kalenderwoche.info
DTSTAMP:20260424T014430Z
DTSTART;VALUE=DATE:16210621
DTEND;VALUE=DATE:16210628
SUMMARY:KW 25 (ungerade)
DESCRIPTION:Kalenderwoche 25 im Jahr 1621\nMontag: 21.06.1621\nSonntag: 27.06.1621\nTyp: ungerade Woche\nMehr unter: https://kalenderwoche.info/1621/kw-25
URL:https://kalenderwoche.info/1621/kw-25
CATEGORIES:Kalenderwoche
TRANSP:TRANSPARENT
END:VEVENT
BEGIN:VEVENT
UID:kw-1621-26@kalenderwoche.info
DTSTAMP:20260424T014430Z
DTSTART;VALUE=DATE:16210628
DTEND;VALUE=DATE:16210705
SUMMARY:KW 26 (gerade)
DESCRIPTION:Kalenderwoche 26 im Jahr 1621\nMontag: 28.06.1621\nSonntag: 04.07.1621\nTyp: gerade Woche\nMehr unter: https://kalenderwoche.info/1621/kw-26
URL:https://kalenderwoche.info/1621/kw-26
CATEGORIES:Kalenderwoche
TRANSP:TRANSPARENT
END:VEVENT
BEGIN:VEVENT
UID:kw-1621-27@kalenderwoche.info
DTSTAMP:20260424T014430Z
DTSTART;VALUE=DATE:16210705
DTEND;VALUE=DATE:16210712
SUMMARY:KW 27 (ungerade)
DESCRIPTION:Kalenderwoche 27 im Jahr 1621\nMontag: 05.07.1621\nSonntag: 11.07.1621\nTyp: ungerade Woche\nMehr unter: https://kalenderwoche.info/1621/kw-27
URL:https://kalenderwoche.info/1621/kw-27
CATEGORIES:Kalenderwoche
TRANSP:TRANSPARENT
END:VEVENT
BEGIN:VEVENT
UID:kw-1621-28@kalenderwoche.info
DTSTAMP:20260424T014430Z
DTSTART;VALUE=DATE:16210712
DTEND;VALUE=DATE:16210719
SUMMARY:KW 28 (gerade)
DESCRIPTION:Kalenderwoche 28 im Jahr 1621\nMontag: 12.07.1621\nSonntag: 18.07.1621\nTyp: gerade Woche\nMehr unter: https://kalenderwoche.info/1621/kw-28
URL:https://kalenderwoche.info/1621/kw-28
CATEGORIES:Kalenderwoche
TRANSP:TRANSPARENT
END:VEVENT
BEGIN:VEVENT
UID:kw-1621-29@kalenderwoche.info
DTSTAMP:20260424T014430Z
DTSTART;VALUE=DATE:16210719
DTEND;VALUE=DATE:16210726
SUMMARY:KW 29 (ungerade)
DESCRIPTION:Kalenderwoche 29 im Jahr 1621\nMontag: 19.07.1621\nSonntag: 25.07.1621\nTyp: ungerade Woche\nMehr unter: https://kalenderwoche.info/1621/kw-29
URL:https://kalenderwoche.info/1621/kw-29
CATEGORIES:Kalenderwoche
TRANSP:TRANSPARENT
END:VEVENT
BEGIN:VEVENT
UID:kw-1621-30@kalenderwoche.info
DTSTAMP:20260424T014430Z
DTSTART;VALUE=DATE:16210726
DTEND;VALUE=DATE:16210802
SUMMARY:KW 30 (gerade)
DESCRIPTION:Kalenderwoche 30 im Jahr 1621\nMontag: 26.07.1621\nSonntag: 01.08.1621\nTyp: gerade Woche\nMehr unter: https://kalenderwoche.info/1621/kw-30
URL:https://kalenderwoche.info/1621/kw-30
CATEGORIES:Kalenderwoche
TRANSP:TRANSPARENT
END:VEVENT
BEGIN:VEVENT
UID:kw-1621-31@kalenderwoche.info
DTSTAMP:20260424T014430Z
DTSTART;VALUE=DATE:16210802
DTEND;VALUE=DATE:16210809
SUMMARY:KW 31 (ungerade)
DESCRIPTION:Kalenderwoche 31 im Jahr 1621\nMontag: 02.08.1621\nSonntag: 08.08.1621\nTyp: ungerade Woche\nMehr unter: https://kalenderwoche.info/1621/kw-31
URL:https://kalenderwoche.info/1621/kw-31
CATEGORIES:Kalenderwoche
TRANSP:TRANSPARENT
END:VEVENT
BEGIN:VEVENT
UID:kw-1621-32@kalenderwoche.info
DTSTAMP:20260424T014430Z
DTSTART;VALUE=DATE:16210809
DTEND;VALUE=DATE:16210816
SUMMARY:KW 32 (gerade)
DESCRIPTION:Kalenderwoche 32 im Jahr 1621\nMontag: 09.08.1621\nSonntag: 15.08.1621\nTyp: gerade Woche\nMehr unter: https://kalenderwoche.info/1621/kw-32
URL:https://kalenderwoche.info/1621/kw-32
CATEGORIES:Kalenderwoche
TRANSP:TRANSPARENT
END:VEVENT
BEGIN:VEVENT
UID:kw-1621-33@kalenderwoche.info
DTSTAMP:20260424T014430Z
DTSTART;VALUE=DATE:16210816
DTEND;VALUE=DATE:16210823
SUMMARY:KW 33 (ungerade)
DESCRIPTION:Kalenderwoche 33 im Jahr 1621\nMontag: 16.08.1621\nSonntag: 22.08.1621\nTyp: ungerade Woche\nMehr unter: https://kalenderwoche.info/1621/kw-33
URL:https://kalenderwoche.info/1621/kw-33
CATEGORIES:Kalenderwoche
TRANSP:TRANSPARENT
END:VEVENT
BEGIN:VEVENT
UID:kw-1621-34@kalenderwoche.info
DTSTAMP:20260424T014430Z
DTSTART;VALUE=DATE:16210823
DTEND;VALUE=DATE:16210830
SUMMARY:KW 34 (gerade)
DESCRIPTION:Kalenderwoche 34 im Jahr 1621\nMontag: 23.08.1621\nSonntag: 29.08.1621\nTyp: gerade Woche\nMehr unter: https://kalenderwoche.info/1621/kw-34
URL:https://kalenderwoche.info/1621/kw-34
CATEGORIES:Kalenderwoche
TRANSP:TRANSPARENT
END:VEVENT
BEGIN:VEVENT
UID:kw-1621-35@kalenderwoche.info
DTSTAMP:20260424T014430Z
DTSTART;VALUE=DATE:16210830
DTEND;VALUE=DATE:16210906
SUMMARY:KW 35 (ungerade)
DESCRIPTION:Kalenderwoche 35 im Jahr 1621\nMontag: 30.08.1621\nSonntag: 05.09.1621\nTyp: ungerade Woche\nMehr unter: https://kalenderwoche.info/1621/kw-35
URL:https://kalenderwoche.info/1621/kw-35
CATEGORIES:Kalenderwoche
TRANSP:TRANSPARENT
END:VEVENT
BEGIN:VEVENT
UID:kw-1621-36@kalenderwoche.info
DTSTAMP:20260424T014430Z
DTSTART;VALUE=DATE:16210906
DTEND;VALUE=DATE:16210913
SUMMARY:KW 36 (gerade)
DESCRIPTION:Kalenderwoche 36 im Jahr 1621\nMontag: 06.09.1621\nSonntag: 12.09.1621\nTyp: gerade Woche\nMehr unter: https://kalenderwoche.info/1621/kw-36
URL:https://kalenderwoche.info/1621/kw-36
CATEGORIES:Kalenderwoche
TRANSP:TRANSPARENT
END:VEVENT
BEGIN:VEVENT
UID:kw-1621-37@kalenderwoche.info
DTSTAMP:20260424T014430Z
DTSTART;VALUE=DATE:16210913
DTEND;VALUE=DATE:16210920
SUMMARY:KW 37 (ungerade)
DESCRIPTION:Kalenderwoche 37 im Jahr 1621\nMontag: 13.09.1621\nSonntag: 19.09.1621\nTyp: ungerade Woche\nMehr unter: https://kalenderwoche.info/1621/kw-37
URL:https://kalenderwoche.info/1621/kw-37
CATEGORIES:Kalenderwoche
TRANSP:TRANSPARENT
END:VEVENT
BEGIN:VEVENT
UID:kw-1621-38@kalenderwoche.info
DTSTAMP:20260424T014430Z
DTSTART;VALUE=DATE:16210920
DTEND;VALUE=DATE:16210927
SUMMARY:KW 38 (gerade)
DESCRIPTION:Kalenderwoche 38 im Jahr 1621\nMontag: 20.09.1621\nSonntag: 26.09.1621\nTyp: gerade Woche\nMehr unter: https://kalenderwoche.info/1621/kw-38
URL:https://kalenderwoche.info/1621/kw-38
CATEGORIES:Kalenderwoche
TRANSP:TRANSPARENT
END:VEVENT
BEGIN:VEVENT
UID:kw-1621-39@kalenderwoche.info
DTSTAMP:20260424T014430Z
DTSTART;VALUE=DATE:16210927
DTEND;VALUE=DATE:16211004
SUMMARY:KW 39 (ungerade)
DESCRIPTION:Kalenderwoche 39 im Jahr 1621\nMontag: 27.09.1621\nSonntag: 03.10.1621\nTyp: ungerade Woche\nMehr unter: https://kalenderwoche.info/1621/kw-39
URL:https://kalenderwoche.info/1621/kw-39
CATEGORIES:Kalenderwoche
TRANSP:TRANSPARENT
END:VEVENT
BEGIN:VEVENT
UID:kw-1621-40@kalenderwoche.info
DTSTAMP:20260424T014430Z
DTSTART;VALUE=DATE:16211004
DTEND;VALUE=DATE:16211011
SUMMARY:KW 40 (gerade)
DESCRIPTION:Kalenderwoche 40 im Jahr 1621\nMontag: 04.10.1621\nSonntag: 10.10.1621\nTyp: gerade Woche\nMehr unter: https://kalenderwoche.info/1621/kw-40
URL:https://kalenderwoche.info/1621/kw-40
CATEGORIES:Kalenderwoche
TRANSP:TRANSPARENT
END:VEVENT
BEGIN:VEVENT
UID:kw-1621-41@kalenderwoche.info
DTSTAMP:20260424T014430Z
DTSTART;VALUE=DATE:16211011
DTEND;VALUE=DATE:16211018
SUMMARY:KW 41 (ungerade)
DESCRIPTION:Kalenderwoche 41 im Jahr 1621\nMontag: 11.10.1621\nSonntag: 17.10.1621\nTyp: ungerade Woche\nMehr unter: https://kalenderwoche.info/1621/kw-41
URL:https://kalenderwoche.info/1621/kw-41
CATEGORIES:Kalenderwoche
TRANSP:TRANSPARENT
END:VEVENT
BEGIN:VEVENT
UID:kw-1621-42@kalenderwoche.info
DTSTAMP:20260424T014430Z
DTSTART;VALUE=DATE:16211018
DTEND;VALUE=DATE:16211025
SUMMARY:KW 42 (gerade)
DESCRIPTION:Kalenderwoche 42 im Jahr 1621\nMontag: 18.10.1621\nSonntag: 24.10.1621\nTyp: gerade Woche\nMehr unter: https://kalenderwoche.info/1621/kw-42
URL:https://kalenderwoche.info/1621/kw-42
CATEGORIES:Kalenderwoche
TRANSP:TRANSPARENT
END:VEVENT
BEGIN:VEVENT
UID:kw-1621-43@kalenderwoche.info
DTSTAMP:20260424T014430Z
DTSTART;VALUE=DATE:16211025
DTEND;VALUE=DATE:16211101
SUMMARY:KW 43 (ungerade)
DESCRIPTION:Kalenderwoche 43 im Jahr 1621\nMontag: 25.10.1621\nSonntag: 31.10.1621\nTyp: ungerade Woche\nMehr unter: https://kalenderwoche.info/1621/kw-43
URL:https://kalenderwoche.info/1621/kw-43
CATEGORIES:Kalenderwoche
TRANSP:TRANSPARENT
END:VEVENT
BEGIN:VEVENT
UID:kw-1621-44@kalenderwoche.info
DTSTAMP:20260424T014430Z
DTSTART;VALUE=DATE:16211101
DTEND;VALUE=DATE:16211108
SUMMARY:KW 44 (gerade)
DESCRIPTION:Kalenderwoche 44 im Jahr 1621\nMontag: 01.11.1621\nSonntag: 07.11.1621\nTyp: gerade Woche\nMehr unter: https://kalenderwoche.info/1621/kw-44
URL:https://kalenderwoche.info/1621/kw-44
CATEGORIES:Kalenderwoche
TRANSP:TRANSPARENT
END:VEVENT
BEGIN:VEVENT
UID:kw-1621-45@kalenderwoche.info
DTSTAMP:20260424T014430Z
DTSTART;VALUE=DATE:16211108
DTEND;VALUE=DATE:16211115
SUMMARY:KW 45 (ungerade)
DESCRIPTION:Kalenderwoche 45 im Jahr 1621\nMontag: 08.11.1621\nSonntag: 14.11.1621\nTyp: ungerade Woche\nMehr unter: https://kalenderwoche.info/1621/kw-45
URL:https://kalenderwoche.info/1621/kw-45
CATEGORIES:Kalenderwoche
TRANSP:TRANSPARENT
END:VEVENT
BEGIN:VEVENT
UID:kw-1621-46@kalenderwoche.info
DTSTAMP:20260424T014430Z
DTSTART;VALUE=DATE:16211115
DTEND;VALUE=DATE:16211122
SUMMARY:KW 46 (gerade)
DESCRIPTION:Kalenderwoche 46 im Jahr 1621\nMontag: 15.11.1621\nSonntag: 21.11.1621\nTyp: gerade Woche\nMehr unter: https://kalenderwoche.info/1621/kw-46
URL:https://kalenderwoche.info/1621/kw-46
CATEGORIES:Kalenderwoche
TRANSP:TRANSPARENT
END:VEVENT
BEGIN:VEVENT
UID:kw-1621-47@kalenderwoche.info
DTSTAMP:20260424T014430Z
DTSTART;VALUE=DATE:16211122
DTEND;VALUE=DATE:16211129
SUMMARY:KW 47 (ungerade)
DESCRIPTION:Kalenderwoche 47 im Jahr 1621\nMontag: 22.11.1621\nSonntag: 28.11.1621\nTyp: ungerade Woche\nMehr unter: https://kalenderwoche.info/1621/kw-47
URL:https://kalenderwoche.info/1621/kw-47
CATEGORIES:Kalenderwoche
TRANSP:TRANSPARENT
END:VEVENT
BEGIN:VEVENT
UID:kw-1621-48@kalenderwoche.info
DTSTAMP:20260424T014430Z
DTSTART;VALUE=DATE:16211129
DTEND;VALUE=DATE:16211206
SUMMARY:KW 48 (gerade)
DESCRIPTION:Kalenderwoche 48 im Jahr 1621\nMontag: 29.11.1621\nSonntag: 05.12.1621\nTyp: gerade Woche\nMehr unter: https://kalenderwoche.info/1621/kw-48
URL:https://kalenderwoche.info/1621/kw-48
CATEGORIES:Kalenderwoche
TRANSP:TRANSPARENT
END:VEVENT
BEGIN:VEVENT
UID:kw-1621-49@kalenderwoche.info
DTSTAMP:20260424T014430Z
DTSTART;VALUE=DATE:16211206
DTEND;VALUE=DATE:16211213
SUMMARY:KW 49 (ungerade)
DESCRIPTION:Kalenderwoche 49 im Jahr 1621\nMontag: 06.12.1621\nSonntag: 12.12.1621\nTyp: ungerade Woche\nMehr unter: https://kalenderwoche.info/1621/kw-49
URL:https://kalenderwoche.info/1621/kw-49
CATEGORIES:Kalenderwoche
TRANSP:TRANSPARENT
END:VEVENT
BEGIN:VEVENT
UID:kw-1621-50@kalenderwoche.info
DTSTAMP:20260424T014430Z
DTSTART;VALUE=DATE:16211213
DTEND;VALUE=DATE:16211220
SUMMARY:KW 50 (gerade)
DESCRIPTION:Kalenderwoche 50 im Jahr 1621\nMontag: 13.12.1621\nSonntag: 19.12.1621\nTyp: gerade Woche\nMehr unter: https://kalenderwoche.info/1621/kw-50
URL:https://kalenderwoche.info/1621/kw-50
CATEGORIES:Kalenderwoche
TRANSP:TRANSPARENT
END:VEVENT
BEGIN:VEVENT
UID:kw-1621-51@kalenderwoche.info
DTSTAMP:20260424T014430Z
DTSTART;VALUE=DATE:16211220
DTEND;VALUE=DATE:16211227
SUMMARY:KW 51 (ungerade)
DESCRIPTION:Kalenderwoche 51 im Jahr 1621\nMontag: 20.12.1621\nSonntag: 26.12.1621\nTyp: ungerade Woche\nMehr unter: https://kalenderwoche.info/1621/kw-51
URL:https://kalenderwoche.info/1621/kw-51
CATEGORIES:Kalenderwoche
TRANSP:TRANSPARENT
END:VEVENT
BEGIN:VEVENT
UID:kw-1621-52@kalenderwoche.info
DTSTAMP:20260424T014430Z
DTSTART;VALUE=DATE:16211227
DTEND;VALUE=DATE:16220103
SUMMARY:KW 52 (gerade)
DESCRIPTION:Kalenderwoche 52 im Jahr 1621\nMontag: 27.12.1621\nSonntag: 02.01.1622\nTyp: gerade Woche\nMehr unter: https://kalenderwoche.info/1621/kw-52
URL:https://kalenderwoche.info/1621/kw-52
CATEGORIES:Kalenderwoche
TRANSP:TRANSPARENT
END:VEVENT
END:VCALENDAR
