BEGIN:VCALENDAR
VERSION:2.0
PRODID:-//kalenderwoche.info//Kalender//DE
CALSCALE:GREGORIAN
METHOD:PUBLISH
X-WR-CALNAME:Kalenderwochen 1623
X-WR-CALDESC:Alle Kalenderwochen für das Jahr 1623
X-WR-TIMEZONE:Europe/Berlin
BEGIN:VEVENT
UID:kw-1623-1@kalenderwoche.info
DTSTAMP:20260423T230930Z
DTSTART;VALUE=DATE:16230102
DTEND;VALUE=DATE:16230109
SUMMARY:KW 1 (ungerade)
DESCRIPTION:Kalenderwoche 1 im Jahr 1623\nMontag: 02.01.1623\nSonntag: 08.01.1623\nTyp: ungerade Woche\nMehr unter: https://kalenderwoche.info/1623/kw-1
URL:https://kalenderwoche.info/1623/kw-1
CATEGORIES:Kalenderwoche
TRANSP:TRANSPARENT
END:VEVENT
BEGIN:VEVENT
UID:kw-1623-2@kalenderwoche.info
DTSTAMP:20260423T230930Z
DTSTART;VALUE=DATE:16230109
DTEND;VALUE=DATE:16230116
SUMMARY:KW 2 (gerade)
DESCRIPTION:Kalenderwoche 2 im Jahr 1623\nMontag: 09.01.1623\nSonntag: 15.01.1623\nTyp: gerade Woche\nMehr unter: https://kalenderwoche.info/1623/kw-2
URL:https://kalenderwoche.info/1623/kw-2
CATEGORIES:Kalenderwoche
TRANSP:TRANSPARENT
END:VEVENT
BEGIN:VEVENT
UID:kw-1623-3@kalenderwoche.info
DTSTAMP:20260423T230930Z
DTSTART;VALUE=DATE:16230116
DTEND;VALUE=DATE:16230123
SUMMARY:KW 3 (ungerade)
DESCRIPTION:Kalenderwoche 3 im Jahr 1623\nMontag: 16.01.1623\nSonntag: 22.01.1623\nTyp: ungerade Woche\nMehr unter: https://kalenderwoche.info/1623/kw-3
URL:https://kalenderwoche.info/1623/kw-3
CATEGORIES:Kalenderwoche
TRANSP:TRANSPARENT
END:VEVENT
BEGIN:VEVENT
UID:kw-1623-4@kalenderwoche.info
DTSTAMP:20260423T230930Z
DTSTART;VALUE=DATE:16230123
DTEND;VALUE=DATE:16230130
SUMMARY:KW 4 (gerade)
DESCRIPTION:Kalenderwoche 4 im Jahr 1623\nMontag: 23.01.1623\nSonntag: 29.01.1623\nTyp: gerade Woche\nMehr unter: https://kalenderwoche.info/1623/kw-4
URL:https://kalenderwoche.info/1623/kw-4
CATEGORIES:Kalenderwoche
TRANSP:TRANSPARENT
END:VEVENT
BEGIN:VEVENT
UID:kw-1623-5@kalenderwoche.info
DTSTAMP:20260423T230930Z
DTSTART;VALUE=DATE:16230130
DTEND;VALUE=DATE:16230206
SUMMARY:KW 5 (ungerade)
DESCRIPTION:Kalenderwoche 5 im Jahr 1623\nMontag: 30.01.1623\nSonntag: 05.02.1623\nTyp: ungerade Woche\nMehr unter: https://kalenderwoche.info/1623/kw-5
URL:https://kalenderwoche.info/1623/kw-5
CATEGORIES:Kalenderwoche
TRANSP:TRANSPARENT
END:VEVENT
BEGIN:VEVENT
UID:kw-1623-6@kalenderwoche.info
DTSTAMP:20260423T230930Z
DTSTART;VALUE=DATE:16230206
DTEND;VALUE=DATE:16230213
SUMMARY:KW 6 (gerade)
DESCRIPTION:Kalenderwoche 6 im Jahr 1623\nMontag: 06.02.1623\nSonntag: 12.02.1623\nTyp: gerade Woche\nMehr unter: https://kalenderwoche.info/1623/kw-6
URL:https://kalenderwoche.info/1623/kw-6
CATEGORIES:Kalenderwoche
TRANSP:TRANSPARENT
END:VEVENT
BEGIN:VEVENT
UID:kw-1623-7@kalenderwoche.info
DTSTAMP:20260423T230930Z
DTSTART;VALUE=DATE:16230213
DTEND;VALUE=DATE:16230220
SUMMARY:KW 7 (ungerade)
DESCRIPTION:Kalenderwoche 7 im Jahr 1623\nMontag: 13.02.1623\nSonntag: 19.02.1623\nTyp: ungerade Woche\nMehr unter: https://kalenderwoche.info/1623/kw-7
URL:https://kalenderwoche.info/1623/kw-7
CATEGORIES:Kalenderwoche
TRANSP:TRANSPARENT
END:VEVENT
BEGIN:VEVENT
UID:kw-1623-8@kalenderwoche.info
DTSTAMP:20260423T230930Z
DTSTART;VALUE=DATE:16230220
DTEND;VALUE=DATE:16230227
SUMMARY:KW 8 (gerade)
DESCRIPTION:Kalenderwoche 8 im Jahr 1623\nMontag: 20.02.1623\nSonntag: 26.02.1623\nTyp: gerade Woche\nMehr unter: https://kalenderwoche.info/1623/kw-8
URL:https://kalenderwoche.info/1623/kw-8
CATEGORIES:Kalenderwoche
TRANSP:TRANSPARENT
END:VEVENT
BEGIN:VEVENT
UID:kw-1623-9@kalenderwoche.info
DTSTAMP:20260423T230930Z
DTSTART;VALUE=DATE:16230227
DTEND;VALUE=DATE:16230306
SUMMARY:KW 9 (ungerade)
DESCRIPTION:Kalenderwoche 9 im Jahr 1623\nMontag: 27.02.1623\nSonntag: 05.03.1623\nTyp: ungerade Woche\nMehr unter: https://kalenderwoche.info/1623/kw-9
URL:https://kalenderwoche.info/1623/kw-9
CATEGORIES:Kalenderwoche
TRANSP:TRANSPARENT
END:VEVENT
BEGIN:VEVENT
UID:kw-1623-10@kalenderwoche.info
DTSTAMP:20260423T230930Z
DTSTART;VALUE=DATE:16230306
DTEND;VALUE=DATE:16230313
SUMMARY:KW 10 (gerade)
DESCRIPTION:Kalenderwoche 10 im Jahr 1623\nMontag: 06.03.1623\nSonntag: 12.03.1623\nTyp: gerade Woche\nMehr unter: https://kalenderwoche.info/1623/kw-10
URL:https://kalenderwoche.info/1623/kw-10
CATEGORIES:Kalenderwoche
TRANSP:TRANSPARENT
END:VEVENT
BEGIN:VEVENT
UID:kw-1623-11@kalenderwoche.info
DTSTAMP:20260423T230930Z
DTSTART;VALUE=DATE:16230313
DTEND;VALUE=DATE:16230320
SUMMARY:KW 11 (ungerade)
DESCRIPTION:Kalenderwoche 11 im Jahr 1623\nMontag: 13.03.1623\nSonntag: 19.03.1623\nTyp: ungerade Woche\nMehr unter: https://kalenderwoche.info/1623/kw-11
URL:https://kalenderwoche.info/1623/kw-11
CATEGORIES:Kalenderwoche
TRANSP:TRANSPARENT
END:VEVENT
BEGIN:VEVENT
UID:kw-1623-12@kalenderwoche.info
DTSTAMP:20260423T230930Z
DTSTART;VALUE=DATE:16230320
DTEND;VALUE=DATE:16230327
SUMMARY:KW 12 (gerade)
DESCRIPTION:Kalenderwoche 12 im Jahr 1623\nMontag: 20.03.1623\nSonntag: 26.03.1623\nTyp: gerade Woche\nMehr unter: https://kalenderwoche.info/1623/kw-12
URL:https://kalenderwoche.info/1623/kw-12
CATEGORIES:Kalenderwoche
TRANSP:TRANSPARENT
END:VEVENT
BEGIN:VEVENT
UID:kw-1623-13@kalenderwoche.info
DTSTAMP:20260423T230930Z
DTSTART;VALUE=DATE:16230327
DTEND;VALUE=DATE:16230403
SUMMARY:KW 13 (ungerade)
DESCRIPTION:Kalenderwoche 13 im Jahr 1623\nMontag: 27.03.1623\nSonntag: 02.04.1623\nTyp: ungerade Woche\nMehr unter: https://kalenderwoche.info/1623/kw-13
URL:https://kalenderwoche.info/1623/kw-13
CATEGORIES:Kalenderwoche
TRANSP:TRANSPARENT
END:VEVENT
BEGIN:VEVENT
UID:kw-1623-14@kalenderwoche.info
DTSTAMP:20260423T230930Z
DTSTART;VALUE=DATE:16230403
DTEND;VALUE=DATE:16230410
SUMMARY:KW 14 (gerade)
DESCRIPTION:Kalenderwoche 14 im Jahr 1623\nMontag: 03.04.1623\nSonntag: 09.04.1623\nTyp: gerade Woche\nMehr unter: https://kalenderwoche.info/1623/kw-14
URL:https://kalenderwoche.info/1623/kw-14
CATEGORIES:Kalenderwoche
TRANSP:TRANSPARENT
END:VEVENT
BEGIN:VEVENT
UID:kw-1623-15@kalenderwoche.info
DTSTAMP:20260423T230930Z
DTSTART;VALUE=DATE:16230410
DTEND;VALUE=DATE:16230417
SUMMARY:KW 15 (ungerade)
DESCRIPTION:Kalenderwoche 15 im Jahr 1623\nMontag: 10.04.1623\nSonntag: 16.04.1623\nTyp: ungerade Woche\nMehr unter: https://kalenderwoche.info/1623/kw-15
URL:https://kalenderwoche.info/1623/kw-15
CATEGORIES:Kalenderwoche
TRANSP:TRANSPARENT
END:VEVENT
BEGIN:VEVENT
UID:kw-1623-16@kalenderwoche.info
DTSTAMP:20260423T230930Z
DTSTART;VALUE=DATE:16230417
DTEND;VALUE=DATE:16230424
SUMMARY:KW 16 (gerade)
DESCRIPTION:Kalenderwoche 16 im Jahr 1623\nMontag: 17.04.1623\nSonntag: 23.04.1623\nTyp: gerade Woche\nMehr unter: https://kalenderwoche.info/1623/kw-16
URL:https://kalenderwoche.info/1623/kw-16
CATEGORIES:Kalenderwoche
TRANSP:TRANSPARENT
END:VEVENT
BEGIN:VEVENT
UID:kw-1623-17@kalenderwoche.info
DTSTAMP:20260423T230930Z
DTSTART;VALUE=DATE:16230424
DTEND;VALUE=DATE:16230501
SUMMARY:KW 17 (ungerade)
DESCRIPTION:Kalenderwoche 17 im Jahr 1623\nMontag: 24.04.1623\nSonntag: 30.04.1623\nTyp: ungerade Woche\nMehr unter: https://kalenderwoche.info/1623/kw-17
URL:https://kalenderwoche.info/1623/kw-17
CATEGORIES:Kalenderwoche
TRANSP:TRANSPARENT
END:VEVENT
BEGIN:VEVENT
UID:kw-1623-18@kalenderwoche.info
DTSTAMP:20260423T230930Z
DTSTART;VALUE=DATE:16230501
DTEND;VALUE=DATE:16230508
SUMMARY:KW 18 (gerade)
DESCRIPTION:Kalenderwoche 18 im Jahr 1623\nMontag: 01.05.1623\nSonntag: 07.05.1623\nTyp: gerade Woche\nMehr unter: https://kalenderwoche.info/1623/kw-18
URL:https://kalenderwoche.info/1623/kw-18
CATEGORIES:Kalenderwoche
TRANSP:TRANSPARENT
END:VEVENT
BEGIN:VEVENT
UID:kw-1623-19@kalenderwoche.info
DTSTAMP:20260423T230930Z
DTSTART;VALUE=DATE:16230508
DTEND;VALUE=DATE:16230515
SUMMARY:KW 19 (ungerade)
DESCRIPTION:Kalenderwoche 19 im Jahr 1623\nMontag: 08.05.1623\nSonntag: 14.05.1623\nTyp: ungerade Woche\nMehr unter: https://kalenderwoche.info/1623/kw-19
URL:https://kalenderwoche.info/1623/kw-19
CATEGORIES:Kalenderwoche
TRANSP:TRANSPARENT
END:VEVENT
BEGIN:VEVENT
UID:kw-1623-20@kalenderwoche.info
DTSTAMP:20260423T230930Z
DTSTART;VALUE=DATE:16230515
DTEND;VALUE=DATE:16230522
SUMMARY:KW 20 (gerade)
DESCRIPTION:Kalenderwoche 20 im Jahr 1623\nMontag: 15.05.1623\nSonntag: 21.05.1623\nTyp: gerade Woche\nMehr unter: https://kalenderwoche.info/1623/kw-20
URL:https://kalenderwoche.info/1623/kw-20
CATEGORIES:Kalenderwoche
TRANSP:TRANSPARENT
END:VEVENT
BEGIN:VEVENT
UID:kw-1623-21@kalenderwoche.info
DTSTAMP:20260423T230930Z
DTSTART;VALUE=DATE:16230522
DTEND;VALUE=DATE:16230529
SUMMARY:KW 21 (ungerade)
DESCRIPTION:Kalenderwoche 21 im Jahr 1623\nMontag: 22.05.1623\nSonntag: 28.05.1623\nTyp: ungerade Woche\nMehr unter: https://kalenderwoche.info/1623/kw-21
URL:https://kalenderwoche.info/1623/kw-21
CATEGORIES:Kalenderwoche
TRANSP:TRANSPARENT
END:VEVENT
BEGIN:VEVENT
UID:kw-1623-22@kalenderwoche.info
DTSTAMP:20260423T230930Z
DTSTART;VALUE=DATE:16230529
DTEND;VALUE=DATE:16230605
SUMMARY:KW 22 (gerade)
DESCRIPTION:Kalenderwoche 22 im Jahr 1623\nMontag: 29.05.1623\nSonntag: 04.06.1623\nTyp: gerade Woche\nMehr unter: https://kalenderwoche.info/1623/kw-22
URL:https://kalenderwoche.info/1623/kw-22
CATEGORIES:Kalenderwoche
TRANSP:TRANSPARENT
END:VEVENT
BEGIN:VEVENT
UID:kw-1623-23@kalenderwoche.info
DTSTAMP:20260423T230930Z
DTSTART;VALUE=DATE:16230605
DTEND;VALUE=DATE:16230612
SUMMARY:KW 23 (ungerade)
DESCRIPTION:Kalenderwoche 23 im Jahr 1623\nMontag: 05.06.1623\nSonntag: 11.06.1623\nTyp: ungerade Woche\nMehr unter: https://kalenderwoche.info/1623/kw-23
URL:https://kalenderwoche.info/1623/kw-23
CATEGORIES:Kalenderwoche
TRANSP:TRANSPARENT
END:VEVENT
BEGIN:VEVENT
UID:kw-1623-24@kalenderwoche.info
DTSTAMP:20260423T230930Z
DTSTART;VALUE=DATE:16230612
DTEND;VALUE=DATE:16230619
SUMMARY:KW 24 (gerade)
DESCRIPTION:Kalenderwoche 24 im Jahr 1623\nMontag: 12.06.1623\nSonntag: 18.06.1623\nTyp: gerade Woche\nMehr unter: https://kalenderwoche.info/1623/kw-24
URL:https://kalenderwoche.info/1623/kw-24
CATEGORIES:Kalenderwoche
TRANSP:TRANSPARENT
END:VEVENT
BEGIN:VEVENT
UID:kw-1623-25@kalenderwoche.info
DTSTAMP:20260423T230930Z
DTSTART;VALUE=DATE:16230619
DTEND;VALUE=DATE:16230626
SUMMARY:KW 25 (ungerade)
DESCRIPTION:Kalenderwoche 25 im Jahr 1623\nMontag: 19.06.1623\nSonntag: 25.06.1623\nTyp: ungerade Woche\nMehr unter: https://kalenderwoche.info/1623/kw-25
URL:https://kalenderwoche.info/1623/kw-25
CATEGORIES:Kalenderwoche
TRANSP:TRANSPARENT
END:VEVENT
BEGIN:VEVENT
UID:kw-1623-26@kalenderwoche.info
DTSTAMP:20260423T230930Z
DTSTART;VALUE=DATE:16230626
DTEND;VALUE=DATE:16230703
SUMMARY:KW 26 (gerade)
DESCRIPTION:Kalenderwoche 26 im Jahr 1623\nMontag: 26.06.1623\nSonntag: 02.07.1623\nTyp: gerade Woche\nMehr unter: https://kalenderwoche.info/1623/kw-26
URL:https://kalenderwoche.info/1623/kw-26
CATEGORIES:Kalenderwoche
TRANSP:TRANSPARENT
END:VEVENT
BEGIN:VEVENT
UID:kw-1623-27@kalenderwoche.info
DTSTAMP:20260423T230930Z
DTSTART;VALUE=DATE:16230703
DTEND;VALUE=DATE:16230710
SUMMARY:KW 27 (ungerade)
DESCRIPTION:Kalenderwoche 27 im Jahr 1623\nMontag: 03.07.1623\nSonntag: 09.07.1623\nTyp: ungerade Woche\nMehr unter: https://kalenderwoche.info/1623/kw-27
URL:https://kalenderwoche.info/1623/kw-27
CATEGORIES:Kalenderwoche
TRANSP:TRANSPARENT
END:VEVENT
BEGIN:VEVENT
UID:kw-1623-28@kalenderwoche.info
DTSTAMP:20260423T230930Z
DTSTART;VALUE=DATE:16230710
DTEND;VALUE=DATE:16230717
SUMMARY:KW 28 (gerade)
DESCRIPTION:Kalenderwoche 28 im Jahr 1623\nMontag: 10.07.1623\nSonntag: 16.07.1623\nTyp: gerade Woche\nMehr unter: https://kalenderwoche.info/1623/kw-28
URL:https://kalenderwoche.info/1623/kw-28
CATEGORIES:Kalenderwoche
TRANSP:TRANSPARENT
END:VEVENT
BEGIN:VEVENT
UID:kw-1623-29@kalenderwoche.info
DTSTAMP:20260423T230930Z
DTSTART;VALUE=DATE:16230717
DTEND;VALUE=DATE:16230724
SUMMARY:KW 29 (ungerade)
DESCRIPTION:Kalenderwoche 29 im Jahr 1623\nMontag: 17.07.1623\nSonntag: 23.07.1623\nTyp: ungerade Woche\nMehr unter: https://kalenderwoche.info/1623/kw-29
URL:https://kalenderwoche.info/1623/kw-29
CATEGORIES:Kalenderwoche
TRANSP:TRANSPARENT
END:VEVENT
BEGIN:VEVENT
UID:kw-1623-30@kalenderwoche.info
DTSTAMP:20260423T230930Z
DTSTART;VALUE=DATE:16230724
DTEND;VALUE=DATE:16230731
SUMMARY:KW 30 (gerade)
DESCRIPTION:Kalenderwoche 30 im Jahr 1623\nMontag: 24.07.1623\nSonntag: 30.07.1623\nTyp: gerade Woche\nMehr unter: https://kalenderwoche.info/1623/kw-30
URL:https://kalenderwoche.info/1623/kw-30
CATEGORIES:Kalenderwoche
TRANSP:TRANSPARENT
END:VEVENT
BEGIN:VEVENT
UID:kw-1623-31@kalenderwoche.info
DTSTAMP:20260423T230930Z
DTSTART;VALUE=DATE:16230731
DTEND;VALUE=DATE:16230807
SUMMARY:KW 31 (ungerade)
DESCRIPTION:Kalenderwoche 31 im Jahr 1623\nMontag: 31.07.1623\nSonntag: 06.08.1623\nTyp: ungerade Woche\nMehr unter: https://kalenderwoche.info/1623/kw-31
URL:https://kalenderwoche.info/1623/kw-31
CATEGORIES:Kalenderwoche
TRANSP:TRANSPARENT
END:VEVENT
BEGIN:VEVENT
UID:kw-1623-32@kalenderwoche.info
DTSTAMP:20260423T230930Z
DTSTART;VALUE=DATE:16230807
DTEND;VALUE=DATE:16230814
SUMMARY:KW 32 (gerade)
DESCRIPTION:Kalenderwoche 32 im Jahr 1623\nMontag: 07.08.1623\nSonntag: 13.08.1623\nTyp: gerade Woche\nMehr unter: https://kalenderwoche.info/1623/kw-32
URL:https://kalenderwoche.info/1623/kw-32
CATEGORIES:Kalenderwoche
TRANSP:TRANSPARENT
END:VEVENT
BEGIN:VEVENT
UID:kw-1623-33@kalenderwoche.info
DTSTAMP:20260423T230930Z
DTSTART;VALUE=DATE:16230814
DTEND;VALUE=DATE:16230821
SUMMARY:KW 33 (ungerade)
DESCRIPTION:Kalenderwoche 33 im Jahr 1623\nMontag: 14.08.1623\nSonntag: 20.08.1623\nTyp: ungerade Woche\nMehr unter: https://kalenderwoche.info/1623/kw-33
URL:https://kalenderwoche.info/1623/kw-33
CATEGORIES:Kalenderwoche
TRANSP:TRANSPARENT
END:VEVENT
BEGIN:VEVENT
UID:kw-1623-34@kalenderwoche.info
DTSTAMP:20260423T230930Z
DTSTART;VALUE=DATE:16230821
DTEND;VALUE=DATE:16230828
SUMMARY:KW 34 (gerade)
DESCRIPTION:Kalenderwoche 34 im Jahr 1623\nMontag: 21.08.1623\nSonntag: 27.08.1623\nTyp: gerade Woche\nMehr unter: https://kalenderwoche.info/1623/kw-34
URL:https://kalenderwoche.info/1623/kw-34
CATEGORIES:Kalenderwoche
TRANSP:TRANSPARENT
END:VEVENT
BEGIN:VEVENT
UID:kw-1623-35@kalenderwoche.info
DTSTAMP:20260423T230930Z
DTSTART;VALUE=DATE:16230828
DTEND;VALUE=DATE:16230904
SUMMARY:KW 35 (ungerade)
DESCRIPTION:Kalenderwoche 35 im Jahr 1623\nMontag: 28.08.1623\nSonntag: 03.09.1623\nTyp: ungerade Woche\nMehr unter: https://kalenderwoche.info/1623/kw-35
URL:https://kalenderwoche.info/1623/kw-35
CATEGORIES:Kalenderwoche
TRANSP:TRANSPARENT
END:VEVENT
BEGIN:VEVENT
UID:kw-1623-36@kalenderwoche.info
DTSTAMP:20260423T230930Z
DTSTART;VALUE=DATE:16230904
DTEND;VALUE=DATE:16230911
SUMMARY:KW 36 (gerade)
DESCRIPTION:Kalenderwoche 36 im Jahr 1623\nMontag: 04.09.1623\nSonntag: 10.09.1623\nTyp: gerade Woche\nMehr unter: https://kalenderwoche.info/1623/kw-36
URL:https://kalenderwoche.info/1623/kw-36
CATEGORIES:Kalenderwoche
TRANSP:TRANSPARENT
END:VEVENT
BEGIN:VEVENT
UID:kw-1623-37@kalenderwoche.info
DTSTAMP:20260423T230930Z
DTSTART;VALUE=DATE:16230911
DTEND;VALUE=DATE:16230918
SUMMARY:KW 37 (ungerade)
DESCRIPTION:Kalenderwoche 37 im Jahr 1623\nMontag: 11.09.1623\nSonntag: 17.09.1623\nTyp: ungerade Woche\nMehr unter: https://kalenderwoche.info/1623/kw-37
URL:https://kalenderwoche.info/1623/kw-37
CATEGORIES:Kalenderwoche
TRANSP:TRANSPARENT
END:VEVENT
BEGIN:VEVENT
UID:kw-1623-38@kalenderwoche.info
DTSTAMP:20260423T230930Z
DTSTART;VALUE=DATE:16230918
DTEND;VALUE=DATE:16230925
SUMMARY:KW 38 (gerade)
DESCRIPTION:Kalenderwoche 38 im Jahr 1623\nMontag: 18.09.1623\nSonntag: 24.09.1623\nTyp: gerade Woche\nMehr unter: https://kalenderwoche.info/1623/kw-38
URL:https://kalenderwoche.info/1623/kw-38
CATEGORIES:Kalenderwoche
TRANSP:TRANSPARENT
END:VEVENT
BEGIN:VEVENT
UID:kw-1623-39@kalenderwoche.info
DTSTAMP:20260423T230930Z
DTSTART;VALUE=DATE:16230925
DTEND;VALUE=DATE:16231002
SUMMARY:KW 39 (ungerade)
DESCRIPTION:Kalenderwoche 39 im Jahr 1623\nMontag: 25.09.1623\nSonntag: 01.10.1623\nTyp: ungerade Woche\nMehr unter: https://kalenderwoche.info/1623/kw-39
URL:https://kalenderwoche.info/1623/kw-39
CATEGORIES:Kalenderwoche
TRANSP:TRANSPARENT
END:VEVENT
BEGIN:VEVENT
UID:kw-1623-40@kalenderwoche.info
DTSTAMP:20260423T230930Z
DTSTART;VALUE=DATE:16231002
DTEND;VALUE=DATE:16231009
SUMMARY:KW 40 (gerade)
DESCRIPTION:Kalenderwoche 40 im Jahr 1623\nMontag: 02.10.1623\nSonntag: 08.10.1623\nTyp: gerade Woche\nMehr unter: https://kalenderwoche.info/1623/kw-40
URL:https://kalenderwoche.info/1623/kw-40
CATEGORIES:Kalenderwoche
TRANSP:TRANSPARENT
END:VEVENT
BEGIN:VEVENT
UID:kw-1623-41@kalenderwoche.info
DTSTAMP:20260423T230930Z
DTSTART;VALUE=DATE:16231009
DTEND;VALUE=DATE:16231016
SUMMARY:KW 41 (ungerade)
DESCRIPTION:Kalenderwoche 41 im Jahr 1623\nMontag: 09.10.1623\nSonntag: 15.10.1623\nTyp: ungerade Woche\nMehr unter: https://kalenderwoche.info/1623/kw-41
URL:https://kalenderwoche.info/1623/kw-41
CATEGORIES:Kalenderwoche
TRANSP:TRANSPARENT
END:VEVENT
BEGIN:VEVENT
UID:kw-1623-42@kalenderwoche.info
DTSTAMP:20260423T230930Z
DTSTART;VALUE=DATE:16231016
DTEND;VALUE=DATE:16231023
SUMMARY:KW 42 (gerade)
DESCRIPTION:Kalenderwoche 42 im Jahr 1623\nMontag: 16.10.1623\nSonntag: 22.10.1623\nTyp: gerade Woche\nMehr unter: https://kalenderwoche.info/1623/kw-42
URL:https://kalenderwoche.info/1623/kw-42
CATEGORIES:Kalenderwoche
TRANSP:TRANSPARENT
END:VEVENT
BEGIN:VEVENT
UID:kw-1623-43@kalenderwoche.info
DTSTAMP:20260423T230930Z
DTSTART;VALUE=DATE:16231023
DTEND;VALUE=DATE:16231030
SUMMARY:KW 43 (ungerade)
DESCRIPTION:Kalenderwoche 43 im Jahr 1623\nMontag: 23.10.1623\nSonntag: 29.10.1623\nTyp: ungerade Woche\nMehr unter: https://kalenderwoche.info/1623/kw-43
URL:https://kalenderwoche.info/1623/kw-43
CATEGORIES:Kalenderwoche
TRANSP:TRANSPARENT
END:VEVENT
BEGIN:VEVENT
UID:kw-1623-44@kalenderwoche.info
DTSTAMP:20260423T230930Z
DTSTART;VALUE=DATE:16231030
DTEND;VALUE=DATE:16231106
SUMMARY:KW 44 (gerade)
DESCRIPTION:Kalenderwoche 44 im Jahr 1623\nMontag: 30.10.1623\nSonntag: 05.11.1623\nTyp: gerade Woche\nMehr unter: https://kalenderwoche.info/1623/kw-44
URL:https://kalenderwoche.info/1623/kw-44
CATEGORIES:Kalenderwoche
TRANSP:TRANSPARENT
END:VEVENT
BEGIN:VEVENT
UID:kw-1623-45@kalenderwoche.info
DTSTAMP:20260423T230930Z
DTSTART;VALUE=DATE:16231106
DTEND;VALUE=DATE:16231113
SUMMARY:KW 45 (ungerade)
DESCRIPTION:Kalenderwoche 45 im Jahr 1623\nMontag: 06.11.1623\nSonntag: 12.11.1623\nTyp: ungerade Woche\nMehr unter: https://kalenderwoche.info/1623/kw-45
URL:https://kalenderwoche.info/1623/kw-45
CATEGORIES:Kalenderwoche
TRANSP:TRANSPARENT
END:VEVENT
BEGIN:VEVENT
UID:kw-1623-46@kalenderwoche.info
DTSTAMP:20260423T230930Z
DTSTART;VALUE=DATE:16231113
DTEND;VALUE=DATE:16231120
SUMMARY:KW 46 (gerade)
DESCRIPTION:Kalenderwoche 46 im Jahr 1623\nMontag: 13.11.1623\nSonntag: 19.11.1623\nTyp: gerade Woche\nMehr unter: https://kalenderwoche.info/1623/kw-46
URL:https://kalenderwoche.info/1623/kw-46
CATEGORIES:Kalenderwoche
TRANSP:TRANSPARENT
END:VEVENT
BEGIN:VEVENT
UID:kw-1623-47@kalenderwoche.info
DTSTAMP:20260423T230930Z
DTSTART;VALUE=DATE:16231120
DTEND;VALUE=DATE:16231127
SUMMARY:KW 47 (ungerade)
DESCRIPTION:Kalenderwoche 47 im Jahr 1623\nMontag: 20.11.1623\nSonntag: 26.11.1623\nTyp: ungerade Woche\nMehr unter: https://kalenderwoche.info/1623/kw-47
URL:https://kalenderwoche.info/1623/kw-47
CATEGORIES:Kalenderwoche
TRANSP:TRANSPARENT
END:VEVENT
BEGIN:VEVENT
UID:kw-1623-48@kalenderwoche.info
DTSTAMP:20260423T230930Z
DTSTART;VALUE=DATE:16231127
DTEND;VALUE=DATE:16231204
SUMMARY:KW 48 (gerade)
DESCRIPTION:Kalenderwoche 48 im Jahr 1623\nMontag: 27.11.1623\nSonntag: 03.12.1623\nTyp: gerade Woche\nMehr unter: https://kalenderwoche.info/1623/kw-48
URL:https://kalenderwoche.info/1623/kw-48
CATEGORIES:Kalenderwoche
TRANSP:TRANSPARENT
END:VEVENT
BEGIN:VEVENT
UID:kw-1623-49@kalenderwoche.info
DTSTAMP:20260423T230930Z
DTSTART;VALUE=DATE:16231204
DTEND;VALUE=DATE:16231211
SUMMARY:KW 49 (ungerade)
DESCRIPTION:Kalenderwoche 49 im Jahr 1623\nMontag: 04.12.1623\nSonntag: 10.12.1623\nTyp: ungerade Woche\nMehr unter: https://kalenderwoche.info/1623/kw-49
URL:https://kalenderwoche.info/1623/kw-49
CATEGORIES:Kalenderwoche
TRANSP:TRANSPARENT
END:VEVENT
BEGIN:VEVENT
UID:kw-1623-50@kalenderwoche.info
DTSTAMP:20260423T230930Z
DTSTART;VALUE=DATE:16231211
DTEND;VALUE=DATE:16231218
SUMMARY:KW 50 (gerade)
DESCRIPTION:Kalenderwoche 50 im Jahr 1623\nMontag: 11.12.1623\nSonntag: 17.12.1623\nTyp: gerade Woche\nMehr unter: https://kalenderwoche.info/1623/kw-50
URL:https://kalenderwoche.info/1623/kw-50
CATEGORIES:Kalenderwoche
TRANSP:TRANSPARENT
END:VEVENT
BEGIN:VEVENT
UID:kw-1623-51@kalenderwoche.info
DTSTAMP:20260423T230930Z
DTSTART;VALUE=DATE:16231218
DTEND;VALUE=DATE:16231225
SUMMARY:KW 51 (ungerade)
DESCRIPTION:Kalenderwoche 51 im Jahr 1623\nMontag: 18.12.1623\nSonntag: 24.12.1623\nTyp: ungerade Woche\nMehr unter: https://kalenderwoche.info/1623/kw-51
URL:https://kalenderwoche.info/1623/kw-51
CATEGORIES:Kalenderwoche
TRANSP:TRANSPARENT
END:VEVENT
BEGIN:VEVENT
UID:kw-1623-52@kalenderwoche.info
DTSTAMP:20260423T230930Z
DTSTART;VALUE=DATE:16231225
DTEND;VALUE=DATE:16240101
SUMMARY:KW 52 (gerade)
DESCRIPTION:Kalenderwoche 52 im Jahr 1623\nMontag: 25.12.1623\nSonntag: 31.12.1623\nTyp: gerade Woche\nMehr unter: https://kalenderwoche.info/1623/kw-52
URL:https://kalenderwoche.info/1623/kw-52
CATEGORIES:Kalenderwoche
TRANSP:TRANSPARENT
END:VEVENT
END:VCALENDAR
