BEGIN:VCALENDAR
VERSION:2.0
PRODID:-//kalenderwoche.info//Kalender//DE
CALSCALE:GREGORIAN
METHOD:PUBLISH
X-WR-CALNAME:Kalenderwochen 1625
X-WR-CALDESC:Alle Kalenderwochen für das Jahr 1625
X-WR-TIMEZONE:Europe/Berlin
BEGIN:VEVENT
UID:kw-1625-1@kalenderwoche.info
DTSTAMP:20260423T200937Z
DTSTART;VALUE=DATE:16241230
DTEND;VALUE=DATE:16250106
SUMMARY:KW 1 (ungerade)
DESCRIPTION:Kalenderwoche 1 im Jahr 1625\nMontag: 30.12.1624\nSonntag: 05.01.1625\nTyp: ungerade Woche\nMehr unter: https://kalenderwoche.info/1625/kw-1
URL:https://kalenderwoche.info/1625/kw-1
CATEGORIES:Kalenderwoche
TRANSP:TRANSPARENT
END:VEVENT
BEGIN:VEVENT
UID:kw-1625-2@kalenderwoche.info
DTSTAMP:20260423T200937Z
DTSTART;VALUE=DATE:16250106
DTEND;VALUE=DATE:16250113
SUMMARY:KW 2 (gerade)
DESCRIPTION:Kalenderwoche 2 im Jahr 1625\nMontag: 06.01.1625\nSonntag: 12.01.1625\nTyp: gerade Woche\nMehr unter: https://kalenderwoche.info/1625/kw-2
URL:https://kalenderwoche.info/1625/kw-2
CATEGORIES:Kalenderwoche
TRANSP:TRANSPARENT
END:VEVENT
BEGIN:VEVENT
UID:kw-1625-3@kalenderwoche.info
DTSTAMP:20260423T200937Z
DTSTART;VALUE=DATE:16250113
DTEND;VALUE=DATE:16250120
SUMMARY:KW 3 (ungerade)
DESCRIPTION:Kalenderwoche 3 im Jahr 1625\nMontag: 13.01.1625\nSonntag: 19.01.1625\nTyp: ungerade Woche\nMehr unter: https://kalenderwoche.info/1625/kw-3
URL:https://kalenderwoche.info/1625/kw-3
CATEGORIES:Kalenderwoche
TRANSP:TRANSPARENT
END:VEVENT
BEGIN:VEVENT
UID:kw-1625-4@kalenderwoche.info
DTSTAMP:20260423T200937Z
DTSTART;VALUE=DATE:16250120
DTEND;VALUE=DATE:16250127
SUMMARY:KW 4 (gerade)
DESCRIPTION:Kalenderwoche 4 im Jahr 1625\nMontag: 20.01.1625\nSonntag: 26.01.1625\nTyp: gerade Woche\nMehr unter: https://kalenderwoche.info/1625/kw-4
URL:https://kalenderwoche.info/1625/kw-4
CATEGORIES:Kalenderwoche
TRANSP:TRANSPARENT
END:VEVENT
BEGIN:VEVENT
UID:kw-1625-5@kalenderwoche.info
DTSTAMP:20260423T200937Z
DTSTART;VALUE=DATE:16250127
DTEND;VALUE=DATE:16250203
SUMMARY:KW 5 (ungerade)
DESCRIPTION:Kalenderwoche 5 im Jahr 1625\nMontag: 27.01.1625\nSonntag: 02.02.1625\nTyp: ungerade Woche\nMehr unter: https://kalenderwoche.info/1625/kw-5
URL:https://kalenderwoche.info/1625/kw-5
CATEGORIES:Kalenderwoche
TRANSP:TRANSPARENT
END:VEVENT
BEGIN:VEVENT
UID:kw-1625-6@kalenderwoche.info
DTSTAMP:20260423T200937Z
DTSTART;VALUE=DATE:16250203
DTEND;VALUE=DATE:16250210
SUMMARY:KW 6 (gerade)
DESCRIPTION:Kalenderwoche 6 im Jahr 1625\nMontag: 03.02.1625\nSonntag: 09.02.1625\nTyp: gerade Woche\nMehr unter: https://kalenderwoche.info/1625/kw-6
URL:https://kalenderwoche.info/1625/kw-6
CATEGORIES:Kalenderwoche
TRANSP:TRANSPARENT
END:VEVENT
BEGIN:VEVENT
UID:kw-1625-7@kalenderwoche.info
DTSTAMP:20260423T200937Z
DTSTART;VALUE=DATE:16250210
DTEND;VALUE=DATE:16250217
SUMMARY:KW 7 (ungerade)
DESCRIPTION:Kalenderwoche 7 im Jahr 1625\nMontag: 10.02.1625\nSonntag: 16.02.1625\nTyp: ungerade Woche\nMehr unter: https://kalenderwoche.info/1625/kw-7
URL:https://kalenderwoche.info/1625/kw-7
CATEGORIES:Kalenderwoche
TRANSP:TRANSPARENT
END:VEVENT
BEGIN:VEVENT
UID:kw-1625-8@kalenderwoche.info
DTSTAMP:20260423T200937Z
DTSTART;VALUE=DATE:16250217
DTEND;VALUE=DATE:16250224
SUMMARY:KW 8 (gerade)
DESCRIPTION:Kalenderwoche 8 im Jahr 1625\nMontag: 17.02.1625\nSonntag: 23.02.1625\nTyp: gerade Woche\nMehr unter: https://kalenderwoche.info/1625/kw-8
URL:https://kalenderwoche.info/1625/kw-8
CATEGORIES:Kalenderwoche
TRANSP:TRANSPARENT
END:VEVENT
BEGIN:VEVENT
UID:kw-1625-9@kalenderwoche.info
DTSTAMP:20260423T200937Z
DTSTART;VALUE=DATE:16250224
DTEND;VALUE=DATE:16250303
SUMMARY:KW 9 (ungerade)
DESCRIPTION:Kalenderwoche 9 im Jahr 1625\nMontag: 24.02.1625\nSonntag: 02.03.1625\nTyp: ungerade Woche\nMehr unter: https://kalenderwoche.info/1625/kw-9
URL:https://kalenderwoche.info/1625/kw-9
CATEGORIES:Kalenderwoche
TRANSP:TRANSPARENT
END:VEVENT
BEGIN:VEVENT
UID:kw-1625-10@kalenderwoche.info
DTSTAMP:20260423T200937Z
DTSTART;VALUE=DATE:16250303
DTEND;VALUE=DATE:16250310
SUMMARY:KW 10 (gerade)
DESCRIPTION:Kalenderwoche 10 im Jahr 1625\nMontag: 03.03.1625\nSonntag: 09.03.1625\nTyp: gerade Woche\nMehr unter: https://kalenderwoche.info/1625/kw-10
URL:https://kalenderwoche.info/1625/kw-10
CATEGORIES:Kalenderwoche
TRANSP:TRANSPARENT
END:VEVENT
BEGIN:VEVENT
UID:kw-1625-11@kalenderwoche.info
DTSTAMP:20260423T200937Z
DTSTART;VALUE=DATE:16250310
DTEND;VALUE=DATE:16250317
SUMMARY:KW 11 (ungerade)
DESCRIPTION:Kalenderwoche 11 im Jahr 1625\nMontag: 10.03.1625\nSonntag: 16.03.1625\nTyp: ungerade Woche\nMehr unter: https://kalenderwoche.info/1625/kw-11
URL:https://kalenderwoche.info/1625/kw-11
CATEGORIES:Kalenderwoche
TRANSP:TRANSPARENT
END:VEVENT
BEGIN:VEVENT
UID:kw-1625-12@kalenderwoche.info
DTSTAMP:20260423T200937Z
DTSTART;VALUE=DATE:16250317
DTEND;VALUE=DATE:16250324
SUMMARY:KW 12 (gerade)
DESCRIPTION:Kalenderwoche 12 im Jahr 1625\nMontag: 17.03.1625\nSonntag: 23.03.1625\nTyp: gerade Woche\nMehr unter: https://kalenderwoche.info/1625/kw-12
URL:https://kalenderwoche.info/1625/kw-12
CATEGORIES:Kalenderwoche
TRANSP:TRANSPARENT
END:VEVENT
BEGIN:VEVENT
UID:kw-1625-13@kalenderwoche.info
DTSTAMP:20260423T200937Z
DTSTART;VALUE=DATE:16250324
DTEND;VALUE=DATE:16250331
SUMMARY:KW 13 (ungerade)
DESCRIPTION:Kalenderwoche 13 im Jahr 1625\nMontag: 24.03.1625\nSonntag: 30.03.1625\nTyp: ungerade Woche\nMehr unter: https://kalenderwoche.info/1625/kw-13
URL:https://kalenderwoche.info/1625/kw-13
CATEGORIES:Kalenderwoche
TRANSP:TRANSPARENT
END:VEVENT
BEGIN:VEVENT
UID:kw-1625-14@kalenderwoche.info
DTSTAMP:20260423T200937Z
DTSTART;VALUE=DATE:16250331
DTEND;VALUE=DATE:16250407
SUMMARY:KW 14 (gerade)
DESCRIPTION:Kalenderwoche 14 im Jahr 1625\nMontag: 31.03.1625\nSonntag: 06.04.1625\nTyp: gerade Woche\nMehr unter: https://kalenderwoche.info/1625/kw-14
URL:https://kalenderwoche.info/1625/kw-14
CATEGORIES:Kalenderwoche
TRANSP:TRANSPARENT
END:VEVENT
BEGIN:VEVENT
UID:kw-1625-15@kalenderwoche.info
DTSTAMP:20260423T200937Z
DTSTART;VALUE=DATE:16250407
DTEND;VALUE=DATE:16250414
SUMMARY:KW 15 (ungerade)
DESCRIPTION:Kalenderwoche 15 im Jahr 1625\nMontag: 07.04.1625\nSonntag: 13.04.1625\nTyp: ungerade Woche\nMehr unter: https://kalenderwoche.info/1625/kw-15
URL:https://kalenderwoche.info/1625/kw-15
CATEGORIES:Kalenderwoche
TRANSP:TRANSPARENT
END:VEVENT
BEGIN:VEVENT
UID:kw-1625-16@kalenderwoche.info
DTSTAMP:20260423T200937Z
DTSTART;VALUE=DATE:16250414
DTEND;VALUE=DATE:16250421
SUMMARY:KW 16 (gerade)
DESCRIPTION:Kalenderwoche 16 im Jahr 1625\nMontag: 14.04.1625\nSonntag: 20.04.1625\nTyp: gerade Woche\nMehr unter: https://kalenderwoche.info/1625/kw-16
URL:https://kalenderwoche.info/1625/kw-16
CATEGORIES:Kalenderwoche
TRANSP:TRANSPARENT
END:VEVENT
BEGIN:VEVENT
UID:kw-1625-17@kalenderwoche.info
DTSTAMP:20260423T200937Z
DTSTART;VALUE=DATE:16250421
DTEND;VALUE=DATE:16250428
SUMMARY:KW 17 (ungerade)
DESCRIPTION:Kalenderwoche 17 im Jahr 1625\nMontag: 21.04.1625\nSonntag: 27.04.1625\nTyp: ungerade Woche\nMehr unter: https://kalenderwoche.info/1625/kw-17
URL:https://kalenderwoche.info/1625/kw-17
CATEGORIES:Kalenderwoche
TRANSP:TRANSPARENT
END:VEVENT
BEGIN:VEVENT
UID:kw-1625-18@kalenderwoche.info
DTSTAMP:20260423T200937Z
DTSTART;VALUE=DATE:16250428
DTEND;VALUE=DATE:16250505
SUMMARY:KW 18 (gerade)
DESCRIPTION:Kalenderwoche 18 im Jahr 1625\nMontag: 28.04.1625\nSonntag: 04.05.1625\nTyp: gerade Woche\nMehr unter: https://kalenderwoche.info/1625/kw-18
URL:https://kalenderwoche.info/1625/kw-18
CATEGORIES:Kalenderwoche
TRANSP:TRANSPARENT
END:VEVENT
BEGIN:VEVENT
UID:kw-1625-19@kalenderwoche.info
DTSTAMP:20260423T200937Z
DTSTART;VALUE=DATE:16250505
DTEND;VALUE=DATE:16250512
SUMMARY:KW 19 (ungerade)
DESCRIPTION:Kalenderwoche 19 im Jahr 1625\nMontag: 05.05.1625\nSonntag: 11.05.1625\nTyp: ungerade Woche\nMehr unter: https://kalenderwoche.info/1625/kw-19
URL:https://kalenderwoche.info/1625/kw-19
CATEGORIES:Kalenderwoche
TRANSP:TRANSPARENT
END:VEVENT
BEGIN:VEVENT
UID:kw-1625-20@kalenderwoche.info
DTSTAMP:20260423T200937Z
DTSTART;VALUE=DATE:16250512
DTEND;VALUE=DATE:16250519
SUMMARY:KW 20 (gerade)
DESCRIPTION:Kalenderwoche 20 im Jahr 1625\nMontag: 12.05.1625\nSonntag: 18.05.1625\nTyp: gerade Woche\nMehr unter: https://kalenderwoche.info/1625/kw-20
URL:https://kalenderwoche.info/1625/kw-20
CATEGORIES:Kalenderwoche
TRANSP:TRANSPARENT
END:VEVENT
BEGIN:VEVENT
UID:kw-1625-21@kalenderwoche.info
DTSTAMP:20260423T200937Z
DTSTART;VALUE=DATE:16250519
DTEND;VALUE=DATE:16250526
SUMMARY:KW 21 (ungerade)
DESCRIPTION:Kalenderwoche 21 im Jahr 1625\nMontag: 19.05.1625\nSonntag: 25.05.1625\nTyp: ungerade Woche\nMehr unter: https://kalenderwoche.info/1625/kw-21
URL:https://kalenderwoche.info/1625/kw-21
CATEGORIES:Kalenderwoche
TRANSP:TRANSPARENT
END:VEVENT
BEGIN:VEVENT
UID:kw-1625-22@kalenderwoche.info
DTSTAMP:20260423T200937Z
DTSTART;VALUE=DATE:16250526
DTEND;VALUE=DATE:16250602
SUMMARY:KW 22 (gerade)
DESCRIPTION:Kalenderwoche 22 im Jahr 1625\nMontag: 26.05.1625\nSonntag: 01.06.1625\nTyp: gerade Woche\nMehr unter: https://kalenderwoche.info/1625/kw-22
URL:https://kalenderwoche.info/1625/kw-22
CATEGORIES:Kalenderwoche
TRANSP:TRANSPARENT
END:VEVENT
BEGIN:VEVENT
UID:kw-1625-23@kalenderwoche.info
DTSTAMP:20260423T200937Z
DTSTART;VALUE=DATE:16250602
DTEND;VALUE=DATE:16250609
SUMMARY:KW 23 (ungerade)
DESCRIPTION:Kalenderwoche 23 im Jahr 1625\nMontag: 02.06.1625\nSonntag: 08.06.1625\nTyp: ungerade Woche\nMehr unter: https://kalenderwoche.info/1625/kw-23
URL:https://kalenderwoche.info/1625/kw-23
CATEGORIES:Kalenderwoche
TRANSP:TRANSPARENT
END:VEVENT
BEGIN:VEVENT
UID:kw-1625-24@kalenderwoche.info
DTSTAMP:20260423T200937Z
DTSTART;VALUE=DATE:16250609
DTEND;VALUE=DATE:16250616
SUMMARY:KW 24 (gerade)
DESCRIPTION:Kalenderwoche 24 im Jahr 1625\nMontag: 09.06.1625\nSonntag: 15.06.1625\nTyp: gerade Woche\nMehr unter: https://kalenderwoche.info/1625/kw-24
URL:https://kalenderwoche.info/1625/kw-24
CATEGORIES:Kalenderwoche
TRANSP:TRANSPARENT
END:VEVENT
BEGIN:VEVENT
UID:kw-1625-25@kalenderwoche.info
DTSTAMP:20260423T200937Z
DTSTART;VALUE=DATE:16250616
DTEND;VALUE=DATE:16250623
SUMMARY:KW 25 (ungerade)
DESCRIPTION:Kalenderwoche 25 im Jahr 1625\nMontag: 16.06.1625\nSonntag: 22.06.1625\nTyp: ungerade Woche\nMehr unter: https://kalenderwoche.info/1625/kw-25
URL:https://kalenderwoche.info/1625/kw-25
CATEGORIES:Kalenderwoche
TRANSP:TRANSPARENT
END:VEVENT
BEGIN:VEVENT
UID:kw-1625-26@kalenderwoche.info
DTSTAMP:20260423T200937Z
DTSTART;VALUE=DATE:16250623
DTEND;VALUE=DATE:16250630
SUMMARY:KW 26 (gerade)
DESCRIPTION:Kalenderwoche 26 im Jahr 1625\nMontag: 23.06.1625\nSonntag: 29.06.1625\nTyp: gerade Woche\nMehr unter: https://kalenderwoche.info/1625/kw-26
URL:https://kalenderwoche.info/1625/kw-26
CATEGORIES:Kalenderwoche
TRANSP:TRANSPARENT
END:VEVENT
BEGIN:VEVENT
UID:kw-1625-27@kalenderwoche.info
DTSTAMP:20260423T200937Z
DTSTART;VALUE=DATE:16250630
DTEND;VALUE=DATE:16250707
SUMMARY:KW 27 (ungerade)
DESCRIPTION:Kalenderwoche 27 im Jahr 1625\nMontag: 30.06.1625\nSonntag: 06.07.1625\nTyp: ungerade Woche\nMehr unter: https://kalenderwoche.info/1625/kw-27
URL:https://kalenderwoche.info/1625/kw-27
CATEGORIES:Kalenderwoche
TRANSP:TRANSPARENT
END:VEVENT
BEGIN:VEVENT
UID:kw-1625-28@kalenderwoche.info
DTSTAMP:20260423T200937Z
DTSTART;VALUE=DATE:16250707
DTEND;VALUE=DATE:16250714
SUMMARY:KW 28 (gerade)
DESCRIPTION:Kalenderwoche 28 im Jahr 1625\nMontag: 07.07.1625\nSonntag: 13.07.1625\nTyp: gerade Woche\nMehr unter: https://kalenderwoche.info/1625/kw-28
URL:https://kalenderwoche.info/1625/kw-28
CATEGORIES:Kalenderwoche
TRANSP:TRANSPARENT
END:VEVENT
BEGIN:VEVENT
UID:kw-1625-29@kalenderwoche.info
DTSTAMP:20260423T200937Z
DTSTART;VALUE=DATE:16250714
DTEND;VALUE=DATE:16250721
SUMMARY:KW 29 (ungerade)
DESCRIPTION:Kalenderwoche 29 im Jahr 1625\nMontag: 14.07.1625\nSonntag: 20.07.1625\nTyp: ungerade Woche\nMehr unter: https://kalenderwoche.info/1625/kw-29
URL:https://kalenderwoche.info/1625/kw-29
CATEGORIES:Kalenderwoche
TRANSP:TRANSPARENT
END:VEVENT
BEGIN:VEVENT
UID:kw-1625-30@kalenderwoche.info
DTSTAMP:20260423T200937Z
DTSTART;VALUE=DATE:16250721
DTEND;VALUE=DATE:16250728
SUMMARY:KW 30 (gerade)
DESCRIPTION:Kalenderwoche 30 im Jahr 1625\nMontag: 21.07.1625\nSonntag: 27.07.1625\nTyp: gerade Woche\nMehr unter: https://kalenderwoche.info/1625/kw-30
URL:https://kalenderwoche.info/1625/kw-30
CATEGORIES:Kalenderwoche
TRANSP:TRANSPARENT
END:VEVENT
BEGIN:VEVENT
UID:kw-1625-31@kalenderwoche.info
DTSTAMP:20260423T200937Z
DTSTART;VALUE=DATE:16250728
DTEND;VALUE=DATE:16250804
SUMMARY:KW 31 (ungerade)
DESCRIPTION:Kalenderwoche 31 im Jahr 1625\nMontag: 28.07.1625\nSonntag: 03.08.1625\nTyp: ungerade Woche\nMehr unter: https://kalenderwoche.info/1625/kw-31
URL:https://kalenderwoche.info/1625/kw-31
CATEGORIES:Kalenderwoche
TRANSP:TRANSPARENT
END:VEVENT
BEGIN:VEVENT
UID:kw-1625-32@kalenderwoche.info
DTSTAMP:20260423T200937Z
DTSTART;VALUE=DATE:16250804
DTEND;VALUE=DATE:16250811
SUMMARY:KW 32 (gerade)
DESCRIPTION:Kalenderwoche 32 im Jahr 1625\nMontag: 04.08.1625\nSonntag: 10.08.1625\nTyp: gerade Woche\nMehr unter: https://kalenderwoche.info/1625/kw-32
URL:https://kalenderwoche.info/1625/kw-32
CATEGORIES:Kalenderwoche
TRANSP:TRANSPARENT
END:VEVENT
BEGIN:VEVENT
UID:kw-1625-33@kalenderwoche.info
DTSTAMP:20260423T200937Z
DTSTART;VALUE=DATE:16250811
DTEND;VALUE=DATE:16250818
SUMMARY:KW 33 (ungerade)
DESCRIPTION:Kalenderwoche 33 im Jahr 1625\nMontag: 11.08.1625\nSonntag: 17.08.1625\nTyp: ungerade Woche\nMehr unter: https://kalenderwoche.info/1625/kw-33
URL:https://kalenderwoche.info/1625/kw-33
CATEGORIES:Kalenderwoche
TRANSP:TRANSPARENT
END:VEVENT
BEGIN:VEVENT
UID:kw-1625-34@kalenderwoche.info
DTSTAMP:20260423T200937Z
DTSTART;VALUE=DATE:16250818
DTEND;VALUE=DATE:16250825
SUMMARY:KW 34 (gerade)
DESCRIPTION:Kalenderwoche 34 im Jahr 1625\nMontag: 18.08.1625\nSonntag: 24.08.1625\nTyp: gerade Woche\nMehr unter: https://kalenderwoche.info/1625/kw-34
URL:https://kalenderwoche.info/1625/kw-34
CATEGORIES:Kalenderwoche
TRANSP:TRANSPARENT
END:VEVENT
BEGIN:VEVENT
UID:kw-1625-35@kalenderwoche.info
DTSTAMP:20260423T200937Z
DTSTART;VALUE=DATE:16250825
DTEND;VALUE=DATE:16250901
SUMMARY:KW 35 (ungerade)
DESCRIPTION:Kalenderwoche 35 im Jahr 1625\nMontag: 25.08.1625\nSonntag: 31.08.1625\nTyp: ungerade Woche\nMehr unter: https://kalenderwoche.info/1625/kw-35
URL:https://kalenderwoche.info/1625/kw-35
CATEGORIES:Kalenderwoche
TRANSP:TRANSPARENT
END:VEVENT
BEGIN:VEVENT
UID:kw-1625-36@kalenderwoche.info
DTSTAMP:20260423T200937Z
DTSTART;VALUE=DATE:16250901
DTEND;VALUE=DATE:16250908
SUMMARY:KW 36 (gerade)
DESCRIPTION:Kalenderwoche 36 im Jahr 1625\nMontag: 01.09.1625\nSonntag: 07.09.1625\nTyp: gerade Woche\nMehr unter: https://kalenderwoche.info/1625/kw-36
URL:https://kalenderwoche.info/1625/kw-36
CATEGORIES:Kalenderwoche
TRANSP:TRANSPARENT
END:VEVENT
BEGIN:VEVENT
UID:kw-1625-37@kalenderwoche.info
DTSTAMP:20260423T200937Z
DTSTART;VALUE=DATE:16250908
DTEND;VALUE=DATE:16250915
SUMMARY:KW 37 (ungerade)
DESCRIPTION:Kalenderwoche 37 im Jahr 1625\nMontag: 08.09.1625\nSonntag: 14.09.1625\nTyp: ungerade Woche\nMehr unter: https://kalenderwoche.info/1625/kw-37
URL:https://kalenderwoche.info/1625/kw-37
CATEGORIES:Kalenderwoche
TRANSP:TRANSPARENT
END:VEVENT
BEGIN:VEVENT
UID:kw-1625-38@kalenderwoche.info
DTSTAMP:20260423T200937Z
DTSTART;VALUE=DATE:16250915
DTEND;VALUE=DATE:16250922
SUMMARY:KW 38 (gerade)
DESCRIPTION:Kalenderwoche 38 im Jahr 1625\nMontag: 15.09.1625\nSonntag: 21.09.1625\nTyp: gerade Woche\nMehr unter: https://kalenderwoche.info/1625/kw-38
URL:https://kalenderwoche.info/1625/kw-38
CATEGORIES:Kalenderwoche
TRANSP:TRANSPARENT
END:VEVENT
BEGIN:VEVENT
UID:kw-1625-39@kalenderwoche.info
DTSTAMP:20260423T200937Z
DTSTART;VALUE=DATE:16250922
DTEND;VALUE=DATE:16250929
SUMMARY:KW 39 (ungerade)
DESCRIPTION:Kalenderwoche 39 im Jahr 1625\nMontag: 22.09.1625\nSonntag: 28.09.1625\nTyp: ungerade Woche\nMehr unter: https://kalenderwoche.info/1625/kw-39
URL:https://kalenderwoche.info/1625/kw-39
CATEGORIES:Kalenderwoche
TRANSP:TRANSPARENT
END:VEVENT
BEGIN:VEVENT
UID:kw-1625-40@kalenderwoche.info
DTSTAMP:20260423T200937Z
DTSTART;VALUE=DATE:16250929
DTEND;VALUE=DATE:16251006
SUMMARY:KW 40 (gerade)
DESCRIPTION:Kalenderwoche 40 im Jahr 1625\nMontag: 29.09.1625\nSonntag: 05.10.1625\nTyp: gerade Woche\nMehr unter: https://kalenderwoche.info/1625/kw-40
URL:https://kalenderwoche.info/1625/kw-40
CATEGORIES:Kalenderwoche
TRANSP:TRANSPARENT
END:VEVENT
BEGIN:VEVENT
UID:kw-1625-41@kalenderwoche.info
DTSTAMP:20260423T200937Z
DTSTART;VALUE=DATE:16251006
DTEND;VALUE=DATE:16251013
SUMMARY:KW 41 (ungerade)
DESCRIPTION:Kalenderwoche 41 im Jahr 1625\nMontag: 06.10.1625\nSonntag: 12.10.1625\nTyp: ungerade Woche\nMehr unter: https://kalenderwoche.info/1625/kw-41
URL:https://kalenderwoche.info/1625/kw-41
CATEGORIES:Kalenderwoche
TRANSP:TRANSPARENT
END:VEVENT
BEGIN:VEVENT
UID:kw-1625-42@kalenderwoche.info
DTSTAMP:20260423T200937Z
DTSTART;VALUE=DATE:16251013
DTEND;VALUE=DATE:16251020
SUMMARY:KW 42 (gerade)
DESCRIPTION:Kalenderwoche 42 im Jahr 1625\nMontag: 13.10.1625\nSonntag: 19.10.1625\nTyp: gerade Woche\nMehr unter: https://kalenderwoche.info/1625/kw-42
URL:https://kalenderwoche.info/1625/kw-42
CATEGORIES:Kalenderwoche
TRANSP:TRANSPARENT
END:VEVENT
BEGIN:VEVENT
UID:kw-1625-43@kalenderwoche.info
DTSTAMP:20260423T200937Z
DTSTART;VALUE=DATE:16251020
DTEND;VALUE=DATE:16251027
SUMMARY:KW 43 (ungerade)
DESCRIPTION:Kalenderwoche 43 im Jahr 1625\nMontag: 20.10.1625\nSonntag: 26.10.1625\nTyp: ungerade Woche\nMehr unter: https://kalenderwoche.info/1625/kw-43
URL:https://kalenderwoche.info/1625/kw-43
CATEGORIES:Kalenderwoche
TRANSP:TRANSPARENT
END:VEVENT
BEGIN:VEVENT
UID:kw-1625-44@kalenderwoche.info
DTSTAMP:20260423T200937Z
DTSTART;VALUE=DATE:16251027
DTEND;VALUE=DATE:16251103
SUMMARY:KW 44 (gerade)
DESCRIPTION:Kalenderwoche 44 im Jahr 1625\nMontag: 27.10.1625\nSonntag: 02.11.1625\nTyp: gerade Woche\nMehr unter: https://kalenderwoche.info/1625/kw-44
URL:https://kalenderwoche.info/1625/kw-44
CATEGORIES:Kalenderwoche
TRANSP:TRANSPARENT
END:VEVENT
BEGIN:VEVENT
UID:kw-1625-45@kalenderwoche.info
DTSTAMP:20260423T200937Z
DTSTART;VALUE=DATE:16251103
DTEND;VALUE=DATE:16251110
SUMMARY:KW 45 (ungerade)
DESCRIPTION:Kalenderwoche 45 im Jahr 1625\nMontag: 03.11.1625\nSonntag: 09.11.1625\nTyp: ungerade Woche\nMehr unter: https://kalenderwoche.info/1625/kw-45
URL:https://kalenderwoche.info/1625/kw-45
CATEGORIES:Kalenderwoche
TRANSP:TRANSPARENT
END:VEVENT
BEGIN:VEVENT
UID:kw-1625-46@kalenderwoche.info
DTSTAMP:20260423T200937Z
DTSTART;VALUE=DATE:16251110
DTEND;VALUE=DATE:16251117
SUMMARY:KW 46 (gerade)
DESCRIPTION:Kalenderwoche 46 im Jahr 1625\nMontag: 10.11.1625\nSonntag: 16.11.1625\nTyp: gerade Woche\nMehr unter: https://kalenderwoche.info/1625/kw-46
URL:https://kalenderwoche.info/1625/kw-46
CATEGORIES:Kalenderwoche
TRANSP:TRANSPARENT
END:VEVENT
BEGIN:VEVENT
UID:kw-1625-47@kalenderwoche.info
DTSTAMP:20260423T200937Z
DTSTART;VALUE=DATE:16251117
DTEND;VALUE=DATE:16251124
SUMMARY:KW 47 (ungerade)
DESCRIPTION:Kalenderwoche 47 im Jahr 1625\nMontag: 17.11.1625\nSonntag: 23.11.1625\nTyp: ungerade Woche\nMehr unter: https://kalenderwoche.info/1625/kw-47
URL:https://kalenderwoche.info/1625/kw-47
CATEGORIES:Kalenderwoche
TRANSP:TRANSPARENT
END:VEVENT
BEGIN:VEVENT
UID:kw-1625-48@kalenderwoche.info
DTSTAMP:20260423T200937Z
DTSTART;VALUE=DATE:16251124
DTEND;VALUE=DATE:16251201
SUMMARY:KW 48 (gerade)
DESCRIPTION:Kalenderwoche 48 im Jahr 1625\nMontag: 24.11.1625\nSonntag: 30.11.1625\nTyp: gerade Woche\nMehr unter: https://kalenderwoche.info/1625/kw-48
URL:https://kalenderwoche.info/1625/kw-48
CATEGORIES:Kalenderwoche
TRANSP:TRANSPARENT
END:VEVENT
BEGIN:VEVENT
UID:kw-1625-49@kalenderwoche.info
DTSTAMP:20260423T200937Z
DTSTART;VALUE=DATE:16251201
DTEND;VALUE=DATE:16251208
SUMMARY:KW 49 (ungerade)
DESCRIPTION:Kalenderwoche 49 im Jahr 1625\nMontag: 01.12.1625\nSonntag: 07.12.1625\nTyp: ungerade Woche\nMehr unter: https://kalenderwoche.info/1625/kw-49
URL:https://kalenderwoche.info/1625/kw-49
CATEGORIES:Kalenderwoche
TRANSP:TRANSPARENT
END:VEVENT
BEGIN:VEVENT
UID:kw-1625-50@kalenderwoche.info
DTSTAMP:20260423T200937Z
DTSTART;VALUE=DATE:16251208
DTEND;VALUE=DATE:16251215
SUMMARY:KW 50 (gerade)
DESCRIPTION:Kalenderwoche 50 im Jahr 1625\nMontag: 08.12.1625\nSonntag: 14.12.1625\nTyp: gerade Woche\nMehr unter: https://kalenderwoche.info/1625/kw-50
URL:https://kalenderwoche.info/1625/kw-50
CATEGORIES:Kalenderwoche
TRANSP:TRANSPARENT
END:VEVENT
BEGIN:VEVENT
UID:kw-1625-51@kalenderwoche.info
DTSTAMP:20260423T200937Z
DTSTART;VALUE=DATE:16251215
DTEND;VALUE=DATE:16251222
SUMMARY:KW 51 (ungerade)
DESCRIPTION:Kalenderwoche 51 im Jahr 1625\nMontag: 15.12.1625\nSonntag: 21.12.1625\nTyp: ungerade Woche\nMehr unter: https://kalenderwoche.info/1625/kw-51
URL:https://kalenderwoche.info/1625/kw-51
CATEGORIES:Kalenderwoche
TRANSP:TRANSPARENT
END:VEVENT
BEGIN:VEVENT
UID:kw-1625-52@kalenderwoche.info
DTSTAMP:20260423T200937Z
DTSTART;VALUE=DATE:16251222
DTEND;VALUE=DATE:16251229
SUMMARY:KW 52 (gerade)
DESCRIPTION:Kalenderwoche 52 im Jahr 1625\nMontag: 22.12.1625\nSonntag: 28.12.1625\nTyp: gerade Woche\nMehr unter: https://kalenderwoche.info/1625/kw-52
URL:https://kalenderwoche.info/1625/kw-52
CATEGORIES:Kalenderwoche
TRANSP:TRANSPARENT
END:VEVENT
END:VCALENDAR
