BEGIN:VCALENDAR
VERSION:2.0
PRODID:-//kalenderwoche.info//Kalender//DE
CALSCALE:GREGORIAN
METHOD:PUBLISH
X-WR-CALNAME:Kalenderwochen 1629
X-WR-CALDESC:Alle Kalenderwochen für das Jahr 1629
X-WR-TIMEZONE:Europe/Berlin
BEGIN:VEVENT
UID:kw-1629-1@kalenderwoche.info
DTSTAMP:20260423T144709Z
DTSTART;VALUE=DATE:16290101
DTEND;VALUE=DATE:16290108
SUMMARY:KW 1 (ungerade)
DESCRIPTION:Kalenderwoche 1 im Jahr 1629\nMontag: 01.01.1629\nSonntag: 07.01.1629\nTyp: ungerade Woche\nMehr unter: https://kalenderwoche.info/1629/kw-1
URL:https://kalenderwoche.info/1629/kw-1
CATEGORIES:Kalenderwoche
TRANSP:TRANSPARENT
END:VEVENT
BEGIN:VEVENT
UID:kw-1629-2@kalenderwoche.info
DTSTAMP:20260423T144709Z
DTSTART;VALUE=DATE:16290108
DTEND;VALUE=DATE:16290115
SUMMARY:KW 2 (gerade)
DESCRIPTION:Kalenderwoche 2 im Jahr 1629\nMontag: 08.01.1629\nSonntag: 14.01.1629\nTyp: gerade Woche\nMehr unter: https://kalenderwoche.info/1629/kw-2
URL:https://kalenderwoche.info/1629/kw-2
CATEGORIES:Kalenderwoche
TRANSP:TRANSPARENT
END:VEVENT
BEGIN:VEVENT
UID:kw-1629-3@kalenderwoche.info
DTSTAMP:20260423T144709Z
DTSTART;VALUE=DATE:16290115
DTEND;VALUE=DATE:16290122
SUMMARY:KW 3 (ungerade)
DESCRIPTION:Kalenderwoche 3 im Jahr 1629\nMontag: 15.01.1629\nSonntag: 21.01.1629\nTyp: ungerade Woche\nMehr unter: https://kalenderwoche.info/1629/kw-3
URL:https://kalenderwoche.info/1629/kw-3
CATEGORIES:Kalenderwoche
TRANSP:TRANSPARENT
END:VEVENT
BEGIN:VEVENT
UID:kw-1629-4@kalenderwoche.info
DTSTAMP:20260423T144709Z
DTSTART;VALUE=DATE:16290122
DTEND;VALUE=DATE:16290129
SUMMARY:KW 4 (gerade)
DESCRIPTION:Kalenderwoche 4 im Jahr 1629\nMontag: 22.01.1629\nSonntag: 28.01.1629\nTyp: gerade Woche\nMehr unter: https://kalenderwoche.info/1629/kw-4
URL:https://kalenderwoche.info/1629/kw-4
CATEGORIES:Kalenderwoche
TRANSP:TRANSPARENT
END:VEVENT
BEGIN:VEVENT
UID:kw-1629-5@kalenderwoche.info
DTSTAMP:20260423T144709Z
DTSTART;VALUE=DATE:16290129
DTEND;VALUE=DATE:16290205
SUMMARY:KW 5 (ungerade)
DESCRIPTION:Kalenderwoche 5 im Jahr 1629\nMontag: 29.01.1629\nSonntag: 04.02.1629\nTyp: ungerade Woche\nMehr unter: https://kalenderwoche.info/1629/kw-5
URL:https://kalenderwoche.info/1629/kw-5
CATEGORIES:Kalenderwoche
TRANSP:TRANSPARENT
END:VEVENT
BEGIN:VEVENT
UID:kw-1629-6@kalenderwoche.info
DTSTAMP:20260423T144709Z
DTSTART;VALUE=DATE:16290205
DTEND;VALUE=DATE:16290212
SUMMARY:KW 6 (gerade)
DESCRIPTION:Kalenderwoche 6 im Jahr 1629\nMontag: 05.02.1629\nSonntag: 11.02.1629\nTyp: gerade Woche\nMehr unter: https://kalenderwoche.info/1629/kw-6
URL:https://kalenderwoche.info/1629/kw-6
CATEGORIES:Kalenderwoche
TRANSP:TRANSPARENT
END:VEVENT
BEGIN:VEVENT
UID:kw-1629-7@kalenderwoche.info
DTSTAMP:20260423T144709Z
DTSTART;VALUE=DATE:16290212
DTEND;VALUE=DATE:16290219
SUMMARY:KW 7 (ungerade)
DESCRIPTION:Kalenderwoche 7 im Jahr 1629\nMontag: 12.02.1629\nSonntag: 18.02.1629\nTyp: ungerade Woche\nMehr unter: https://kalenderwoche.info/1629/kw-7
URL:https://kalenderwoche.info/1629/kw-7
CATEGORIES:Kalenderwoche
TRANSP:TRANSPARENT
END:VEVENT
BEGIN:VEVENT
UID:kw-1629-8@kalenderwoche.info
DTSTAMP:20260423T144709Z
DTSTART;VALUE=DATE:16290219
DTEND;VALUE=DATE:16290226
SUMMARY:KW 8 (gerade)
DESCRIPTION:Kalenderwoche 8 im Jahr 1629\nMontag: 19.02.1629\nSonntag: 25.02.1629\nTyp: gerade Woche\nMehr unter: https://kalenderwoche.info/1629/kw-8
URL:https://kalenderwoche.info/1629/kw-8
CATEGORIES:Kalenderwoche
TRANSP:TRANSPARENT
END:VEVENT
BEGIN:VEVENT
UID:kw-1629-9@kalenderwoche.info
DTSTAMP:20260423T144709Z
DTSTART;VALUE=DATE:16290226
DTEND;VALUE=DATE:16290305
SUMMARY:KW 9 (ungerade)
DESCRIPTION:Kalenderwoche 9 im Jahr 1629\nMontag: 26.02.1629\nSonntag: 04.03.1629\nTyp: ungerade Woche\nMehr unter: https://kalenderwoche.info/1629/kw-9
URL:https://kalenderwoche.info/1629/kw-9
CATEGORIES:Kalenderwoche
TRANSP:TRANSPARENT
END:VEVENT
BEGIN:VEVENT
UID:kw-1629-10@kalenderwoche.info
DTSTAMP:20260423T144709Z
DTSTART;VALUE=DATE:16290305
DTEND;VALUE=DATE:16290312
SUMMARY:KW 10 (gerade)
DESCRIPTION:Kalenderwoche 10 im Jahr 1629\nMontag: 05.03.1629\nSonntag: 11.03.1629\nTyp: gerade Woche\nMehr unter: https://kalenderwoche.info/1629/kw-10
URL:https://kalenderwoche.info/1629/kw-10
CATEGORIES:Kalenderwoche
TRANSP:TRANSPARENT
END:VEVENT
BEGIN:VEVENT
UID:kw-1629-11@kalenderwoche.info
DTSTAMP:20260423T144709Z
DTSTART;VALUE=DATE:16290312
DTEND;VALUE=DATE:16290319
SUMMARY:KW 11 (ungerade)
DESCRIPTION:Kalenderwoche 11 im Jahr 1629\nMontag: 12.03.1629\nSonntag: 18.03.1629\nTyp: ungerade Woche\nMehr unter: https://kalenderwoche.info/1629/kw-11
URL:https://kalenderwoche.info/1629/kw-11
CATEGORIES:Kalenderwoche
TRANSP:TRANSPARENT
END:VEVENT
BEGIN:VEVENT
UID:kw-1629-12@kalenderwoche.info
DTSTAMP:20260423T144709Z
DTSTART;VALUE=DATE:16290319
DTEND;VALUE=DATE:16290326
SUMMARY:KW 12 (gerade)
DESCRIPTION:Kalenderwoche 12 im Jahr 1629\nMontag: 19.03.1629\nSonntag: 25.03.1629\nTyp: gerade Woche\nMehr unter: https://kalenderwoche.info/1629/kw-12
URL:https://kalenderwoche.info/1629/kw-12
CATEGORIES:Kalenderwoche
TRANSP:TRANSPARENT
END:VEVENT
BEGIN:VEVENT
UID:kw-1629-13@kalenderwoche.info
DTSTAMP:20260423T144709Z
DTSTART;VALUE=DATE:16290326
DTEND;VALUE=DATE:16290402
SUMMARY:KW 13 (ungerade)
DESCRIPTION:Kalenderwoche 13 im Jahr 1629\nMontag: 26.03.1629\nSonntag: 01.04.1629\nTyp: ungerade Woche\nMehr unter: https://kalenderwoche.info/1629/kw-13
URL:https://kalenderwoche.info/1629/kw-13
CATEGORIES:Kalenderwoche
TRANSP:TRANSPARENT
END:VEVENT
BEGIN:VEVENT
UID:kw-1629-14@kalenderwoche.info
DTSTAMP:20260423T144709Z
DTSTART;VALUE=DATE:16290402
DTEND;VALUE=DATE:16290409
SUMMARY:KW 14 (gerade)
DESCRIPTION:Kalenderwoche 14 im Jahr 1629\nMontag: 02.04.1629\nSonntag: 08.04.1629\nTyp: gerade Woche\nMehr unter: https://kalenderwoche.info/1629/kw-14
URL:https://kalenderwoche.info/1629/kw-14
CATEGORIES:Kalenderwoche
TRANSP:TRANSPARENT
END:VEVENT
BEGIN:VEVENT
UID:kw-1629-15@kalenderwoche.info
DTSTAMP:20260423T144709Z
DTSTART;VALUE=DATE:16290409
DTEND;VALUE=DATE:16290416
SUMMARY:KW 15 (ungerade)
DESCRIPTION:Kalenderwoche 15 im Jahr 1629\nMontag: 09.04.1629\nSonntag: 15.04.1629\nTyp: ungerade Woche\nMehr unter: https://kalenderwoche.info/1629/kw-15
URL:https://kalenderwoche.info/1629/kw-15
CATEGORIES:Kalenderwoche
TRANSP:TRANSPARENT
END:VEVENT
BEGIN:VEVENT
UID:kw-1629-16@kalenderwoche.info
DTSTAMP:20260423T144709Z
DTSTART;VALUE=DATE:16290416
DTEND;VALUE=DATE:16290423
SUMMARY:KW 16 (gerade)
DESCRIPTION:Kalenderwoche 16 im Jahr 1629\nMontag: 16.04.1629\nSonntag: 22.04.1629\nTyp: gerade Woche\nMehr unter: https://kalenderwoche.info/1629/kw-16
URL:https://kalenderwoche.info/1629/kw-16
CATEGORIES:Kalenderwoche
TRANSP:TRANSPARENT
END:VEVENT
BEGIN:VEVENT
UID:kw-1629-17@kalenderwoche.info
DTSTAMP:20260423T144709Z
DTSTART;VALUE=DATE:16290423
DTEND;VALUE=DATE:16290430
SUMMARY:KW 17 (ungerade)
DESCRIPTION:Kalenderwoche 17 im Jahr 1629\nMontag: 23.04.1629\nSonntag: 29.04.1629\nTyp: ungerade Woche\nMehr unter: https://kalenderwoche.info/1629/kw-17
URL:https://kalenderwoche.info/1629/kw-17
CATEGORIES:Kalenderwoche
TRANSP:TRANSPARENT
END:VEVENT
BEGIN:VEVENT
UID:kw-1629-18@kalenderwoche.info
DTSTAMP:20260423T144709Z
DTSTART;VALUE=DATE:16290430
DTEND;VALUE=DATE:16290507
SUMMARY:KW 18 (gerade)
DESCRIPTION:Kalenderwoche 18 im Jahr 1629\nMontag: 30.04.1629\nSonntag: 06.05.1629\nTyp: gerade Woche\nMehr unter: https://kalenderwoche.info/1629/kw-18
URL:https://kalenderwoche.info/1629/kw-18
CATEGORIES:Kalenderwoche
TRANSP:TRANSPARENT
END:VEVENT
BEGIN:VEVENT
UID:kw-1629-19@kalenderwoche.info
DTSTAMP:20260423T144709Z
DTSTART;VALUE=DATE:16290507
DTEND;VALUE=DATE:16290514
SUMMARY:KW 19 (ungerade)
DESCRIPTION:Kalenderwoche 19 im Jahr 1629\nMontag: 07.05.1629\nSonntag: 13.05.1629\nTyp: ungerade Woche\nMehr unter: https://kalenderwoche.info/1629/kw-19
URL:https://kalenderwoche.info/1629/kw-19
CATEGORIES:Kalenderwoche
TRANSP:TRANSPARENT
END:VEVENT
BEGIN:VEVENT
UID:kw-1629-20@kalenderwoche.info
DTSTAMP:20260423T144709Z
DTSTART;VALUE=DATE:16290514
DTEND;VALUE=DATE:16290521
SUMMARY:KW 20 (gerade)
DESCRIPTION:Kalenderwoche 20 im Jahr 1629\nMontag: 14.05.1629\nSonntag: 20.05.1629\nTyp: gerade Woche\nMehr unter: https://kalenderwoche.info/1629/kw-20
URL:https://kalenderwoche.info/1629/kw-20
CATEGORIES:Kalenderwoche
TRANSP:TRANSPARENT
END:VEVENT
BEGIN:VEVENT
UID:kw-1629-21@kalenderwoche.info
DTSTAMP:20260423T144709Z
DTSTART;VALUE=DATE:16290521
DTEND;VALUE=DATE:16290528
SUMMARY:KW 21 (ungerade)
DESCRIPTION:Kalenderwoche 21 im Jahr 1629\nMontag: 21.05.1629\nSonntag: 27.05.1629\nTyp: ungerade Woche\nMehr unter: https://kalenderwoche.info/1629/kw-21
URL:https://kalenderwoche.info/1629/kw-21
CATEGORIES:Kalenderwoche
TRANSP:TRANSPARENT
END:VEVENT
BEGIN:VEVENT
UID:kw-1629-22@kalenderwoche.info
DTSTAMP:20260423T144709Z
DTSTART;VALUE=DATE:16290528
DTEND;VALUE=DATE:16290604
SUMMARY:KW 22 (gerade)
DESCRIPTION:Kalenderwoche 22 im Jahr 1629\nMontag: 28.05.1629\nSonntag: 03.06.1629\nTyp: gerade Woche\nMehr unter: https://kalenderwoche.info/1629/kw-22
URL:https://kalenderwoche.info/1629/kw-22
CATEGORIES:Kalenderwoche
TRANSP:TRANSPARENT
END:VEVENT
BEGIN:VEVENT
UID:kw-1629-23@kalenderwoche.info
DTSTAMP:20260423T144709Z
DTSTART;VALUE=DATE:16290604
DTEND;VALUE=DATE:16290611
SUMMARY:KW 23 (ungerade)
DESCRIPTION:Kalenderwoche 23 im Jahr 1629\nMontag: 04.06.1629\nSonntag: 10.06.1629\nTyp: ungerade Woche\nMehr unter: https://kalenderwoche.info/1629/kw-23
URL:https://kalenderwoche.info/1629/kw-23
CATEGORIES:Kalenderwoche
TRANSP:TRANSPARENT
END:VEVENT
BEGIN:VEVENT
UID:kw-1629-24@kalenderwoche.info
DTSTAMP:20260423T144709Z
DTSTART;VALUE=DATE:16290611
DTEND;VALUE=DATE:16290618
SUMMARY:KW 24 (gerade)
DESCRIPTION:Kalenderwoche 24 im Jahr 1629\nMontag: 11.06.1629\nSonntag: 17.06.1629\nTyp: gerade Woche\nMehr unter: https://kalenderwoche.info/1629/kw-24
URL:https://kalenderwoche.info/1629/kw-24
CATEGORIES:Kalenderwoche
TRANSP:TRANSPARENT
END:VEVENT
BEGIN:VEVENT
UID:kw-1629-25@kalenderwoche.info
DTSTAMP:20260423T144709Z
DTSTART;VALUE=DATE:16290618
DTEND;VALUE=DATE:16290625
SUMMARY:KW 25 (ungerade)
DESCRIPTION:Kalenderwoche 25 im Jahr 1629\nMontag: 18.06.1629\nSonntag: 24.06.1629\nTyp: ungerade Woche\nMehr unter: https://kalenderwoche.info/1629/kw-25
URL:https://kalenderwoche.info/1629/kw-25
CATEGORIES:Kalenderwoche
TRANSP:TRANSPARENT
END:VEVENT
BEGIN:VEVENT
UID:kw-1629-26@kalenderwoche.info
DTSTAMP:20260423T144709Z
DTSTART;VALUE=DATE:16290625
DTEND;VALUE=DATE:16290702
SUMMARY:KW 26 (gerade)
DESCRIPTION:Kalenderwoche 26 im Jahr 1629\nMontag: 25.06.1629\nSonntag: 01.07.1629\nTyp: gerade Woche\nMehr unter: https://kalenderwoche.info/1629/kw-26
URL:https://kalenderwoche.info/1629/kw-26
CATEGORIES:Kalenderwoche
TRANSP:TRANSPARENT
END:VEVENT
BEGIN:VEVENT
UID:kw-1629-27@kalenderwoche.info
DTSTAMP:20260423T144709Z
DTSTART;VALUE=DATE:16290702
DTEND;VALUE=DATE:16290709
SUMMARY:KW 27 (ungerade)
DESCRIPTION:Kalenderwoche 27 im Jahr 1629\nMontag: 02.07.1629\nSonntag: 08.07.1629\nTyp: ungerade Woche\nMehr unter: https://kalenderwoche.info/1629/kw-27
URL:https://kalenderwoche.info/1629/kw-27
CATEGORIES:Kalenderwoche
TRANSP:TRANSPARENT
END:VEVENT
BEGIN:VEVENT
UID:kw-1629-28@kalenderwoche.info
DTSTAMP:20260423T144709Z
DTSTART;VALUE=DATE:16290709
DTEND;VALUE=DATE:16290716
SUMMARY:KW 28 (gerade)
DESCRIPTION:Kalenderwoche 28 im Jahr 1629\nMontag: 09.07.1629\nSonntag: 15.07.1629\nTyp: gerade Woche\nMehr unter: https://kalenderwoche.info/1629/kw-28
URL:https://kalenderwoche.info/1629/kw-28
CATEGORIES:Kalenderwoche
TRANSP:TRANSPARENT
END:VEVENT
BEGIN:VEVENT
UID:kw-1629-29@kalenderwoche.info
DTSTAMP:20260423T144709Z
DTSTART;VALUE=DATE:16290716
DTEND;VALUE=DATE:16290723
SUMMARY:KW 29 (ungerade)
DESCRIPTION:Kalenderwoche 29 im Jahr 1629\nMontag: 16.07.1629\nSonntag: 22.07.1629\nTyp: ungerade Woche\nMehr unter: https://kalenderwoche.info/1629/kw-29
URL:https://kalenderwoche.info/1629/kw-29
CATEGORIES:Kalenderwoche
TRANSP:TRANSPARENT
END:VEVENT
BEGIN:VEVENT
UID:kw-1629-30@kalenderwoche.info
DTSTAMP:20260423T144709Z
DTSTART;VALUE=DATE:16290723
DTEND;VALUE=DATE:16290730
SUMMARY:KW 30 (gerade)
DESCRIPTION:Kalenderwoche 30 im Jahr 1629\nMontag: 23.07.1629\nSonntag: 29.07.1629\nTyp: gerade Woche\nMehr unter: https://kalenderwoche.info/1629/kw-30
URL:https://kalenderwoche.info/1629/kw-30
CATEGORIES:Kalenderwoche
TRANSP:TRANSPARENT
END:VEVENT
BEGIN:VEVENT
UID:kw-1629-31@kalenderwoche.info
DTSTAMP:20260423T144709Z
DTSTART;VALUE=DATE:16290730
DTEND;VALUE=DATE:16290806
SUMMARY:KW 31 (ungerade)
DESCRIPTION:Kalenderwoche 31 im Jahr 1629\nMontag: 30.07.1629\nSonntag: 05.08.1629\nTyp: ungerade Woche\nMehr unter: https://kalenderwoche.info/1629/kw-31
URL:https://kalenderwoche.info/1629/kw-31
CATEGORIES:Kalenderwoche
TRANSP:TRANSPARENT
END:VEVENT
BEGIN:VEVENT
UID:kw-1629-32@kalenderwoche.info
DTSTAMP:20260423T144709Z
DTSTART;VALUE=DATE:16290806
DTEND;VALUE=DATE:16290813
SUMMARY:KW 32 (gerade)
DESCRIPTION:Kalenderwoche 32 im Jahr 1629\nMontag: 06.08.1629\nSonntag: 12.08.1629\nTyp: gerade Woche\nMehr unter: https://kalenderwoche.info/1629/kw-32
URL:https://kalenderwoche.info/1629/kw-32
CATEGORIES:Kalenderwoche
TRANSP:TRANSPARENT
END:VEVENT
BEGIN:VEVENT
UID:kw-1629-33@kalenderwoche.info
DTSTAMP:20260423T144709Z
DTSTART;VALUE=DATE:16290813
DTEND;VALUE=DATE:16290820
SUMMARY:KW 33 (ungerade)
DESCRIPTION:Kalenderwoche 33 im Jahr 1629\nMontag: 13.08.1629\nSonntag: 19.08.1629\nTyp: ungerade Woche\nMehr unter: https://kalenderwoche.info/1629/kw-33
URL:https://kalenderwoche.info/1629/kw-33
CATEGORIES:Kalenderwoche
TRANSP:TRANSPARENT
END:VEVENT
BEGIN:VEVENT
UID:kw-1629-34@kalenderwoche.info
DTSTAMP:20260423T144709Z
DTSTART;VALUE=DATE:16290820
DTEND;VALUE=DATE:16290827
SUMMARY:KW 34 (gerade)
DESCRIPTION:Kalenderwoche 34 im Jahr 1629\nMontag: 20.08.1629\nSonntag: 26.08.1629\nTyp: gerade Woche\nMehr unter: https://kalenderwoche.info/1629/kw-34
URL:https://kalenderwoche.info/1629/kw-34
CATEGORIES:Kalenderwoche
TRANSP:TRANSPARENT
END:VEVENT
BEGIN:VEVENT
UID:kw-1629-35@kalenderwoche.info
DTSTAMP:20260423T144709Z
DTSTART;VALUE=DATE:16290827
DTEND;VALUE=DATE:16290903
SUMMARY:KW 35 (ungerade)
DESCRIPTION:Kalenderwoche 35 im Jahr 1629\nMontag: 27.08.1629\nSonntag: 02.09.1629\nTyp: ungerade Woche\nMehr unter: https://kalenderwoche.info/1629/kw-35
URL:https://kalenderwoche.info/1629/kw-35
CATEGORIES:Kalenderwoche
TRANSP:TRANSPARENT
END:VEVENT
BEGIN:VEVENT
UID:kw-1629-36@kalenderwoche.info
DTSTAMP:20260423T144709Z
DTSTART;VALUE=DATE:16290903
DTEND;VALUE=DATE:16290910
SUMMARY:KW 36 (gerade)
DESCRIPTION:Kalenderwoche 36 im Jahr 1629\nMontag: 03.09.1629\nSonntag: 09.09.1629\nTyp: gerade Woche\nMehr unter: https://kalenderwoche.info/1629/kw-36
URL:https://kalenderwoche.info/1629/kw-36
CATEGORIES:Kalenderwoche
TRANSP:TRANSPARENT
END:VEVENT
BEGIN:VEVENT
UID:kw-1629-37@kalenderwoche.info
DTSTAMP:20260423T144709Z
DTSTART;VALUE=DATE:16290910
DTEND;VALUE=DATE:16290917
SUMMARY:KW 37 (ungerade)
DESCRIPTION:Kalenderwoche 37 im Jahr 1629\nMontag: 10.09.1629\nSonntag: 16.09.1629\nTyp: ungerade Woche\nMehr unter: https://kalenderwoche.info/1629/kw-37
URL:https://kalenderwoche.info/1629/kw-37
CATEGORIES:Kalenderwoche
TRANSP:TRANSPARENT
END:VEVENT
BEGIN:VEVENT
UID:kw-1629-38@kalenderwoche.info
DTSTAMP:20260423T144709Z
DTSTART;VALUE=DATE:16290917
DTEND;VALUE=DATE:16290924
SUMMARY:KW 38 (gerade)
DESCRIPTION:Kalenderwoche 38 im Jahr 1629\nMontag: 17.09.1629\nSonntag: 23.09.1629\nTyp: gerade Woche\nMehr unter: https://kalenderwoche.info/1629/kw-38
URL:https://kalenderwoche.info/1629/kw-38
CATEGORIES:Kalenderwoche
TRANSP:TRANSPARENT
END:VEVENT
BEGIN:VEVENT
UID:kw-1629-39@kalenderwoche.info
DTSTAMP:20260423T144709Z
DTSTART;VALUE=DATE:16290924
DTEND;VALUE=DATE:16291001
SUMMARY:KW 39 (ungerade)
DESCRIPTION:Kalenderwoche 39 im Jahr 1629\nMontag: 24.09.1629\nSonntag: 30.09.1629\nTyp: ungerade Woche\nMehr unter: https://kalenderwoche.info/1629/kw-39
URL:https://kalenderwoche.info/1629/kw-39
CATEGORIES:Kalenderwoche
TRANSP:TRANSPARENT
END:VEVENT
BEGIN:VEVENT
UID:kw-1629-40@kalenderwoche.info
DTSTAMP:20260423T144709Z
DTSTART;VALUE=DATE:16291001
DTEND;VALUE=DATE:16291008
SUMMARY:KW 40 (gerade)
DESCRIPTION:Kalenderwoche 40 im Jahr 1629\nMontag: 01.10.1629\nSonntag: 07.10.1629\nTyp: gerade Woche\nMehr unter: https://kalenderwoche.info/1629/kw-40
URL:https://kalenderwoche.info/1629/kw-40
CATEGORIES:Kalenderwoche
TRANSP:TRANSPARENT
END:VEVENT
BEGIN:VEVENT
UID:kw-1629-41@kalenderwoche.info
DTSTAMP:20260423T144709Z
DTSTART;VALUE=DATE:16291008
DTEND;VALUE=DATE:16291015
SUMMARY:KW 41 (ungerade)
DESCRIPTION:Kalenderwoche 41 im Jahr 1629\nMontag: 08.10.1629\nSonntag: 14.10.1629\nTyp: ungerade Woche\nMehr unter: https://kalenderwoche.info/1629/kw-41
URL:https://kalenderwoche.info/1629/kw-41
CATEGORIES:Kalenderwoche
TRANSP:TRANSPARENT
END:VEVENT
BEGIN:VEVENT
UID:kw-1629-42@kalenderwoche.info
DTSTAMP:20260423T144709Z
DTSTART;VALUE=DATE:16291015
DTEND;VALUE=DATE:16291022
SUMMARY:KW 42 (gerade)
DESCRIPTION:Kalenderwoche 42 im Jahr 1629\nMontag: 15.10.1629\nSonntag: 21.10.1629\nTyp: gerade Woche\nMehr unter: https://kalenderwoche.info/1629/kw-42
URL:https://kalenderwoche.info/1629/kw-42
CATEGORIES:Kalenderwoche
TRANSP:TRANSPARENT
END:VEVENT
BEGIN:VEVENT
UID:kw-1629-43@kalenderwoche.info
DTSTAMP:20260423T144709Z
DTSTART;VALUE=DATE:16291022
DTEND;VALUE=DATE:16291029
SUMMARY:KW 43 (ungerade)
DESCRIPTION:Kalenderwoche 43 im Jahr 1629\nMontag: 22.10.1629\nSonntag: 28.10.1629\nTyp: ungerade Woche\nMehr unter: https://kalenderwoche.info/1629/kw-43
URL:https://kalenderwoche.info/1629/kw-43
CATEGORIES:Kalenderwoche
TRANSP:TRANSPARENT
END:VEVENT
BEGIN:VEVENT
UID:kw-1629-44@kalenderwoche.info
DTSTAMP:20260423T144709Z
DTSTART;VALUE=DATE:16291029
DTEND;VALUE=DATE:16291105
SUMMARY:KW 44 (gerade)
DESCRIPTION:Kalenderwoche 44 im Jahr 1629\nMontag: 29.10.1629\nSonntag: 04.11.1629\nTyp: gerade Woche\nMehr unter: https://kalenderwoche.info/1629/kw-44
URL:https://kalenderwoche.info/1629/kw-44
CATEGORIES:Kalenderwoche
TRANSP:TRANSPARENT
END:VEVENT
BEGIN:VEVENT
UID:kw-1629-45@kalenderwoche.info
DTSTAMP:20260423T144709Z
DTSTART;VALUE=DATE:16291105
DTEND;VALUE=DATE:16291112
SUMMARY:KW 45 (ungerade)
DESCRIPTION:Kalenderwoche 45 im Jahr 1629\nMontag: 05.11.1629\nSonntag: 11.11.1629\nTyp: ungerade Woche\nMehr unter: https://kalenderwoche.info/1629/kw-45
URL:https://kalenderwoche.info/1629/kw-45
CATEGORIES:Kalenderwoche
TRANSP:TRANSPARENT
END:VEVENT
BEGIN:VEVENT
UID:kw-1629-46@kalenderwoche.info
DTSTAMP:20260423T144709Z
DTSTART;VALUE=DATE:16291112
DTEND;VALUE=DATE:16291119
SUMMARY:KW 46 (gerade)
DESCRIPTION:Kalenderwoche 46 im Jahr 1629\nMontag: 12.11.1629\nSonntag: 18.11.1629\nTyp: gerade Woche\nMehr unter: https://kalenderwoche.info/1629/kw-46
URL:https://kalenderwoche.info/1629/kw-46
CATEGORIES:Kalenderwoche
TRANSP:TRANSPARENT
END:VEVENT
BEGIN:VEVENT
UID:kw-1629-47@kalenderwoche.info
DTSTAMP:20260423T144709Z
DTSTART;VALUE=DATE:16291119
DTEND;VALUE=DATE:16291126
SUMMARY:KW 47 (ungerade)
DESCRIPTION:Kalenderwoche 47 im Jahr 1629\nMontag: 19.11.1629\nSonntag: 25.11.1629\nTyp: ungerade Woche\nMehr unter: https://kalenderwoche.info/1629/kw-47
URL:https://kalenderwoche.info/1629/kw-47
CATEGORIES:Kalenderwoche
TRANSP:TRANSPARENT
END:VEVENT
BEGIN:VEVENT
UID:kw-1629-48@kalenderwoche.info
DTSTAMP:20260423T144709Z
DTSTART;VALUE=DATE:16291126
DTEND;VALUE=DATE:16291203
SUMMARY:KW 48 (gerade)
DESCRIPTION:Kalenderwoche 48 im Jahr 1629\nMontag: 26.11.1629\nSonntag: 02.12.1629\nTyp: gerade Woche\nMehr unter: https://kalenderwoche.info/1629/kw-48
URL:https://kalenderwoche.info/1629/kw-48
CATEGORIES:Kalenderwoche
TRANSP:TRANSPARENT
END:VEVENT
BEGIN:VEVENT
UID:kw-1629-49@kalenderwoche.info
DTSTAMP:20260423T144709Z
DTSTART;VALUE=DATE:16291203
DTEND;VALUE=DATE:16291210
SUMMARY:KW 49 (ungerade)
DESCRIPTION:Kalenderwoche 49 im Jahr 1629\nMontag: 03.12.1629\nSonntag: 09.12.1629\nTyp: ungerade Woche\nMehr unter: https://kalenderwoche.info/1629/kw-49
URL:https://kalenderwoche.info/1629/kw-49
CATEGORIES:Kalenderwoche
TRANSP:TRANSPARENT
END:VEVENT
BEGIN:VEVENT
UID:kw-1629-50@kalenderwoche.info
DTSTAMP:20260423T144709Z
DTSTART;VALUE=DATE:16291210
DTEND;VALUE=DATE:16291217
SUMMARY:KW 50 (gerade)
DESCRIPTION:Kalenderwoche 50 im Jahr 1629\nMontag: 10.12.1629\nSonntag: 16.12.1629\nTyp: gerade Woche\nMehr unter: https://kalenderwoche.info/1629/kw-50
URL:https://kalenderwoche.info/1629/kw-50
CATEGORIES:Kalenderwoche
TRANSP:TRANSPARENT
END:VEVENT
BEGIN:VEVENT
UID:kw-1629-51@kalenderwoche.info
DTSTAMP:20260423T144709Z
DTSTART;VALUE=DATE:16291217
DTEND;VALUE=DATE:16291224
SUMMARY:KW 51 (ungerade)
DESCRIPTION:Kalenderwoche 51 im Jahr 1629\nMontag: 17.12.1629\nSonntag: 23.12.1629\nTyp: ungerade Woche\nMehr unter: https://kalenderwoche.info/1629/kw-51
URL:https://kalenderwoche.info/1629/kw-51
CATEGORIES:Kalenderwoche
TRANSP:TRANSPARENT
END:VEVENT
BEGIN:VEVENT
UID:kw-1629-52@kalenderwoche.info
DTSTAMP:20260423T144709Z
DTSTART;VALUE=DATE:16291224
DTEND;VALUE=DATE:16291231
SUMMARY:KW 52 (gerade)
DESCRIPTION:Kalenderwoche 52 im Jahr 1629\nMontag: 24.12.1629\nSonntag: 30.12.1629\nTyp: gerade Woche\nMehr unter: https://kalenderwoche.info/1629/kw-52
URL:https://kalenderwoche.info/1629/kw-52
CATEGORIES:Kalenderwoche
TRANSP:TRANSPARENT
END:VEVENT
END:VCALENDAR
