BEGIN:VCALENDAR
VERSION:2.0
PRODID:-//kalenderwoche.info//Kalender//DE
CALSCALE:GREGORIAN
METHOD:PUBLISH
X-WR-CALNAME:Kalenderwochen 1641
X-WR-CALDESC:Alle Kalenderwochen für das Jahr 1641
X-WR-TIMEZONE:Europe/Berlin
BEGIN:VEVENT
UID:kw-1641-1@kalenderwoche.info
DTSTAMP:20260422T220403Z
DTSTART;VALUE=DATE:16401231
DTEND;VALUE=DATE:16410107
SUMMARY:KW 1 (ungerade)
DESCRIPTION:Kalenderwoche 1 im Jahr 1641\nMontag: 31.12.1640\nSonntag: 06.01.1641\nTyp: ungerade Woche\nMehr unter: https://kalenderwoche.info/1641/kw-1
URL:https://kalenderwoche.info/1641/kw-1
CATEGORIES:Kalenderwoche
TRANSP:TRANSPARENT
END:VEVENT
BEGIN:VEVENT
UID:kw-1641-2@kalenderwoche.info
DTSTAMP:20260422T220403Z
DTSTART;VALUE=DATE:16410107
DTEND;VALUE=DATE:16410114
SUMMARY:KW 2 (gerade)
DESCRIPTION:Kalenderwoche 2 im Jahr 1641\nMontag: 07.01.1641\nSonntag: 13.01.1641\nTyp: gerade Woche\nMehr unter: https://kalenderwoche.info/1641/kw-2
URL:https://kalenderwoche.info/1641/kw-2
CATEGORIES:Kalenderwoche
TRANSP:TRANSPARENT
END:VEVENT
BEGIN:VEVENT
UID:kw-1641-3@kalenderwoche.info
DTSTAMP:20260422T220403Z
DTSTART;VALUE=DATE:16410114
DTEND;VALUE=DATE:16410121
SUMMARY:KW 3 (ungerade)
DESCRIPTION:Kalenderwoche 3 im Jahr 1641\nMontag: 14.01.1641\nSonntag: 20.01.1641\nTyp: ungerade Woche\nMehr unter: https://kalenderwoche.info/1641/kw-3
URL:https://kalenderwoche.info/1641/kw-3
CATEGORIES:Kalenderwoche
TRANSP:TRANSPARENT
END:VEVENT
BEGIN:VEVENT
UID:kw-1641-4@kalenderwoche.info
DTSTAMP:20260422T220403Z
DTSTART;VALUE=DATE:16410121
DTEND;VALUE=DATE:16410128
SUMMARY:KW 4 (gerade)
DESCRIPTION:Kalenderwoche 4 im Jahr 1641\nMontag: 21.01.1641\nSonntag: 27.01.1641\nTyp: gerade Woche\nMehr unter: https://kalenderwoche.info/1641/kw-4
URL:https://kalenderwoche.info/1641/kw-4
CATEGORIES:Kalenderwoche
TRANSP:TRANSPARENT
END:VEVENT
BEGIN:VEVENT
UID:kw-1641-5@kalenderwoche.info
DTSTAMP:20260422T220403Z
DTSTART;VALUE=DATE:16410128
DTEND;VALUE=DATE:16410204
SUMMARY:KW 5 (ungerade)
DESCRIPTION:Kalenderwoche 5 im Jahr 1641\nMontag: 28.01.1641\nSonntag: 03.02.1641\nTyp: ungerade Woche\nMehr unter: https://kalenderwoche.info/1641/kw-5
URL:https://kalenderwoche.info/1641/kw-5
CATEGORIES:Kalenderwoche
TRANSP:TRANSPARENT
END:VEVENT
BEGIN:VEVENT
UID:kw-1641-6@kalenderwoche.info
DTSTAMP:20260422T220403Z
DTSTART;VALUE=DATE:16410204
DTEND;VALUE=DATE:16410211
SUMMARY:KW 6 (gerade)
DESCRIPTION:Kalenderwoche 6 im Jahr 1641\nMontag: 04.02.1641\nSonntag: 10.02.1641\nTyp: gerade Woche\nMehr unter: https://kalenderwoche.info/1641/kw-6
URL:https://kalenderwoche.info/1641/kw-6
CATEGORIES:Kalenderwoche
TRANSP:TRANSPARENT
END:VEVENT
BEGIN:VEVENT
UID:kw-1641-7@kalenderwoche.info
DTSTAMP:20260422T220403Z
DTSTART;VALUE=DATE:16410211
DTEND;VALUE=DATE:16410218
SUMMARY:KW 7 (ungerade)
DESCRIPTION:Kalenderwoche 7 im Jahr 1641\nMontag: 11.02.1641\nSonntag: 17.02.1641\nTyp: ungerade Woche\nMehr unter: https://kalenderwoche.info/1641/kw-7
URL:https://kalenderwoche.info/1641/kw-7
CATEGORIES:Kalenderwoche
TRANSP:TRANSPARENT
END:VEVENT
BEGIN:VEVENT
UID:kw-1641-8@kalenderwoche.info
DTSTAMP:20260422T220403Z
DTSTART;VALUE=DATE:16410218
DTEND;VALUE=DATE:16410225
SUMMARY:KW 8 (gerade)
DESCRIPTION:Kalenderwoche 8 im Jahr 1641\nMontag: 18.02.1641\nSonntag: 24.02.1641\nTyp: gerade Woche\nMehr unter: https://kalenderwoche.info/1641/kw-8
URL:https://kalenderwoche.info/1641/kw-8
CATEGORIES:Kalenderwoche
TRANSP:TRANSPARENT
END:VEVENT
BEGIN:VEVENT
UID:kw-1641-9@kalenderwoche.info
DTSTAMP:20260422T220403Z
DTSTART;VALUE=DATE:16410225
DTEND;VALUE=DATE:16410304
SUMMARY:KW 9 (ungerade)
DESCRIPTION:Kalenderwoche 9 im Jahr 1641\nMontag: 25.02.1641\nSonntag: 03.03.1641\nTyp: ungerade Woche\nMehr unter: https://kalenderwoche.info/1641/kw-9
URL:https://kalenderwoche.info/1641/kw-9
CATEGORIES:Kalenderwoche
TRANSP:TRANSPARENT
END:VEVENT
BEGIN:VEVENT
UID:kw-1641-10@kalenderwoche.info
DTSTAMP:20260422T220403Z
DTSTART;VALUE=DATE:16410304
DTEND;VALUE=DATE:16410311
SUMMARY:KW 10 (gerade)
DESCRIPTION:Kalenderwoche 10 im Jahr 1641\nMontag: 04.03.1641\nSonntag: 10.03.1641\nTyp: gerade Woche\nMehr unter: https://kalenderwoche.info/1641/kw-10
URL:https://kalenderwoche.info/1641/kw-10
CATEGORIES:Kalenderwoche
TRANSP:TRANSPARENT
END:VEVENT
BEGIN:VEVENT
UID:kw-1641-11@kalenderwoche.info
DTSTAMP:20260422T220403Z
DTSTART;VALUE=DATE:16410311
DTEND;VALUE=DATE:16410318
SUMMARY:KW 11 (ungerade)
DESCRIPTION:Kalenderwoche 11 im Jahr 1641\nMontag: 11.03.1641\nSonntag: 17.03.1641\nTyp: ungerade Woche\nMehr unter: https://kalenderwoche.info/1641/kw-11
URL:https://kalenderwoche.info/1641/kw-11
CATEGORIES:Kalenderwoche
TRANSP:TRANSPARENT
END:VEVENT
BEGIN:VEVENT
UID:kw-1641-12@kalenderwoche.info
DTSTAMP:20260422T220403Z
DTSTART;VALUE=DATE:16410318
DTEND;VALUE=DATE:16410325
SUMMARY:KW 12 (gerade)
DESCRIPTION:Kalenderwoche 12 im Jahr 1641\nMontag: 18.03.1641\nSonntag: 24.03.1641\nTyp: gerade Woche\nMehr unter: https://kalenderwoche.info/1641/kw-12
URL:https://kalenderwoche.info/1641/kw-12
CATEGORIES:Kalenderwoche
TRANSP:TRANSPARENT
END:VEVENT
BEGIN:VEVENT
UID:kw-1641-13@kalenderwoche.info
DTSTAMP:20260422T220403Z
DTSTART;VALUE=DATE:16410325
DTEND;VALUE=DATE:16410401
SUMMARY:KW 13 (ungerade)
DESCRIPTION:Kalenderwoche 13 im Jahr 1641\nMontag: 25.03.1641\nSonntag: 31.03.1641\nTyp: ungerade Woche\nMehr unter: https://kalenderwoche.info/1641/kw-13
URL:https://kalenderwoche.info/1641/kw-13
CATEGORIES:Kalenderwoche
TRANSP:TRANSPARENT
END:VEVENT
BEGIN:VEVENT
UID:kw-1641-14@kalenderwoche.info
DTSTAMP:20260422T220403Z
DTSTART;VALUE=DATE:16410401
DTEND;VALUE=DATE:16410408
SUMMARY:KW 14 (gerade)
DESCRIPTION:Kalenderwoche 14 im Jahr 1641\nMontag: 01.04.1641\nSonntag: 07.04.1641\nTyp: gerade Woche\nMehr unter: https://kalenderwoche.info/1641/kw-14
URL:https://kalenderwoche.info/1641/kw-14
CATEGORIES:Kalenderwoche
TRANSP:TRANSPARENT
END:VEVENT
BEGIN:VEVENT
UID:kw-1641-15@kalenderwoche.info
DTSTAMP:20260422T220403Z
DTSTART;VALUE=DATE:16410408
DTEND;VALUE=DATE:16410415
SUMMARY:KW 15 (ungerade)
DESCRIPTION:Kalenderwoche 15 im Jahr 1641\nMontag: 08.04.1641\nSonntag: 14.04.1641\nTyp: ungerade Woche\nMehr unter: https://kalenderwoche.info/1641/kw-15
URL:https://kalenderwoche.info/1641/kw-15
CATEGORIES:Kalenderwoche
TRANSP:TRANSPARENT
END:VEVENT
BEGIN:VEVENT
UID:kw-1641-16@kalenderwoche.info
DTSTAMP:20260422T220403Z
DTSTART;VALUE=DATE:16410415
DTEND;VALUE=DATE:16410422
SUMMARY:KW 16 (gerade)
DESCRIPTION:Kalenderwoche 16 im Jahr 1641\nMontag: 15.04.1641\nSonntag: 21.04.1641\nTyp: gerade Woche\nMehr unter: https://kalenderwoche.info/1641/kw-16
URL:https://kalenderwoche.info/1641/kw-16
CATEGORIES:Kalenderwoche
TRANSP:TRANSPARENT
END:VEVENT
BEGIN:VEVENT
UID:kw-1641-17@kalenderwoche.info
DTSTAMP:20260422T220403Z
DTSTART;VALUE=DATE:16410422
DTEND;VALUE=DATE:16410429
SUMMARY:KW 17 (ungerade)
DESCRIPTION:Kalenderwoche 17 im Jahr 1641\nMontag: 22.04.1641\nSonntag: 28.04.1641\nTyp: ungerade Woche\nMehr unter: https://kalenderwoche.info/1641/kw-17
URL:https://kalenderwoche.info/1641/kw-17
CATEGORIES:Kalenderwoche
TRANSP:TRANSPARENT
END:VEVENT
BEGIN:VEVENT
UID:kw-1641-18@kalenderwoche.info
DTSTAMP:20260422T220403Z
DTSTART;VALUE=DATE:16410429
DTEND;VALUE=DATE:16410506
SUMMARY:KW 18 (gerade)
DESCRIPTION:Kalenderwoche 18 im Jahr 1641\nMontag: 29.04.1641\nSonntag: 05.05.1641\nTyp: gerade Woche\nMehr unter: https://kalenderwoche.info/1641/kw-18
URL:https://kalenderwoche.info/1641/kw-18
CATEGORIES:Kalenderwoche
TRANSP:TRANSPARENT
END:VEVENT
BEGIN:VEVENT
UID:kw-1641-19@kalenderwoche.info
DTSTAMP:20260422T220403Z
DTSTART;VALUE=DATE:16410506
DTEND;VALUE=DATE:16410513
SUMMARY:KW 19 (ungerade)
DESCRIPTION:Kalenderwoche 19 im Jahr 1641\nMontag: 06.05.1641\nSonntag: 12.05.1641\nTyp: ungerade Woche\nMehr unter: https://kalenderwoche.info/1641/kw-19
URL:https://kalenderwoche.info/1641/kw-19
CATEGORIES:Kalenderwoche
TRANSP:TRANSPARENT
END:VEVENT
BEGIN:VEVENT
UID:kw-1641-20@kalenderwoche.info
DTSTAMP:20260422T220403Z
DTSTART;VALUE=DATE:16410513
DTEND;VALUE=DATE:16410520
SUMMARY:KW 20 (gerade)
DESCRIPTION:Kalenderwoche 20 im Jahr 1641\nMontag: 13.05.1641\nSonntag: 19.05.1641\nTyp: gerade Woche\nMehr unter: https://kalenderwoche.info/1641/kw-20
URL:https://kalenderwoche.info/1641/kw-20
CATEGORIES:Kalenderwoche
TRANSP:TRANSPARENT
END:VEVENT
BEGIN:VEVENT
UID:kw-1641-21@kalenderwoche.info
DTSTAMP:20260422T220403Z
DTSTART;VALUE=DATE:16410520
DTEND;VALUE=DATE:16410527
SUMMARY:KW 21 (ungerade)
DESCRIPTION:Kalenderwoche 21 im Jahr 1641\nMontag: 20.05.1641\nSonntag: 26.05.1641\nTyp: ungerade Woche\nMehr unter: https://kalenderwoche.info/1641/kw-21
URL:https://kalenderwoche.info/1641/kw-21
CATEGORIES:Kalenderwoche
TRANSP:TRANSPARENT
END:VEVENT
BEGIN:VEVENT
UID:kw-1641-22@kalenderwoche.info
DTSTAMP:20260422T220403Z
DTSTART;VALUE=DATE:16410527
DTEND;VALUE=DATE:16410603
SUMMARY:KW 22 (gerade)
DESCRIPTION:Kalenderwoche 22 im Jahr 1641\nMontag: 27.05.1641\nSonntag: 02.06.1641\nTyp: gerade Woche\nMehr unter: https://kalenderwoche.info/1641/kw-22
URL:https://kalenderwoche.info/1641/kw-22
CATEGORIES:Kalenderwoche
TRANSP:TRANSPARENT
END:VEVENT
BEGIN:VEVENT
UID:kw-1641-23@kalenderwoche.info
DTSTAMP:20260422T220403Z
DTSTART;VALUE=DATE:16410603
DTEND;VALUE=DATE:16410610
SUMMARY:KW 23 (ungerade)
DESCRIPTION:Kalenderwoche 23 im Jahr 1641\nMontag: 03.06.1641\nSonntag: 09.06.1641\nTyp: ungerade Woche\nMehr unter: https://kalenderwoche.info/1641/kw-23
URL:https://kalenderwoche.info/1641/kw-23
CATEGORIES:Kalenderwoche
TRANSP:TRANSPARENT
END:VEVENT
BEGIN:VEVENT
UID:kw-1641-24@kalenderwoche.info
DTSTAMP:20260422T220403Z
DTSTART;VALUE=DATE:16410610
DTEND;VALUE=DATE:16410617
SUMMARY:KW 24 (gerade)
DESCRIPTION:Kalenderwoche 24 im Jahr 1641\nMontag: 10.06.1641\nSonntag: 16.06.1641\nTyp: gerade Woche\nMehr unter: https://kalenderwoche.info/1641/kw-24
URL:https://kalenderwoche.info/1641/kw-24
CATEGORIES:Kalenderwoche
TRANSP:TRANSPARENT
END:VEVENT
BEGIN:VEVENT
UID:kw-1641-25@kalenderwoche.info
DTSTAMP:20260422T220403Z
DTSTART;VALUE=DATE:16410617
DTEND;VALUE=DATE:16410624
SUMMARY:KW 25 (ungerade)
DESCRIPTION:Kalenderwoche 25 im Jahr 1641\nMontag: 17.06.1641\nSonntag: 23.06.1641\nTyp: ungerade Woche\nMehr unter: https://kalenderwoche.info/1641/kw-25
URL:https://kalenderwoche.info/1641/kw-25
CATEGORIES:Kalenderwoche
TRANSP:TRANSPARENT
END:VEVENT
BEGIN:VEVENT
UID:kw-1641-26@kalenderwoche.info
DTSTAMP:20260422T220403Z
DTSTART;VALUE=DATE:16410624
DTEND;VALUE=DATE:16410701
SUMMARY:KW 26 (gerade)
DESCRIPTION:Kalenderwoche 26 im Jahr 1641\nMontag: 24.06.1641\nSonntag: 30.06.1641\nTyp: gerade Woche\nMehr unter: https://kalenderwoche.info/1641/kw-26
URL:https://kalenderwoche.info/1641/kw-26
CATEGORIES:Kalenderwoche
TRANSP:TRANSPARENT
END:VEVENT
BEGIN:VEVENT
UID:kw-1641-27@kalenderwoche.info
DTSTAMP:20260422T220403Z
DTSTART;VALUE=DATE:16410701
DTEND;VALUE=DATE:16410708
SUMMARY:KW 27 (ungerade)
DESCRIPTION:Kalenderwoche 27 im Jahr 1641\nMontag: 01.07.1641\nSonntag: 07.07.1641\nTyp: ungerade Woche\nMehr unter: https://kalenderwoche.info/1641/kw-27
URL:https://kalenderwoche.info/1641/kw-27
CATEGORIES:Kalenderwoche
TRANSP:TRANSPARENT
END:VEVENT
BEGIN:VEVENT
UID:kw-1641-28@kalenderwoche.info
DTSTAMP:20260422T220403Z
DTSTART;VALUE=DATE:16410708
DTEND;VALUE=DATE:16410715
SUMMARY:KW 28 (gerade)
DESCRIPTION:Kalenderwoche 28 im Jahr 1641\nMontag: 08.07.1641\nSonntag: 14.07.1641\nTyp: gerade Woche\nMehr unter: https://kalenderwoche.info/1641/kw-28
URL:https://kalenderwoche.info/1641/kw-28
CATEGORIES:Kalenderwoche
TRANSP:TRANSPARENT
END:VEVENT
BEGIN:VEVENT
UID:kw-1641-29@kalenderwoche.info
DTSTAMP:20260422T220403Z
DTSTART;VALUE=DATE:16410715
DTEND;VALUE=DATE:16410722
SUMMARY:KW 29 (ungerade)
DESCRIPTION:Kalenderwoche 29 im Jahr 1641\nMontag: 15.07.1641\nSonntag: 21.07.1641\nTyp: ungerade Woche\nMehr unter: https://kalenderwoche.info/1641/kw-29
URL:https://kalenderwoche.info/1641/kw-29
CATEGORIES:Kalenderwoche
TRANSP:TRANSPARENT
END:VEVENT
BEGIN:VEVENT
UID:kw-1641-30@kalenderwoche.info
DTSTAMP:20260422T220403Z
DTSTART;VALUE=DATE:16410722
DTEND;VALUE=DATE:16410729
SUMMARY:KW 30 (gerade)
DESCRIPTION:Kalenderwoche 30 im Jahr 1641\nMontag: 22.07.1641\nSonntag: 28.07.1641\nTyp: gerade Woche\nMehr unter: https://kalenderwoche.info/1641/kw-30
URL:https://kalenderwoche.info/1641/kw-30
CATEGORIES:Kalenderwoche
TRANSP:TRANSPARENT
END:VEVENT
BEGIN:VEVENT
UID:kw-1641-31@kalenderwoche.info
DTSTAMP:20260422T220403Z
DTSTART;VALUE=DATE:16410729
DTEND;VALUE=DATE:16410805
SUMMARY:KW 31 (ungerade)
DESCRIPTION:Kalenderwoche 31 im Jahr 1641\nMontag: 29.07.1641\nSonntag: 04.08.1641\nTyp: ungerade Woche\nMehr unter: https://kalenderwoche.info/1641/kw-31
URL:https://kalenderwoche.info/1641/kw-31
CATEGORIES:Kalenderwoche
TRANSP:TRANSPARENT
END:VEVENT
BEGIN:VEVENT
UID:kw-1641-32@kalenderwoche.info
DTSTAMP:20260422T220403Z
DTSTART;VALUE=DATE:16410805
DTEND;VALUE=DATE:16410812
SUMMARY:KW 32 (gerade)
DESCRIPTION:Kalenderwoche 32 im Jahr 1641\nMontag: 05.08.1641\nSonntag: 11.08.1641\nTyp: gerade Woche\nMehr unter: https://kalenderwoche.info/1641/kw-32
URL:https://kalenderwoche.info/1641/kw-32
CATEGORIES:Kalenderwoche
TRANSP:TRANSPARENT
END:VEVENT
BEGIN:VEVENT
UID:kw-1641-33@kalenderwoche.info
DTSTAMP:20260422T220403Z
DTSTART;VALUE=DATE:16410812
DTEND;VALUE=DATE:16410819
SUMMARY:KW 33 (ungerade)
DESCRIPTION:Kalenderwoche 33 im Jahr 1641\nMontag: 12.08.1641\nSonntag: 18.08.1641\nTyp: ungerade Woche\nMehr unter: https://kalenderwoche.info/1641/kw-33
URL:https://kalenderwoche.info/1641/kw-33
CATEGORIES:Kalenderwoche
TRANSP:TRANSPARENT
END:VEVENT
BEGIN:VEVENT
UID:kw-1641-34@kalenderwoche.info
DTSTAMP:20260422T220403Z
DTSTART;VALUE=DATE:16410819
DTEND;VALUE=DATE:16410826
SUMMARY:KW 34 (gerade)
DESCRIPTION:Kalenderwoche 34 im Jahr 1641\nMontag: 19.08.1641\nSonntag: 25.08.1641\nTyp: gerade Woche\nMehr unter: https://kalenderwoche.info/1641/kw-34
URL:https://kalenderwoche.info/1641/kw-34
CATEGORIES:Kalenderwoche
TRANSP:TRANSPARENT
END:VEVENT
BEGIN:VEVENT
UID:kw-1641-35@kalenderwoche.info
DTSTAMP:20260422T220403Z
DTSTART;VALUE=DATE:16410826
DTEND;VALUE=DATE:16410902
SUMMARY:KW 35 (ungerade)
DESCRIPTION:Kalenderwoche 35 im Jahr 1641\nMontag: 26.08.1641\nSonntag: 01.09.1641\nTyp: ungerade Woche\nMehr unter: https://kalenderwoche.info/1641/kw-35
URL:https://kalenderwoche.info/1641/kw-35
CATEGORIES:Kalenderwoche
TRANSP:TRANSPARENT
END:VEVENT
BEGIN:VEVENT
UID:kw-1641-36@kalenderwoche.info
DTSTAMP:20260422T220403Z
DTSTART;VALUE=DATE:16410902
DTEND;VALUE=DATE:16410909
SUMMARY:KW 36 (gerade)
DESCRIPTION:Kalenderwoche 36 im Jahr 1641\nMontag: 02.09.1641\nSonntag: 08.09.1641\nTyp: gerade Woche\nMehr unter: https://kalenderwoche.info/1641/kw-36
URL:https://kalenderwoche.info/1641/kw-36
CATEGORIES:Kalenderwoche
TRANSP:TRANSPARENT
END:VEVENT
BEGIN:VEVENT
UID:kw-1641-37@kalenderwoche.info
DTSTAMP:20260422T220403Z
DTSTART;VALUE=DATE:16410909
DTEND;VALUE=DATE:16410916
SUMMARY:KW 37 (ungerade)
DESCRIPTION:Kalenderwoche 37 im Jahr 1641\nMontag: 09.09.1641\nSonntag: 15.09.1641\nTyp: ungerade Woche\nMehr unter: https://kalenderwoche.info/1641/kw-37
URL:https://kalenderwoche.info/1641/kw-37
CATEGORIES:Kalenderwoche
TRANSP:TRANSPARENT
END:VEVENT
BEGIN:VEVENT
UID:kw-1641-38@kalenderwoche.info
DTSTAMP:20260422T220403Z
DTSTART;VALUE=DATE:16410916
DTEND;VALUE=DATE:16410923
SUMMARY:KW 38 (gerade)
DESCRIPTION:Kalenderwoche 38 im Jahr 1641\nMontag: 16.09.1641\nSonntag: 22.09.1641\nTyp: gerade Woche\nMehr unter: https://kalenderwoche.info/1641/kw-38
URL:https://kalenderwoche.info/1641/kw-38
CATEGORIES:Kalenderwoche
TRANSP:TRANSPARENT
END:VEVENT
BEGIN:VEVENT
UID:kw-1641-39@kalenderwoche.info
DTSTAMP:20260422T220403Z
DTSTART;VALUE=DATE:16410923
DTEND;VALUE=DATE:16410930
SUMMARY:KW 39 (ungerade)
DESCRIPTION:Kalenderwoche 39 im Jahr 1641\nMontag: 23.09.1641\nSonntag: 29.09.1641\nTyp: ungerade Woche\nMehr unter: https://kalenderwoche.info/1641/kw-39
URL:https://kalenderwoche.info/1641/kw-39
CATEGORIES:Kalenderwoche
TRANSP:TRANSPARENT
END:VEVENT
BEGIN:VEVENT
UID:kw-1641-40@kalenderwoche.info
DTSTAMP:20260422T220403Z
DTSTART;VALUE=DATE:16410930
DTEND;VALUE=DATE:16411007
SUMMARY:KW 40 (gerade)
DESCRIPTION:Kalenderwoche 40 im Jahr 1641\nMontag: 30.09.1641\nSonntag: 06.10.1641\nTyp: gerade Woche\nMehr unter: https://kalenderwoche.info/1641/kw-40
URL:https://kalenderwoche.info/1641/kw-40
CATEGORIES:Kalenderwoche
TRANSP:TRANSPARENT
END:VEVENT
BEGIN:VEVENT
UID:kw-1641-41@kalenderwoche.info
DTSTAMP:20260422T220403Z
DTSTART;VALUE=DATE:16411007
DTEND;VALUE=DATE:16411014
SUMMARY:KW 41 (ungerade)
DESCRIPTION:Kalenderwoche 41 im Jahr 1641\nMontag: 07.10.1641\nSonntag: 13.10.1641\nTyp: ungerade Woche\nMehr unter: https://kalenderwoche.info/1641/kw-41
URL:https://kalenderwoche.info/1641/kw-41
CATEGORIES:Kalenderwoche
TRANSP:TRANSPARENT
END:VEVENT
BEGIN:VEVENT
UID:kw-1641-42@kalenderwoche.info
DTSTAMP:20260422T220403Z
DTSTART;VALUE=DATE:16411014
DTEND;VALUE=DATE:16411021
SUMMARY:KW 42 (gerade)
DESCRIPTION:Kalenderwoche 42 im Jahr 1641\nMontag: 14.10.1641\nSonntag: 20.10.1641\nTyp: gerade Woche\nMehr unter: https://kalenderwoche.info/1641/kw-42
URL:https://kalenderwoche.info/1641/kw-42
CATEGORIES:Kalenderwoche
TRANSP:TRANSPARENT
END:VEVENT
BEGIN:VEVENT
UID:kw-1641-43@kalenderwoche.info
DTSTAMP:20260422T220403Z
DTSTART;VALUE=DATE:16411021
DTEND;VALUE=DATE:16411028
SUMMARY:KW 43 (ungerade)
DESCRIPTION:Kalenderwoche 43 im Jahr 1641\nMontag: 21.10.1641\nSonntag: 27.10.1641\nTyp: ungerade Woche\nMehr unter: https://kalenderwoche.info/1641/kw-43
URL:https://kalenderwoche.info/1641/kw-43
CATEGORIES:Kalenderwoche
TRANSP:TRANSPARENT
END:VEVENT
BEGIN:VEVENT
UID:kw-1641-44@kalenderwoche.info
DTSTAMP:20260422T220403Z
DTSTART;VALUE=DATE:16411028
DTEND;VALUE=DATE:16411104
SUMMARY:KW 44 (gerade)
DESCRIPTION:Kalenderwoche 44 im Jahr 1641\nMontag: 28.10.1641\nSonntag: 03.11.1641\nTyp: gerade Woche\nMehr unter: https://kalenderwoche.info/1641/kw-44
URL:https://kalenderwoche.info/1641/kw-44
CATEGORIES:Kalenderwoche
TRANSP:TRANSPARENT
END:VEVENT
BEGIN:VEVENT
UID:kw-1641-45@kalenderwoche.info
DTSTAMP:20260422T220403Z
DTSTART;VALUE=DATE:16411104
DTEND;VALUE=DATE:16411111
SUMMARY:KW 45 (ungerade)
DESCRIPTION:Kalenderwoche 45 im Jahr 1641\nMontag: 04.11.1641\nSonntag: 10.11.1641\nTyp: ungerade Woche\nMehr unter: https://kalenderwoche.info/1641/kw-45
URL:https://kalenderwoche.info/1641/kw-45
CATEGORIES:Kalenderwoche
TRANSP:TRANSPARENT
END:VEVENT
BEGIN:VEVENT
UID:kw-1641-46@kalenderwoche.info
DTSTAMP:20260422T220403Z
DTSTART;VALUE=DATE:16411111
DTEND;VALUE=DATE:16411118
SUMMARY:KW 46 (gerade)
DESCRIPTION:Kalenderwoche 46 im Jahr 1641\nMontag: 11.11.1641\nSonntag: 17.11.1641\nTyp: gerade Woche\nMehr unter: https://kalenderwoche.info/1641/kw-46
URL:https://kalenderwoche.info/1641/kw-46
CATEGORIES:Kalenderwoche
TRANSP:TRANSPARENT
END:VEVENT
BEGIN:VEVENT
UID:kw-1641-47@kalenderwoche.info
DTSTAMP:20260422T220403Z
DTSTART;VALUE=DATE:16411118
DTEND;VALUE=DATE:16411125
SUMMARY:KW 47 (ungerade)
DESCRIPTION:Kalenderwoche 47 im Jahr 1641\nMontag: 18.11.1641\nSonntag: 24.11.1641\nTyp: ungerade Woche\nMehr unter: https://kalenderwoche.info/1641/kw-47
URL:https://kalenderwoche.info/1641/kw-47
CATEGORIES:Kalenderwoche
TRANSP:TRANSPARENT
END:VEVENT
BEGIN:VEVENT
UID:kw-1641-48@kalenderwoche.info
DTSTAMP:20260422T220403Z
DTSTART;VALUE=DATE:16411125
DTEND;VALUE=DATE:16411202
SUMMARY:KW 48 (gerade)
DESCRIPTION:Kalenderwoche 48 im Jahr 1641\nMontag: 25.11.1641\nSonntag: 01.12.1641\nTyp: gerade Woche\nMehr unter: https://kalenderwoche.info/1641/kw-48
URL:https://kalenderwoche.info/1641/kw-48
CATEGORIES:Kalenderwoche
TRANSP:TRANSPARENT
END:VEVENT
BEGIN:VEVENT
UID:kw-1641-49@kalenderwoche.info
DTSTAMP:20260422T220403Z
DTSTART;VALUE=DATE:16411202
DTEND;VALUE=DATE:16411209
SUMMARY:KW 49 (ungerade)
DESCRIPTION:Kalenderwoche 49 im Jahr 1641\nMontag: 02.12.1641\nSonntag: 08.12.1641\nTyp: ungerade Woche\nMehr unter: https://kalenderwoche.info/1641/kw-49
URL:https://kalenderwoche.info/1641/kw-49
CATEGORIES:Kalenderwoche
TRANSP:TRANSPARENT
END:VEVENT
BEGIN:VEVENT
UID:kw-1641-50@kalenderwoche.info
DTSTAMP:20260422T220403Z
DTSTART;VALUE=DATE:16411209
DTEND;VALUE=DATE:16411216
SUMMARY:KW 50 (gerade)
DESCRIPTION:Kalenderwoche 50 im Jahr 1641\nMontag: 09.12.1641\nSonntag: 15.12.1641\nTyp: gerade Woche\nMehr unter: https://kalenderwoche.info/1641/kw-50
URL:https://kalenderwoche.info/1641/kw-50
CATEGORIES:Kalenderwoche
TRANSP:TRANSPARENT
END:VEVENT
BEGIN:VEVENT
UID:kw-1641-51@kalenderwoche.info
DTSTAMP:20260422T220403Z
DTSTART;VALUE=DATE:16411216
DTEND;VALUE=DATE:16411223
SUMMARY:KW 51 (ungerade)
DESCRIPTION:Kalenderwoche 51 im Jahr 1641\nMontag: 16.12.1641\nSonntag: 22.12.1641\nTyp: ungerade Woche\nMehr unter: https://kalenderwoche.info/1641/kw-51
URL:https://kalenderwoche.info/1641/kw-51
CATEGORIES:Kalenderwoche
TRANSP:TRANSPARENT
END:VEVENT
BEGIN:VEVENT
UID:kw-1641-52@kalenderwoche.info
DTSTAMP:20260422T220403Z
DTSTART;VALUE=DATE:16411223
DTEND;VALUE=DATE:16411230
SUMMARY:KW 52 (gerade)
DESCRIPTION:Kalenderwoche 52 im Jahr 1641\nMontag: 23.12.1641\nSonntag: 29.12.1641\nTyp: gerade Woche\nMehr unter: https://kalenderwoche.info/1641/kw-52
URL:https://kalenderwoche.info/1641/kw-52
CATEGORIES:Kalenderwoche
TRANSP:TRANSPARENT
END:VEVENT
END:VCALENDAR
