BEGIN:VCALENDAR
VERSION:2.0
PRODID:-//kalenderwoche.info//Kalender//DE
CALSCALE:GREGORIAN
METHOD:PUBLISH
X-WR-CALNAME:Kalenderwochen 1648
X-WR-CALDESC:Alle Kalenderwochen für das Jahr 1648
X-WR-TIMEZONE:Europe/Berlin
BEGIN:VEVENT
UID:kw-1648-1@kalenderwoche.info
DTSTAMP:20260422T123111Z
DTSTART;VALUE=DATE:16471230
DTEND;VALUE=DATE:16480106
SUMMARY:KW 1 (ungerade)
DESCRIPTION:Kalenderwoche 1 im Jahr 1648\nMontag: 30.12.1647\nSonntag: 05.01.1648\nTyp: ungerade Woche\nMehr unter: https://kalenderwoche.info/1648/kw-1
URL:https://kalenderwoche.info/1648/kw-1
CATEGORIES:Kalenderwoche
TRANSP:TRANSPARENT
END:VEVENT
BEGIN:VEVENT
UID:kw-1648-2@kalenderwoche.info
DTSTAMP:20260422T123111Z
DTSTART;VALUE=DATE:16480106
DTEND;VALUE=DATE:16480113
SUMMARY:KW 2 (gerade)
DESCRIPTION:Kalenderwoche 2 im Jahr 1648\nMontag: 06.01.1648\nSonntag: 12.01.1648\nTyp: gerade Woche\nMehr unter: https://kalenderwoche.info/1648/kw-2
URL:https://kalenderwoche.info/1648/kw-2
CATEGORIES:Kalenderwoche
TRANSP:TRANSPARENT
END:VEVENT
BEGIN:VEVENT
UID:kw-1648-3@kalenderwoche.info
DTSTAMP:20260422T123111Z
DTSTART;VALUE=DATE:16480113
DTEND;VALUE=DATE:16480120
SUMMARY:KW 3 (ungerade)
DESCRIPTION:Kalenderwoche 3 im Jahr 1648\nMontag: 13.01.1648\nSonntag: 19.01.1648\nTyp: ungerade Woche\nMehr unter: https://kalenderwoche.info/1648/kw-3
URL:https://kalenderwoche.info/1648/kw-3
CATEGORIES:Kalenderwoche
TRANSP:TRANSPARENT
END:VEVENT
BEGIN:VEVENT
UID:kw-1648-4@kalenderwoche.info
DTSTAMP:20260422T123111Z
DTSTART;VALUE=DATE:16480120
DTEND;VALUE=DATE:16480127
SUMMARY:KW 4 (gerade)
DESCRIPTION:Kalenderwoche 4 im Jahr 1648\nMontag: 20.01.1648\nSonntag: 26.01.1648\nTyp: gerade Woche\nMehr unter: https://kalenderwoche.info/1648/kw-4
URL:https://kalenderwoche.info/1648/kw-4
CATEGORIES:Kalenderwoche
TRANSP:TRANSPARENT
END:VEVENT
BEGIN:VEVENT
UID:kw-1648-5@kalenderwoche.info
DTSTAMP:20260422T123111Z
DTSTART;VALUE=DATE:16480127
DTEND;VALUE=DATE:16480203
SUMMARY:KW 5 (ungerade)
DESCRIPTION:Kalenderwoche 5 im Jahr 1648\nMontag: 27.01.1648\nSonntag: 02.02.1648\nTyp: ungerade Woche\nMehr unter: https://kalenderwoche.info/1648/kw-5
URL:https://kalenderwoche.info/1648/kw-5
CATEGORIES:Kalenderwoche
TRANSP:TRANSPARENT
END:VEVENT
BEGIN:VEVENT
UID:kw-1648-6@kalenderwoche.info
DTSTAMP:20260422T123111Z
DTSTART;VALUE=DATE:16480203
DTEND;VALUE=DATE:16480210
SUMMARY:KW 6 (gerade)
DESCRIPTION:Kalenderwoche 6 im Jahr 1648\nMontag: 03.02.1648\nSonntag: 09.02.1648\nTyp: gerade Woche\nMehr unter: https://kalenderwoche.info/1648/kw-6
URL:https://kalenderwoche.info/1648/kw-6
CATEGORIES:Kalenderwoche
TRANSP:TRANSPARENT
END:VEVENT
BEGIN:VEVENT
UID:kw-1648-7@kalenderwoche.info
DTSTAMP:20260422T123111Z
DTSTART;VALUE=DATE:16480210
DTEND;VALUE=DATE:16480217
SUMMARY:KW 7 (ungerade)
DESCRIPTION:Kalenderwoche 7 im Jahr 1648\nMontag: 10.02.1648\nSonntag: 16.02.1648\nTyp: ungerade Woche\nMehr unter: https://kalenderwoche.info/1648/kw-7
URL:https://kalenderwoche.info/1648/kw-7
CATEGORIES:Kalenderwoche
TRANSP:TRANSPARENT
END:VEVENT
BEGIN:VEVENT
UID:kw-1648-8@kalenderwoche.info
DTSTAMP:20260422T123111Z
DTSTART;VALUE=DATE:16480217
DTEND;VALUE=DATE:16480224
SUMMARY:KW 8 (gerade)
DESCRIPTION:Kalenderwoche 8 im Jahr 1648\nMontag: 17.02.1648\nSonntag: 23.02.1648\nTyp: gerade Woche\nMehr unter: https://kalenderwoche.info/1648/kw-8
URL:https://kalenderwoche.info/1648/kw-8
CATEGORIES:Kalenderwoche
TRANSP:TRANSPARENT
END:VEVENT
BEGIN:VEVENT
UID:kw-1648-9@kalenderwoche.info
DTSTAMP:20260422T123111Z
DTSTART;VALUE=DATE:16480224
DTEND;VALUE=DATE:16480302
SUMMARY:KW 9 (ungerade)
DESCRIPTION:Kalenderwoche 9 im Jahr 1648\nMontag: 24.02.1648\nSonntag: 01.03.1648\nTyp: ungerade Woche\nMehr unter: https://kalenderwoche.info/1648/kw-9
URL:https://kalenderwoche.info/1648/kw-9
CATEGORIES:Kalenderwoche
TRANSP:TRANSPARENT
END:VEVENT
BEGIN:VEVENT
UID:kw-1648-10@kalenderwoche.info
DTSTAMP:20260422T123111Z
DTSTART;VALUE=DATE:16480302
DTEND;VALUE=DATE:16480309
SUMMARY:KW 10 (gerade)
DESCRIPTION:Kalenderwoche 10 im Jahr 1648\nMontag: 02.03.1648\nSonntag: 08.03.1648\nTyp: gerade Woche\nMehr unter: https://kalenderwoche.info/1648/kw-10
URL:https://kalenderwoche.info/1648/kw-10
CATEGORIES:Kalenderwoche
TRANSP:TRANSPARENT
END:VEVENT
BEGIN:VEVENT
UID:kw-1648-11@kalenderwoche.info
DTSTAMP:20260422T123111Z
DTSTART;VALUE=DATE:16480309
DTEND;VALUE=DATE:16480316
SUMMARY:KW 11 (ungerade)
DESCRIPTION:Kalenderwoche 11 im Jahr 1648\nMontag: 09.03.1648\nSonntag: 15.03.1648\nTyp: ungerade Woche\nMehr unter: https://kalenderwoche.info/1648/kw-11
URL:https://kalenderwoche.info/1648/kw-11
CATEGORIES:Kalenderwoche
TRANSP:TRANSPARENT
END:VEVENT
BEGIN:VEVENT
UID:kw-1648-12@kalenderwoche.info
DTSTAMP:20260422T123111Z
DTSTART;VALUE=DATE:16480316
DTEND;VALUE=DATE:16480323
SUMMARY:KW 12 (gerade)
DESCRIPTION:Kalenderwoche 12 im Jahr 1648\nMontag: 16.03.1648\nSonntag: 22.03.1648\nTyp: gerade Woche\nMehr unter: https://kalenderwoche.info/1648/kw-12
URL:https://kalenderwoche.info/1648/kw-12
CATEGORIES:Kalenderwoche
TRANSP:TRANSPARENT
END:VEVENT
BEGIN:VEVENT
UID:kw-1648-13@kalenderwoche.info
DTSTAMP:20260422T123111Z
DTSTART;VALUE=DATE:16480323
DTEND;VALUE=DATE:16480330
SUMMARY:KW 13 (ungerade)
DESCRIPTION:Kalenderwoche 13 im Jahr 1648\nMontag: 23.03.1648\nSonntag: 29.03.1648\nTyp: ungerade Woche\nMehr unter: https://kalenderwoche.info/1648/kw-13
URL:https://kalenderwoche.info/1648/kw-13
CATEGORIES:Kalenderwoche
TRANSP:TRANSPARENT
END:VEVENT
BEGIN:VEVENT
UID:kw-1648-14@kalenderwoche.info
DTSTAMP:20260422T123111Z
DTSTART;VALUE=DATE:16480330
DTEND;VALUE=DATE:16480406
SUMMARY:KW 14 (gerade)
DESCRIPTION:Kalenderwoche 14 im Jahr 1648\nMontag: 30.03.1648\nSonntag: 05.04.1648\nTyp: gerade Woche\nMehr unter: https://kalenderwoche.info/1648/kw-14
URL:https://kalenderwoche.info/1648/kw-14
CATEGORIES:Kalenderwoche
TRANSP:TRANSPARENT
END:VEVENT
BEGIN:VEVENT
UID:kw-1648-15@kalenderwoche.info
DTSTAMP:20260422T123111Z
DTSTART;VALUE=DATE:16480406
DTEND;VALUE=DATE:16480413
SUMMARY:KW 15 (ungerade)
DESCRIPTION:Kalenderwoche 15 im Jahr 1648\nMontag: 06.04.1648\nSonntag: 12.04.1648\nTyp: ungerade Woche\nMehr unter: https://kalenderwoche.info/1648/kw-15
URL:https://kalenderwoche.info/1648/kw-15
CATEGORIES:Kalenderwoche
TRANSP:TRANSPARENT
END:VEVENT
BEGIN:VEVENT
UID:kw-1648-16@kalenderwoche.info
DTSTAMP:20260422T123111Z
DTSTART;VALUE=DATE:16480413
DTEND;VALUE=DATE:16480420
SUMMARY:KW 16 (gerade)
DESCRIPTION:Kalenderwoche 16 im Jahr 1648\nMontag: 13.04.1648\nSonntag: 19.04.1648\nTyp: gerade Woche\nMehr unter: https://kalenderwoche.info/1648/kw-16
URL:https://kalenderwoche.info/1648/kw-16
CATEGORIES:Kalenderwoche
TRANSP:TRANSPARENT
END:VEVENT
BEGIN:VEVENT
UID:kw-1648-17@kalenderwoche.info
DTSTAMP:20260422T123111Z
DTSTART;VALUE=DATE:16480420
DTEND;VALUE=DATE:16480427
SUMMARY:KW 17 (ungerade)
DESCRIPTION:Kalenderwoche 17 im Jahr 1648\nMontag: 20.04.1648\nSonntag: 26.04.1648\nTyp: ungerade Woche\nMehr unter: https://kalenderwoche.info/1648/kw-17
URL:https://kalenderwoche.info/1648/kw-17
CATEGORIES:Kalenderwoche
TRANSP:TRANSPARENT
END:VEVENT
BEGIN:VEVENT
UID:kw-1648-18@kalenderwoche.info
DTSTAMP:20260422T123111Z
DTSTART;VALUE=DATE:16480427
DTEND;VALUE=DATE:16480504
SUMMARY:KW 18 (gerade)
DESCRIPTION:Kalenderwoche 18 im Jahr 1648\nMontag: 27.04.1648\nSonntag: 03.05.1648\nTyp: gerade Woche\nMehr unter: https://kalenderwoche.info/1648/kw-18
URL:https://kalenderwoche.info/1648/kw-18
CATEGORIES:Kalenderwoche
TRANSP:TRANSPARENT
END:VEVENT
BEGIN:VEVENT
UID:kw-1648-19@kalenderwoche.info
DTSTAMP:20260422T123111Z
DTSTART;VALUE=DATE:16480504
DTEND;VALUE=DATE:16480511
SUMMARY:KW 19 (ungerade)
DESCRIPTION:Kalenderwoche 19 im Jahr 1648\nMontag: 04.05.1648\nSonntag: 10.05.1648\nTyp: ungerade Woche\nMehr unter: https://kalenderwoche.info/1648/kw-19
URL:https://kalenderwoche.info/1648/kw-19
CATEGORIES:Kalenderwoche
TRANSP:TRANSPARENT
END:VEVENT
BEGIN:VEVENT
UID:kw-1648-20@kalenderwoche.info
DTSTAMP:20260422T123111Z
DTSTART;VALUE=DATE:16480511
DTEND;VALUE=DATE:16480518
SUMMARY:KW 20 (gerade)
DESCRIPTION:Kalenderwoche 20 im Jahr 1648\nMontag: 11.05.1648\nSonntag: 17.05.1648\nTyp: gerade Woche\nMehr unter: https://kalenderwoche.info/1648/kw-20
URL:https://kalenderwoche.info/1648/kw-20
CATEGORIES:Kalenderwoche
TRANSP:TRANSPARENT
END:VEVENT
BEGIN:VEVENT
UID:kw-1648-21@kalenderwoche.info
DTSTAMP:20260422T123111Z
DTSTART;VALUE=DATE:16480518
DTEND;VALUE=DATE:16480525
SUMMARY:KW 21 (ungerade)
DESCRIPTION:Kalenderwoche 21 im Jahr 1648\nMontag: 18.05.1648\nSonntag: 24.05.1648\nTyp: ungerade Woche\nMehr unter: https://kalenderwoche.info/1648/kw-21
URL:https://kalenderwoche.info/1648/kw-21
CATEGORIES:Kalenderwoche
TRANSP:TRANSPARENT
END:VEVENT
BEGIN:VEVENT
UID:kw-1648-22@kalenderwoche.info
DTSTAMP:20260422T123111Z
DTSTART;VALUE=DATE:16480525
DTEND;VALUE=DATE:16480601
SUMMARY:KW 22 (gerade)
DESCRIPTION:Kalenderwoche 22 im Jahr 1648\nMontag: 25.05.1648\nSonntag: 31.05.1648\nTyp: gerade Woche\nMehr unter: https://kalenderwoche.info/1648/kw-22
URL:https://kalenderwoche.info/1648/kw-22
CATEGORIES:Kalenderwoche
TRANSP:TRANSPARENT
END:VEVENT
BEGIN:VEVENT
UID:kw-1648-23@kalenderwoche.info
DTSTAMP:20260422T123111Z
DTSTART;VALUE=DATE:16480601
DTEND;VALUE=DATE:16480608
SUMMARY:KW 23 (ungerade)
DESCRIPTION:Kalenderwoche 23 im Jahr 1648\nMontag: 01.06.1648\nSonntag: 07.06.1648\nTyp: ungerade Woche\nMehr unter: https://kalenderwoche.info/1648/kw-23
URL:https://kalenderwoche.info/1648/kw-23
CATEGORIES:Kalenderwoche
TRANSP:TRANSPARENT
END:VEVENT
BEGIN:VEVENT
UID:kw-1648-24@kalenderwoche.info
DTSTAMP:20260422T123111Z
DTSTART;VALUE=DATE:16480608
DTEND;VALUE=DATE:16480615
SUMMARY:KW 24 (gerade)
DESCRIPTION:Kalenderwoche 24 im Jahr 1648\nMontag: 08.06.1648\nSonntag: 14.06.1648\nTyp: gerade Woche\nMehr unter: https://kalenderwoche.info/1648/kw-24
URL:https://kalenderwoche.info/1648/kw-24
CATEGORIES:Kalenderwoche
TRANSP:TRANSPARENT
END:VEVENT
BEGIN:VEVENT
UID:kw-1648-25@kalenderwoche.info
DTSTAMP:20260422T123111Z
DTSTART;VALUE=DATE:16480615
DTEND;VALUE=DATE:16480622
SUMMARY:KW 25 (ungerade)
DESCRIPTION:Kalenderwoche 25 im Jahr 1648\nMontag: 15.06.1648\nSonntag: 21.06.1648\nTyp: ungerade Woche\nMehr unter: https://kalenderwoche.info/1648/kw-25
URL:https://kalenderwoche.info/1648/kw-25
CATEGORIES:Kalenderwoche
TRANSP:TRANSPARENT
END:VEVENT
BEGIN:VEVENT
UID:kw-1648-26@kalenderwoche.info
DTSTAMP:20260422T123111Z
DTSTART;VALUE=DATE:16480622
DTEND;VALUE=DATE:16480629
SUMMARY:KW 26 (gerade)
DESCRIPTION:Kalenderwoche 26 im Jahr 1648\nMontag: 22.06.1648\nSonntag: 28.06.1648\nTyp: gerade Woche\nMehr unter: https://kalenderwoche.info/1648/kw-26
URL:https://kalenderwoche.info/1648/kw-26
CATEGORIES:Kalenderwoche
TRANSP:TRANSPARENT
END:VEVENT
BEGIN:VEVENT
UID:kw-1648-27@kalenderwoche.info
DTSTAMP:20260422T123111Z
DTSTART;VALUE=DATE:16480629
DTEND;VALUE=DATE:16480706
SUMMARY:KW 27 (ungerade)
DESCRIPTION:Kalenderwoche 27 im Jahr 1648\nMontag: 29.06.1648\nSonntag: 05.07.1648\nTyp: ungerade Woche\nMehr unter: https://kalenderwoche.info/1648/kw-27
URL:https://kalenderwoche.info/1648/kw-27
CATEGORIES:Kalenderwoche
TRANSP:TRANSPARENT
END:VEVENT
BEGIN:VEVENT
UID:kw-1648-28@kalenderwoche.info
DTSTAMP:20260422T123111Z
DTSTART;VALUE=DATE:16480706
DTEND;VALUE=DATE:16480713
SUMMARY:KW 28 (gerade)
DESCRIPTION:Kalenderwoche 28 im Jahr 1648\nMontag: 06.07.1648\nSonntag: 12.07.1648\nTyp: gerade Woche\nMehr unter: https://kalenderwoche.info/1648/kw-28
URL:https://kalenderwoche.info/1648/kw-28
CATEGORIES:Kalenderwoche
TRANSP:TRANSPARENT
END:VEVENT
BEGIN:VEVENT
UID:kw-1648-29@kalenderwoche.info
DTSTAMP:20260422T123111Z
DTSTART;VALUE=DATE:16480713
DTEND;VALUE=DATE:16480720
SUMMARY:KW 29 (ungerade)
DESCRIPTION:Kalenderwoche 29 im Jahr 1648\nMontag: 13.07.1648\nSonntag: 19.07.1648\nTyp: ungerade Woche\nMehr unter: https://kalenderwoche.info/1648/kw-29
URL:https://kalenderwoche.info/1648/kw-29
CATEGORIES:Kalenderwoche
TRANSP:TRANSPARENT
END:VEVENT
BEGIN:VEVENT
UID:kw-1648-30@kalenderwoche.info
DTSTAMP:20260422T123111Z
DTSTART;VALUE=DATE:16480720
DTEND;VALUE=DATE:16480727
SUMMARY:KW 30 (gerade)
DESCRIPTION:Kalenderwoche 30 im Jahr 1648\nMontag: 20.07.1648\nSonntag: 26.07.1648\nTyp: gerade Woche\nMehr unter: https://kalenderwoche.info/1648/kw-30
URL:https://kalenderwoche.info/1648/kw-30
CATEGORIES:Kalenderwoche
TRANSP:TRANSPARENT
END:VEVENT
BEGIN:VEVENT
UID:kw-1648-31@kalenderwoche.info
DTSTAMP:20260422T123111Z
DTSTART;VALUE=DATE:16480727
DTEND;VALUE=DATE:16480803
SUMMARY:KW 31 (ungerade)
DESCRIPTION:Kalenderwoche 31 im Jahr 1648\nMontag: 27.07.1648\nSonntag: 02.08.1648\nTyp: ungerade Woche\nMehr unter: https://kalenderwoche.info/1648/kw-31
URL:https://kalenderwoche.info/1648/kw-31
CATEGORIES:Kalenderwoche
TRANSP:TRANSPARENT
END:VEVENT
BEGIN:VEVENT
UID:kw-1648-32@kalenderwoche.info
DTSTAMP:20260422T123111Z
DTSTART;VALUE=DATE:16480803
DTEND;VALUE=DATE:16480810
SUMMARY:KW 32 (gerade)
DESCRIPTION:Kalenderwoche 32 im Jahr 1648\nMontag: 03.08.1648\nSonntag: 09.08.1648\nTyp: gerade Woche\nMehr unter: https://kalenderwoche.info/1648/kw-32
URL:https://kalenderwoche.info/1648/kw-32
CATEGORIES:Kalenderwoche
TRANSP:TRANSPARENT
END:VEVENT
BEGIN:VEVENT
UID:kw-1648-33@kalenderwoche.info
DTSTAMP:20260422T123111Z
DTSTART;VALUE=DATE:16480810
DTEND;VALUE=DATE:16480817
SUMMARY:KW 33 (ungerade)
DESCRIPTION:Kalenderwoche 33 im Jahr 1648\nMontag: 10.08.1648\nSonntag: 16.08.1648\nTyp: ungerade Woche\nMehr unter: https://kalenderwoche.info/1648/kw-33
URL:https://kalenderwoche.info/1648/kw-33
CATEGORIES:Kalenderwoche
TRANSP:TRANSPARENT
END:VEVENT
BEGIN:VEVENT
UID:kw-1648-34@kalenderwoche.info
DTSTAMP:20260422T123111Z
DTSTART;VALUE=DATE:16480817
DTEND;VALUE=DATE:16480824
SUMMARY:KW 34 (gerade)
DESCRIPTION:Kalenderwoche 34 im Jahr 1648\nMontag: 17.08.1648\nSonntag: 23.08.1648\nTyp: gerade Woche\nMehr unter: https://kalenderwoche.info/1648/kw-34
URL:https://kalenderwoche.info/1648/kw-34
CATEGORIES:Kalenderwoche
TRANSP:TRANSPARENT
END:VEVENT
BEGIN:VEVENT
UID:kw-1648-35@kalenderwoche.info
DTSTAMP:20260422T123111Z
DTSTART;VALUE=DATE:16480824
DTEND;VALUE=DATE:16480831
SUMMARY:KW 35 (ungerade)
DESCRIPTION:Kalenderwoche 35 im Jahr 1648\nMontag: 24.08.1648\nSonntag: 30.08.1648\nTyp: ungerade Woche\nMehr unter: https://kalenderwoche.info/1648/kw-35
URL:https://kalenderwoche.info/1648/kw-35
CATEGORIES:Kalenderwoche
TRANSP:TRANSPARENT
END:VEVENT
BEGIN:VEVENT
UID:kw-1648-36@kalenderwoche.info
DTSTAMP:20260422T123111Z
DTSTART;VALUE=DATE:16480831
DTEND;VALUE=DATE:16480907
SUMMARY:KW 36 (gerade)
DESCRIPTION:Kalenderwoche 36 im Jahr 1648\nMontag: 31.08.1648\nSonntag: 06.09.1648\nTyp: gerade Woche\nMehr unter: https://kalenderwoche.info/1648/kw-36
URL:https://kalenderwoche.info/1648/kw-36
CATEGORIES:Kalenderwoche
TRANSP:TRANSPARENT
END:VEVENT
BEGIN:VEVENT
UID:kw-1648-37@kalenderwoche.info
DTSTAMP:20260422T123111Z
DTSTART;VALUE=DATE:16480907
DTEND;VALUE=DATE:16480914
SUMMARY:KW 37 (ungerade)
DESCRIPTION:Kalenderwoche 37 im Jahr 1648\nMontag: 07.09.1648\nSonntag: 13.09.1648\nTyp: ungerade Woche\nMehr unter: https://kalenderwoche.info/1648/kw-37
URL:https://kalenderwoche.info/1648/kw-37
CATEGORIES:Kalenderwoche
TRANSP:TRANSPARENT
END:VEVENT
BEGIN:VEVENT
UID:kw-1648-38@kalenderwoche.info
DTSTAMP:20260422T123111Z
DTSTART;VALUE=DATE:16480914
DTEND;VALUE=DATE:16480921
SUMMARY:KW 38 (gerade)
DESCRIPTION:Kalenderwoche 38 im Jahr 1648\nMontag: 14.09.1648\nSonntag: 20.09.1648\nTyp: gerade Woche\nMehr unter: https://kalenderwoche.info/1648/kw-38
URL:https://kalenderwoche.info/1648/kw-38
CATEGORIES:Kalenderwoche
TRANSP:TRANSPARENT
END:VEVENT
BEGIN:VEVENT
UID:kw-1648-39@kalenderwoche.info
DTSTAMP:20260422T123111Z
DTSTART;VALUE=DATE:16480921
DTEND;VALUE=DATE:16480928
SUMMARY:KW 39 (ungerade)
DESCRIPTION:Kalenderwoche 39 im Jahr 1648\nMontag: 21.09.1648\nSonntag: 27.09.1648\nTyp: ungerade Woche\nMehr unter: https://kalenderwoche.info/1648/kw-39
URL:https://kalenderwoche.info/1648/kw-39
CATEGORIES:Kalenderwoche
TRANSP:TRANSPARENT
END:VEVENT
BEGIN:VEVENT
UID:kw-1648-40@kalenderwoche.info
DTSTAMP:20260422T123111Z
DTSTART;VALUE=DATE:16480928
DTEND;VALUE=DATE:16481005
SUMMARY:KW 40 (gerade)
DESCRIPTION:Kalenderwoche 40 im Jahr 1648\nMontag: 28.09.1648\nSonntag: 04.10.1648\nTyp: gerade Woche\nMehr unter: https://kalenderwoche.info/1648/kw-40
URL:https://kalenderwoche.info/1648/kw-40
CATEGORIES:Kalenderwoche
TRANSP:TRANSPARENT
END:VEVENT
BEGIN:VEVENT
UID:kw-1648-41@kalenderwoche.info
DTSTAMP:20260422T123111Z
DTSTART;VALUE=DATE:16481005
DTEND;VALUE=DATE:16481012
SUMMARY:KW 41 (ungerade)
DESCRIPTION:Kalenderwoche 41 im Jahr 1648\nMontag: 05.10.1648\nSonntag: 11.10.1648\nTyp: ungerade Woche\nMehr unter: https://kalenderwoche.info/1648/kw-41
URL:https://kalenderwoche.info/1648/kw-41
CATEGORIES:Kalenderwoche
TRANSP:TRANSPARENT
END:VEVENT
BEGIN:VEVENT
UID:kw-1648-42@kalenderwoche.info
DTSTAMP:20260422T123111Z
DTSTART;VALUE=DATE:16481012
DTEND;VALUE=DATE:16481019
SUMMARY:KW 42 (gerade)
DESCRIPTION:Kalenderwoche 42 im Jahr 1648\nMontag: 12.10.1648\nSonntag: 18.10.1648\nTyp: gerade Woche\nMehr unter: https://kalenderwoche.info/1648/kw-42
URL:https://kalenderwoche.info/1648/kw-42
CATEGORIES:Kalenderwoche
TRANSP:TRANSPARENT
END:VEVENT
BEGIN:VEVENT
UID:kw-1648-43@kalenderwoche.info
DTSTAMP:20260422T123111Z
DTSTART;VALUE=DATE:16481019
DTEND;VALUE=DATE:16481026
SUMMARY:KW 43 (ungerade)
DESCRIPTION:Kalenderwoche 43 im Jahr 1648\nMontag: 19.10.1648\nSonntag: 25.10.1648\nTyp: ungerade Woche\nMehr unter: https://kalenderwoche.info/1648/kw-43
URL:https://kalenderwoche.info/1648/kw-43
CATEGORIES:Kalenderwoche
TRANSP:TRANSPARENT
END:VEVENT
BEGIN:VEVENT
UID:kw-1648-44@kalenderwoche.info
DTSTAMP:20260422T123111Z
DTSTART;VALUE=DATE:16481026
DTEND;VALUE=DATE:16481102
SUMMARY:KW 44 (gerade)
DESCRIPTION:Kalenderwoche 44 im Jahr 1648\nMontag: 26.10.1648\nSonntag: 01.11.1648\nTyp: gerade Woche\nMehr unter: https://kalenderwoche.info/1648/kw-44
URL:https://kalenderwoche.info/1648/kw-44
CATEGORIES:Kalenderwoche
TRANSP:TRANSPARENT
END:VEVENT
BEGIN:VEVENT
UID:kw-1648-45@kalenderwoche.info
DTSTAMP:20260422T123111Z
DTSTART;VALUE=DATE:16481102
DTEND;VALUE=DATE:16481109
SUMMARY:KW 45 (ungerade)
DESCRIPTION:Kalenderwoche 45 im Jahr 1648\nMontag: 02.11.1648\nSonntag: 08.11.1648\nTyp: ungerade Woche\nMehr unter: https://kalenderwoche.info/1648/kw-45
URL:https://kalenderwoche.info/1648/kw-45
CATEGORIES:Kalenderwoche
TRANSP:TRANSPARENT
END:VEVENT
BEGIN:VEVENT
UID:kw-1648-46@kalenderwoche.info
DTSTAMP:20260422T123111Z
DTSTART;VALUE=DATE:16481109
DTEND;VALUE=DATE:16481116
SUMMARY:KW 46 (gerade)
DESCRIPTION:Kalenderwoche 46 im Jahr 1648\nMontag: 09.11.1648\nSonntag: 15.11.1648\nTyp: gerade Woche\nMehr unter: https://kalenderwoche.info/1648/kw-46
URL:https://kalenderwoche.info/1648/kw-46
CATEGORIES:Kalenderwoche
TRANSP:TRANSPARENT
END:VEVENT
BEGIN:VEVENT
UID:kw-1648-47@kalenderwoche.info
DTSTAMP:20260422T123111Z
DTSTART;VALUE=DATE:16481116
DTEND;VALUE=DATE:16481123
SUMMARY:KW 47 (ungerade)
DESCRIPTION:Kalenderwoche 47 im Jahr 1648\nMontag: 16.11.1648\nSonntag: 22.11.1648\nTyp: ungerade Woche\nMehr unter: https://kalenderwoche.info/1648/kw-47
URL:https://kalenderwoche.info/1648/kw-47
CATEGORIES:Kalenderwoche
TRANSP:TRANSPARENT
END:VEVENT
BEGIN:VEVENT
UID:kw-1648-48@kalenderwoche.info
DTSTAMP:20260422T123111Z
DTSTART;VALUE=DATE:16481123
DTEND;VALUE=DATE:16481130
SUMMARY:KW 48 (gerade)
DESCRIPTION:Kalenderwoche 48 im Jahr 1648\nMontag: 23.11.1648\nSonntag: 29.11.1648\nTyp: gerade Woche\nMehr unter: https://kalenderwoche.info/1648/kw-48
URL:https://kalenderwoche.info/1648/kw-48
CATEGORIES:Kalenderwoche
TRANSP:TRANSPARENT
END:VEVENT
BEGIN:VEVENT
UID:kw-1648-49@kalenderwoche.info
DTSTAMP:20260422T123111Z
DTSTART;VALUE=DATE:16481130
DTEND;VALUE=DATE:16481207
SUMMARY:KW 49 (ungerade)
DESCRIPTION:Kalenderwoche 49 im Jahr 1648\nMontag: 30.11.1648\nSonntag: 06.12.1648\nTyp: ungerade Woche\nMehr unter: https://kalenderwoche.info/1648/kw-49
URL:https://kalenderwoche.info/1648/kw-49
CATEGORIES:Kalenderwoche
TRANSP:TRANSPARENT
END:VEVENT
BEGIN:VEVENT
UID:kw-1648-50@kalenderwoche.info
DTSTAMP:20260422T123111Z
DTSTART;VALUE=DATE:16481207
DTEND;VALUE=DATE:16481214
SUMMARY:KW 50 (gerade)
DESCRIPTION:Kalenderwoche 50 im Jahr 1648\nMontag: 07.12.1648\nSonntag: 13.12.1648\nTyp: gerade Woche\nMehr unter: https://kalenderwoche.info/1648/kw-50
URL:https://kalenderwoche.info/1648/kw-50
CATEGORIES:Kalenderwoche
TRANSP:TRANSPARENT
END:VEVENT
BEGIN:VEVENT
UID:kw-1648-51@kalenderwoche.info
DTSTAMP:20260422T123111Z
DTSTART;VALUE=DATE:16481214
DTEND;VALUE=DATE:16481221
SUMMARY:KW 51 (ungerade)
DESCRIPTION:Kalenderwoche 51 im Jahr 1648\nMontag: 14.12.1648\nSonntag: 20.12.1648\nTyp: ungerade Woche\nMehr unter: https://kalenderwoche.info/1648/kw-51
URL:https://kalenderwoche.info/1648/kw-51
CATEGORIES:Kalenderwoche
TRANSP:TRANSPARENT
END:VEVENT
BEGIN:VEVENT
UID:kw-1648-52@kalenderwoche.info
DTSTAMP:20260422T123111Z
DTSTART;VALUE=DATE:16481221
DTEND;VALUE=DATE:16481228
SUMMARY:KW 52 (gerade)
DESCRIPTION:Kalenderwoche 52 im Jahr 1648\nMontag: 21.12.1648\nSonntag: 27.12.1648\nTyp: gerade Woche\nMehr unter: https://kalenderwoche.info/1648/kw-52
URL:https://kalenderwoche.info/1648/kw-52
CATEGORIES:Kalenderwoche
TRANSP:TRANSPARENT
END:VEVENT
BEGIN:VEVENT
UID:kw-1648-53@kalenderwoche.info
DTSTAMP:20260422T123111Z
DTSTART;VALUE=DATE:16481228
DTEND;VALUE=DATE:16490104
SUMMARY:KW 53 (ungerade)
DESCRIPTION:Kalenderwoche 53 im Jahr 1648\nMontag: 28.12.1648\nSonntag: 03.01.1649\nTyp: ungerade Woche\nMehr unter: https://kalenderwoche.info/1648/kw-53
URL:https://kalenderwoche.info/1648/kw-53
CATEGORIES:Kalenderwoche
TRANSP:TRANSPARENT
END:VEVENT
END:VCALENDAR
