BEGIN:VCALENDAR
VERSION:2.0
PRODID:-//kalenderwoche.info//Kalender//DE
CALSCALE:GREGORIAN
METHOD:PUBLISH
X-WR-CALNAME:Kalenderwochen 1659
X-WR-CALDESC:Alle Kalenderwochen für das Jahr 1659
X-WR-TIMEZONE:Europe/Berlin
BEGIN:VEVENT
UID:kw-1659-1@kalenderwoche.info
DTSTAMP:20260421T214033Z
DTSTART;VALUE=DATE:16581230
DTEND;VALUE=DATE:16590106
SUMMARY:KW 1 (ungerade)
DESCRIPTION:Kalenderwoche 1 im Jahr 1659\nMontag: 30.12.1658\nSonntag: 05.01.1659\nTyp: ungerade Woche\nMehr unter: https://kalenderwoche.info/1659/kw-1
URL:https://kalenderwoche.info/1659/kw-1
CATEGORIES:Kalenderwoche
TRANSP:TRANSPARENT
END:VEVENT
BEGIN:VEVENT
UID:kw-1659-2@kalenderwoche.info
DTSTAMP:20260421T214033Z
DTSTART;VALUE=DATE:16590106
DTEND;VALUE=DATE:16590113
SUMMARY:KW 2 (gerade)
DESCRIPTION:Kalenderwoche 2 im Jahr 1659\nMontag: 06.01.1659\nSonntag: 12.01.1659\nTyp: gerade Woche\nMehr unter: https://kalenderwoche.info/1659/kw-2
URL:https://kalenderwoche.info/1659/kw-2
CATEGORIES:Kalenderwoche
TRANSP:TRANSPARENT
END:VEVENT
BEGIN:VEVENT
UID:kw-1659-3@kalenderwoche.info
DTSTAMP:20260421T214033Z
DTSTART;VALUE=DATE:16590113
DTEND;VALUE=DATE:16590120
SUMMARY:KW 3 (ungerade)
DESCRIPTION:Kalenderwoche 3 im Jahr 1659\nMontag: 13.01.1659\nSonntag: 19.01.1659\nTyp: ungerade Woche\nMehr unter: https://kalenderwoche.info/1659/kw-3
URL:https://kalenderwoche.info/1659/kw-3
CATEGORIES:Kalenderwoche
TRANSP:TRANSPARENT
END:VEVENT
BEGIN:VEVENT
UID:kw-1659-4@kalenderwoche.info
DTSTAMP:20260421T214033Z
DTSTART;VALUE=DATE:16590120
DTEND;VALUE=DATE:16590127
SUMMARY:KW 4 (gerade)
DESCRIPTION:Kalenderwoche 4 im Jahr 1659\nMontag: 20.01.1659\nSonntag: 26.01.1659\nTyp: gerade Woche\nMehr unter: https://kalenderwoche.info/1659/kw-4
URL:https://kalenderwoche.info/1659/kw-4
CATEGORIES:Kalenderwoche
TRANSP:TRANSPARENT
END:VEVENT
BEGIN:VEVENT
UID:kw-1659-5@kalenderwoche.info
DTSTAMP:20260421T214033Z
DTSTART;VALUE=DATE:16590127
DTEND;VALUE=DATE:16590203
SUMMARY:KW 5 (ungerade)
DESCRIPTION:Kalenderwoche 5 im Jahr 1659\nMontag: 27.01.1659\nSonntag: 02.02.1659\nTyp: ungerade Woche\nMehr unter: https://kalenderwoche.info/1659/kw-5
URL:https://kalenderwoche.info/1659/kw-5
CATEGORIES:Kalenderwoche
TRANSP:TRANSPARENT
END:VEVENT
BEGIN:VEVENT
UID:kw-1659-6@kalenderwoche.info
DTSTAMP:20260421T214033Z
DTSTART;VALUE=DATE:16590203
DTEND;VALUE=DATE:16590210
SUMMARY:KW 6 (gerade)
DESCRIPTION:Kalenderwoche 6 im Jahr 1659\nMontag: 03.02.1659\nSonntag: 09.02.1659\nTyp: gerade Woche\nMehr unter: https://kalenderwoche.info/1659/kw-6
URL:https://kalenderwoche.info/1659/kw-6
CATEGORIES:Kalenderwoche
TRANSP:TRANSPARENT
END:VEVENT
BEGIN:VEVENT
UID:kw-1659-7@kalenderwoche.info
DTSTAMP:20260421T214033Z
DTSTART;VALUE=DATE:16590210
DTEND;VALUE=DATE:16590217
SUMMARY:KW 7 (ungerade)
DESCRIPTION:Kalenderwoche 7 im Jahr 1659\nMontag: 10.02.1659\nSonntag: 16.02.1659\nTyp: ungerade Woche\nMehr unter: https://kalenderwoche.info/1659/kw-7
URL:https://kalenderwoche.info/1659/kw-7
CATEGORIES:Kalenderwoche
TRANSP:TRANSPARENT
END:VEVENT
BEGIN:VEVENT
UID:kw-1659-8@kalenderwoche.info
DTSTAMP:20260421T214033Z
DTSTART;VALUE=DATE:16590217
DTEND;VALUE=DATE:16590224
SUMMARY:KW 8 (gerade)
DESCRIPTION:Kalenderwoche 8 im Jahr 1659\nMontag: 17.02.1659\nSonntag: 23.02.1659\nTyp: gerade Woche\nMehr unter: https://kalenderwoche.info/1659/kw-8
URL:https://kalenderwoche.info/1659/kw-8
CATEGORIES:Kalenderwoche
TRANSP:TRANSPARENT
END:VEVENT
BEGIN:VEVENT
UID:kw-1659-9@kalenderwoche.info
DTSTAMP:20260421T214033Z
DTSTART;VALUE=DATE:16590224
DTEND;VALUE=DATE:16590303
SUMMARY:KW 9 (ungerade)
DESCRIPTION:Kalenderwoche 9 im Jahr 1659\nMontag: 24.02.1659\nSonntag: 02.03.1659\nTyp: ungerade Woche\nMehr unter: https://kalenderwoche.info/1659/kw-9
URL:https://kalenderwoche.info/1659/kw-9
CATEGORIES:Kalenderwoche
TRANSP:TRANSPARENT
END:VEVENT
BEGIN:VEVENT
UID:kw-1659-10@kalenderwoche.info
DTSTAMP:20260421T214033Z
DTSTART;VALUE=DATE:16590303
DTEND;VALUE=DATE:16590310
SUMMARY:KW 10 (gerade)
DESCRIPTION:Kalenderwoche 10 im Jahr 1659\nMontag: 03.03.1659\nSonntag: 09.03.1659\nTyp: gerade Woche\nMehr unter: https://kalenderwoche.info/1659/kw-10
URL:https://kalenderwoche.info/1659/kw-10
CATEGORIES:Kalenderwoche
TRANSP:TRANSPARENT
END:VEVENT
BEGIN:VEVENT
UID:kw-1659-11@kalenderwoche.info
DTSTAMP:20260421T214033Z
DTSTART;VALUE=DATE:16590310
DTEND;VALUE=DATE:16590317
SUMMARY:KW 11 (ungerade)
DESCRIPTION:Kalenderwoche 11 im Jahr 1659\nMontag: 10.03.1659\nSonntag: 16.03.1659\nTyp: ungerade Woche\nMehr unter: https://kalenderwoche.info/1659/kw-11
URL:https://kalenderwoche.info/1659/kw-11
CATEGORIES:Kalenderwoche
TRANSP:TRANSPARENT
END:VEVENT
BEGIN:VEVENT
UID:kw-1659-12@kalenderwoche.info
DTSTAMP:20260421T214033Z
DTSTART;VALUE=DATE:16590317
DTEND;VALUE=DATE:16590324
SUMMARY:KW 12 (gerade)
DESCRIPTION:Kalenderwoche 12 im Jahr 1659\nMontag: 17.03.1659\nSonntag: 23.03.1659\nTyp: gerade Woche\nMehr unter: https://kalenderwoche.info/1659/kw-12
URL:https://kalenderwoche.info/1659/kw-12
CATEGORIES:Kalenderwoche
TRANSP:TRANSPARENT
END:VEVENT
BEGIN:VEVENT
UID:kw-1659-13@kalenderwoche.info
DTSTAMP:20260421T214033Z
DTSTART;VALUE=DATE:16590324
DTEND;VALUE=DATE:16590331
SUMMARY:KW 13 (ungerade)
DESCRIPTION:Kalenderwoche 13 im Jahr 1659\nMontag: 24.03.1659\nSonntag: 30.03.1659\nTyp: ungerade Woche\nMehr unter: https://kalenderwoche.info/1659/kw-13
URL:https://kalenderwoche.info/1659/kw-13
CATEGORIES:Kalenderwoche
TRANSP:TRANSPARENT
END:VEVENT
BEGIN:VEVENT
UID:kw-1659-14@kalenderwoche.info
DTSTAMP:20260421T214033Z
DTSTART;VALUE=DATE:16590331
DTEND;VALUE=DATE:16590407
SUMMARY:KW 14 (gerade)
DESCRIPTION:Kalenderwoche 14 im Jahr 1659\nMontag: 31.03.1659\nSonntag: 06.04.1659\nTyp: gerade Woche\nMehr unter: https://kalenderwoche.info/1659/kw-14
URL:https://kalenderwoche.info/1659/kw-14
CATEGORIES:Kalenderwoche
TRANSP:TRANSPARENT
END:VEVENT
BEGIN:VEVENT
UID:kw-1659-15@kalenderwoche.info
DTSTAMP:20260421T214033Z
DTSTART;VALUE=DATE:16590407
DTEND;VALUE=DATE:16590414
SUMMARY:KW 15 (ungerade)
DESCRIPTION:Kalenderwoche 15 im Jahr 1659\nMontag: 07.04.1659\nSonntag: 13.04.1659\nTyp: ungerade Woche\nMehr unter: https://kalenderwoche.info/1659/kw-15
URL:https://kalenderwoche.info/1659/kw-15
CATEGORIES:Kalenderwoche
TRANSP:TRANSPARENT
END:VEVENT
BEGIN:VEVENT
UID:kw-1659-16@kalenderwoche.info
DTSTAMP:20260421T214033Z
DTSTART;VALUE=DATE:16590414
DTEND;VALUE=DATE:16590421
SUMMARY:KW 16 (gerade)
DESCRIPTION:Kalenderwoche 16 im Jahr 1659\nMontag: 14.04.1659\nSonntag: 20.04.1659\nTyp: gerade Woche\nMehr unter: https://kalenderwoche.info/1659/kw-16
URL:https://kalenderwoche.info/1659/kw-16
CATEGORIES:Kalenderwoche
TRANSP:TRANSPARENT
END:VEVENT
BEGIN:VEVENT
UID:kw-1659-17@kalenderwoche.info
DTSTAMP:20260421T214033Z
DTSTART;VALUE=DATE:16590421
DTEND;VALUE=DATE:16590428
SUMMARY:KW 17 (ungerade)
DESCRIPTION:Kalenderwoche 17 im Jahr 1659\nMontag: 21.04.1659\nSonntag: 27.04.1659\nTyp: ungerade Woche\nMehr unter: https://kalenderwoche.info/1659/kw-17
URL:https://kalenderwoche.info/1659/kw-17
CATEGORIES:Kalenderwoche
TRANSP:TRANSPARENT
END:VEVENT
BEGIN:VEVENT
UID:kw-1659-18@kalenderwoche.info
DTSTAMP:20260421T214033Z
DTSTART;VALUE=DATE:16590428
DTEND;VALUE=DATE:16590505
SUMMARY:KW 18 (gerade)
DESCRIPTION:Kalenderwoche 18 im Jahr 1659\nMontag: 28.04.1659\nSonntag: 04.05.1659\nTyp: gerade Woche\nMehr unter: https://kalenderwoche.info/1659/kw-18
URL:https://kalenderwoche.info/1659/kw-18
CATEGORIES:Kalenderwoche
TRANSP:TRANSPARENT
END:VEVENT
BEGIN:VEVENT
UID:kw-1659-19@kalenderwoche.info
DTSTAMP:20260421T214033Z
DTSTART;VALUE=DATE:16590505
DTEND;VALUE=DATE:16590512
SUMMARY:KW 19 (ungerade)
DESCRIPTION:Kalenderwoche 19 im Jahr 1659\nMontag: 05.05.1659\nSonntag: 11.05.1659\nTyp: ungerade Woche\nMehr unter: https://kalenderwoche.info/1659/kw-19
URL:https://kalenderwoche.info/1659/kw-19
CATEGORIES:Kalenderwoche
TRANSP:TRANSPARENT
END:VEVENT
BEGIN:VEVENT
UID:kw-1659-20@kalenderwoche.info
DTSTAMP:20260421T214033Z
DTSTART;VALUE=DATE:16590512
DTEND;VALUE=DATE:16590519
SUMMARY:KW 20 (gerade)
DESCRIPTION:Kalenderwoche 20 im Jahr 1659\nMontag: 12.05.1659\nSonntag: 18.05.1659\nTyp: gerade Woche\nMehr unter: https://kalenderwoche.info/1659/kw-20
URL:https://kalenderwoche.info/1659/kw-20
CATEGORIES:Kalenderwoche
TRANSP:TRANSPARENT
END:VEVENT
BEGIN:VEVENT
UID:kw-1659-21@kalenderwoche.info
DTSTAMP:20260421T214033Z
DTSTART;VALUE=DATE:16590519
DTEND;VALUE=DATE:16590526
SUMMARY:KW 21 (ungerade)
DESCRIPTION:Kalenderwoche 21 im Jahr 1659\nMontag: 19.05.1659\nSonntag: 25.05.1659\nTyp: ungerade Woche\nMehr unter: https://kalenderwoche.info/1659/kw-21
URL:https://kalenderwoche.info/1659/kw-21
CATEGORIES:Kalenderwoche
TRANSP:TRANSPARENT
END:VEVENT
BEGIN:VEVENT
UID:kw-1659-22@kalenderwoche.info
DTSTAMP:20260421T214033Z
DTSTART;VALUE=DATE:16590526
DTEND;VALUE=DATE:16590602
SUMMARY:KW 22 (gerade)
DESCRIPTION:Kalenderwoche 22 im Jahr 1659\nMontag: 26.05.1659\nSonntag: 01.06.1659\nTyp: gerade Woche\nMehr unter: https://kalenderwoche.info/1659/kw-22
URL:https://kalenderwoche.info/1659/kw-22
CATEGORIES:Kalenderwoche
TRANSP:TRANSPARENT
END:VEVENT
BEGIN:VEVENT
UID:kw-1659-23@kalenderwoche.info
DTSTAMP:20260421T214033Z
DTSTART;VALUE=DATE:16590602
DTEND;VALUE=DATE:16590609
SUMMARY:KW 23 (ungerade)
DESCRIPTION:Kalenderwoche 23 im Jahr 1659\nMontag: 02.06.1659\nSonntag: 08.06.1659\nTyp: ungerade Woche\nMehr unter: https://kalenderwoche.info/1659/kw-23
URL:https://kalenderwoche.info/1659/kw-23
CATEGORIES:Kalenderwoche
TRANSP:TRANSPARENT
END:VEVENT
BEGIN:VEVENT
UID:kw-1659-24@kalenderwoche.info
DTSTAMP:20260421T214033Z
DTSTART;VALUE=DATE:16590609
DTEND;VALUE=DATE:16590616
SUMMARY:KW 24 (gerade)
DESCRIPTION:Kalenderwoche 24 im Jahr 1659\nMontag: 09.06.1659\nSonntag: 15.06.1659\nTyp: gerade Woche\nMehr unter: https://kalenderwoche.info/1659/kw-24
URL:https://kalenderwoche.info/1659/kw-24
CATEGORIES:Kalenderwoche
TRANSP:TRANSPARENT
END:VEVENT
BEGIN:VEVENT
UID:kw-1659-25@kalenderwoche.info
DTSTAMP:20260421T214033Z
DTSTART;VALUE=DATE:16590616
DTEND;VALUE=DATE:16590623
SUMMARY:KW 25 (ungerade)
DESCRIPTION:Kalenderwoche 25 im Jahr 1659\nMontag: 16.06.1659\nSonntag: 22.06.1659\nTyp: ungerade Woche\nMehr unter: https://kalenderwoche.info/1659/kw-25
URL:https://kalenderwoche.info/1659/kw-25
CATEGORIES:Kalenderwoche
TRANSP:TRANSPARENT
END:VEVENT
BEGIN:VEVENT
UID:kw-1659-26@kalenderwoche.info
DTSTAMP:20260421T214033Z
DTSTART;VALUE=DATE:16590623
DTEND;VALUE=DATE:16590630
SUMMARY:KW 26 (gerade)
DESCRIPTION:Kalenderwoche 26 im Jahr 1659\nMontag: 23.06.1659\nSonntag: 29.06.1659\nTyp: gerade Woche\nMehr unter: https://kalenderwoche.info/1659/kw-26
URL:https://kalenderwoche.info/1659/kw-26
CATEGORIES:Kalenderwoche
TRANSP:TRANSPARENT
END:VEVENT
BEGIN:VEVENT
UID:kw-1659-27@kalenderwoche.info
DTSTAMP:20260421T214033Z
DTSTART;VALUE=DATE:16590630
DTEND;VALUE=DATE:16590707
SUMMARY:KW 27 (ungerade)
DESCRIPTION:Kalenderwoche 27 im Jahr 1659\nMontag: 30.06.1659\nSonntag: 06.07.1659\nTyp: ungerade Woche\nMehr unter: https://kalenderwoche.info/1659/kw-27
URL:https://kalenderwoche.info/1659/kw-27
CATEGORIES:Kalenderwoche
TRANSP:TRANSPARENT
END:VEVENT
BEGIN:VEVENT
UID:kw-1659-28@kalenderwoche.info
DTSTAMP:20260421T214033Z
DTSTART;VALUE=DATE:16590707
DTEND;VALUE=DATE:16590714
SUMMARY:KW 28 (gerade)
DESCRIPTION:Kalenderwoche 28 im Jahr 1659\nMontag: 07.07.1659\nSonntag: 13.07.1659\nTyp: gerade Woche\nMehr unter: https://kalenderwoche.info/1659/kw-28
URL:https://kalenderwoche.info/1659/kw-28
CATEGORIES:Kalenderwoche
TRANSP:TRANSPARENT
END:VEVENT
BEGIN:VEVENT
UID:kw-1659-29@kalenderwoche.info
DTSTAMP:20260421T214033Z
DTSTART;VALUE=DATE:16590714
DTEND;VALUE=DATE:16590721
SUMMARY:KW 29 (ungerade)
DESCRIPTION:Kalenderwoche 29 im Jahr 1659\nMontag: 14.07.1659\nSonntag: 20.07.1659\nTyp: ungerade Woche\nMehr unter: https://kalenderwoche.info/1659/kw-29
URL:https://kalenderwoche.info/1659/kw-29
CATEGORIES:Kalenderwoche
TRANSP:TRANSPARENT
END:VEVENT
BEGIN:VEVENT
UID:kw-1659-30@kalenderwoche.info
DTSTAMP:20260421T214033Z
DTSTART;VALUE=DATE:16590721
DTEND;VALUE=DATE:16590728
SUMMARY:KW 30 (gerade)
DESCRIPTION:Kalenderwoche 30 im Jahr 1659\nMontag: 21.07.1659\nSonntag: 27.07.1659\nTyp: gerade Woche\nMehr unter: https://kalenderwoche.info/1659/kw-30
URL:https://kalenderwoche.info/1659/kw-30
CATEGORIES:Kalenderwoche
TRANSP:TRANSPARENT
END:VEVENT
BEGIN:VEVENT
UID:kw-1659-31@kalenderwoche.info
DTSTAMP:20260421T214033Z
DTSTART;VALUE=DATE:16590728
DTEND;VALUE=DATE:16590804
SUMMARY:KW 31 (ungerade)
DESCRIPTION:Kalenderwoche 31 im Jahr 1659\nMontag: 28.07.1659\nSonntag: 03.08.1659\nTyp: ungerade Woche\nMehr unter: https://kalenderwoche.info/1659/kw-31
URL:https://kalenderwoche.info/1659/kw-31
CATEGORIES:Kalenderwoche
TRANSP:TRANSPARENT
END:VEVENT
BEGIN:VEVENT
UID:kw-1659-32@kalenderwoche.info
DTSTAMP:20260421T214033Z
DTSTART;VALUE=DATE:16590804
DTEND;VALUE=DATE:16590811
SUMMARY:KW 32 (gerade)
DESCRIPTION:Kalenderwoche 32 im Jahr 1659\nMontag: 04.08.1659\nSonntag: 10.08.1659\nTyp: gerade Woche\nMehr unter: https://kalenderwoche.info/1659/kw-32
URL:https://kalenderwoche.info/1659/kw-32
CATEGORIES:Kalenderwoche
TRANSP:TRANSPARENT
END:VEVENT
BEGIN:VEVENT
UID:kw-1659-33@kalenderwoche.info
DTSTAMP:20260421T214033Z
DTSTART;VALUE=DATE:16590811
DTEND;VALUE=DATE:16590818
SUMMARY:KW 33 (ungerade)
DESCRIPTION:Kalenderwoche 33 im Jahr 1659\nMontag: 11.08.1659\nSonntag: 17.08.1659\nTyp: ungerade Woche\nMehr unter: https://kalenderwoche.info/1659/kw-33
URL:https://kalenderwoche.info/1659/kw-33
CATEGORIES:Kalenderwoche
TRANSP:TRANSPARENT
END:VEVENT
BEGIN:VEVENT
UID:kw-1659-34@kalenderwoche.info
DTSTAMP:20260421T214033Z
DTSTART;VALUE=DATE:16590818
DTEND;VALUE=DATE:16590825
SUMMARY:KW 34 (gerade)
DESCRIPTION:Kalenderwoche 34 im Jahr 1659\nMontag: 18.08.1659\nSonntag: 24.08.1659\nTyp: gerade Woche\nMehr unter: https://kalenderwoche.info/1659/kw-34
URL:https://kalenderwoche.info/1659/kw-34
CATEGORIES:Kalenderwoche
TRANSP:TRANSPARENT
END:VEVENT
BEGIN:VEVENT
UID:kw-1659-35@kalenderwoche.info
DTSTAMP:20260421T214033Z
DTSTART;VALUE=DATE:16590825
DTEND;VALUE=DATE:16590901
SUMMARY:KW 35 (ungerade)
DESCRIPTION:Kalenderwoche 35 im Jahr 1659\nMontag: 25.08.1659\nSonntag: 31.08.1659\nTyp: ungerade Woche\nMehr unter: https://kalenderwoche.info/1659/kw-35
URL:https://kalenderwoche.info/1659/kw-35
CATEGORIES:Kalenderwoche
TRANSP:TRANSPARENT
END:VEVENT
BEGIN:VEVENT
UID:kw-1659-36@kalenderwoche.info
DTSTAMP:20260421T214033Z
DTSTART;VALUE=DATE:16590901
DTEND;VALUE=DATE:16590908
SUMMARY:KW 36 (gerade)
DESCRIPTION:Kalenderwoche 36 im Jahr 1659\nMontag: 01.09.1659\nSonntag: 07.09.1659\nTyp: gerade Woche\nMehr unter: https://kalenderwoche.info/1659/kw-36
URL:https://kalenderwoche.info/1659/kw-36
CATEGORIES:Kalenderwoche
TRANSP:TRANSPARENT
END:VEVENT
BEGIN:VEVENT
UID:kw-1659-37@kalenderwoche.info
DTSTAMP:20260421T214033Z
DTSTART;VALUE=DATE:16590908
DTEND;VALUE=DATE:16590915
SUMMARY:KW 37 (ungerade)
DESCRIPTION:Kalenderwoche 37 im Jahr 1659\nMontag: 08.09.1659\nSonntag: 14.09.1659\nTyp: ungerade Woche\nMehr unter: https://kalenderwoche.info/1659/kw-37
URL:https://kalenderwoche.info/1659/kw-37
CATEGORIES:Kalenderwoche
TRANSP:TRANSPARENT
END:VEVENT
BEGIN:VEVENT
UID:kw-1659-38@kalenderwoche.info
DTSTAMP:20260421T214033Z
DTSTART;VALUE=DATE:16590915
DTEND;VALUE=DATE:16590922
SUMMARY:KW 38 (gerade)
DESCRIPTION:Kalenderwoche 38 im Jahr 1659\nMontag: 15.09.1659\nSonntag: 21.09.1659\nTyp: gerade Woche\nMehr unter: https://kalenderwoche.info/1659/kw-38
URL:https://kalenderwoche.info/1659/kw-38
CATEGORIES:Kalenderwoche
TRANSP:TRANSPARENT
END:VEVENT
BEGIN:VEVENT
UID:kw-1659-39@kalenderwoche.info
DTSTAMP:20260421T214033Z
DTSTART;VALUE=DATE:16590922
DTEND;VALUE=DATE:16590929
SUMMARY:KW 39 (ungerade)
DESCRIPTION:Kalenderwoche 39 im Jahr 1659\nMontag: 22.09.1659\nSonntag: 28.09.1659\nTyp: ungerade Woche\nMehr unter: https://kalenderwoche.info/1659/kw-39
URL:https://kalenderwoche.info/1659/kw-39
CATEGORIES:Kalenderwoche
TRANSP:TRANSPARENT
END:VEVENT
BEGIN:VEVENT
UID:kw-1659-40@kalenderwoche.info
DTSTAMP:20260421T214033Z
DTSTART;VALUE=DATE:16590929
DTEND;VALUE=DATE:16591006
SUMMARY:KW 40 (gerade)
DESCRIPTION:Kalenderwoche 40 im Jahr 1659\nMontag: 29.09.1659\nSonntag: 05.10.1659\nTyp: gerade Woche\nMehr unter: https://kalenderwoche.info/1659/kw-40
URL:https://kalenderwoche.info/1659/kw-40
CATEGORIES:Kalenderwoche
TRANSP:TRANSPARENT
END:VEVENT
BEGIN:VEVENT
UID:kw-1659-41@kalenderwoche.info
DTSTAMP:20260421T214033Z
DTSTART;VALUE=DATE:16591006
DTEND;VALUE=DATE:16591013
SUMMARY:KW 41 (ungerade)
DESCRIPTION:Kalenderwoche 41 im Jahr 1659\nMontag: 06.10.1659\nSonntag: 12.10.1659\nTyp: ungerade Woche\nMehr unter: https://kalenderwoche.info/1659/kw-41
URL:https://kalenderwoche.info/1659/kw-41
CATEGORIES:Kalenderwoche
TRANSP:TRANSPARENT
END:VEVENT
BEGIN:VEVENT
UID:kw-1659-42@kalenderwoche.info
DTSTAMP:20260421T214033Z
DTSTART;VALUE=DATE:16591013
DTEND;VALUE=DATE:16591020
SUMMARY:KW 42 (gerade)
DESCRIPTION:Kalenderwoche 42 im Jahr 1659\nMontag: 13.10.1659\nSonntag: 19.10.1659\nTyp: gerade Woche\nMehr unter: https://kalenderwoche.info/1659/kw-42
URL:https://kalenderwoche.info/1659/kw-42
CATEGORIES:Kalenderwoche
TRANSP:TRANSPARENT
END:VEVENT
BEGIN:VEVENT
UID:kw-1659-43@kalenderwoche.info
DTSTAMP:20260421T214033Z
DTSTART;VALUE=DATE:16591020
DTEND;VALUE=DATE:16591027
SUMMARY:KW 43 (ungerade)
DESCRIPTION:Kalenderwoche 43 im Jahr 1659\nMontag: 20.10.1659\nSonntag: 26.10.1659\nTyp: ungerade Woche\nMehr unter: https://kalenderwoche.info/1659/kw-43
URL:https://kalenderwoche.info/1659/kw-43
CATEGORIES:Kalenderwoche
TRANSP:TRANSPARENT
END:VEVENT
BEGIN:VEVENT
UID:kw-1659-44@kalenderwoche.info
DTSTAMP:20260421T214033Z
DTSTART;VALUE=DATE:16591027
DTEND;VALUE=DATE:16591103
SUMMARY:KW 44 (gerade)
DESCRIPTION:Kalenderwoche 44 im Jahr 1659\nMontag: 27.10.1659\nSonntag: 02.11.1659\nTyp: gerade Woche\nMehr unter: https://kalenderwoche.info/1659/kw-44
URL:https://kalenderwoche.info/1659/kw-44
CATEGORIES:Kalenderwoche
TRANSP:TRANSPARENT
END:VEVENT
BEGIN:VEVENT
UID:kw-1659-45@kalenderwoche.info
DTSTAMP:20260421T214033Z
DTSTART;VALUE=DATE:16591103
DTEND;VALUE=DATE:16591110
SUMMARY:KW 45 (ungerade)
DESCRIPTION:Kalenderwoche 45 im Jahr 1659\nMontag: 03.11.1659\nSonntag: 09.11.1659\nTyp: ungerade Woche\nMehr unter: https://kalenderwoche.info/1659/kw-45
URL:https://kalenderwoche.info/1659/kw-45
CATEGORIES:Kalenderwoche
TRANSP:TRANSPARENT
END:VEVENT
BEGIN:VEVENT
UID:kw-1659-46@kalenderwoche.info
DTSTAMP:20260421T214033Z
DTSTART;VALUE=DATE:16591110
DTEND;VALUE=DATE:16591117
SUMMARY:KW 46 (gerade)
DESCRIPTION:Kalenderwoche 46 im Jahr 1659\nMontag: 10.11.1659\nSonntag: 16.11.1659\nTyp: gerade Woche\nMehr unter: https://kalenderwoche.info/1659/kw-46
URL:https://kalenderwoche.info/1659/kw-46
CATEGORIES:Kalenderwoche
TRANSP:TRANSPARENT
END:VEVENT
BEGIN:VEVENT
UID:kw-1659-47@kalenderwoche.info
DTSTAMP:20260421T214033Z
DTSTART;VALUE=DATE:16591117
DTEND;VALUE=DATE:16591124
SUMMARY:KW 47 (ungerade)
DESCRIPTION:Kalenderwoche 47 im Jahr 1659\nMontag: 17.11.1659\nSonntag: 23.11.1659\nTyp: ungerade Woche\nMehr unter: https://kalenderwoche.info/1659/kw-47
URL:https://kalenderwoche.info/1659/kw-47
CATEGORIES:Kalenderwoche
TRANSP:TRANSPARENT
END:VEVENT
BEGIN:VEVENT
UID:kw-1659-48@kalenderwoche.info
DTSTAMP:20260421T214033Z
DTSTART;VALUE=DATE:16591124
DTEND;VALUE=DATE:16591201
SUMMARY:KW 48 (gerade)
DESCRIPTION:Kalenderwoche 48 im Jahr 1659\nMontag: 24.11.1659\nSonntag: 30.11.1659\nTyp: gerade Woche\nMehr unter: https://kalenderwoche.info/1659/kw-48
URL:https://kalenderwoche.info/1659/kw-48
CATEGORIES:Kalenderwoche
TRANSP:TRANSPARENT
END:VEVENT
BEGIN:VEVENT
UID:kw-1659-49@kalenderwoche.info
DTSTAMP:20260421T214033Z
DTSTART;VALUE=DATE:16591201
DTEND;VALUE=DATE:16591208
SUMMARY:KW 49 (ungerade)
DESCRIPTION:Kalenderwoche 49 im Jahr 1659\nMontag: 01.12.1659\nSonntag: 07.12.1659\nTyp: ungerade Woche\nMehr unter: https://kalenderwoche.info/1659/kw-49
URL:https://kalenderwoche.info/1659/kw-49
CATEGORIES:Kalenderwoche
TRANSP:TRANSPARENT
END:VEVENT
BEGIN:VEVENT
UID:kw-1659-50@kalenderwoche.info
DTSTAMP:20260421T214033Z
DTSTART;VALUE=DATE:16591208
DTEND;VALUE=DATE:16591215
SUMMARY:KW 50 (gerade)
DESCRIPTION:Kalenderwoche 50 im Jahr 1659\nMontag: 08.12.1659\nSonntag: 14.12.1659\nTyp: gerade Woche\nMehr unter: https://kalenderwoche.info/1659/kw-50
URL:https://kalenderwoche.info/1659/kw-50
CATEGORIES:Kalenderwoche
TRANSP:TRANSPARENT
END:VEVENT
BEGIN:VEVENT
UID:kw-1659-51@kalenderwoche.info
DTSTAMP:20260421T214033Z
DTSTART;VALUE=DATE:16591215
DTEND;VALUE=DATE:16591222
SUMMARY:KW 51 (ungerade)
DESCRIPTION:Kalenderwoche 51 im Jahr 1659\nMontag: 15.12.1659\nSonntag: 21.12.1659\nTyp: ungerade Woche\nMehr unter: https://kalenderwoche.info/1659/kw-51
URL:https://kalenderwoche.info/1659/kw-51
CATEGORIES:Kalenderwoche
TRANSP:TRANSPARENT
END:VEVENT
BEGIN:VEVENT
UID:kw-1659-52@kalenderwoche.info
DTSTAMP:20260421T214033Z
DTSTART;VALUE=DATE:16591222
DTEND;VALUE=DATE:16591229
SUMMARY:KW 52 (gerade)
DESCRIPTION:Kalenderwoche 52 im Jahr 1659\nMontag: 22.12.1659\nSonntag: 28.12.1659\nTyp: gerade Woche\nMehr unter: https://kalenderwoche.info/1659/kw-52
URL:https://kalenderwoche.info/1659/kw-52
CATEGORIES:Kalenderwoche
TRANSP:TRANSPARENT
END:VEVENT
END:VCALENDAR
