BEGIN:VCALENDAR
VERSION:2.0
PRODID:-//kalenderwoche.info//Kalender//DE
CALSCALE:GREGORIAN
METHOD:PUBLISH
X-WR-CALNAME:Kalenderwochen 1664
X-WR-CALDESC:Alle Kalenderwochen für das Jahr 1664
X-WR-TIMEZONE:Europe/Berlin
BEGIN:VEVENT
UID:kw-1664-1@kalenderwoche.info
DTSTAMP:20260421T150026Z
DTSTART;VALUE=DATE:16631231
DTEND;VALUE=DATE:16640107
SUMMARY:KW 1 (ungerade)
DESCRIPTION:Kalenderwoche 1 im Jahr 1664\nMontag: 31.12.1663\nSonntag: 06.01.1664\nTyp: ungerade Woche\nMehr unter: https://kalenderwoche.info/1664/kw-1
URL:https://kalenderwoche.info/1664/kw-1
CATEGORIES:Kalenderwoche
TRANSP:TRANSPARENT
END:VEVENT
BEGIN:VEVENT
UID:kw-1664-2@kalenderwoche.info
DTSTAMP:20260421T150026Z
DTSTART;VALUE=DATE:16640107
DTEND;VALUE=DATE:16640114
SUMMARY:KW 2 (gerade)
DESCRIPTION:Kalenderwoche 2 im Jahr 1664\nMontag: 07.01.1664\nSonntag: 13.01.1664\nTyp: gerade Woche\nMehr unter: https://kalenderwoche.info/1664/kw-2
URL:https://kalenderwoche.info/1664/kw-2
CATEGORIES:Kalenderwoche
TRANSP:TRANSPARENT
END:VEVENT
BEGIN:VEVENT
UID:kw-1664-3@kalenderwoche.info
DTSTAMP:20260421T150026Z
DTSTART;VALUE=DATE:16640114
DTEND;VALUE=DATE:16640121
SUMMARY:KW 3 (ungerade)
DESCRIPTION:Kalenderwoche 3 im Jahr 1664\nMontag: 14.01.1664\nSonntag: 20.01.1664\nTyp: ungerade Woche\nMehr unter: https://kalenderwoche.info/1664/kw-3
URL:https://kalenderwoche.info/1664/kw-3
CATEGORIES:Kalenderwoche
TRANSP:TRANSPARENT
END:VEVENT
BEGIN:VEVENT
UID:kw-1664-4@kalenderwoche.info
DTSTAMP:20260421T150026Z
DTSTART;VALUE=DATE:16640121
DTEND;VALUE=DATE:16640128
SUMMARY:KW 4 (gerade)
DESCRIPTION:Kalenderwoche 4 im Jahr 1664\nMontag: 21.01.1664\nSonntag: 27.01.1664\nTyp: gerade Woche\nMehr unter: https://kalenderwoche.info/1664/kw-4
URL:https://kalenderwoche.info/1664/kw-4
CATEGORIES:Kalenderwoche
TRANSP:TRANSPARENT
END:VEVENT
BEGIN:VEVENT
UID:kw-1664-5@kalenderwoche.info
DTSTAMP:20260421T150026Z
DTSTART;VALUE=DATE:16640128
DTEND;VALUE=DATE:16640204
SUMMARY:KW 5 (ungerade)
DESCRIPTION:Kalenderwoche 5 im Jahr 1664\nMontag: 28.01.1664\nSonntag: 03.02.1664\nTyp: ungerade Woche\nMehr unter: https://kalenderwoche.info/1664/kw-5
URL:https://kalenderwoche.info/1664/kw-5
CATEGORIES:Kalenderwoche
TRANSP:TRANSPARENT
END:VEVENT
BEGIN:VEVENT
UID:kw-1664-6@kalenderwoche.info
DTSTAMP:20260421T150026Z
DTSTART;VALUE=DATE:16640204
DTEND;VALUE=DATE:16640211
SUMMARY:KW 6 (gerade)
DESCRIPTION:Kalenderwoche 6 im Jahr 1664\nMontag: 04.02.1664\nSonntag: 10.02.1664\nTyp: gerade Woche\nMehr unter: https://kalenderwoche.info/1664/kw-6
URL:https://kalenderwoche.info/1664/kw-6
CATEGORIES:Kalenderwoche
TRANSP:TRANSPARENT
END:VEVENT
BEGIN:VEVENT
UID:kw-1664-7@kalenderwoche.info
DTSTAMP:20260421T150026Z
DTSTART;VALUE=DATE:16640211
DTEND;VALUE=DATE:16640218
SUMMARY:KW 7 (ungerade)
DESCRIPTION:Kalenderwoche 7 im Jahr 1664\nMontag: 11.02.1664\nSonntag: 17.02.1664\nTyp: ungerade Woche\nMehr unter: https://kalenderwoche.info/1664/kw-7
URL:https://kalenderwoche.info/1664/kw-7
CATEGORIES:Kalenderwoche
TRANSP:TRANSPARENT
END:VEVENT
BEGIN:VEVENT
UID:kw-1664-8@kalenderwoche.info
DTSTAMP:20260421T150026Z
DTSTART;VALUE=DATE:16640218
DTEND;VALUE=DATE:16640225
SUMMARY:KW 8 (gerade)
DESCRIPTION:Kalenderwoche 8 im Jahr 1664\nMontag: 18.02.1664\nSonntag: 24.02.1664\nTyp: gerade Woche\nMehr unter: https://kalenderwoche.info/1664/kw-8
URL:https://kalenderwoche.info/1664/kw-8
CATEGORIES:Kalenderwoche
TRANSP:TRANSPARENT
END:VEVENT
BEGIN:VEVENT
UID:kw-1664-9@kalenderwoche.info
DTSTAMP:20260421T150026Z
DTSTART;VALUE=DATE:16640225
DTEND;VALUE=DATE:16640303
SUMMARY:KW 9 (ungerade)
DESCRIPTION:Kalenderwoche 9 im Jahr 1664\nMontag: 25.02.1664\nSonntag: 02.03.1664\nTyp: ungerade Woche\nMehr unter: https://kalenderwoche.info/1664/kw-9
URL:https://kalenderwoche.info/1664/kw-9
CATEGORIES:Kalenderwoche
TRANSP:TRANSPARENT
END:VEVENT
BEGIN:VEVENT
UID:kw-1664-10@kalenderwoche.info
DTSTAMP:20260421T150026Z
DTSTART;VALUE=DATE:16640303
DTEND;VALUE=DATE:16640310
SUMMARY:KW 10 (gerade)
DESCRIPTION:Kalenderwoche 10 im Jahr 1664\nMontag: 03.03.1664\nSonntag: 09.03.1664\nTyp: gerade Woche\nMehr unter: https://kalenderwoche.info/1664/kw-10
URL:https://kalenderwoche.info/1664/kw-10
CATEGORIES:Kalenderwoche
TRANSP:TRANSPARENT
END:VEVENT
BEGIN:VEVENT
UID:kw-1664-11@kalenderwoche.info
DTSTAMP:20260421T150026Z
DTSTART;VALUE=DATE:16640310
DTEND;VALUE=DATE:16640317
SUMMARY:KW 11 (ungerade)
DESCRIPTION:Kalenderwoche 11 im Jahr 1664\nMontag: 10.03.1664\nSonntag: 16.03.1664\nTyp: ungerade Woche\nMehr unter: https://kalenderwoche.info/1664/kw-11
URL:https://kalenderwoche.info/1664/kw-11
CATEGORIES:Kalenderwoche
TRANSP:TRANSPARENT
END:VEVENT
BEGIN:VEVENT
UID:kw-1664-12@kalenderwoche.info
DTSTAMP:20260421T150026Z
DTSTART;VALUE=DATE:16640317
DTEND;VALUE=DATE:16640324
SUMMARY:KW 12 (gerade)
DESCRIPTION:Kalenderwoche 12 im Jahr 1664\nMontag: 17.03.1664\nSonntag: 23.03.1664\nTyp: gerade Woche\nMehr unter: https://kalenderwoche.info/1664/kw-12
URL:https://kalenderwoche.info/1664/kw-12
CATEGORIES:Kalenderwoche
TRANSP:TRANSPARENT
END:VEVENT
BEGIN:VEVENT
UID:kw-1664-13@kalenderwoche.info
DTSTAMP:20260421T150026Z
DTSTART;VALUE=DATE:16640324
DTEND;VALUE=DATE:16640331
SUMMARY:KW 13 (ungerade)
DESCRIPTION:Kalenderwoche 13 im Jahr 1664\nMontag: 24.03.1664\nSonntag: 30.03.1664\nTyp: ungerade Woche\nMehr unter: https://kalenderwoche.info/1664/kw-13
URL:https://kalenderwoche.info/1664/kw-13
CATEGORIES:Kalenderwoche
TRANSP:TRANSPARENT
END:VEVENT
BEGIN:VEVENT
UID:kw-1664-14@kalenderwoche.info
DTSTAMP:20260421T150026Z
DTSTART;VALUE=DATE:16640331
DTEND;VALUE=DATE:16640407
SUMMARY:KW 14 (gerade)
DESCRIPTION:Kalenderwoche 14 im Jahr 1664\nMontag: 31.03.1664\nSonntag: 06.04.1664\nTyp: gerade Woche\nMehr unter: https://kalenderwoche.info/1664/kw-14
URL:https://kalenderwoche.info/1664/kw-14
CATEGORIES:Kalenderwoche
TRANSP:TRANSPARENT
END:VEVENT
BEGIN:VEVENT
UID:kw-1664-15@kalenderwoche.info
DTSTAMP:20260421T150026Z
DTSTART;VALUE=DATE:16640407
DTEND;VALUE=DATE:16640414
SUMMARY:KW 15 (ungerade)
DESCRIPTION:Kalenderwoche 15 im Jahr 1664\nMontag: 07.04.1664\nSonntag: 13.04.1664\nTyp: ungerade Woche\nMehr unter: https://kalenderwoche.info/1664/kw-15
URL:https://kalenderwoche.info/1664/kw-15
CATEGORIES:Kalenderwoche
TRANSP:TRANSPARENT
END:VEVENT
BEGIN:VEVENT
UID:kw-1664-16@kalenderwoche.info
DTSTAMP:20260421T150026Z
DTSTART;VALUE=DATE:16640414
DTEND;VALUE=DATE:16640421
SUMMARY:KW 16 (gerade)
DESCRIPTION:Kalenderwoche 16 im Jahr 1664\nMontag: 14.04.1664\nSonntag: 20.04.1664\nTyp: gerade Woche\nMehr unter: https://kalenderwoche.info/1664/kw-16
URL:https://kalenderwoche.info/1664/kw-16
CATEGORIES:Kalenderwoche
TRANSP:TRANSPARENT
END:VEVENT
BEGIN:VEVENT
UID:kw-1664-17@kalenderwoche.info
DTSTAMP:20260421T150026Z
DTSTART;VALUE=DATE:16640421
DTEND;VALUE=DATE:16640428
SUMMARY:KW 17 (ungerade)
DESCRIPTION:Kalenderwoche 17 im Jahr 1664\nMontag: 21.04.1664\nSonntag: 27.04.1664\nTyp: ungerade Woche\nMehr unter: https://kalenderwoche.info/1664/kw-17
URL:https://kalenderwoche.info/1664/kw-17
CATEGORIES:Kalenderwoche
TRANSP:TRANSPARENT
END:VEVENT
BEGIN:VEVENT
UID:kw-1664-18@kalenderwoche.info
DTSTAMP:20260421T150026Z
DTSTART;VALUE=DATE:16640428
DTEND;VALUE=DATE:16640505
SUMMARY:KW 18 (gerade)
DESCRIPTION:Kalenderwoche 18 im Jahr 1664\nMontag: 28.04.1664\nSonntag: 04.05.1664\nTyp: gerade Woche\nMehr unter: https://kalenderwoche.info/1664/kw-18
URL:https://kalenderwoche.info/1664/kw-18
CATEGORIES:Kalenderwoche
TRANSP:TRANSPARENT
END:VEVENT
BEGIN:VEVENT
UID:kw-1664-19@kalenderwoche.info
DTSTAMP:20260421T150026Z
DTSTART;VALUE=DATE:16640505
DTEND;VALUE=DATE:16640512
SUMMARY:KW 19 (ungerade)
DESCRIPTION:Kalenderwoche 19 im Jahr 1664\nMontag: 05.05.1664\nSonntag: 11.05.1664\nTyp: ungerade Woche\nMehr unter: https://kalenderwoche.info/1664/kw-19
URL:https://kalenderwoche.info/1664/kw-19
CATEGORIES:Kalenderwoche
TRANSP:TRANSPARENT
END:VEVENT
BEGIN:VEVENT
UID:kw-1664-20@kalenderwoche.info
DTSTAMP:20260421T150026Z
DTSTART;VALUE=DATE:16640512
DTEND;VALUE=DATE:16640519
SUMMARY:KW 20 (gerade)
DESCRIPTION:Kalenderwoche 20 im Jahr 1664\nMontag: 12.05.1664\nSonntag: 18.05.1664\nTyp: gerade Woche\nMehr unter: https://kalenderwoche.info/1664/kw-20
URL:https://kalenderwoche.info/1664/kw-20
CATEGORIES:Kalenderwoche
TRANSP:TRANSPARENT
END:VEVENT
BEGIN:VEVENT
UID:kw-1664-21@kalenderwoche.info
DTSTAMP:20260421T150026Z
DTSTART;VALUE=DATE:16640519
DTEND;VALUE=DATE:16640526
SUMMARY:KW 21 (ungerade)
DESCRIPTION:Kalenderwoche 21 im Jahr 1664\nMontag: 19.05.1664\nSonntag: 25.05.1664\nTyp: ungerade Woche\nMehr unter: https://kalenderwoche.info/1664/kw-21
URL:https://kalenderwoche.info/1664/kw-21
CATEGORIES:Kalenderwoche
TRANSP:TRANSPARENT
END:VEVENT
BEGIN:VEVENT
UID:kw-1664-22@kalenderwoche.info
DTSTAMP:20260421T150026Z
DTSTART;VALUE=DATE:16640526
DTEND;VALUE=DATE:16640602
SUMMARY:KW 22 (gerade)
DESCRIPTION:Kalenderwoche 22 im Jahr 1664\nMontag: 26.05.1664\nSonntag: 01.06.1664\nTyp: gerade Woche\nMehr unter: https://kalenderwoche.info/1664/kw-22
URL:https://kalenderwoche.info/1664/kw-22
CATEGORIES:Kalenderwoche
TRANSP:TRANSPARENT
END:VEVENT
BEGIN:VEVENT
UID:kw-1664-23@kalenderwoche.info
DTSTAMP:20260421T150026Z
DTSTART;VALUE=DATE:16640602
DTEND;VALUE=DATE:16640609
SUMMARY:KW 23 (ungerade)
DESCRIPTION:Kalenderwoche 23 im Jahr 1664\nMontag: 02.06.1664\nSonntag: 08.06.1664\nTyp: ungerade Woche\nMehr unter: https://kalenderwoche.info/1664/kw-23
URL:https://kalenderwoche.info/1664/kw-23
CATEGORIES:Kalenderwoche
TRANSP:TRANSPARENT
END:VEVENT
BEGIN:VEVENT
UID:kw-1664-24@kalenderwoche.info
DTSTAMP:20260421T150026Z
DTSTART;VALUE=DATE:16640609
DTEND;VALUE=DATE:16640616
SUMMARY:KW 24 (gerade)
DESCRIPTION:Kalenderwoche 24 im Jahr 1664\nMontag: 09.06.1664\nSonntag: 15.06.1664\nTyp: gerade Woche\nMehr unter: https://kalenderwoche.info/1664/kw-24
URL:https://kalenderwoche.info/1664/kw-24
CATEGORIES:Kalenderwoche
TRANSP:TRANSPARENT
END:VEVENT
BEGIN:VEVENT
UID:kw-1664-25@kalenderwoche.info
DTSTAMP:20260421T150026Z
DTSTART;VALUE=DATE:16640616
DTEND;VALUE=DATE:16640623
SUMMARY:KW 25 (ungerade)
DESCRIPTION:Kalenderwoche 25 im Jahr 1664\nMontag: 16.06.1664\nSonntag: 22.06.1664\nTyp: ungerade Woche\nMehr unter: https://kalenderwoche.info/1664/kw-25
URL:https://kalenderwoche.info/1664/kw-25
CATEGORIES:Kalenderwoche
TRANSP:TRANSPARENT
END:VEVENT
BEGIN:VEVENT
UID:kw-1664-26@kalenderwoche.info
DTSTAMP:20260421T150026Z
DTSTART;VALUE=DATE:16640623
DTEND;VALUE=DATE:16640630
SUMMARY:KW 26 (gerade)
DESCRIPTION:Kalenderwoche 26 im Jahr 1664\nMontag: 23.06.1664\nSonntag: 29.06.1664\nTyp: gerade Woche\nMehr unter: https://kalenderwoche.info/1664/kw-26
URL:https://kalenderwoche.info/1664/kw-26
CATEGORIES:Kalenderwoche
TRANSP:TRANSPARENT
END:VEVENT
BEGIN:VEVENT
UID:kw-1664-27@kalenderwoche.info
DTSTAMP:20260421T150026Z
DTSTART;VALUE=DATE:16640630
DTEND;VALUE=DATE:16640707
SUMMARY:KW 27 (ungerade)
DESCRIPTION:Kalenderwoche 27 im Jahr 1664\nMontag: 30.06.1664\nSonntag: 06.07.1664\nTyp: ungerade Woche\nMehr unter: https://kalenderwoche.info/1664/kw-27
URL:https://kalenderwoche.info/1664/kw-27
CATEGORIES:Kalenderwoche
TRANSP:TRANSPARENT
END:VEVENT
BEGIN:VEVENT
UID:kw-1664-28@kalenderwoche.info
DTSTAMP:20260421T150026Z
DTSTART;VALUE=DATE:16640707
DTEND;VALUE=DATE:16640714
SUMMARY:KW 28 (gerade)
DESCRIPTION:Kalenderwoche 28 im Jahr 1664\nMontag: 07.07.1664\nSonntag: 13.07.1664\nTyp: gerade Woche\nMehr unter: https://kalenderwoche.info/1664/kw-28
URL:https://kalenderwoche.info/1664/kw-28
CATEGORIES:Kalenderwoche
TRANSP:TRANSPARENT
END:VEVENT
BEGIN:VEVENT
UID:kw-1664-29@kalenderwoche.info
DTSTAMP:20260421T150026Z
DTSTART;VALUE=DATE:16640714
DTEND;VALUE=DATE:16640721
SUMMARY:KW 29 (ungerade)
DESCRIPTION:Kalenderwoche 29 im Jahr 1664\nMontag: 14.07.1664\nSonntag: 20.07.1664\nTyp: ungerade Woche\nMehr unter: https://kalenderwoche.info/1664/kw-29
URL:https://kalenderwoche.info/1664/kw-29
CATEGORIES:Kalenderwoche
TRANSP:TRANSPARENT
END:VEVENT
BEGIN:VEVENT
UID:kw-1664-30@kalenderwoche.info
DTSTAMP:20260421T150026Z
DTSTART;VALUE=DATE:16640721
DTEND;VALUE=DATE:16640728
SUMMARY:KW 30 (gerade)
DESCRIPTION:Kalenderwoche 30 im Jahr 1664\nMontag: 21.07.1664\nSonntag: 27.07.1664\nTyp: gerade Woche\nMehr unter: https://kalenderwoche.info/1664/kw-30
URL:https://kalenderwoche.info/1664/kw-30
CATEGORIES:Kalenderwoche
TRANSP:TRANSPARENT
END:VEVENT
BEGIN:VEVENT
UID:kw-1664-31@kalenderwoche.info
DTSTAMP:20260421T150026Z
DTSTART;VALUE=DATE:16640728
DTEND;VALUE=DATE:16640804
SUMMARY:KW 31 (ungerade)
DESCRIPTION:Kalenderwoche 31 im Jahr 1664\nMontag: 28.07.1664\nSonntag: 03.08.1664\nTyp: ungerade Woche\nMehr unter: https://kalenderwoche.info/1664/kw-31
URL:https://kalenderwoche.info/1664/kw-31
CATEGORIES:Kalenderwoche
TRANSP:TRANSPARENT
END:VEVENT
BEGIN:VEVENT
UID:kw-1664-32@kalenderwoche.info
DTSTAMP:20260421T150026Z
DTSTART;VALUE=DATE:16640804
DTEND;VALUE=DATE:16640811
SUMMARY:KW 32 (gerade)
DESCRIPTION:Kalenderwoche 32 im Jahr 1664\nMontag: 04.08.1664\nSonntag: 10.08.1664\nTyp: gerade Woche\nMehr unter: https://kalenderwoche.info/1664/kw-32
URL:https://kalenderwoche.info/1664/kw-32
CATEGORIES:Kalenderwoche
TRANSP:TRANSPARENT
END:VEVENT
BEGIN:VEVENT
UID:kw-1664-33@kalenderwoche.info
DTSTAMP:20260421T150026Z
DTSTART;VALUE=DATE:16640811
DTEND;VALUE=DATE:16640818
SUMMARY:KW 33 (ungerade)
DESCRIPTION:Kalenderwoche 33 im Jahr 1664\nMontag: 11.08.1664\nSonntag: 17.08.1664\nTyp: ungerade Woche\nMehr unter: https://kalenderwoche.info/1664/kw-33
URL:https://kalenderwoche.info/1664/kw-33
CATEGORIES:Kalenderwoche
TRANSP:TRANSPARENT
END:VEVENT
BEGIN:VEVENT
UID:kw-1664-34@kalenderwoche.info
DTSTAMP:20260421T150026Z
DTSTART;VALUE=DATE:16640818
DTEND;VALUE=DATE:16640825
SUMMARY:KW 34 (gerade)
DESCRIPTION:Kalenderwoche 34 im Jahr 1664\nMontag: 18.08.1664\nSonntag: 24.08.1664\nTyp: gerade Woche\nMehr unter: https://kalenderwoche.info/1664/kw-34
URL:https://kalenderwoche.info/1664/kw-34
CATEGORIES:Kalenderwoche
TRANSP:TRANSPARENT
END:VEVENT
BEGIN:VEVENT
UID:kw-1664-35@kalenderwoche.info
DTSTAMP:20260421T150026Z
DTSTART;VALUE=DATE:16640825
DTEND;VALUE=DATE:16640901
SUMMARY:KW 35 (ungerade)
DESCRIPTION:Kalenderwoche 35 im Jahr 1664\nMontag: 25.08.1664\nSonntag: 31.08.1664\nTyp: ungerade Woche\nMehr unter: https://kalenderwoche.info/1664/kw-35
URL:https://kalenderwoche.info/1664/kw-35
CATEGORIES:Kalenderwoche
TRANSP:TRANSPARENT
END:VEVENT
BEGIN:VEVENT
UID:kw-1664-36@kalenderwoche.info
DTSTAMP:20260421T150026Z
DTSTART;VALUE=DATE:16640901
DTEND;VALUE=DATE:16640908
SUMMARY:KW 36 (gerade)
DESCRIPTION:Kalenderwoche 36 im Jahr 1664\nMontag: 01.09.1664\nSonntag: 07.09.1664\nTyp: gerade Woche\nMehr unter: https://kalenderwoche.info/1664/kw-36
URL:https://kalenderwoche.info/1664/kw-36
CATEGORIES:Kalenderwoche
TRANSP:TRANSPARENT
END:VEVENT
BEGIN:VEVENT
UID:kw-1664-37@kalenderwoche.info
DTSTAMP:20260421T150026Z
DTSTART;VALUE=DATE:16640908
DTEND;VALUE=DATE:16640915
SUMMARY:KW 37 (ungerade)
DESCRIPTION:Kalenderwoche 37 im Jahr 1664\nMontag: 08.09.1664\nSonntag: 14.09.1664\nTyp: ungerade Woche\nMehr unter: https://kalenderwoche.info/1664/kw-37
URL:https://kalenderwoche.info/1664/kw-37
CATEGORIES:Kalenderwoche
TRANSP:TRANSPARENT
END:VEVENT
BEGIN:VEVENT
UID:kw-1664-38@kalenderwoche.info
DTSTAMP:20260421T150026Z
DTSTART;VALUE=DATE:16640915
DTEND;VALUE=DATE:16640922
SUMMARY:KW 38 (gerade)
DESCRIPTION:Kalenderwoche 38 im Jahr 1664\nMontag: 15.09.1664\nSonntag: 21.09.1664\nTyp: gerade Woche\nMehr unter: https://kalenderwoche.info/1664/kw-38
URL:https://kalenderwoche.info/1664/kw-38
CATEGORIES:Kalenderwoche
TRANSP:TRANSPARENT
END:VEVENT
BEGIN:VEVENT
UID:kw-1664-39@kalenderwoche.info
DTSTAMP:20260421T150026Z
DTSTART;VALUE=DATE:16640922
DTEND;VALUE=DATE:16640929
SUMMARY:KW 39 (ungerade)
DESCRIPTION:Kalenderwoche 39 im Jahr 1664\nMontag: 22.09.1664\nSonntag: 28.09.1664\nTyp: ungerade Woche\nMehr unter: https://kalenderwoche.info/1664/kw-39
URL:https://kalenderwoche.info/1664/kw-39
CATEGORIES:Kalenderwoche
TRANSP:TRANSPARENT
END:VEVENT
BEGIN:VEVENT
UID:kw-1664-40@kalenderwoche.info
DTSTAMP:20260421T150026Z
DTSTART;VALUE=DATE:16640929
DTEND;VALUE=DATE:16641006
SUMMARY:KW 40 (gerade)
DESCRIPTION:Kalenderwoche 40 im Jahr 1664\nMontag: 29.09.1664\nSonntag: 05.10.1664\nTyp: gerade Woche\nMehr unter: https://kalenderwoche.info/1664/kw-40
URL:https://kalenderwoche.info/1664/kw-40
CATEGORIES:Kalenderwoche
TRANSP:TRANSPARENT
END:VEVENT
BEGIN:VEVENT
UID:kw-1664-41@kalenderwoche.info
DTSTAMP:20260421T150026Z
DTSTART;VALUE=DATE:16641006
DTEND;VALUE=DATE:16641013
SUMMARY:KW 41 (ungerade)
DESCRIPTION:Kalenderwoche 41 im Jahr 1664\nMontag: 06.10.1664\nSonntag: 12.10.1664\nTyp: ungerade Woche\nMehr unter: https://kalenderwoche.info/1664/kw-41
URL:https://kalenderwoche.info/1664/kw-41
CATEGORIES:Kalenderwoche
TRANSP:TRANSPARENT
END:VEVENT
BEGIN:VEVENT
UID:kw-1664-42@kalenderwoche.info
DTSTAMP:20260421T150026Z
DTSTART;VALUE=DATE:16641013
DTEND;VALUE=DATE:16641020
SUMMARY:KW 42 (gerade)
DESCRIPTION:Kalenderwoche 42 im Jahr 1664\nMontag: 13.10.1664\nSonntag: 19.10.1664\nTyp: gerade Woche\nMehr unter: https://kalenderwoche.info/1664/kw-42
URL:https://kalenderwoche.info/1664/kw-42
CATEGORIES:Kalenderwoche
TRANSP:TRANSPARENT
END:VEVENT
BEGIN:VEVENT
UID:kw-1664-43@kalenderwoche.info
DTSTAMP:20260421T150026Z
DTSTART;VALUE=DATE:16641020
DTEND;VALUE=DATE:16641027
SUMMARY:KW 43 (ungerade)
DESCRIPTION:Kalenderwoche 43 im Jahr 1664\nMontag: 20.10.1664\nSonntag: 26.10.1664\nTyp: ungerade Woche\nMehr unter: https://kalenderwoche.info/1664/kw-43
URL:https://kalenderwoche.info/1664/kw-43
CATEGORIES:Kalenderwoche
TRANSP:TRANSPARENT
END:VEVENT
BEGIN:VEVENT
UID:kw-1664-44@kalenderwoche.info
DTSTAMP:20260421T150026Z
DTSTART;VALUE=DATE:16641027
DTEND;VALUE=DATE:16641103
SUMMARY:KW 44 (gerade)
DESCRIPTION:Kalenderwoche 44 im Jahr 1664\nMontag: 27.10.1664\nSonntag: 02.11.1664\nTyp: gerade Woche\nMehr unter: https://kalenderwoche.info/1664/kw-44
URL:https://kalenderwoche.info/1664/kw-44
CATEGORIES:Kalenderwoche
TRANSP:TRANSPARENT
END:VEVENT
BEGIN:VEVENT
UID:kw-1664-45@kalenderwoche.info
DTSTAMP:20260421T150026Z
DTSTART;VALUE=DATE:16641103
DTEND;VALUE=DATE:16641110
SUMMARY:KW 45 (ungerade)
DESCRIPTION:Kalenderwoche 45 im Jahr 1664\nMontag: 03.11.1664\nSonntag: 09.11.1664\nTyp: ungerade Woche\nMehr unter: https://kalenderwoche.info/1664/kw-45
URL:https://kalenderwoche.info/1664/kw-45
CATEGORIES:Kalenderwoche
TRANSP:TRANSPARENT
END:VEVENT
BEGIN:VEVENT
UID:kw-1664-46@kalenderwoche.info
DTSTAMP:20260421T150026Z
DTSTART;VALUE=DATE:16641110
DTEND;VALUE=DATE:16641117
SUMMARY:KW 46 (gerade)
DESCRIPTION:Kalenderwoche 46 im Jahr 1664\nMontag: 10.11.1664\nSonntag: 16.11.1664\nTyp: gerade Woche\nMehr unter: https://kalenderwoche.info/1664/kw-46
URL:https://kalenderwoche.info/1664/kw-46
CATEGORIES:Kalenderwoche
TRANSP:TRANSPARENT
END:VEVENT
BEGIN:VEVENT
UID:kw-1664-47@kalenderwoche.info
DTSTAMP:20260421T150026Z
DTSTART;VALUE=DATE:16641117
DTEND;VALUE=DATE:16641124
SUMMARY:KW 47 (ungerade)
DESCRIPTION:Kalenderwoche 47 im Jahr 1664\nMontag: 17.11.1664\nSonntag: 23.11.1664\nTyp: ungerade Woche\nMehr unter: https://kalenderwoche.info/1664/kw-47
URL:https://kalenderwoche.info/1664/kw-47
CATEGORIES:Kalenderwoche
TRANSP:TRANSPARENT
END:VEVENT
BEGIN:VEVENT
UID:kw-1664-48@kalenderwoche.info
DTSTAMP:20260421T150026Z
DTSTART;VALUE=DATE:16641124
DTEND;VALUE=DATE:16641201
SUMMARY:KW 48 (gerade)
DESCRIPTION:Kalenderwoche 48 im Jahr 1664\nMontag: 24.11.1664\nSonntag: 30.11.1664\nTyp: gerade Woche\nMehr unter: https://kalenderwoche.info/1664/kw-48
URL:https://kalenderwoche.info/1664/kw-48
CATEGORIES:Kalenderwoche
TRANSP:TRANSPARENT
END:VEVENT
BEGIN:VEVENT
UID:kw-1664-49@kalenderwoche.info
DTSTAMP:20260421T150026Z
DTSTART;VALUE=DATE:16641201
DTEND;VALUE=DATE:16641208
SUMMARY:KW 49 (ungerade)
DESCRIPTION:Kalenderwoche 49 im Jahr 1664\nMontag: 01.12.1664\nSonntag: 07.12.1664\nTyp: ungerade Woche\nMehr unter: https://kalenderwoche.info/1664/kw-49
URL:https://kalenderwoche.info/1664/kw-49
CATEGORIES:Kalenderwoche
TRANSP:TRANSPARENT
END:VEVENT
BEGIN:VEVENT
UID:kw-1664-50@kalenderwoche.info
DTSTAMP:20260421T150026Z
DTSTART;VALUE=DATE:16641208
DTEND;VALUE=DATE:16641215
SUMMARY:KW 50 (gerade)
DESCRIPTION:Kalenderwoche 50 im Jahr 1664\nMontag: 08.12.1664\nSonntag: 14.12.1664\nTyp: gerade Woche\nMehr unter: https://kalenderwoche.info/1664/kw-50
URL:https://kalenderwoche.info/1664/kw-50
CATEGORIES:Kalenderwoche
TRANSP:TRANSPARENT
END:VEVENT
BEGIN:VEVENT
UID:kw-1664-51@kalenderwoche.info
DTSTAMP:20260421T150026Z
DTSTART;VALUE=DATE:16641215
DTEND;VALUE=DATE:16641222
SUMMARY:KW 51 (ungerade)
DESCRIPTION:Kalenderwoche 51 im Jahr 1664\nMontag: 15.12.1664\nSonntag: 21.12.1664\nTyp: ungerade Woche\nMehr unter: https://kalenderwoche.info/1664/kw-51
URL:https://kalenderwoche.info/1664/kw-51
CATEGORIES:Kalenderwoche
TRANSP:TRANSPARENT
END:VEVENT
BEGIN:VEVENT
UID:kw-1664-52@kalenderwoche.info
DTSTAMP:20260421T150026Z
DTSTART;VALUE=DATE:16641222
DTEND;VALUE=DATE:16641229
SUMMARY:KW 52 (gerade)
DESCRIPTION:Kalenderwoche 52 im Jahr 1664\nMontag: 22.12.1664\nSonntag: 28.12.1664\nTyp: gerade Woche\nMehr unter: https://kalenderwoche.info/1664/kw-52
URL:https://kalenderwoche.info/1664/kw-52
CATEGORIES:Kalenderwoche
TRANSP:TRANSPARENT
END:VEVENT
END:VCALENDAR
