BEGIN:VCALENDAR
VERSION:2.0
PRODID:-//kalenderwoche.info//Kalender//DE
CALSCALE:GREGORIAN
METHOD:PUBLISH
X-WR-CALNAME:Kalenderwochen 1665
X-WR-CALDESC:Alle Kalenderwochen für das Jahr 1665
X-WR-TIMEZONE:Europe/Berlin
BEGIN:VEVENT
UID:kw-1665-1@kalenderwoche.info
DTSTAMP:20260421T134438Z
DTSTART;VALUE=DATE:16641229
DTEND;VALUE=DATE:16650105
SUMMARY:KW 1 (ungerade)
DESCRIPTION:Kalenderwoche 1 im Jahr 1665\nMontag: 29.12.1664\nSonntag: 04.01.1665\nTyp: ungerade Woche\nMehr unter: https://kalenderwoche.info/1665/kw-1
URL:https://kalenderwoche.info/1665/kw-1
CATEGORIES:Kalenderwoche
TRANSP:TRANSPARENT
END:VEVENT
BEGIN:VEVENT
UID:kw-1665-2@kalenderwoche.info
DTSTAMP:20260421T134438Z
DTSTART;VALUE=DATE:16650105
DTEND;VALUE=DATE:16650112
SUMMARY:KW 2 (gerade)
DESCRIPTION:Kalenderwoche 2 im Jahr 1665\nMontag: 05.01.1665\nSonntag: 11.01.1665\nTyp: gerade Woche\nMehr unter: https://kalenderwoche.info/1665/kw-2
URL:https://kalenderwoche.info/1665/kw-2
CATEGORIES:Kalenderwoche
TRANSP:TRANSPARENT
END:VEVENT
BEGIN:VEVENT
UID:kw-1665-3@kalenderwoche.info
DTSTAMP:20260421T134438Z
DTSTART;VALUE=DATE:16650112
DTEND;VALUE=DATE:16650119
SUMMARY:KW 3 (ungerade)
DESCRIPTION:Kalenderwoche 3 im Jahr 1665\nMontag: 12.01.1665\nSonntag: 18.01.1665\nTyp: ungerade Woche\nMehr unter: https://kalenderwoche.info/1665/kw-3
URL:https://kalenderwoche.info/1665/kw-3
CATEGORIES:Kalenderwoche
TRANSP:TRANSPARENT
END:VEVENT
BEGIN:VEVENT
UID:kw-1665-4@kalenderwoche.info
DTSTAMP:20260421T134438Z
DTSTART;VALUE=DATE:16650119
DTEND;VALUE=DATE:16650126
SUMMARY:KW 4 (gerade)
DESCRIPTION:Kalenderwoche 4 im Jahr 1665\nMontag: 19.01.1665\nSonntag: 25.01.1665\nTyp: gerade Woche\nMehr unter: https://kalenderwoche.info/1665/kw-4
URL:https://kalenderwoche.info/1665/kw-4
CATEGORIES:Kalenderwoche
TRANSP:TRANSPARENT
END:VEVENT
BEGIN:VEVENT
UID:kw-1665-5@kalenderwoche.info
DTSTAMP:20260421T134438Z
DTSTART;VALUE=DATE:16650126
DTEND;VALUE=DATE:16650202
SUMMARY:KW 5 (ungerade)
DESCRIPTION:Kalenderwoche 5 im Jahr 1665\nMontag: 26.01.1665\nSonntag: 01.02.1665\nTyp: ungerade Woche\nMehr unter: https://kalenderwoche.info/1665/kw-5
URL:https://kalenderwoche.info/1665/kw-5
CATEGORIES:Kalenderwoche
TRANSP:TRANSPARENT
END:VEVENT
BEGIN:VEVENT
UID:kw-1665-6@kalenderwoche.info
DTSTAMP:20260421T134438Z
DTSTART;VALUE=DATE:16650202
DTEND;VALUE=DATE:16650209
SUMMARY:KW 6 (gerade)
DESCRIPTION:Kalenderwoche 6 im Jahr 1665\nMontag: 02.02.1665\nSonntag: 08.02.1665\nTyp: gerade Woche\nMehr unter: https://kalenderwoche.info/1665/kw-6
URL:https://kalenderwoche.info/1665/kw-6
CATEGORIES:Kalenderwoche
TRANSP:TRANSPARENT
END:VEVENT
BEGIN:VEVENT
UID:kw-1665-7@kalenderwoche.info
DTSTAMP:20260421T134438Z
DTSTART;VALUE=DATE:16650209
DTEND;VALUE=DATE:16650216
SUMMARY:KW 7 (ungerade)
DESCRIPTION:Kalenderwoche 7 im Jahr 1665\nMontag: 09.02.1665\nSonntag: 15.02.1665\nTyp: ungerade Woche\nMehr unter: https://kalenderwoche.info/1665/kw-7
URL:https://kalenderwoche.info/1665/kw-7
CATEGORIES:Kalenderwoche
TRANSP:TRANSPARENT
END:VEVENT
BEGIN:VEVENT
UID:kw-1665-8@kalenderwoche.info
DTSTAMP:20260421T134438Z
DTSTART;VALUE=DATE:16650216
DTEND;VALUE=DATE:16650223
SUMMARY:KW 8 (gerade)
DESCRIPTION:Kalenderwoche 8 im Jahr 1665\nMontag: 16.02.1665\nSonntag: 22.02.1665\nTyp: gerade Woche\nMehr unter: https://kalenderwoche.info/1665/kw-8
URL:https://kalenderwoche.info/1665/kw-8
CATEGORIES:Kalenderwoche
TRANSP:TRANSPARENT
END:VEVENT
BEGIN:VEVENT
UID:kw-1665-9@kalenderwoche.info
DTSTAMP:20260421T134438Z
DTSTART;VALUE=DATE:16650223
DTEND;VALUE=DATE:16650302
SUMMARY:KW 9 (ungerade)
DESCRIPTION:Kalenderwoche 9 im Jahr 1665\nMontag: 23.02.1665\nSonntag: 01.03.1665\nTyp: ungerade Woche\nMehr unter: https://kalenderwoche.info/1665/kw-9
URL:https://kalenderwoche.info/1665/kw-9
CATEGORIES:Kalenderwoche
TRANSP:TRANSPARENT
END:VEVENT
BEGIN:VEVENT
UID:kw-1665-10@kalenderwoche.info
DTSTAMP:20260421T134438Z
DTSTART;VALUE=DATE:16650302
DTEND;VALUE=DATE:16650309
SUMMARY:KW 10 (gerade)
DESCRIPTION:Kalenderwoche 10 im Jahr 1665\nMontag: 02.03.1665\nSonntag: 08.03.1665\nTyp: gerade Woche\nMehr unter: https://kalenderwoche.info/1665/kw-10
URL:https://kalenderwoche.info/1665/kw-10
CATEGORIES:Kalenderwoche
TRANSP:TRANSPARENT
END:VEVENT
BEGIN:VEVENT
UID:kw-1665-11@kalenderwoche.info
DTSTAMP:20260421T134438Z
DTSTART;VALUE=DATE:16650309
DTEND;VALUE=DATE:16650316
SUMMARY:KW 11 (ungerade)
DESCRIPTION:Kalenderwoche 11 im Jahr 1665\nMontag: 09.03.1665\nSonntag: 15.03.1665\nTyp: ungerade Woche\nMehr unter: https://kalenderwoche.info/1665/kw-11
URL:https://kalenderwoche.info/1665/kw-11
CATEGORIES:Kalenderwoche
TRANSP:TRANSPARENT
END:VEVENT
BEGIN:VEVENT
UID:kw-1665-12@kalenderwoche.info
DTSTAMP:20260421T134438Z
DTSTART;VALUE=DATE:16650316
DTEND;VALUE=DATE:16650323
SUMMARY:KW 12 (gerade)
DESCRIPTION:Kalenderwoche 12 im Jahr 1665\nMontag: 16.03.1665\nSonntag: 22.03.1665\nTyp: gerade Woche\nMehr unter: https://kalenderwoche.info/1665/kw-12
URL:https://kalenderwoche.info/1665/kw-12
CATEGORIES:Kalenderwoche
TRANSP:TRANSPARENT
END:VEVENT
BEGIN:VEVENT
UID:kw-1665-13@kalenderwoche.info
DTSTAMP:20260421T134438Z
DTSTART;VALUE=DATE:16650323
DTEND;VALUE=DATE:16650330
SUMMARY:KW 13 (ungerade)
DESCRIPTION:Kalenderwoche 13 im Jahr 1665\nMontag: 23.03.1665\nSonntag: 29.03.1665\nTyp: ungerade Woche\nMehr unter: https://kalenderwoche.info/1665/kw-13
URL:https://kalenderwoche.info/1665/kw-13
CATEGORIES:Kalenderwoche
TRANSP:TRANSPARENT
END:VEVENT
BEGIN:VEVENT
UID:kw-1665-14@kalenderwoche.info
DTSTAMP:20260421T134438Z
DTSTART;VALUE=DATE:16650330
DTEND;VALUE=DATE:16650406
SUMMARY:KW 14 (gerade)
DESCRIPTION:Kalenderwoche 14 im Jahr 1665\nMontag: 30.03.1665\nSonntag: 05.04.1665\nTyp: gerade Woche\nMehr unter: https://kalenderwoche.info/1665/kw-14
URL:https://kalenderwoche.info/1665/kw-14
CATEGORIES:Kalenderwoche
TRANSP:TRANSPARENT
END:VEVENT
BEGIN:VEVENT
UID:kw-1665-15@kalenderwoche.info
DTSTAMP:20260421T134438Z
DTSTART;VALUE=DATE:16650406
DTEND;VALUE=DATE:16650413
SUMMARY:KW 15 (ungerade)
DESCRIPTION:Kalenderwoche 15 im Jahr 1665\nMontag: 06.04.1665\nSonntag: 12.04.1665\nTyp: ungerade Woche\nMehr unter: https://kalenderwoche.info/1665/kw-15
URL:https://kalenderwoche.info/1665/kw-15
CATEGORIES:Kalenderwoche
TRANSP:TRANSPARENT
END:VEVENT
BEGIN:VEVENT
UID:kw-1665-16@kalenderwoche.info
DTSTAMP:20260421T134438Z
DTSTART;VALUE=DATE:16650413
DTEND;VALUE=DATE:16650420
SUMMARY:KW 16 (gerade)
DESCRIPTION:Kalenderwoche 16 im Jahr 1665\nMontag: 13.04.1665\nSonntag: 19.04.1665\nTyp: gerade Woche\nMehr unter: https://kalenderwoche.info/1665/kw-16
URL:https://kalenderwoche.info/1665/kw-16
CATEGORIES:Kalenderwoche
TRANSP:TRANSPARENT
END:VEVENT
BEGIN:VEVENT
UID:kw-1665-17@kalenderwoche.info
DTSTAMP:20260421T134438Z
DTSTART;VALUE=DATE:16650420
DTEND;VALUE=DATE:16650427
SUMMARY:KW 17 (ungerade)
DESCRIPTION:Kalenderwoche 17 im Jahr 1665\nMontag: 20.04.1665\nSonntag: 26.04.1665\nTyp: ungerade Woche\nMehr unter: https://kalenderwoche.info/1665/kw-17
URL:https://kalenderwoche.info/1665/kw-17
CATEGORIES:Kalenderwoche
TRANSP:TRANSPARENT
END:VEVENT
BEGIN:VEVENT
UID:kw-1665-18@kalenderwoche.info
DTSTAMP:20260421T134438Z
DTSTART;VALUE=DATE:16650427
DTEND;VALUE=DATE:16650504
SUMMARY:KW 18 (gerade)
DESCRIPTION:Kalenderwoche 18 im Jahr 1665\nMontag: 27.04.1665\nSonntag: 03.05.1665\nTyp: gerade Woche\nMehr unter: https://kalenderwoche.info/1665/kw-18
URL:https://kalenderwoche.info/1665/kw-18
CATEGORIES:Kalenderwoche
TRANSP:TRANSPARENT
END:VEVENT
BEGIN:VEVENT
UID:kw-1665-19@kalenderwoche.info
DTSTAMP:20260421T134438Z
DTSTART;VALUE=DATE:16650504
DTEND;VALUE=DATE:16650511
SUMMARY:KW 19 (ungerade)
DESCRIPTION:Kalenderwoche 19 im Jahr 1665\nMontag: 04.05.1665\nSonntag: 10.05.1665\nTyp: ungerade Woche\nMehr unter: https://kalenderwoche.info/1665/kw-19
URL:https://kalenderwoche.info/1665/kw-19
CATEGORIES:Kalenderwoche
TRANSP:TRANSPARENT
END:VEVENT
BEGIN:VEVENT
UID:kw-1665-20@kalenderwoche.info
DTSTAMP:20260421T134438Z
DTSTART;VALUE=DATE:16650511
DTEND;VALUE=DATE:16650518
SUMMARY:KW 20 (gerade)
DESCRIPTION:Kalenderwoche 20 im Jahr 1665\nMontag: 11.05.1665\nSonntag: 17.05.1665\nTyp: gerade Woche\nMehr unter: https://kalenderwoche.info/1665/kw-20
URL:https://kalenderwoche.info/1665/kw-20
CATEGORIES:Kalenderwoche
TRANSP:TRANSPARENT
END:VEVENT
BEGIN:VEVENT
UID:kw-1665-21@kalenderwoche.info
DTSTAMP:20260421T134438Z
DTSTART;VALUE=DATE:16650518
DTEND;VALUE=DATE:16650525
SUMMARY:KW 21 (ungerade)
DESCRIPTION:Kalenderwoche 21 im Jahr 1665\nMontag: 18.05.1665\nSonntag: 24.05.1665\nTyp: ungerade Woche\nMehr unter: https://kalenderwoche.info/1665/kw-21
URL:https://kalenderwoche.info/1665/kw-21
CATEGORIES:Kalenderwoche
TRANSP:TRANSPARENT
END:VEVENT
BEGIN:VEVENT
UID:kw-1665-22@kalenderwoche.info
DTSTAMP:20260421T134438Z
DTSTART;VALUE=DATE:16650525
DTEND;VALUE=DATE:16650601
SUMMARY:KW 22 (gerade)
DESCRIPTION:Kalenderwoche 22 im Jahr 1665\nMontag: 25.05.1665\nSonntag: 31.05.1665\nTyp: gerade Woche\nMehr unter: https://kalenderwoche.info/1665/kw-22
URL:https://kalenderwoche.info/1665/kw-22
CATEGORIES:Kalenderwoche
TRANSP:TRANSPARENT
END:VEVENT
BEGIN:VEVENT
UID:kw-1665-23@kalenderwoche.info
DTSTAMP:20260421T134438Z
DTSTART;VALUE=DATE:16650601
DTEND;VALUE=DATE:16650608
SUMMARY:KW 23 (ungerade)
DESCRIPTION:Kalenderwoche 23 im Jahr 1665\nMontag: 01.06.1665\nSonntag: 07.06.1665\nTyp: ungerade Woche\nMehr unter: https://kalenderwoche.info/1665/kw-23
URL:https://kalenderwoche.info/1665/kw-23
CATEGORIES:Kalenderwoche
TRANSP:TRANSPARENT
END:VEVENT
BEGIN:VEVENT
UID:kw-1665-24@kalenderwoche.info
DTSTAMP:20260421T134438Z
DTSTART;VALUE=DATE:16650608
DTEND;VALUE=DATE:16650615
SUMMARY:KW 24 (gerade)
DESCRIPTION:Kalenderwoche 24 im Jahr 1665\nMontag: 08.06.1665\nSonntag: 14.06.1665\nTyp: gerade Woche\nMehr unter: https://kalenderwoche.info/1665/kw-24
URL:https://kalenderwoche.info/1665/kw-24
CATEGORIES:Kalenderwoche
TRANSP:TRANSPARENT
END:VEVENT
BEGIN:VEVENT
UID:kw-1665-25@kalenderwoche.info
DTSTAMP:20260421T134438Z
DTSTART;VALUE=DATE:16650615
DTEND;VALUE=DATE:16650622
SUMMARY:KW 25 (ungerade)
DESCRIPTION:Kalenderwoche 25 im Jahr 1665\nMontag: 15.06.1665\nSonntag: 21.06.1665\nTyp: ungerade Woche\nMehr unter: https://kalenderwoche.info/1665/kw-25
URL:https://kalenderwoche.info/1665/kw-25
CATEGORIES:Kalenderwoche
TRANSP:TRANSPARENT
END:VEVENT
BEGIN:VEVENT
UID:kw-1665-26@kalenderwoche.info
DTSTAMP:20260421T134438Z
DTSTART;VALUE=DATE:16650622
DTEND;VALUE=DATE:16650629
SUMMARY:KW 26 (gerade)
DESCRIPTION:Kalenderwoche 26 im Jahr 1665\nMontag: 22.06.1665\nSonntag: 28.06.1665\nTyp: gerade Woche\nMehr unter: https://kalenderwoche.info/1665/kw-26
URL:https://kalenderwoche.info/1665/kw-26
CATEGORIES:Kalenderwoche
TRANSP:TRANSPARENT
END:VEVENT
BEGIN:VEVENT
UID:kw-1665-27@kalenderwoche.info
DTSTAMP:20260421T134438Z
DTSTART;VALUE=DATE:16650629
DTEND;VALUE=DATE:16650706
SUMMARY:KW 27 (ungerade)
DESCRIPTION:Kalenderwoche 27 im Jahr 1665\nMontag: 29.06.1665\nSonntag: 05.07.1665\nTyp: ungerade Woche\nMehr unter: https://kalenderwoche.info/1665/kw-27
URL:https://kalenderwoche.info/1665/kw-27
CATEGORIES:Kalenderwoche
TRANSP:TRANSPARENT
END:VEVENT
BEGIN:VEVENT
UID:kw-1665-28@kalenderwoche.info
DTSTAMP:20260421T134438Z
DTSTART;VALUE=DATE:16650706
DTEND;VALUE=DATE:16650713
SUMMARY:KW 28 (gerade)
DESCRIPTION:Kalenderwoche 28 im Jahr 1665\nMontag: 06.07.1665\nSonntag: 12.07.1665\nTyp: gerade Woche\nMehr unter: https://kalenderwoche.info/1665/kw-28
URL:https://kalenderwoche.info/1665/kw-28
CATEGORIES:Kalenderwoche
TRANSP:TRANSPARENT
END:VEVENT
BEGIN:VEVENT
UID:kw-1665-29@kalenderwoche.info
DTSTAMP:20260421T134438Z
DTSTART;VALUE=DATE:16650713
DTEND;VALUE=DATE:16650720
SUMMARY:KW 29 (ungerade)
DESCRIPTION:Kalenderwoche 29 im Jahr 1665\nMontag: 13.07.1665\nSonntag: 19.07.1665\nTyp: ungerade Woche\nMehr unter: https://kalenderwoche.info/1665/kw-29
URL:https://kalenderwoche.info/1665/kw-29
CATEGORIES:Kalenderwoche
TRANSP:TRANSPARENT
END:VEVENT
BEGIN:VEVENT
UID:kw-1665-30@kalenderwoche.info
DTSTAMP:20260421T134438Z
DTSTART;VALUE=DATE:16650720
DTEND;VALUE=DATE:16650727
SUMMARY:KW 30 (gerade)
DESCRIPTION:Kalenderwoche 30 im Jahr 1665\nMontag: 20.07.1665\nSonntag: 26.07.1665\nTyp: gerade Woche\nMehr unter: https://kalenderwoche.info/1665/kw-30
URL:https://kalenderwoche.info/1665/kw-30
CATEGORIES:Kalenderwoche
TRANSP:TRANSPARENT
END:VEVENT
BEGIN:VEVENT
UID:kw-1665-31@kalenderwoche.info
DTSTAMP:20260421T134438Z
DTSTART;VALUE=DATE:16650727
DTEND;VALUE=DATE:16650803
SUMMARY:KW 31 (ungerade)
DESCRIPTION:Kalenderwoche 31 im Jahr 1665\nMontag: 27.07.1665\nSonntag: 02.08.1665\nTyp: ungerade Woche\nMehr unter: https://kalenderwoche.info/1665/kw-31
URL:https://kalenderwoche.info/1665/kw-31
CATEGORIES:Kalenderwoche
TRANSP:TRANSPARENT
END:VEVENT
BEGIN:VEVENT
UID:kw-1665-32@kalenderwoche.info
DTSTAMP:20260421T134438Z
DTSTART;VALUE=DATE:16650803
DTEND;VALUE=DATE:16650810
SUMMARY:KW 32 (gerade)
DESCRIPTION:Kalenderwoche 32 im Jahr 1665\nMontag: 03.08.1665\nSonntag: 09.08.1665\nTyp: gerade Woche\nMehr unter: https://kalenderwoche.info/1665/kw-32
URL:https://kalenderwoche.info/1665/kw-32
CATEGORIES:Kalenderwoche
TRANSP:TRANSPARENT
END:VEVENT
BEGIN:VEVENT
UID:kw-1665-33@kalenderwoche.info
DTSTAMP:20260421T134438Z
DTSTART;VALUE=DATE:16650810
DTEND;VALUE=DATE:16650817
SUMMARY:KW 33 (ungerade)
DESCRIPTION:Kalenderwoche 33 im Jahr 1665\nMontag: 10.08.1665\nSonntag: 16.08.1665\nTyp: ungerade Woche\nMehr unter: https://kalenderwoche.info/1665/kw-33
URL:https://kalenderwoche.info/1665/kw-33
CATEGORIES:Kalenderwoche
TRANSP:TRANSPARENT
END:VEVENT
BEGIN:VEVENT
UID:kw-1665-34@kalenderwoche.info
DTSTAMP:20260421T134438Z
DTSTART;VALUE=DATE:16650817
DTEND;VALUE=DATE:16650824
SUMMARY:KW 34 (gerade)
DESCRIPTION:Kalenderwoche 34 im Jahr 1665\nMontag: 17.08.1665\nSonntag: 23.08.1665\nTyp: gerade Woche\nMehr unter: https://kalenderwoche.info/1665/kw-34
URL:https://kalenderwoche.info/1665/kw-34
CATEGORIES:Kalenderwoche
TRANSP:TRANSPARENT
END:VEVENT
BEGIN:VEVENT
UID:kw-1665-35@kalenderwoche.info
DTSTAMP:20260421T134438Z
DTSTART;VALUE=DATE:16650824
DTEND;VALUE=DATE:16650831
SUMMARY:KW 35 (ungerade)
DESCRIPTION:Kalenderwoche 35 im Jahr 1665\nMontag: 24.08.1665\nSonntag: 30.08.1665\nTyp: ungerade Woche\nMehr unter: https://kalenderwoche.info/1665/kw-35
URL:https://kalenderwoche.info/1665/kw-35
CATEGORIES:Kalenderwoche
TRANSP:TRANSPARENT
END:VEVENT
BEGIN:VEVENT
UID:kw-1665-36@kalenderwoche.info
DTSTAMP:20260421T134438Z
DTSTART;VALUE=DATE:16650831
DTEND;VALUE=DATE:16650907
SUMMARY:KW 36 (gerade)
DESCRIPTION:Kalenderwoche 36 im Jahr 1665\nMontag: 31.08.1665\nSonntag: 06.09.1665\nTyp: gerade Woche\nMehr unter: https://kalenderwoche.info/1665/kw-36
URL:https://kalenderwoche.info/1665/kw-36
CATEGORIES:Kalenderwoche
TRANSP:TRANSPARENT
END:VEVENT
BEGIN:VEVENT
UID:kw-1665-37@kalenderwoche.info
DTSTAMP:20260421T134438Z
DTSTART;VALUE=DATE:16650907
DTEND;VALUE=DATE:16650914
SUMMARY:KW 37 (ungerade)
DESCRIPTION:Kalenderwoche 37 im Jahr 1665\nMontag: 07.09.1665\nSonntag: 13.09.1665\nTyp: ungerade Woche\nMehr unter: https://kalenderwoche.info/1665/kw-37
URL:https://kalenderwoche.info/1665/kw-37
CATEGORIES:Kalenderwoche
TRANSP:TRANSPARENT
END:VEVENT
BEGIN:VEVENT
UID:kw-1665-38@kalenderwoche.info
DTSTAMP:20260421T134438Z
DTSTART;VALUE=DATE:16650914
DTEND;VALUE=DATE:16650921
SUMMARY:KW 38 (gerade)
DESCRIPTION:Kalenderwoche 38 im Jahr 1665\nMontag: 14.09.1665\nSonntag: 20.09.1665\nTyp: gerade Woche\nMehr unter: https://kalenderwoche.info/1665/kw-38
URL:https://kalenderwoche.info/1665/kw-38
CATEGORIES:Kalenderwoche
TRANSP:TRANSPARENT
END:VEVENT
BEGIN:VEVENT
UID:kw-1665-39@kalenderwoche.info
DTSTAMP:20260421T134438Z
DTSTART;VALUE=DATE:16650921
DTEND;VALUE=DATE:16650928
SUMMARY:KW 39 (ungerade)
DESCRIPTION:Kalenderwoche 39 im Jahr 1665\nMontag: 21.09.1665\nSonntag: 27.09.1665\nTyp: ungerade Woche\nMehr unter: https://kalenderwoche.info/1665/kw-39
URL:https://kalenderwoche.info/1665/kw-39
CATEGORIES:Kalenderwoche
TRANSP:TRANSPARENT
END:VEVENT
BEGIN:VEVENT
UID:kw-1665-40@kalenderwoche.info
DTSTAMP:20260421T134438Z
DTSTART;VALUE=DATE:16650928
DTEND;VALUE=DATE:16651005
SUMMARY:KW 40 (gerade)
DESCRIPTION:Kalenderwoche 40 im Jahr 1665\nMontag: 28.09.1665\nSonntag: 04.10.1665\nTyp: gerade Woche\nMehr unter: https://kalenderwoche.info/1665/kw-40
URL:https://kalenderwoche.info/1665/kw-40
CATEGORIES:Kalenderwoche
TRANSP:TRANSPARENT
END:VEVENT
BEGIN:VEVENT
UID:kw-1665-41@kalenderwoche.info
DTSTAMP:20260421T134438Z
DTSTART;VALUE=DATE:16651005
DTEND;VALUE=DATE:16651012
SUMMARY:KW 41 (ungerade)
DESCRIPTION:Kalenderwoche 41 im Jahr 1665\nMontag: 05.10.1665\nSonntag: 11.10.1665\nTyp: ungerade Woche\nMehr unter: https://kalenderwoche.info/1665/kw-41
URL:https://kalenderwoche.info/1665/kw-41
CATEGORIES:Kalenderwoche
TRANSP:TRANSPARENT
END:VEVENT
BEGIN:VEVENT
UID:kw-1665-42@kalenderwoche.info
DTSTAMP:20260421T134438Z
DTSTART;VALUE=DATE:16651012
DTEND;VALUE=DATE:16651019
SUMMARY:KW 42 (gerade)
DESCRIPTION:Kalenderwoche 42 im Jahr 1665\nMontag: 12.10.1665\nSonntag: 18.10.1665\nTyp: gerade Woche\nMehr unter: https://kalenderwoche.info/1665/kw-42
URL:https://kalenderwoche.info/1665/kw-42
CATEGORIES:Kalenderwoche
TRANSP:TRANSPARENT
END:VEVENT
BEGIN:VEVENT
UID:kw-1665-43@kalenderwoche.info
DTSTAMP:20260421T134438Z
DTSTART;VALUE=DATE:16651019
DTEND;VALUE=DATE:16651026
SUMMARY:KW 43 (ungerade)
DESCRIPTION:Kalenderwoche 43 im Jahr 1665\nMontag: 19.10.1665\nSonntag: 25.10.1665\nTyp: ungerade Woche\nMehr unter: https://kalenderwoche.info/1665/kw-43
URL:https://kalenderwoche.info/1665/kw-43
CATEGORIES:Kalenderwoche
TRANSP:TRANSPARENT
END:VEVENT
BEGIN:VEVENT
UID:kw-1665-44@kalenderwoche.info
DTSTAMP:20260421T134438Z
DTSTART;VALUE=DATE:16651026
DTEND;VALUE=DATE:16651102
SUMMARY:KW 44 (gerade)
DESCRIPTION:Kalenderwoche 44 im Jahr 1665\nMontag: 26.10.1665\nSonntag: 01.11.1665\nTyp: gerade Woche\nMehr unter: https://kalenderwoche.info/1665/kw-44
URL:https://kalenderwoche.info/1665/kw-44
CATEGORIES:Kalenderwoche
TRANSP:TRANSPARENT
END:VEVENT
BEGIN:VEVENT
UID:kw-1665-45@kalenderwoche.info
DTSTAMP:20260421T134438Z
DTSTART;VALUE=DATE:16651102
DTEND;VALUE=DATE:16651109
SUMMARY:KW 45 (ungerade)
DESCRIPTION:Kalenderwoche 45 im Jahr 1665\nMontag: 02.11.1665\nSonntag: 08.11.1665\nTyp: ungerade Woche\nMehr unter: https://kalenderwoche.info/1665/kw-45
URL:https://kalenderwoche.info/1665/kw-45
CATEGORIES:Kalenderwoche
TRANSP:TRANSPARENT
END:VEVENT
BEGIN:VEVENT
UID:kw-1665-46@kalenderwoche.info
DTSTAMP:20260421T134438Z
DTSTART;VALUE=DATE:16651109
DTEND;VALUE=DATE:16651116
SUMMARY:KW 46 (gerade)
DESCRIPTION:Kalenderwoche 46 im Jahr 1665\nMontag: 09.11.1665\nSonntag: 15.11.1665\nTyp: gerade Woche\nMehr unter: https://kalenderwoche.info/1665/kw-46
URL:https://kalenderwoche.info/1665/kw-46
CATEGORIES:Kalenderwoche
TRANSP:TRANSPARENT
END:VEVENT
BEGIN:VEVENT
UID:kw-1665-47@kalenderwoche.info
DTSTAMP:20260421T134438Z
DTSTART;VALUE=DATE:16651116
DTEND;VALUE=DATE:16651123
SUMMARY:KW 47 (ungerade)
DESCRIPTION:Kalenderwoche 47 im Jahr 1665\nMontag: 16.11.1665\nSonntag: 22.11.1665\nTyp: ungerade Woche\nMehr unter: https://kalenderwoche.info/1665/kw-47
URL:https://kalenderwoche.info/1665/kw-47
CATEGORIES:Kalenderwoche
TRANSP:TRANSPARENT
END:VEVENT
BEGIN:VEVENT
UID:kw-1665-48@kalenderwoche.info
DTSTAMP:20260421T134438Z
DTSTART;VALUE=DATE:16651123
DTEND;VALUE=DATE:16651130
SUMMARY:KW 48 (gerade)
DESCRIPTION:Kalenderwoche 48 im Jahr 1665\nMontag: 23.11.1665\nSonntag: 29.11.1665\nTyp: gerade Woche\nMehr unter: https://kalenderwoche.info/1665/kw-48
URL:https://kalenderwoche.info/1665/kw-48
CATEGORIES:Kalenderwoche
TRANSP:TRANSPARENT
END:VEVENT
BEGIN:VEVENT
UID:kw-1665-49@kalenderwoche.info
DTSTAMP:20260421T134438Z
DTSTART;VALUE=DATE:16651130
DTEND;VALUE=DATE:16651207
SUMMARY:KW 49 (ungerade)
DESCRIPTION:Kalenderwoche 49 im Jahr 1665\nMontag: 30.11.1665\nSonntag: 06.12.1665\nTyp: ungerade Woche\nMehr unter: https://kalenderwoche.info/1665/kw-49
URL:https://kalenderwoche.info/1665/kw-49
CATEGORIES:Kalenderwoche
TRANSP:TRANSPARENT
END:VEVENT
BEGIN:VEVENT
UID:kw-1665-50@kalenderwoche.info
DTSTAMP:20260421T134438Z
DTSTART;VALUE=DATE:16651207
DTEND;VALUE=DATE:16651214
SUMMARY:KW 50 (gerade)
DESCRIPTION:Kalenderwoche 50 im Jahr 1665\nMontag: 07.12.1665\nSonntag: 13.12.1665\nTyp: gerade Woche\nMehr unter: https://kalenderwoche.info/1665/kw-50
URL:https://kalenderwoche.info/1665/kw-50
CATEGORIES:Kalenderwoche
TRANSP:TRANSPARENT
END:VEVENT
BEGIN:VEVENT
UID:kw-1665-51@kalenderwoche.info
DTSTAMP:20260421T134438Z
DTSTART;VALUE=DATE:16651214
DTEND;VALUE=DATE:16651221
SUMMARY:KW 51 (ungerade)
DESCRIPTION:Kalenderwoche 51 im Jahr 1665\nMontag: 14.12.1665\nSonntag: 20.12.1665\nTyp: ungerade Woche\nMehr unter: https://kalenderwoche.info/1665/kw-51
URL:https://kalenderwoche.info/1665/kw-51
CATEGORIES:Kalenderwoche
TRANSP:TRANSPARENT
END:VEVENT
BEGIN:VEVENT
UID:kw-1665-52@kalenderwoche.info
DTSTAMP:20260421T134438Z
DTSTART;VALUE=DATE:16651221
DTEND;VALUE=DATE:16651228
SUMMARY:KW 52 (gerade)
DESCRIPTION:Kalenderwoche 52 im Jahr 1665\nMontag: 21.12.1665\nSonntag: 27.12.1665\nTyp: gerade Woche\nMehr unter: https://kalenderwoche.info/1665/kw-52
URL:https://kalenderwoche.info/1665/kw-52
CATEGORIES:Kalenderwoche
TRANSP:TRANSPARENT
END:VEVENT
BEGIN:VEVENT
UID:kw-1665-53@kalenderwoche.info
DTSTAMP:20260421T134438Z
DTSTART;VALUE=DATE:16651228
DTEND;VALUE=DATE:16660104
SUMMARY:KW 53 (ungerade)
DESCRIPTION:Kalenderwoche 53 im Jahr 1665\nMontag: 28.12.1665\nSonntag: 03.01.1666\nTyp: ungerade Woche\nMehr unter: https://kalenderwoche.info/1665/kw-53
URL:https://kalenderwoche.info/1665/kw-53
CATEGORIES:Kalenderwoche
TRANSP:TRANSPARENT
END:VEVENT
END:VCALENDAR
