BEGIN:VCALENDAR
VERSION:2.0
PRODID:-//kalenderwoche.info//Kalender//DE
CALSCALE:GREGORIAN
METHOD:PUBLISH
X-WR-CALNAME:Kalenderwochen 1666
X-WR-CALDESC:Alle Kalenderwochen für das Jahr 1666
X-WR-TIMEZONE:Europe/Berlin
BEGIN:VEVENT
UID:kw-1666-1@kalenderwoche.info
DTSTAMP:20260421T122720Z
DTSTART;VALUE=DATE:16660104
DTEND;VALUE=DATE:16660111
SUMMARY:KW 1 (ungerade)
DESCRIPTION:Kalenderwoche 1 im Jahr 1666\nMontag: 04.01.1666\nSonntag: 10.01.1666\nTyp: ungerade Woche\nMehr unter: https://kalenderwoche.info/1666/kw-1
URL:https://kalenderwoche.info/1666/kw-1
CATEGORIES:Kalenderwoche
TRANSP:TRANSPARENT
END:VEVENT
BEGIN:VEVENT
UID:kw-1666-2@kalenderwoche.info
DTSTAMP:20260421T122720Z
DTSTART;VALUE=DATE:16660111
DTEND;VALUE=DATE:16660118
SUMMARY:KW 2 (gerade)
DESCRIPTION:Kalenderwoche 2 im Jahr 1666\nMontag: 11.01.1666\nSonntag: 17.01.1666\nTyp: gerade Woche\nMehr unter: https://kalenderwoche.info/1666/kw-2
URL:https://kalenderwoche.info/1666/kw-2
CATEGORIES:Kalenderwoche
TRANSP:TRANSPARENT
END:VEVENT
BEGIN:VEVENT
UID:kw-1666-3@kalenderwoche.info
DTSTAMP:20260421T122720Z
DTSTART;VALUE=DATE:16660118
DTEND;VALUE=DATE:16660125
SUMMARY:KW 3 (ungerade)
DESCRIPTION:Kalenderwoche 3 im Jahr 1666\nMontag: 18.01.1666\nSonntag: 24.01.1666\nTyp: ungerade Woche\nMehr unter: https://kalenderwoche.info/1666/kw-3
URL:https://kalenderwoche.info/1666/kw-3
CATEGORIES:Kalenderwoche
TRANSP:TRANSPARENT
END:VEVENT
BEGIN:VEVENT
UID:kw-1666-4@kalenderwoche.info
DTSTAMP:20260421T122720Z
DTSTART;VALUE=DATE:16660125
DTEND;VALUE=DATE:16660201
SUMMARY:KW 4 (gerade)
DESCRIPTION:Kalenderwoche 4 im Jahr 1666\nMontag: 25.01.1666\nSonntag: 31.01.1666\nTyp: gerade Woche\nMehr unter: https://kalenderwoche.info/1666/kw-4
URL:https://kalenderwoche.info/1666/kw-4
CATEGORIES:Kalenderwoche
TRANSP:TRANSPARENT
END:VEVENT
BEGIN:VEVENT
UID:kw-1666-5@kalenderwoche.info
DTSTAMP:20260421T122720Z
DTSTART;VALUE=DATE:16660201
DTEND;VALUE=DATE:16660208
SUMMARY:KW 5 (ungerade)
DESCRIPTION:Kalenderwoche 5 im Jahr 1666\nMontag: 01.02.1666\nSonntag: 07.02.1666\nTyp: ungerade Woche\nMehr unter: https://kalenderwoche.info/1666/kw-5
URL:https://kalenderwoche.info/1666/kw-5
CATEGORIES:Kalenderwoche
TRANSP:TRANSPARENT
END:VEVENT
BEGIN:VEVENT
UID:kw-1666-6@kalenderwoche.info
DTSTAMP:20260421T122720Z
DTSTART;VALUE=DATE:16660208
DTEND;VALUE=DATE:16660215
SUMMARY:KW 6 (gerade)
DESCRIPTION:Kalenderwoche 6 im Jahr 1666\nMontag: 08.02.1666\nSonntag: 14.02.1666\nTyp: gerade Woche\nMehr unter: https://kalenderwoche.info/1666/kw-6
URL:https://kalenderwoche.info/1666/kw-6
CATEGORIES:Kalenderwoche
TRANSP:TRANSPARENT
END:VEVENT
BEGIN:VEVENT
UID:kw-1666-7@kalenderwoche.info
DTSTAMP:20260421T122720Z
DTSTART;VALUE=DATE:16660215
DTEND;VALUE=DATE:16660222
SUMMARY:KW 7 (ungerade)
DESCRIPTION:Kalenderwoche 7 im Jahr 1666\nMontag: 15.02.1666\nSonntag: 21.02.1666\nTyp: ungerade Woche\nMehr unter: https://kalenderwoche.info/1666/kw-7
URL:https://kalenderwoche.info/1666/kw-7
CATEGORIES:Kalenderwoche
TRANSP:TRANSPARENT
END:VEVENT
BEGIN:VEVENT
UID:kw-1666-8@kalenderwoche.info
DTSTAMP:20260421T122720Z
DTSTART;VALUE=DATE:16660222
DTEND;VALUE=DATE:16660301
SUMMARY:KW 8 (gerade)
DESCRIPTION:Kalenderwoche 8 im Jahr 1666\nMontag: 22.02.1666\nSonntag: 28.02.1666\nTyp: gerade Woche\nMehr unter: https://kalenderwoche.info/1666/kw-8
URL:https://kalenderwoche.info/1666/kw-8
CATEGORIES:Kalenderwoche
TRANSP:TRANSPARENT
END:VEVENT
BEGIN:VEVENT
UID:kw-1666-9@kalenderwoche.info
DTSTAMP:20260421T122720Z
DTSTART;VALUE=DATE:16660301
DTEND;VALUE=DATE:16660308
SUMMARY:KW 9 (ungerade)
DESCRIPTION:Kalenderwoche 9 im Jahr 1666\nMontag: 01.03.1666\nSonntag: 07.03.1666\nTyp: ungerade Woche\nMehr unter: https://kalenderwoche.info/1666/kw-9
URL:https://kalenderwoche.info/1666/kw-9
CATEGORIES:Kalenderwoche
TRANSP:TRANSPARENT
END:VEVENT
BEGIN:VEVENT
UID:kw-1666-10@kalenderwoche.info
DTSTAMP:20260421T122720Z
DTSTART;VALUE=DATE:16660308
DTEND;VALUE=DATE:16660315
SUMMARY:KW 10 (gerade)
DESCRIPTION:Kalenderwoche 10 im Jahr 1666\nMontag: 08.03.1666\nSonntag: 14.03.1666\nTyp: gerade Woche\nMehr unter: https://kalenderwoche.info/1666/kw-10
URL:https://kalenderwoche.info/1666/kw-10
CATEGORIES:Kalenderwoche
TRANSP:TRANSPARENT
END:VEVENT
BEGIN:VEVENT
UID:kw-1666-11@kalenderwoche.info
DTSTAMP:20260421T122720Z
DTSTART;VALUE=DATE:16660315
DTEND;VALUE=DATE:16660322
SUMMARY:KW 11 (ungerade)
DESCRIPTION:Kalenderwoche 11 im Jahr 1666\nMontag: 15.03.1666\nSonntag: 21.03.1666\nTyp: ungerade Woche\nMehr unter: https://kalenderwoche.info/1666/kw-11
URL:https://kalenderwoche.info/1666/kw-11
CATEGORIES:Kalenderwoche
TRANSP:TRANSPARENT
END:VEVENT
BEGIN:VEVENT
UID:kw-1666-12@kalenderwoche.info
DTSTAMP:20260421T122720Z
DTSTART;VALUE=DATE:16660322
DTEND;VALUE=DATE:16660329
SUMMARY:KW 12 (gerade)
DESCRIPTION:Kalenderwoche 12 im Jahr 1666\nMontag: 22.03.1666\nSonntag: 28.03.1666\nTyp: gerade Woche\nMehr unter: https://kalenderwoche.info/1666/kw-12
URL:https://kalenderwoche.info/1666/kw-12
CATEGORIES:Kalenderwoche
TRANSP:TRANSPARENT
END:VEVENT
BEGIN:VEVENT
UID:kw-1666-13@kalenderwoche.info
DTSTAMP:20260421T122720Z
DTSTART;VALUE=DATE:16660329
DTEND;VALUE=DATE:16660405
SUMMARY:KW 13 (ungerade)
DESCRIPTION:Kalenderwoche 13 im Jahr 1666\nMontag: 29.03.1666\nSonntag: 04.04.1666\nTyp: ungerade Woche\nMehr unter: https://kalenderwoche.info/1666/kw-13
URL:https://kalenderwoche.info/1666/kw-13
CATEGORIES:Kalenderwoche
TRANSP:TRANSPARENT
END:VEVENT
BEGIN:VEVENT
UID:kw-1666-14@kalenderwoche.info
DTSTAMP:20260421T122720Z
DTSTART;VALUE=DATE:16660405
DTEND;VALUE=DATE:16660412
SUMMARY:KW 14 (gerade)
DESCRIPTION:Kalenderwoche 14 im Jahr 1666\nMontag: 05.04.1666\nSonntag: 11.04.1666\nTyp: gerade Woche\nMehr unter: https://kalenderwoche.info/1666/kw-14
URL:https://kalenderwoche.info/1666/kw-14
CATEGORIES:Kalenderwoche
TRANSP:TRANSPARENT
END:VEVENT
BEGIN:VEVENT
UID:kw-1666-15@kalenderwoche.info
DTSTAMP:20260421T122720Z
DTSTART;VALUE=DATE:16660412
DTEND;VALUE=DATE:16660419
SUMMARY:KW 15 (ungerade)
DESCRIPTION:Kalenderwoche 15 im Jahr 1666\nMontag: 12.04.1666\nSonntag: 18.04.1666\nTyp: ungerade Woche\nMehr unter: https://kalenderwoche.info/1666/kw-15
URL:https://kalenderwoche.info/1666/kw-15
CATEGORIES:Kalenderwoche
TRANSP:TRANSPARENT
END:VEVENT
BEGIN:VEVENT
UID:kw-1666-16@kalenderwoche.info
DTSTAMP:20260421T122720Z
DTSTART;VALUE=DATE:16660419
DTEND;VALUE=DATE:16660426
SUMMARY:KW 16 (gerade)
DESCRIPTION:Kalenderwoche 16 im Jahr 1666\nMontag: 19.04.1666\nSonntag: 25.04.1666\nTyp: gerade Woche\nMehr unter: https://kalenderwoche.info/1666/kw-16
URL:https://kalenderwoche.info/1666/kw-16
CATEGORIES:Kalenderwoche
TRANSP:TRANSPARENT
END:VEVENT
BEGIN:VEVENT
UID:kw-1666-17@kalenderwoche.info
DTSTAMP:20260421T122720Z
DTSTART;VALUE=DATE:16660426
DTEND;VALUE=DATE:16660503
SUMMARY:KW 17 (ungerade)
DESCRIPTION:Kalenderwoche 17 im Jahr 1666\nMontag: 26.04.1666\nSonntag: 02.05.1666\nTyp: ungerade Woche\nMehr unter: https://kalenderwoche.info/1666/kw-17
URL:https://kalenderwoche.info/1666/kw-17
CATEGORIES:Kalenderwoche
TRANSP:TRANSPARENT
END:VEVENT
BEGIN:VEVENT
UID:kw-1666-18@kalenderwoche.info
DTSTAMP:20260421T122720Z
DTSTART;VALUE=DATE:16660503
DTEND;VALUE=DATE:16660510
SUMMARY:KW 18 (gerade)
DESCRIPTION:Kalenderwoche 18 im Jahr 1666\nMontag: 03.05.1666\nSonntag: 09.05.1666\nTyp: gerade Woche\nMehr unter: https://kalenderwoche.info/1666/kw-18
URL:https://kalenderwoche.info/1666/kw-18
CATEGORIES:Kalenderwoche
TRANSP:TRANSPARENT
END:VEVENT
BEGIN:VEVENT
UID:kw-1666-19@kalenderwoche.info
DTSTAMP:20260421T122720Z
DTSTART;VALUE=DATE:16660510
DTEND;VALUE=DATE:16660517
SUMMARY:KW 19 (ungerade)
DESCRIPTION:Kalenderwoche 19 im Jahr 1666\nMontag: 10.05.1666\nSonntag: 16.05.1666\nTyp: ungerade Woche\nMehr unter: https://kalenderwoche.info/1666/kw-19
URL:https://kalenderwoche.info/1666/kw-19
CATEGORIES:Kalenderwoche
TRANSP:TRANSPARENT
END:VEVENT
BEGIN:VEVENT
UID:kw-1666-20@kalenderwoche.info
DTSTAMP:20260421T122720Z
DTSTART;VALUE=DATE:16660517
DTEND;VALUE=DATE:16660524
SUMMARY:KW 20 (gerade)
DESCRIPTION:Kalenderwoche 20 im Jahr 1666\nMontag: 17.05.1666\nSonntag: 23.05.1666\nTyp: gerade Woche\nMehr unter: https://kalenderwoche.info/1666/kw-20
URL:https://kalenderwoche.info/1666/kw-20
CATEGORIES:Kalenderwoche
TRANSP:TRANSPARENT
END:VEVENT
BEGIN:VEVENT
UID:kw-1666-21@kalenderwoche.info
DTSTAMP:20260421T122720Z
DTSTART;VALUE=DATE:16660524
DTEND;VALUE=DATE:16660531
SUMMARY:KW 21 (ungerade)
DESCRIPTION:Kalenderwoche 21 im Jahr 1666\nMontag: 24.05.1666\nSonntag: 30.05.1666\nTyp: ungerade Woche\nMehr unter: https://kalenderwoche.info/1666/kw-21
URL:https://kalenderwoche.info/1666/kw-21
CATEGORIES:Kalenderwoche
TRANSP:TRANSPARENT
END:VEVENT
BEGIN:VEVENT
UID:kw-1666-22@kalenderwoche.info
DTSTAMP:20260421T122720Z
DTSTART;VALUE=DATE:16660531
DTEND;VALUE=DATE:16660607
SUMMARY:KW 22 (gerade)
DESCRIPTION:Kalenderwoche 22 im Jahr 1666\nMontag: 31.05.1666\nSonntag: 06.06.1666\nTyp: gerade Woche\nMehr unter: https://kalenderwoche.info/1666/kw-22
URL:https://kalenderwoche.info/1666/kw-22
CATEGORIES:Kalenderwoche
TRANSP:TRANSPARENT
END:VEVENT
BEGIN:VEVENT
UID:kw-1666-23@kalenderwoche.info
DTSTAMP:20260421T122720Z
DTSTART;VALUE=DATE:16660607
DTEND;VALUE=DATE:16660614
SUMMARY:KW 23 (ungerade)
DESCRIPTION:Kalenderwoche 23 im Jahr 1666\nMontag: 07.06.1666\nSonntag: 13.06.1666\nTyp: ungerade Woche\nMehr unter: https://kalenderwoche.info/1666/kw-23
URL:https://kalenderwoche.info/1666/kw-23
CATEGORIES:Kalenderwoche
TRANSP:TRANSPARENT
END:VEVENT
BEGIN:VEVENT
UID:kw-1666-24@kalenderwoche.info
DTSTAMP:20260421T122720Z
DTSTART;VALUE=DATE:16660614
DTEND;VALUE=DATE:16660621
SUMMARY:KW 24 (gerade)
DESCRIPTION:Kalenderwoche 24 im Jahr 1666\nMontag: 14.06.1666\nSonntag: 20.06.1666\nTyp: gerade Woche\nMehr unter: https://kalenderwoche.info/1666/kw-24
URL:https://kalenderwoche.info/1666/kw-24
CATEGORIES:Kalenderwoche
TRANSP:TRANSPARENT
END:VEVENT
BEGIN:VEVENT
UID:kw-1666-25@kalenderwoche.info
DTSTAMP:20260421T122720Z
DTSTART;VALUE=DATE:16660621
DTEND;VALUE=DATE:16660628
SUMMARY:KW 25 (ungerade)
DESCRIPTION:Kalenderwoche 25 im Jahr 1666\nMontag: 21.06.1666\nSonntag: 27.06.1666\nTyp: ungerade Woche\nMehr unter: https://kalenderwoche.info/1666/kw-25
URL:https://kalenderwoche.info/1666/kw-25
CATEGORIES:Kalenderwoche
TRANSP:TRANSPARENT
END:VEVENT
BEGIN:VEVENT
UID:kw-1666-26@kalenderwoche.info
DTSTAMP:20260421T122720Z
DTSTART;VALUE=DATE:16660628
DTEND;VALUE=DATE:16660705
SUMMARY:KW 26 (gerade)
DESCRIPTION:Kalenderwoche 26 im Jahr 1666\nMontag: 28.06.1666\nSonntag: 04.07.1666\nTyp: gerade Woche\nMehr unter: https://kalenderwoche.info/1666/kw-26
URL:https://kalenderwoche.info/1666/kw-26
CATEGORIES:Kalenderwoche
TRANSP:TRANSPARENT
END:VEVENT
BEGIN:VEVENT
UID:kw-1666-27@kalenderwoche.info
DTSTAMP:20260421T122720Z
DTSTART;VALUE=DATE:16660705
DTEND;VALUE=DATE:16660712
SUMMARY:KW 27 (ungerade)
DESCRIPTION:Kalenderwoche 27 im Jahr 1666\nMontag: 05.07.1666\nSonntag: 11.07.1666\nTyp: ungerade Woche\nMehr unter: https://kalenderwoche.info/1666/kw-27
URL:https://kalenderwoche.info/1666/kw-27
CATEGORIES:Kalenderwoche
TRANSP:TRANSPARENT
END:VEVENT
BEGIN:VEVENT
UID:kw-1666-28@kalenderwoche.info
DTSTAMP:20260421T122720Z
DTSTART;VALUE=DATE:16660712
DTEND;VALUE=DATE:16660719
SUMMARY:KW 28 (gerade)
DESCRIPTION:Kalenderwoche 28 im Jahr 1666\nMontag: 12.07.1666\nSonntag: 18.07.1666\nTyp: gerade Woche\nMehr unter: https://kalenderwoche.info/1666/kw-28
URL:https://kalenderwoche.info/1666/kw-28
CATEGORIES:Kalenderwoche
TRANSP:TRANSPARENT
END:VEVENT
BEGIN:VEVENT
UID:kw-1666-29@kalenderwoche.info
DTSTAMP:20260421T122720Z
DTSTART;VALUE=DATE:16660719
DTEND;VALUE=DATE:16660726
SUMMARY:KW 29 (ungerade)
DESCRIPTION:Kalenderwoche 29 im Jahr 1666\nMontag: 19.07.1666\nSonntag: 25.07.1666\nTyp: ungerade Woche\nMehr unter: https://kalenderwoche.info/1666/kw-29
URL:https://kalenderwoche.info/1666/kw-29
CATEGORIES:Kalenderwoche
TRANSP:TRANSPARENT
END:VEVENT
BEGIN:VEVENT
UID:kw-1666-30@kalenderwoche.info
DTSTAMP:20260421T122720Z
DTSTART;VALUE=DATE:16660726
DTEND;VALUE=DATE:16660802
SUMMARY:KW 30 (gerade)
DESCRIPTION:Kalenderwoche 30 im Jahr 1666\nMontag: 26.07.1666\nSonntag: 01.08.1666\nTyp: gerade Woche\nMehr unter: https://kalenderwoche.info/1666/kw-30
URL:https://kalenderwoche.info/1666/kw-30
CATEGORIES:Kalenderwoche
TRANSP:TRANSPARENT
END:VEVENT
BEGIN:VEVENT
UID:kw-1666-31@kalenderwoche.info
DTSTAMP:20260421T122720Z
DTSTART;VALUE=DATE:16660802
DTEND;VALUE=DATE:16660809
SUMMARY:KW 31 (ungerade)
DESCRIPTION:Kalenderwoche 31 im Jahr 1666\nMontag: 02.08.1666\nSonntag: 08.08.1666\nTyp: ungerade Woche\nMehr unter: https://kalenderwoche.info/1666/kw-31
URL:https://kalenderwoche.info/1666/kw-31
CATEGORIES:Kalenderwoche
TRANSP:TRANSPARENT
END:VEVENT
BEGIN:VEVENT
UID:kw-1666-32@kalenderwoche.info
DTSTAMP:20260421T122720Z
DTSTART;VALUE=DATE:16660809
DTEND;VALUE=DATE:16660816
SUMMARY:KW 32 (gerade)
DESCRIPTION:Kalenderwoche 32 im Jahr 1666\nMontag: 09.08.1666\nSonntag: 15.08.1666\nTyp: gerade Woche\nMehr unter: https://kalenderwoche.info/1666/kw-32
URL:https://kalenderwoche.info/1666/kw-32
CATEGORIES:Kalenderwoche
TRANSP:TRANSPARENT
END:VEVENT
BEGIN:VEVENT
UID:kw-1666-33@kalenderwoche.info
DTSTAMP:20260421T122720Z
DTSTART;VALUE=DATE:16660816
DTEND;VALUE=DATE:16660823
SUMMARY:KW 33 (ungerade)
DESCRIPTION:Kalenderwoche 33 im Jahr 1666\nMontag: 16.08.1666\nSonntag: 22.08.1666\nTyp: ungerade Woche\nMehr unter: https://kalenderwoche.info/1666/kw-33
URL:https://kalenderwoche.info/1666/kw-33
CATEGORIES:Kalenderwoche
TRANSP:TRANSPARENT
END:VEVENT
BEGIN:VEVENT
UID:kw-1666-34@kalenderwoche.info
DTSTAMP:20260421T122720Z
DTSTART;VALUE=DATE:16660823
DTEND;VALUE=DATE:16660830
SUMMARY:KW 34 (gerade)
DESCRIPTION:Kalenderwoche 34 im Jahr 1666\nMontag: 23.08.1666\nSonntag: 29.08.1666\nTyp: gerade Woche\nMehr unter: https://kalenderwoche.info/1666/kw-34
URL:https://kalenderwoche.info/1666/kw-34
CATEGORIES:Kalenderwoche
TRANSP:TRANSPARENT
END:VEVENT
BEGIN:VEVENT
UID:kw-1666-35@kalenderwoche.info
DTSTAMP:20260421T122720Z
DTSTART;VALUE=DATE:16660830
DTEND;VALUE=DATE:16660906
SUMMARY:KW 35 (ungerade)
DESCRIPTION:Kalenderwoche 35 im Jahr 1666\nMontag: 30.08.1666\nSonntag: 05.09.1666\nTyp: ungerade Woche\nMehr unter: https://kalenderwoche.info/1666/kw-35
URL:https://kalenderwoche.info/1666/kw-35
CATEGORIES:Kalenderwoche
TRANSP:TRANSPARENT
END:VEVENT
BEGIN:VEVENT
UID:kw-1666-36@kalenderwoche.info
DTSTAMP:20260421T122720Z
DTSTART;VALUE=DATE:16660906
DTEND;VALUE=DATE:16660913
SUMMARY:KW 36 (gerade)
DESCRIPTION:Kalenderwoche 36 im Jahr 1666\nMontag: 06.09.1666\nSonntag: 12.09.1666\nTyp: gerade Woche\nMehr unter: https://kalenderwoche.info/1666/kw-36
URL:https://kalenderwoche.info/1666/kw-36
CATEGORIES:Kalenderwoche
TRANSP:TRANSPARENT
END:VEVENT
BEGIN:VEVENT
UID:kw-1666-37@kalenderwoche.info
DTSTAMP:20260421T122720Z
DTSTART;VALUE=DATE:16660913
DTEND;VALUE=DATE:16660920
SUMMARY:KW 37 (ungerade)
DESCRIPTION:Kalenderwoche 37 im Jahr 1666\nMontag: 13.09.1666\nSonntag: 19.09.1666\nTyp: ungerade Woche\nMehr unter: https://kalenderwoche.info/1666/kw-37
URL:https://kalenderwoche.info/1666/kw-37
CATEGORIES:Kalenderwoche
TRANSP:TRANSPARENT
END:VEVENT
BEGIN:VEVENT
UID:kw-1666-38@kalenderwoche.info
DTSTAMP:20260421T122720Z
DTSTART;VALUE=DATE:16660920
DTEND;VALUE=DATE:16660927
SUMMARY:KW 38 (gerade)
DESCRIPTION:Kalenderwoche 38 im Jahr 1666\nMontag: 20.09.1666\nSonntag: 26.09.1666\nTyp: gerade Woche\nMehr unter: https://kalenderwoche.info/1666/kw-38
URL:https://kalenderwoche.info/1666/kw-38
CATEGORIES:Kalenderwoche
TRANSP:TRANSPARENT
END:VEVENT
BEGIN:VEVENT
UID:kw-1666-39@kalenderwoche.info
DTSTAMP:20260421T122720Z
DTSTART;VALUE=DATE:16660927
DTEND;VALUE=DATE:16661004
SUMMARY:KW 39 (ungerade)
DESCRIPTION:Kalenderwoche 39 im Jahr 1666\nMontag: 27.09.1666\nSonntag: 03.10.1666\nTyp: ungerade Woche\nMehr unter: https://kalenderwoche.info/1666/kw-39
URL:https://kalenderwoche.info/1666/kw-39
CATEGORIES:Kalenderwoche
TRANSP:TRANSPARENT
END:VEVENT
BEGIN:VEVENT
UID:kw-1666-40@kalenderwoche.info
DTSTAMP:20260421T122720Z
DTSTART;VALUE=DATE:16661004
DTEND;VALUE=DATE:16661011
SUMMARY:KW 40 (gerade)
DESCRIPTION:Kalenderwoche 40 im Jahr 1666\nMontag: 04.10.1666\nSonntag: 10.10.1666\nTyp: gerade Woche\nMehr unter: https://kalenderwoche.info/1666/kw-40
URL:https://kalenderwoche.info/1666/kw-40
CATEGORIES:Kalenderwoche
TRANSP:TRANSPARENT
END:VEVENT
BEGIN:VEVENT
UID:kw-1666-41@kalenderwoche.info
DTSTAMP:20260421T122720Z
DTSTART;VALUE=DATE:16661011
DTEND;VALUE=DATE:16661018
SUMMARY:KW 41 (ungerade)
DESCRIPTION:Kalenderwoche 41 im Jahr 1666\nMontag: 11.10.1666\nSonntag: 17.10.1666\nTyp: ungerade Woche\nMehr unter: https://kalenderwoche.info/1666/kw-41
URL:https://kalenderwoche.info/1666/kw-41
CATEGORIES:Kalenderwoche
TRANSP:TRANSPARENT
END:VEVENT
BEGIN:VEVENT
UID:kw-1666-42@kalenderwoche.info
DTSTAMP:20260421T122720Z
DTSTART;VALUE=DATE:16661018
DTEND;VALUE=DATE:16661025
SUMMARY:KW 42 (gerade)
DESCRIPTION:Kalenderwoche 42 im Jahr 1666\nMontag: 18.10.1666\nSonntag: 24.10.1666\nTyp: gerade Woche\nMehr unter: https://kalenderwoche.info/1666/kw-42
URL:https://kalenderwoche.info/1666/kw-42
CATEGORIES:Kalenderwoche
TRANSP:TRANSPARENT
END:VEVENT
BEGIN:VEVENT
UID:kw-1666-43@kalenderwoche.info
DTSTAMP:20260421T122720Z
DTSTART;VALUE=DATE:16661025
DTEND;VALUE=DATE:16661101
SUMMARY:KW 43 (ungerade)
DESCRIPTION:Kalenderwoche 43 im Jahr 1666\nMontag: 25.10.1666\nSonntag: 31.10.1666\nTyp: ungerade Woche\nMehr unter: https://kalenderwoche.info/1666/kw-43
URL:https://kalenderwoche.info/1666/kw-43
CATEGORIES:Kalenderwoche
TRANSP:TRANSPARENT
END:VEVENT
BEGIN:VEVENT
UID:kw-1666-44@kalenderwoche.info
DTSTAMP:20260421T122720Z
DTSTART;VALUE=DATE:16661101
DTEND;VALUE=DATE:16661108
SUMMARY:KW 44 (gerade)
DESCRIPTION:Kalenderwoche 44 im Jahr 1666\nMontag: 01.11.1666\nSonntag: 07.11.1666\nTyp: gerade Woche\nMehr unter: https://kalenderwoche.info/1666/kw-44
URL:https://kalenderwoche.info/1666/kw-44
CATEGORIES:Kalenderwoche
TRANSP:TRANSPARENT
END:VEVENT
BEGIN:VEVENT
UID:kw-1666-45@kalenderwoche.info
DTSTAMP:20260421T122720Z
DTSTART;VALUE=DATE:16661108
DTEND;VALUE=DATE:16661115
SUMMARY:KW 45 (ungerade)
DESCRIPTION:Kalenderwoche 45 im Jahr 1666\nMontag: 08.11.1666\nSonntag: 14.11.1666\nTyp: ungerade Woche\nMehr unter: https://kalenderwoche.info/1666/kw-45
URL:https://kalenderwoche.info/1666/kw-45
CATEGORIES:Kalenderwoche
TRANSP:TRANSPARENT
END:VEVENT
BEGIN:VEVENT
UID:kw-1666-46@kalenderwoche.info
DTSTAMP:20260421T122720Z
DTSTART;VALUE=DATE:16661115
DTEND;VALUE=DATE:16661122
SUMMARY:KW 46 (gerade)
DESCRIPTION:Kalenderwoche 46 im Jahr 1666\nMontag: 15.11.1666\nSonntag: 21.11.1666\nTyp: gerade Woche\nMehr unter: https://kalenderwoche.info/1666/kw-46
URL:https://kalenderwoche.info/1666/kw-46
CATEGORIES:Kalenderwoche
TRANSP:TRANSPARENT
END:VEVENT
BEGIN:VEVENT
UID:kw-1666-47@kalenderwoche.info
DTSTAMP:20260421T122720Z
DTSTART;VALUE=DATE:16661122
DTEND;VALUE=DATE:16661129
SUMMARY:KW 47 (ungerade)
DESCRIPTION:Kalenderwoche 47 im Jahr 1666\nMontag: 22.11.1666\nSonntag: 28.11.1666\nTyp: ungerade Woche\nMehr unter: https://kalenderwoche.info/1666/kw-47
URL:https://kalenderwoche.info/1666/kw-47
CATEGORIES:Kalenderwoche
TRANSP:TRANSPARENT
END:VEVENT
BEGIN:VEVENT
UID:kw-1666-48@kalenderwoche.info
DTSTAMP:20260421T122720Z
DTSTART;VALUE=DATE:16661129
DTEND;VALUE=DATE:16661206
SUMMARY:KW 48 (gerade)
DESCRIPTION:Kalenderwoche 48 im Jahr 1666\nMontag: 29.11.1666\nSonntag: 05.12.1666\nTyp: gerade Woche\nMehr unter: https://kalenderwoche.info/1666/kw-48
URL:https://kalenderwoche.info/1666/kw-48
CATEGORIES:Kalenderwoche
TRANSP:TRANSPARENT
END:VEVENT
BEGIN:VEVENT
UID:kw-1666-49@kalenderwoche.info
DTSTAMP:20260421T122720Z
DTSTART;VALUE=DATE:16661206
DTEND;VALUE=DATE:16661213
SUMMARY:KW 49 (ungerade)
DESCRIPTION:Kalenderwoche 49 im Jahr 1666\nMontag: 06.12.1666\nSonntag: 12.12.1666\nTyp: ungerade Woche\nMehr unter: https://kalenderwoche.info/1666/kw-49
URL:https://kalenderwoche.info/1666/kw-49
CATEGORIES:Kalenderwoche
TRANSP:TRANSPARENT
END:VEVENT
BEGIN:VEVENT
UID:kw-1666-50@kalenderwoche.info
DTSTAMP:20260421T122720Z
DTSTART;VALUE=DATE:16661213
DTEND;VALUE=DATE:16661220
SUMMARY:KW 50 (gerade)
DESCRIPTION:Kalenderwoche 50 im Jahr 1666\nMontag: 13.12.1666\nSonntag: 19.12.1666\nTyp: gerade Woche\nMehr unter: https://kalenderwoche.info/1666/kw-50
URL:https://kalenderwoche.info/1666/kw-50
CATEGORIES:Kalenderwoche
TRANSP:TRANSPARENT
END:VEVENT
BEGIN:VEVENT
UID:kw-1666-51@kalenderwoche.info
DTSTAMP:20260421T122720Z
DTSTART;VALUE=DATE:16661220
DTEND;VALUE=DATE:16661227
SUMMARY:KW 51 (ungerade)
DESCRIPTION:Kalenderwoche 51 im Jahr 1666\nMontag: 20.12.1666\nSonntag: 26.12.1666\nTyp: ungerade Woche\nMehr unter: https://kalenderwoche.info/1666/kw-51
URL:https://kalenderwoche.info/1666/kw-51
CATEGORIES:Kalenderwoche
TRANSP:TRANSPARENT
END:VEVENT
BEGIN:VEVENT
UID:kw-1666-52@kalenderwoche.info
DTSTAMP:20260421T122720Z
DTSTART;VALUE=DATE:16661227
DTEND;VALUE=DATE:16670103
SUMMARY:KW 52 (gerade)
DESCRIPTION:Kalenderwoche 52 im Jahr 1666\nMontag: 27.12.1666\nSonntag: 02.01.1667\nTyp: gerade Woche\nMehr unter: https://kalenderwoche.info/1666/kw-52
URL:https://kalenderwoche.info/1666/kw-52
CATEGORIES:Kalenderwoche
TRANSP:TRANSPARENT
END:VEVENT
END:VCALENDAR
