BEGIN:VCALENDAR
VERSION:2.0
PRODID:-//kalenderwoche.info//Kalender//DE
CALSCALE:GREGORIAN
METHOD:PUBLISH
X-WR-CALNAME:Kalenderwochen 1668
X-WR-CALDESC:Alle Kalenderwochen für das Jahr 1668
X-WR-TIMEZONE:Europe/Berlin
BEGIN:VEVENT
UID:kw-1668-1@kalenderwoche.info
DTSTAMP:20260421T095900Z
DTSTART;VALUE=DATE:16680102
DTEND;VALUE=DATE:16680109
SUMMARY:KW 1 (ungerade)
DESCRIPTION:Kalenderwoche 1 im Jahr 1668\nMontag: 02.01.1668\nSonntag: 08.01.1668\nTyp: ungerade Woche\nMehr unter: https://kalenderwoche.info/1668/kw-1
URL:https://kalenderwoche.info/1668/kw-1
CATEGORIES:Kalenderwoche
TRANSP:TRANSPARENT
END:VEVENT
BEGIN:VEVENT
UID:kw-1668-2@kalenderwoche.info
DTSTAMP:20260421T095900Z
DTSTART;VALUE=DATE:16680109
DTEND;VALUE=DATE:16680116
SUMMARY:KW 2 (gerade)
DESCRIPTION:Kalenderwoche 2 im Jahr 1668\nMontag: 09.01.1668\nSonntag: 15.01.1668\nTyp: gerade Woche\nMehr unter: https://kalenderwoche.info/1668/kw-2
URL:https://kalenderwoche.info/1668/kw-2
CATEGORIES:Kalenderwoche
TRANSP:TRANSPARENT
END:VEVENT
BEGIN:VEVENT
UID:kw-1668-3@kalenderwoche.info
DTSTAMP:20260421T095900Z
DTSTART;VALUE=DATE:16680116
DTEND;VALUE=DATE:16680123
SUMMARY:KW 3 (ungerade)
DESCRIPTION:Kalenderwoche 3 im Jahr 1668\nMontag: 16.01.1668\nSonntag: 22.01.1668\nTyp: ungerade Woche\nMehr unter: https://kalenderwoche.info/1668/kw-3
URL:https://kalenderwoche.info/1668/kw-3
CATEGORIES:Kalenderwoche
TRANSP:TRANSPARENT
END:VEVENT
BEGIN:VEVENT
UID:kw-1668-4@kalenderwoche.info
DTSTAMP:20260421T095900Z
DTSTART;VALUE=DATE:16680123
DTEND;VALUE=DATE:16680130
SUMMARY:KW 4 (gerade)
DESCRIPTION:Kalenderwoche 4 im Jahr 1668\nMontag: 23.01.1668\nSonntag: 29.01.1668\nTyp: gerade Woche\nMehr unter: https://kalenderwoche.info/1668/kw-4
URL:https://kalenderwoche.info/1668/kw-4
CATEGORIES:Kalenderwoche
TRANSP:TRANSPARENT
END:VEVENT
BEGIN:VEVENT
UID:kw-1668-5@kalenderwoche.info
DTSTAMP:20260421T095900Z
DTSTART;VALUE=DATE:16680130
DTEND;VALUE=DATE:16680206
SUMMARY:KW 5 (ungerade)
DESCRIPTION:Kalenderwoche 5 im Jahr 1668\nMontag: 30.01.1668\nSonntag: 05.02.1668\nTyp: ungerade Woche\nMehr unter: https://kalenderwoche.info/1668/kw-5
URL:https://kalenderwoche.info/1668/kw-5
CATEGORIES:Kalenderwoche
TRANSP:TRANSPARENT
END:VEVENT
BEGIN:VEVENT
UID:kw-1668-6@kalenderwoche.info
DTSTAMP:20260421T095900Z
DTSTART;VALUE=DATE:16680206
DTEND;VALUE=DATE:16680213
SUMMARY:KW 6 (gerade)
DESCRIPTION:Kalenderwoche 6 im Jahr 1668\nMontag: 06.02.1668\nSonntag: 12.02.1668\nTyp: gerade Woche\nMehr unter: https://kalenderwoche.info/1668/kw-6
URL:https://kalenderwoche.info/1668/kw-6
CATEGORIES:Kalenderwoche
TRANSP:TRANSPARENT
END:VEVENT
BEGIN:VEVENT
UID:kw-1668-7@kalenderwoche.info
DTSTAMP:20260421T095900Z
DTSTART;VALUE=DATE:16680213
DTEND;VALUE=DATE:16680220
SUMMARY:KW 7 (ungerade)
DESCRIPTION:Kalenderwoche 7 im Jahr 1668\nMontag: 13.02.1668\nSonntag: 19.02.1668\nTyp: ungerade Woche\nMehr unter: https://kalenderwoche.info/1668/kw-7
URL:https://kalenderwoche.info/1668/kw-7
CATEGORIES:Kalenderwoche
TRANSP:TRANSPARENT
END:VEVENT
BEGIN:VEVENT
UID:kw-1668-8@kalenderwoche.info
DTSTAMP:20260421T095900Z
DTSTART;VALUE=DATE:16680220
DTEND;VALUE=DATE:16680227
SUMMARY:KW 8 (gerade)
DESCRIPTION:Kalenderwoche 8 im Jahr 1668\nMontag: 20.02.1668\nSonntag: 26.02.1668\nTyp: gerade Woche\nMehr unter: https://kalenderwoche.info/1668/kw-8
URL:https://kalenderwoche.info/1668/kw-8
CATEGORIES:Kalenderwoche
TRANSP:TRANSPARENT
END:VEVENT
BEGIN:VEVENT
UID:kw-1668-9@kalenderwoche.info
DTSTAMP:20260421T095900Z
DTSTART;VALUE=DATE:16680227
DTEND;VALUE=DATE:16680305
SUMMARY:KW 9 (ungerade)
DESCRIPTION:Kalenderwoche 9 im Jahr 1668\nMontag: 27.02.1668\nSonntag: 04.03.1668\nTyp: ungerade Woche\nMehr unter: https://kalenderwoche.info/1668/kw-9
URL:https://kalenderwoche.info/1668/kw-9
CATEGORIES:Kalenderwoche
TRANSP:TRANSPARENT
END:VEVENT
BEGIN:VEVENT
UID:kw-1668-10@kalenderwoche.info
DTSTAMP:20260421T095900Z
DTSTART;VALUE=DATE:16680305
DTEND;VALUE=DATE:16680312
SUMMARY:KW 10 (gerade)
DESCRIPTION:Kalenderwoche 10 im Jahr 1668\nMontag: 05.03.1668\nSonntag: 11.03.1668\nTyp: gerade Woche\nMehr unter: https://kalenderwoche.info/1668/kw-10
URL:https://kalenderwoche.info/1668/kw-10
CATEGORIES:Kalenderwoche
TRANSP:TRANSPARENT
END:VEVENT
BEGIN:VEVENT
UID:kw-1668-11@kalenderwoche.info
DTSTAMP:20260421T095900Z
DTSTART;VALUE=DATE:16680312
DTEND;VALUE=DATE:16680319
SUMMARY:KW 11 (ungerade)
DESCRIPTION:Kalenderwoche 11 im Jahr 1668\nMontag: 12.03.1668\nSonntag: 18.03.1668\nTyp: ungerade Woche\nMehr unter: https://kalenderwoche.info/1668/kw-11
URL:https://kalenderwoche.info/1668/kw-11
CATEGORIES:Kalenderwoche
TRANSP:TRANSPARENT
END:VEVENT
BEGIN:VEVENT
UID:kw-1668-12@kalenderwoche.info
DTSTAMP:20260421T095900Z
DTSTART;VALUE=DATE:16680319
DTEND;VALUE=DATE:16680326
SUMMARY:KW 12 (gerade)
DESCRIPTION:Kalenderwoche 12 im Jahr 1668\nMontag: 19.03.1668\nSonntag: 25.03.1668\nTyp: gerade Woche\nMehr unter: https://kalenderwoche.info/1668/kw-12
URL:https://kalenderwoche.info/1668/kw-12
CATEGORIES:Kalenderwoche
TRANSP:TRANSPARENT
END:VEVENT
BEGIN:VEVENT
UID:kw-1668-13@kalenderwoche.info
DTSTAMP:20260421T095900Z
DTSTART;VALUE=DATE:16680326
DTEND;VALUE=DATE:16680402
SUMMARY:KW 13 (ungerade)
DESCRIPTION:Kalenderwoche 13 im Jahr 1668\nMontag: 26.03.1668\nSonntag: 01.04.1668\nTyp: ungerade Woche\nMehr unter: https://kalenderwoche.info/1668/kw-13
URL:https://kalenderwoche.info/1668/kw-13
CATEGORIES:Kalenderwoche
TRANSP:TRANSPARENT
END:VEVENT
BEGIN:VEVENT
UID:kw-1668-14@kalenderwoche.info
DTSTAMP:20260421T095900Z
DTSTART;VALUE=DATE:16680402
DTEND;VALUE=DATE:16680409
SUMMARY:KW 14 (gerade)
DESCRIPTION:Kalenderwoche 14 im Jahr 1668\nMontag: 02.04.1668\nSonntag: 08.04.1668\nTyp: gerade Woche\nMehr unter: https://kalenderwoche.info/1668/kw-14
URL:https://kalenderwoche.info/1668/kw-14
CATEGORIES:Kalenderwoche
TRANSP:TRANSPARENT
END:VEVENT
BEGIN:VEVENT
UID:kw-1668-15@kalenderwoche.info
DTSTAMP:20260421T095900Z
DTSTART;VALUE=DATE:16680409
DTEND;VALUE=DATE:16680416
SUMMARY:KW 15 (ungerade)
DESCRIPTION:Kalenderwoche 15 im Jahr 1668\nMontag: 09.04.1668\nSonntag: 15.04.1668\nTyp: ungerade Woche\nMehr unter: https://kalenderwoche.info/1668/kw-15
URL:https://kalenderwoche.info/1668/kw-15
CATEGORIES:Kalenderwoche
TRANSP:TRANSPARENT
END:VEVENT
BEGIN:VEVENT
UID:kw-1668-16@kalenderwoche.info
DTSTAMP:20260421T095900Z
DTSTART;VALUE=DATE:16680416
DTEND;VALUE=DATE:16680423
SUMMARY:KW 16 (gerade)
DESCRIPTION:Kalenderwoche 16 im Jahr 1668\nMontag: 16.04.1668\nSonntag: 22.04.1668\nTyp: gerade Woche\nMehr unter: https://kalenderwoche.info/1668/kw-16
URL:https://kalenderwoche.info/1668/kw-16
CATEGORIES:Kalenderwoche
TRANSP:TRANSPARENT
END:VEVENT
BEGIN:VEVENT
UID:kw-1668-17@kalenderwoche.info
DTSTAMP:20260421T095900Z
DTSTART;VALUE=DATE:16680423
DTEND;VALUE=DATE:16680430
SUMMARY:KW 17 (ungerade)
DESCRIPTION:Kalenderwoche 17 im Jahr 1668\nMontag: 23.04.1668\nSonntag: 29.04.1668\nTyp: ungerade Woche\nMehr unter: https://kalenderwoche.info/1668/kw-17
URL:https://kalenderwoche.info/1668/kw-17
CATEGORIES:Kalenderwoche
TRANSP:TRANSPARENT
END:VEVENT
BEGIN:VEVENT
UID:kw-1668-18@kalenderwoche.info
DTSTAMP:20260421T095900Z
DTSTART;VALUE=DATE:16680430
DTEND;VALUE=DATE:16680507
SUMMARY:KW 18 (gerade)
DESCRIPTION:Kalenderwoche 18 im Jahr 1668\nMontag: 30.04.1668\nSonntag: 06.05.1668\nTyp: gerade Woche\nMehr unter: https://kalenderwoche.info/1668/kw-18
URL:https://kalenderwoche.info/1668/kw-18
CATEGORIES:Kalenderwoche
TRANSP:TRANSPARENT
END:VEVENT
BEGIN:VEVENT
UID:kw-1668-19@kalenderwoche.info
DTSTAMP:20260421T095900Z
DTSTART;VALUE=DATE:16680507
DTEND;VALUE=DATE:16680514
SUMMARY:KW 19 (ungerade)
DESCRIPTION:Kalenderwoche 19 im Jahr 1668\nMontag: 07.05.1668\nSonntag: 13.05.1668\nTyp: ungerade Woche\nMehr unter: https://kalenderwoche.info/1668/kw-19
URL:https://kalenderwoche.info/1668/kw-19
CATEGORIES:Kalenderwoche
TRANSP:TRANSPARENT
END:VEVENT
BEGIN:VEVENT
UID:kw-1668-20@kalenderwoche.info
DTSTAMP:20260421T095900Z
DTSTART;VALUE=DATE:16680514
DTEND;VALUE=DATE:16680521
SUMMARY:KW 20 (gerade)
DESCRIPTION:Kalenderwoche 20 im Jahr 1668\nMontag: 14.05.1668\nSonntag: 20.05.1668\nTyp: gerade Woche\nMehr unter: https://kalenderwoche.info/1668/kw-20
URL:https://kalenderwoche.info/1668/kw-20
CATEGORIES:Kalenderwoche
TRANSP:TRANSPARENT
END:VEVENT
BEGIN:VEVENT
UID:kw-1668-21@kalenderwoche.info
DTSTAMP:20260421T095900Z
DTSTART;VALUE=DATE:16680521
DTEND;VALUE=DATE:16680528
SUMMARY:KW 21 (ungerade)
DESCRIPTION:Kalenderwoche 21 im Jahr 1668\nMontag: 21.05.1668\nSonntag: 27.05.1668\nTyp: ungerade Woche\nMehr unter: https://kalenderwoche.info/1668/kw-21
URL:https://kalenderwoche.info/1668/kw-21
CATEGORIES:Kalenderwoche
TRANSP:TRANSPARENT
END:VEVENT
BEGIN:VEVENT
UID:kw-1668-22@kalenderwoche.info
DTSTAMP:20260421T095900Z
DTSTART;VALUE=DATE:16680528
DTEND;VALUE=DATE:16680604
SUMMARY:KW 22 (gerade)
DESCRIPTION:Kalenderwoche 22 im Jahr 1668\nMontag: 28.05.1668\nSonntag: 03.06.1668\nTyp: gerade Woche\nMehr unter: https://kalenderwoche.info/1668/kw-22
URL:https://kalenderwoche.info/1668/kw-22
CATEGORIES:Kalenderwoche
TRANSP:TRANSPARENT
END:VEVENT
BEGIN:VEVENT
UID:kw-1668-23@kalenderwoche.info
DTSTAMP:20260421T095900Z
DTSTART;VALUE=DATE:16680604
DTEND;VALUE=DATE:16680611
SUMMARY:KW 23 (ungerade)
DESCRIPTION:Kalenderwoche 23 im Jahr 1668\nMontag: 04.06.1668\nSonntag: 10.06.1668\nTyp: ungerade Woche\nMehr unter: https://kalenderwoche.info/1668/kw-23
URL:https://kalenderwoche.info/1668/kw-23
CATEGORIES:Kalenderwoche
TRANSP:TRANSPARENT
END:VEVENT
BEGIN:VEVENT
UID:kw-1668-24@kalenderwoche.info
DTSTAMP:20260421T095900Z
DTSTART;VALUE=DATE:16680611
DTEND;VALUE=DATE:16680618
SUMMARY:KW 24 (gerade)
DESCRIPTION:Kalenderwoche 24 im Jahr 1668\nMontag: 11.06.1668\nSonntag: 17.06.1668\nTyp: gerade Woche\nMehr unter: https://kalenderwoche.info/1668/kw-24
URL:https://kalenderwoche.info/1668/kw-24
CATEGORIES:Kalenderwoche
TRANSP:TRANSPARENT
END:VEVENT
BEGIN:VEVENT
UID:kw-1668-25@kalenderwoche.info
DTSTAMP:20260421T095900Z
DTSTART;VALUE=DATE:16680618
DTEND;VALUE=DATE:16680625
SUMMARY:KW 25 (ungerade)
DESCRIPTION:Kalenderwoche 25 im Jahr 1668\nMontag: 18.06.1668\nSonntag: 24.06.1668\nTyp: ungerade Woche\nMehr unter: https://kalenderwoche.info/1668/kw-25
URL:https://kalenderwoche.info/1668/kw-25
CATEGORIES:Kalenderwoche
TRANSP:TRANSPARENT
END:VEVENT
BEGIN:VEVENT
UID:kw-1668-26@kalenderwoche.info
DTSTAMP:20260421T095900Z
DTSTART;VALUE=DATE:16680625
DTEND;VALUE=DATE:16680702
SUMMARY:KW 26 (gerade)
DESCRIPTION:Kalenderwoche 26 im Jahr 1668\nMontag: 25.06.1668\nSonntag: 01.07.1668\nTyp: gerade Woche\nMehr unter: https://kalenderwoche.info/1668/kw-26
URL:https://kalenderwoche.info/1668/kw-26
CATEGORIES:Kalenderwoche
TRANSP:TRANSPARENT
END:VEVENT
BEGIN:VEVENT
UID:kw-1668-27@kalenderwoche.info
DTSTAMP:20260421T095900Z
DTSTART;VALUE=DATE:16680702
DTEND;VALUE=DATE:16680709
SUMMARY:KW 27 (ungerade)
DESCRIPTION:Kalenderwoche 27 im Jahr 1668\nMontag: 02.07.1668\nSonntag: 08.07.1668\nTyp: ungerade Woche\nMehr unter: https://kalenderwoche.info/1668/kw-27
URL:https://kalenderwoche.info/1668/kw-27
CATEGORIES:Kalenderwoche
TRANSP:TRANSPARENT
END:VEVENT
BEGIN:VEVENT
UID:kw-1668-28@kalenderwoche.info
DTSTAMP:20260421T095900Z
DTSTART;VALUE=DATE:16680709
DTEND;VALUE=DATE:16680716
SUMMARY:KW 28 (gerade)
DESCRIPTION:Kalenderwoche 28 im Jahr 1668\nMontag: 09.07.1668\nSonntag: 15.07.1668\nTyp: gerade Woche\nMehr unter: https://kalenderwoche.info/1668/kw-28
URL:https://kalenderwoche.info/1668/kw-28
CATEGORIES:Kalenderwoche
TRANSP:TRANSPARENT
END:VEVENT
BEGIN:VEVENT
UID:kw-1668-29@kalenderwoche.info
DTSTAMP:20260421T095900Z
DTSTART;VALUE=DATE:16680716
DTEND;VALUE=DATE:16680723
SUMMARY:KW 29 (ungerade)
DESCRIPTION:Kalenderwoche 29 im Jahr 1668\nMontag: 16.07.1668\nSonntag: 22.07.1668\nTyp: ungerade Woche\nMehr unter: https://kalenderwoche.info/1668/kw-29
URL:https://kalenderwoche.info/1668/kw-29
CATEGORIES:Kalenderwoche
TRANSP:TRANSPARENT
END:VEVENT
BEGIN:VEVENT
UID:kw-1668-30@kalenderwoche.info
DTSTAMP:20260421T095900Z
DTSTART;VALUE=DATE:16680723
DTEND;VALUE=DATE:16680730
SUMMARY:KW 30 (gerade)
DESCRIPTION:Kalenderwoche 30 im Jahr 1668\nMontag: 23.07.1668\nSonntag: 29.07.1668\nTyp: gerade Woche\nMehr unter: https://kalenderwoche.info/1668/kw-30
URL:https://kalenderwoche.info/1668/kw-30
CATEGORIES:Kalenderwoche
TRANSP:TRANSPARENT
END:VEVENT
BEGIN:VEVENT
UID:kw-1668-31@kalenderwoche.info
DTSTAMP:20260421T095900Z
DTSTART;VALUE=DATE:16680730
DTEND;VALUE=DATE:16680806
SUMMARY:KW 31 (ungerade)
DESCRIPTION:Kalenderwoche 31 im Jahr 1668\nMontag: 30.07.1668\nSonntag: 05.08.1668\nTyp: ungerade Woche\nMehr unter: https://kalenderwoche.info/1668/kw-31
URL:https://kalenderwoche.info/1668/kw-31
CATEGORIES:Kalenderwoche
TRANSP:TRANSPARENT
END:VEVENT
BEGIN:VEVENT
UID:kw-1668-32@kalenderwoche.info
DTSTAMP:20260421T095900Z
DTSTART;VALUE=DATE:16680806
DTEND;VALUE=DATE:16680813
SUMMARY:KW 32 (gerade)
DESCRIPTION:Kalenderwoche 32 im Jahr 1668\nMontag: 06.08.1668\nSonntag: 12.08.1668\nTyp: gerade Woche\nMehr unter: https://kalenderwoche.info/1668/kw-32
URL:https://kalenderwoche.info/1668/kw-32
CATEGORIES:Kalenderwoche
TRANSP:TRANSPARENT
END:VEVENT
BEGIN:VEVENT
UID:kw-1668-33@kalenderwoche.info
DTSTAMP:20260421T095900Z
DTSTART;VALUE=DATE:16680813
DTEND;VALUE=DATE:16680820
SUMMARY:KW 33 (ungerade)
DESCRIPTION:Kalenderwoche 33 im Jahr 1668\nMontag: 13.08.1668\nSonntag: 19.08.1668\nTyp: ungerade Woche\nMehr unter: https://kalenderwoche.info/1668/kw-33
URL:https://kalenderwoche.info/1668/kw-33
CATEGORIES:Kalenderwoche
TRANSP:TRANSPARENT
END:VEVENT
BEGIN:VEVENT
UID:kw-1668-34@kalenderwoche.info
DTSTAMP:20260421T095900Z
DTSTART;VALUE=DATE:16680820
DTEND;VALUE=DATE:16680827
SUMMARY:KW 34 (gerade)
DESCRIPTION:Kalenderwoche 34 im Jahr 1668\nMontag: 20.08.1668\nSonntag: 26.08.1668\nTyp: gerade Woche\nMehr unter: https://kalenderwoche.info/1668/kw-34
URL:https://kalenderwoche.info/1668/kw-34
CATEGORIES:Kalenderwoche
TRANSP:TRANSPARENT
END:VEVENT
BEGIN:VEVENT
UID:kw-1668-35@kalenderwoche.info
DTSTAMP:20260421T095900Z
DTSTART;VALUE=DATE:16680827
DTEND;VALUE=DATE:16680903
SUMMARY:KW 35 (ungerade)
DESCRIPTION:Kalenderwoche 35 im Jahr 1668\nMontag: 27.08.1668\nSonntag: 02.09.1668\nTyp: ungerade Woche\nMehr unter: https://kalenderwoche.info/1668/kw-35
URL:https://kalenderwoche.info/1668/kw-35
CATEGORIES:Kalenderwoche
TRANSP:TRANSPARENT
END:VEVENT
BEGIN:VEVENT
UID:kw-1668-36@kalenderwoche.info
DTSTAMP:20260421T095900Z
DTSTART;VALUE=DATE:16680903
DTEND;VALUE=DATE:16680910
SUMMARY:KW 36 (gerade)
DESCRIPTION:Kalenderwoche 36 im Jahr 1668\nMontag: 03.09.1668\nSonntag: 09.09.1668\nTyp: gerade Woche\nMehr unter: https://kalenderwoche.info/1668/kw-36
URL:https://kalenderwoche.info/1668/kw-36
CATEGORIES:Kalenderwoche
TRANSP:TRANSPARENT
END:VEVENT
BEGIN:VEVENT
UID:kw-1668-37@kalenderwoche.info
DTSTAMP:20260421T095900Z
DTSTART;VALUE=DATE:16680910
DTEND;VALUE=DATE:16680917
SUMMARY:KW 37 (ungerade)
DESCRIPTION:Kalenderwoche 37 im Jahr 1668\nMontag: 10.09.1668\nSonntag: 16.09.1668\nTyp: ungerade Woche\nMehr unter: https://kalenderwoche.info/1668/kw-37
URL:https://kalenderwoche.info/1668/kw-37
CATEGORIES:Kalenderwoche
TRANSP:TRANSPARENT
END:VEVENT
BEGIN:VEVENT
UID:kw-1668-38@kalenderwoche.info
DTSTAMP:20260421T095900Z
DTSTART;VALUE=DATE:16680917
DTEND;VALUE=DATE:16680924
SUMMARY:KW 38 (gerade)
DESCRIPTION:Kalenderwoche 38 im Jahr 1668\nMontag: 17.09.1668\nSonntag: 23.09.1668\nTyp: gerade Woche\nMehr unter: https://kalenderwoche.info/1668/kw-38
URL:https://kalenderwoche.info/1668/kw-38
CATEGORIES:Kalenderwoche
TRANSP:TRANSPARENT
END:VEVENT
BEGIN:VEVENT
UID:kw-1668-39@kalenderwoche.info
DTSTAMP:20260421T095900Z
DTSTART;VALUE=DATE:16680924
DTEND;VALUE=DATE:16681001
SUMMARY:KW 39 (ungerade)
DESCRIPTION:Kalenderwoche 39 im Jahr 1668\nMontag: 24.09.1668\nSonntag: 30.09.1668\nTyp: ungerade Woche\nMehr unter: https://kalenderwoche.info/1668/kw-39
URL:https://kalenderwoche.info/1668/kw-39
CATEGORIES:Kalenderwoche
TRANSP:TRANSPARENT
END:VEVENT
BEGIN:VEVENT
UID:kw-1668-40@kalenderwoche.info
DTSTAMP:20260421T095900Z
DTSTART;VALUE=DATE:16681001
DTEND;VALUE=DATE:16681008
SUMMARY:KW 40 (gerade)
DESCRIPTION:Kalenderwoche 40 im Jahr 1668\nMontag: 01.10.1668\nSonntag: 07.10.1668\nTyp: gerade Woche\nMehr unter: https://kalenderwoche.info/1668/kw-40
URL:https://kalenderwoche.info/1668/kw-40
CATEGORIES:Kalenderwoche
TRANSP:TRANSPARENT
END:VEVENT
BEGIN:VEVENT
UID:kw-1668-41@kalenderwoche.info
DTSTAMP:20260421T095900Z
DTSTART;VALUE=DATE:16681008
DTEND;VALUE=DATE:16681015
SUMMARY:KW 41 (ungerade)
DESCRIPTION:Kalenderwoche 41 im Jahr 1668\nMontag: 08.10.1668\nSonntag: 14.10.1668\nTyp: ungerade Woche\nMehr unter: https://kalenderwoche.info/1668/kw-41
URL:https://kalenderwoche.info/1668/kw-41
CATEGORIES:Kalenderwoche
TRANSP:TRANSPARENT
END:VEVENT
BEGIN:VEVENT
UID:kw-1668-42@kalenderwoche.info
DTSTAMP:20260421T095900Z
DTSTART;VALUE=DATE:16681015
DTEND;VALUE=DATE:16681022
SUMMARY:KW 42 (gerade)
DESCRIPTION:Kalenderwoche 42 im Jahr 1668\nMontag: 15.10.1668\nSonntag: 21.10.1668\nTyp: gerade Woche\nMehr unter: https://kalenderwoche.info/1668/kw-42
URL:https://kalenderwoche.info/1668/kw-42
CATEGORIES:Kalenderwoche
TRANSP:TRANSPARENT
END:VEVENT
BEGIN:VEVENT
UID:kw-1668-43@kalenderwoche.info
DTSTAMP:20260421T095900Z
DTSTART;VALUE=DATE:16681022
DTEND;VALUE=DATE:16681029
SUMMARY:KW 43 (ungerade)
DESCRIPTION:Kalenderwoche 43 im Jahr 1668\nMontag: 22.10.1668\nSonntag: 28.10.1668\nTyp: ungerade Woche\nMehr unter: https://kalenderwoche.info/1668/kw-43
URL:https://kalenderwoche.info/1668/kw-43
CATEGORIES:Kalenderwoche
TRANSP:TRANSPARENT
END:VEVENT
BEGIN:VEVENT
UID:kw-1668-44@kalenderwoche.info
DTSTAMP:20260421T095900Z
DTSTART;VALUE=DATE:16681029
DTEND;VALUE=DATE:16681105
SUMMARY:KW 44 (gerade)
DESCRIPTION:Kalenderwoche 44 im Jahr 1668\nMontag: 29.10.1668\nSonntag: 04.11.1668\nTyp: gerade Woche\nMehr unter: https://kalenderwoche.info/1668/kw-44
URL:https://kalenderwoche.info/1668/kw-44
CATEGORIES:Kalenderwoche
TRANSP:TRANSPARENT
END:VEVENT
BEGIN:VEVENT
UID:kw-1668-45@kalenderwoche.info
DTSTAMP:20260421T095900Z
DTSTART;VALUE=DATE:16681105
DTEND;VALUE=DATE:16681112
SUMMARY:KW 45 (ungerade)
DESCRIPTION:Kalenderwoche 45 im Jahr 1668\nMontag: 05.11.1668\nSonntag: 11.11.1668\nTyp: ungerade Woche\nMehr unter: https://kalenderwoche.info/1668/kw-45
URL:https://kalenderwoche.info/1668/kw-45
CATEGORIES:Kalenderwoche
TRANSP:TRANSPARENT
END:VEVENT
BEGIN:VEVENT
UID:kw-1668-46@kalenderwoche.info
DTSTAMP:20260421T095900Z
DTSTART;VALUE=DATE:16681112
DTEND;VALUE=DATE:16681119
SUMMARY:KW 46 (gerade)
DESCRIPTION:Kalenderwoche 46 im Jahr 1668\nMontag: 12.11.1668\nSonntag: 18.11.1668\nTyp: gerade Woche\nMehr unter: https://kalenderwoche.info/1668/kw-46
URL:https://kalenderwoche.info/1668/kw-46
CATEGORIES:Kalenderwoche
TRANSP:TRANSPARENT
END:VEVENT
BEGIN:VEVENT
UID:kw-1668-47@kalenderwoche.info
DTSTAMP:20260421T095900Z
DTSTART;VALUE=DATE:16681119
DTEND;VALUE=DATE:16681126
SUMMARY:KW 47 (ungerade)
DESCRIPTION:Kalenderwoche 47 im Jahr 1668\nMontag: 19.11.1668\nSonntag: 25.11.1668\nTyp: ungerade Woche\nMehr unter: https://kalenderwoche.info/1668/kw-47
URL:https://kalenderwoche.info/1668/kw-47
CATEGORIES:Kalenderwoche
TRANSP:TRANSPARENT
END:VEVENT
BEGIN:VEVENT
UID:kw-1668-48@kalenderwoche.info
DTSTAMP:20260421T095900Z
DTSTART;VALUE=DATE:16681126
DTEND;VALUE=DATE:16681203
SUMMARY:KW 48 (gerade)
DESCRIPTION:Kalenderwoche 48 im Jahr 1668\nMontag: 26.11.1668\nSonntag: 02.12.1668\nTyp: gerade Woche\nMehr unter: https://kalenderwoche.info/1668/kw-48
URL:https://kalenderwoche.info/1668/kw-48
CATEGORIES:Kalenderwoche
TRANSP:TRANSPARENT
END:VEVENT
BEGIN:VEVENT
UID:kw-1668-49@kalenderwoche.info
DTSTAMP:20260421T095900Z
DTSTART;VALUE=DATE:16681203
DTEND;VALUE=DATE:16681210
SUMMARY:KW 49 (ungerade)
DESCRIPTION:Kalenderwoche 49 im Jahr 1668\nMontag: 03.12.1668\nSonntag: 09.12.1668\nTyp: ungerade Woche\nMehr unter: https://kalenderwoche.info/1668/kw-49
URL:https://kalenderwoche.info/1668/kw-49
CATEGORIES:Kalenderwoche
TRANSP:TRANSPARENT
END:VEVENT
BEGIN:VEVENT
UID:kw-1668-50@kalenderwoche.info
DTSTAMP:20260421T095900Z
DTSTART;VALUE=DATE:16681210
DTEND;VALUE=DATE:16681217
SUMMARY:KW 50 (gerade)
DESCRIPTION:Kalenderwoche 50 im Jahr 1668\nMontag: 10.12.1668\nSonntag: 16.12.1668\nTyp: gerade Woche\nMehr unter: https://kalenderwoche.info/1668/kw-50
URL:https://kalenderwoche.info/1668/kw-50
CATEGORIES:Kalenderwoche
TRANSP:TRANSPARENT
END:VEVENT
BEGIN:VEVENT
UID:kw-1668-51@kalenderwoche.info
DTSTAMP:20260421T095900Z
DTSTART;VALUE=DATE:16681217
DTEND;VALUE=DATE:16681224
SUMMARY:KW 51 (ungerade)
DESCRIPTION:Kalenderwoche 51 im Jahr 1668\nMontag: 17.12.1668\nSonntag: 23.12.1668\nTyp: ungerade Woche\nMehr unter: https://kalenderwoche.info/1668/kw-51
URL:https://kalenderwoche.info/1668/kw-51
CATEGORIES:Kalenderwoche
TRANSP:TRANSPARENT
END:VEVENT
BEGIN:VEVENT
UID:kw-1668-52@kalenderwoche.info
DTSTAMP:20260421T095900Z
DTSTART;VALUE=DATE:16681224
DTEND;VALUE=DATE:16681231
SUMMARY:KW 52 (gerade)
DESCRIPTION:Kalenderwoche 52 im Jahr 1668\nMontag: 24.12.1668\nSonntag: 30.12.1668\nTyp: gerade Woche\nMehr unter: https://kalenderwoche.info/1668/kw-52
URL:https://kalenderwoche.info/1668/kw-52
CATEGORIES:Kalenderwoche
TRANSP:TRANSPARENT
END:VEVENT
END:VCALENDAR
