BEGIN:VCALENDAR
VERSION:2.0
PRODID:-//kalenderwoche.info//Kalender//DE
CALSCALE:GREGORIAN
METHOD:PUBLISH
X-WR-CALNAME:Kalenderwochen 2262
X-WR-CALDESC:Alle Kalenderwochen für das Jahr 2262
X-WR-TIMEZONE:Europe/Berlin
BEGIN:VEVENT
UID:kw-2262-1@kalenderwoche.info
DTSTAMP:20260421T095900Z
DTSTART;VALUE=DATE:22611230
DTEND;VALUE=DATE:22620106
SUMMARY:KW 1 (ungerade)
DESCRIPTION:Kalenderwoche 1 im Jahr 2262\nMontag: 30.12.2261\nSonntag: 05.01.2262\nTyp: ungerade Woche\nMehr unter: https://kalenderwoche.info/2262/kw-1
URL:https://kalenderwoche.info/2262/kw-1
CATEGORIES:Kalenderwoche
TRANSP:TRANSPARENT
END:VEVENT
BEGIN:VEVENT
UID:kw-2262-2@kalenderwoche.info
DTSTAMP:20260421T095900Z
DTSTART;VALUE=DATE:22620106
DTEND;VALUE=DATE:22620113
SUMMARY:KW 2 (gerade)
DESCRIPTION:Kalenderwoche 2 im Jahr 2262\nMontag: 06.01.2262\nSonntag: 12.01.2262\nTyp: gerade Woche\nMehr unter: https://kalenderwoche.info/2262/kw-2
URL:https://kalenderwoche.info/2262/kw-2
CATEGORIES:Kalenderwoche
TRANSP:TRANSPARENT
END:VEVENT
BEGIN:VEVENT
UID:kw-2262-3@kalenderwoche.info
DTSTAMP:20260421T095900Z
DTSTART;VALUE=DATE:22620113
DTEND;VALUE=DATE:22620120
SUMMARY:KW 3 (ungerade)
DESCRIPTION:Kalenderwoche 3 im Jahr 2262\nMontag: 13.01.2262\nSonntag: 19.01.2262\nTyp: ungerade Woche\nMehr unter: https://kalenderwoche.info/2262/kw-3
URL:https://kalenderwoche.info/2262/kw-3
CATEGORIES:Kalenderwoche
TRANSP:TRANSPARENT
END:VEVENT
BEGIN:VEVENT
UID:kw-2262-4@kalenderwoche.info
DTSTAMP:20260421T095900Z
DTSTART;VALUE=DATE:22620120
DTEND;VALUE=DATE:22620127
SUMMARY:KW 4 (gerade)
DESCRIPTION:Kalenderwoche 4 im Jahr 2262\nMontag: 20.01.2262\nSonntag: 26.01.2262\nTyp: gerade Woche\nMehr unter: https://kalenderwoche.info/2262/kw-4
URL:https://kalenderwoche.info/2262/kw-4
CATEGORIES:Kalenderwoche
TRANSP:TRANSPARENT
END:VEVENT
BEGIN:VEVENT
UID:kw-2262-5@kalenderwoche.info
DTSTAMP:20260421T095900Z
DTSTART;VALUE=DATE:22620127
DTEND;VALUE=DATE:22620203
SUMMARY:KW 5 (ungerade)
DESCRIPTION:Kalenderwoche 5 im Jahr 2262\nMontag: 27.01.2262\nSonntag: 02.02.2262\nTyp: ungerade Woche\nMehr unter: https://kalenderwoche.info/2262/kw-5
URL:https://kalenderwoche.info/2262/kw-5
CATEGORIES:Kalenderwoche
TRANSP:TRANSPARENT
END:VEVENT
BEGIN:VEVENT
UID:kw-2262-6@kalenderwoche.info
DTSTAMP:20260421T095900Z
DTSTART;VALUE=DATE:22620203
DTEND;VALUE=DATE:22620210
SUMMARY:KW 6 (gerade)
DESCRIPTION:Kalenderwoche 6 im Jahr 2262\nMontag: 03.02.2262\nSonntag: 09.02.2262\nTyp: gerade Woche\nMehr unter: https://kalenderwoche.info/2262/kw-6
URL:https://kalenderwoche.info/2262/kw-6
CATEGORIES:Kalenderwoche
TRANSP:TRANSPARENT
END:VEVENT
BEGIN:VEVENT
UID:kw-2262-7@kalenderwoche.info
DTSTAMP:20260421T095900Z
DTSTART;VALUE=DATE:22620210
DTEND;VALUE=DATE:22620217
SUMMARY:KW 7 (ungerade)
DESCRIPTION:Kalenderwoche 7 im Jahr 2262\nMontag: 10.02.2262\nSonntag: 16.02.2262\nTyp: ungerade Woche\nMehr unter: https://kalenderwoche.info/2262/kw-7
URL:https://kalenderwoche.info/2262/kw-7
CATEGORIES:Kalenderwoche
TRANSP:TRANSPARENT
END:VEVENT
BEGIN:VEVENT
UID:kw-2262-8@kalenderwoche.info
DTSTAMP:20260421T095900Z
DTSTART;VALUE=DATE:22620217
DTEND;VALUE=DATE:22620224
SUMMARY:KW 8 (gerade)
DESCRIPTION:Kalenderwoche 8 im Jahr 2262\nMontag: 17.02.2262\nSonntag: 23.02.2262\nTyp: gerade Woche\nMehr unter: https://kalenderwoche.info/2262/kw-8
URL:https://kalenderwoche.info/2262/kw-8
CATEGORIES:Kalenderwoche
TRANSP:TRANSPARENT
END:VEVENT
BEGIN:VEVENT
UID:kw-2262-9@kalenderwoche.info
DTSTAMP:20260421T095900Z
DTSTART;VALUE=DATE:22620224
DTEND;VALUE=DATE:22620303
SUMMARY:KW 9 (ungerade)
DESCRIPTION:Kalenderwoche 9 im Jahr 2262\nMontag: 24.02.2262\nSonntag: 02.03.2262\nTyp: ungerade Woche\nMehr unter: https://kalenderwoche.info/2262/kw-9
URL:https://kalenderwoche.info/2262/kw-9
CATEGORIES:Kalenderwoche
TRANSP:TRANSPARENT
END:VEVENT
BEGIN:VEVENT
UID:kw-2262-10@kalenderwoche.info
DTSTAMP:20260421T095900Z
DTSTART;VALUE=DATE:22620303
DTEND;VALUE=DATE:22620310
SUMMARY:KW 10 (gerade)
DESCRIPTION:Kalenderwoche 10 im Jahr 2262\nMontag: 03.03.2262\nSonntag: 09.03.2262\nTyp: gerade Woche\nMehr unter: https://kalenderwoche.info/2262/kw-10
URL:https://kalenderwoche.info/2262/kw-10
CATEGORIES:Kalenderwoche
TRANSP:TRANSPARENT
END:VEVENT
BEGIN:VEVENT
UID:kw-2262-11@kalenderwoche.info
DTSTAMP:20260421T095900Z
DTSTART;VALUE=DATE:22620310
DTEND;VALUE=DATE:22620317
SUMMARY:KW 11 (ungerade)
DESCRIPTION:Kalenderwoche 11 im Jahr 2262\nMontag: 10.03.2262\nSonntag: 16.03.2262\nTyp: ungerade Woche\nMehr unter: https://kalenderwoche.info/2262/kw-11
URL:https://kalenderwoche.info/2262/kw-11
CATEGORIES:Kalenderwoche
TRANSP:TRANSPARENT
END:VEVENT
BEGIN:VEVENT
UID:kw-2262-12@kalenderwoche.info
DTSTAMP:20260421T095900Z
DTSTART;VALUE=DATE:22620317
DTEND;VALUE=DATE:22620324
SUMMARY:KW 12 (gerade)
DESCRIPTION:Kalenderwoche 12 im Jahr 2262\nMontag: 17.03.2262\nSonntag: 23.03.2262\nTyp: gerade Woche\nMehr unter: https://kalenderwoche.info/2262/kw-12
URL:https://kalenderwoche.info/2262/kw-12
CATEGORIES:Kalenderwoche
TRANSP:TRANSPARENT
END:VEVENT
BEGIN:VEVENT
UID:kw-2262-13@kalenderwoche.info
DTSTAMP:20260421T095900Z
DTSTART;VALUE=DATE:22620324
DTEND;VALUE=DATE:22620331
SUMMARY:KW 13 (ungerade)
DESCRIPTION:Kalenderwoche 13 im Jahr 2262\nMontag: 24.03.2262\nSonntag: 30.03.2262\nTyp: ungerade Woche\nMehr unter: https://kalenderwoche.info/2262/kw-13
URL:https://kalenderwoche.info/2262/kw-13
CATEGORIES:Kalenderwoche
TRANSP:TRANSPARENT
END:VEVENT
BEGIN:VEVENT
UID:kw-2262-14@kalenderwoche.info
DTSTAMP:20260421T095900Z
DTSTART;VALUE=DATE:22620331
DTEND;VALUE=DATE:22620407
SUMMARY:KW 14 (gerade)
DESCRIPTION:Kalenderwoche 14 im Jahr 2262\nMontag: 31.03.2262\nSonntag: 06.04.2262\nTyp: gerade Woche\nMehr unter: https://kalenderwoche.info/2262/kw-14
URL:https://kalenderwoche.info/2262/kw-14
CATEGORIES:Kalenderwoche
TRANSP:TRANSPARENT
END:VEVENT
BEGIN:VEVENT
UID:kw-2262-15@kalenderwoche.info
DTSTAMP:20260421T095900Z
DTSTART;VALUE=DATE:22620407
DTEND;VALUE=DATE:22620414
SUMMARY:KW 15 (ungerade)
DESCRIPTION:Kalenderwoche 15 im Jahr 2262\nMontag: 07.04.2262\nSonntag: 13.04.2262\nTyp: ungerade Woche\nMehr unter: https://kalenderwoche.info/2262/kw-15
URL:https://kalenderwoche.info/2262/kw-15
CATEGORIES:Kalenderwoche
TRANSP:TRANSPARENT
END:VEVENT
BEGIN:VEVENT
UID:kw-2262-16@kalenderwoche.info
DTSTAMP:20260421T095900Z
DTSTART;VALUE=DATE:22620414
DTEND;VALUE=DATE:22620421
SUMMARY:KW 16 (gerade)
DESCRIPTION:Kalenderwoche 16 im Jahr 2262\nMontag: 14.04.2262\nSonntag: 20.04.2262\nTyp: gerade Woche\nMehr unter: https://kalenderwoche.info/2262/kw-16
URL:https://kalenderwoche.info/2262/kw-16
CATEGORIES:Kalenderwoche
TRANSP:TRANSPARENT
END:VEVENT
BEGIN:VEVENT
UID:kw-2262-17@kalenderwoche.info
DTSTAMP:20260421T095900Z
DTSTART;VALUE=DATE:22620421
DTEND;VALUE=DATE:22620428
SUMMARY:KW 17 (ungerade)
DESCRIPTION:Kalenderwoche 17 im Jahr 2262\nMontag: 21.04.2262\nSonntag: 27.04.2262\nTyp: ungerade Woche\nMehr unter: https://kalenderwoche.info/2262/kw-17
URL:https://kalenderwoche.info/2262/kw-17
CATEGORIES:Kalenderwoche
TRANSP:TRANSPARENT
END:VEVENT
BEGIN:VEVENT
UID:kw-2262-18@kalenderwoche.info
DTSTAMP:20260421T095900Z
DTSTART;VALUE=DATE:22620428
DTEND;VALUE=DATE:22620505
SUMMARY:KW 18 (gerade)
DESCRIPTION:Kalenderwoche 18 im Jahr 2262\nMontag: 28.04.2262\nSonntag: 04.05.2262\nTyp: gerade Woche\nMehr unter: https://kalenderwoche.info/2262/kw-18
URL:https://kalenderwoche.info/2262/kw-18
CATEGORIES:Kalenderwoche
TRANSP:TRANSPARENT
END:VEVENT
BEGIN:VEVENT
UID:kw-2262-19@kalenderwoche.info
DTSTAMP:20260421T095900Z
DTSTART;VALUE=DATE:22620505
DTEND;VALUE=DATE:22620512
SUMMARY:KW 19 (ungerade)
DESCRIPTION:Kalenderwoche 19 im Jahr 2262\nMontag: 05.05.2262\nSonntag: 11.05.2262\nTyp: ungerade Woche\nMehr unter: https://kalenderwoche.info/2262/kw-19
URL:https://kalenderwoche.info/2262/kw-19
CATEGORIES:Kalenderwoche
TRANSP:TRANSPARENT
END:VEVENT
BEGIN:VEVENT
UID:kw-2262-20@kalenderwoche.info
DTSTAMP:20260421T095900Z
DTSTART;VALUE=DATE:22620512
DTEND;VALUE=DATE:22620519
SUMMARY:KW 20 (gerade)
DESCRIPTION:Kalenderwoche 20 im Jahr 2262\nMontag: 12.05.2262\nSonntag: 18.05.2262\nTyp: gerade Woche\nMehr unter: https://kalenderwoche.info/2262/kw-20
URL:https://kalenderwoche.info/2262/kw-20
CATEGORIES:Kalenderwoche
TRANSP:TRANSPARENT
END:VEVENT
BEGIN:VEVENT
UID:kw-2262-21@kalenderwoche.info
DTSTAMP:20260421T095900Z
DTSTART;VALUE=DATE:22620519
DTEND;VALUE=DATE:22620526
SUMMARY:KW 21 (ungerade)
DESCRIPTION:Kalenderwoche 21 im Jahr 2262\nMontag: 19.05.2262\nSonntag: 25.05.2262\nTyp: ungerade Woche\nMehr unter: https://kalenderwoche.info/2262/kw-21
URL:https://kalenderwoche.info/2262/kw-21
CATEGORIES:Kalenderwoche
TRANSP:TRANSPARENT
END:VEVENT
BEGIN:VEVENT
UID:kw-2262-22@kalenderwoche.info
DTSTAMP:20260421T095900Z
DTSTART;VALUE=DATE:22620526
DTEND;VALUE=DATE:22620602
SUMMARY:KW 22 (gerade)
DESCRIPTION:Kalenderwoche 22 im Jahr 2262\nMontag: 26.05.2262\nSonntag: 01.06.2262\nTyp: gerade Woche\nMehr unter: https://kalenderwoche.info/2262/kw-22
URL:https://kalenderwoche.info/2262/kw-22
CATEGORIES:Kalenderwoche
TRANSP:TRANSPARENT
END:VEVENT
BEGIN:VEVENT
UID:kw-2262-23@kalenderwoche.info
DTSTAMP:20260421T095900Z
DTSTART;VALUE=DATE:22620602
DTEND;VALUE=DATE:22620609
SUMMARY:KW 23 (ungerade)
DESCRIPTION:Kalenderwoche 23 im Jahr 2262\nMontag: 02.06.2262\nSonntag: 08.06.2262\nTyp: ungerade Woche\nMehr unter: https://kalenderwoche.info/2262/kw-23
URL:https://kalenderwoche.info/2262/kw-23
CATEGORIES:Kalenderwoche
TRANSP:TRANSPARENT
END:VEVENT
BEGIN:VEVENT
UID:kw-2262-24@kalenderwoche.info
DTSTAMP:20260421T095900Z
DTSTART;VALUE=DATE:22620609
DTEND;VALUE=DATE:22620616
SUMMARY:KW 24 (gerade)
DESCRIPTION:Kalenderwoche 24 im Jahr 2262\nMontag: 09.06.2262\nSonntag: 15.06.2262\nTyp: gerade Woche\nMehr unter: https://kalenderwoche.info/2262/kw-24
URL:https://kalenderwoche.info/2262/kw-24
CATEGORIES:Kalenderwoche
TRANSP:TRANSPARENT
END:VEVENT
BEGIN:VEVENT
UID:kw-2262-25@kalenderwoche.info
DTSTAMP:20260421T095900Z
DTSTART;VALUE=DATE:22620616
DTEND;VALUE=DATE:22620623
SUMMARY:KW 25 (ungerade)
DESCRIPTION:Kalenderwoche 25 im Jahr 2262\nMontag: 16.06.2262\nSonntag: 22.06.2262\nTyp: ungerade Woche\nMehr unter: https://kalenderwoche.info/2262/kw-25
URL:https://kalenderwoche.info/2262/kw-25
CATEGORIES:Kalenderwoche
TRANSP:TRANSPARENT
END:VEVENT
BEGIN:VEVENT
UID:kw-2262-26@kalenderwoche.info
DTSTAMP:20260421T095900Z
DTSTART;VALUE=DATE:22620623
DTEND;VALUE=DATE:22620630
SUMMARY:KW 26 (gerade)
DESCRIPTION:Kalenderwoche 26 im Jahr 2262\nMontag: 23.06.2262\nSonntag: 29.06.2262\nTyp: gerade Woche\nMehr unter: https://kalenderwoche.info/2262/kw-26
URL:https://kalenderwoche.info/2262/kw-26
CATEGORIES:Kalenderwoche
TRANSP:TRANSPARENT
END:VEVENT
BEGIN:VEVENT
UID:kw-2262-27@kalenderwoche.info
DTSTAMP:20260421T095900Z
DTSTART;VALUE=DATE:22620630
DTEND;VALUE=DATE:22620707
SUMMARY:KW 27 (ungerade)
DESCRIPTION:Kalenderwoche 27 im Jahr 2262\nMontag: 30.06.2262\nSonntag: 06.07.2262\nTyp: ungerade Woche\nMehr unter: https://kalenderwoche.info/2262/kw-27
URL:https://kalenderwoche.info/2262/kw-27
CATEGORIES:Kalenderwoche
TRANSP:TRANSPARENT
END:VEVENT
BEGIN:VEVENT
UID:kw-2262-28@kalenderwoche.info
DTSTAMP:20260421T095900Z
DTSTART;VALUE=DATE:22620707
DTEND;VALUE=DATE:22620714
SUMMARY:KW 28 (gerade)
DESCRIPTION:Kalenderwoche 28 im Jahr 2262\nMontag: 07.07.2262\nSonntag: 13.07.2262\nTyp: gerade Woche\nMehr unter: https://kalenderwoche.info/2262/kw-28
URL:https://kalenderwoche.info/2262/kw-28
CATEGORIES:Kalenderwoche
TRANSP:TRANSPARENT
END:VEVENT
BEGIN:VEVENT
UID:kw-2262-29@kalenderwoche.info
DTSTAMP:20260421T095900Z
DTSTART;VALUE=DATE:22620714
DTEND;VALUE=DATE:22620721
SUMMARY:KW 29 (ungerade)
DESCRIPTION:Kalenderwoche 29 im Jahr 2262\nMontag: 14.07.2262\nSonntag: 20.07.2262\nTyp: ungerade Woche\nMehr unter: https://kalenderwoche.info/2262/kw-29
URL:https://kalenderwoche.info/2262/kw-29
CATEGORIES:Kalenderwoche
TRANSP:TRANSPARENT
END:VEVENT
BEGIN:VEVENT
UID:kw-2262-30@kalenderwoche.info
DTSTAMP:20260421T095900Z
DTSTART;VALUE=DATE:22620721
DTEND;VALUE=DATE:22620728
SUMMARY:KW 30 (gerade)
DESCRIPTION:Kalenderwoche 30 im Jahr 2262\nMontag: 21.07.2262\nSonntag: 27.07.2262\nTyp: gerade Woche\nMehr unter: https://kalenderwoche.info/2262/kw-30
URL:https://kalenderwoche.info/2262/kw-30
CATEGORIES:Kalenderwoche
TRANSP:TRANSPARENT
END:VEVENT
BEGIN:VEVENT
UID:kw-2262-31@kalenderwoche.info
DTSTAMP:20260421T095900Z
DTSTART;VALUE=DATE:22620728
DTEND;VALUE=DATE:22620804
SUMMARY:KW 31 (ungerade)
DESCRIPTION:Kalenderwoche 31 im Jahr 2262\nMontag: 28.07.2262\nSonntag: 03.08.2262\nTyp: ungerade Woche\nMehr unter: https://kalenderwoche.info/2262/kw-31
URL:https://kalenderwoche.info/2262/kw-31
CATEGORIES:Kalenderwoche
TRANSP:TRANSPARENT
END:VEVENT
BEGIN:VEVENT
UID:kw-2262-32@kalenderwoche.info
DTSTAMP:20260421T095900Z
DTSTART;VALUE=DATE:22620804
DTEND;VALUE=DATE:22620811
SUMMARY:KW 32 (gerade)
DESCRIPTION:Kalenderwoche 32 im Jahr 2262\nMontag: 04.08.2262\nSonntag: 10.08.2262\nTyp: gerade Woche\nMehr unter: https://kalenderwoche.info/2262/kw-32
URL:https://kalenderwoche.info/2262/kw-32
CATEGORIES:Kalenderwoche
TRANSP:TRANSPARENT
END:VEVENT
BEGIN:VEVENT
UID:kw-2262-33@kalenderwoche.info
DTSTAMP:20260421T095900Z
DTSTART;VALUE=DATE:22620811
DTEND;VALUE=DATE:22620818
SUMMARY:KW 33 (ungerade)
DESCRIPTION:Kalenderwoche 33 im Jahr 2262\nMontag: 11.08.2262\nSonntag: 17.08.2262\nTyp: ungerade Woche\nMehr unter: https://kalenderwoche.info/2262/kw-33
URL:https://kalenderwoche.info/2262/kw-33
CATEGORIES:Kalenderwoche
TRANSP:TRANSPARENT
END:VEVENT
BEGIN:VEVENT
UID:kw-2262-34@kalenderwoche.info
DTSTAMP:20260421T095900Z
DTSTART;VALUE=DATE:22620818
DTEND;VALUE=DATE:22620825
SUMMARY:KW 34 (gerade)
DESCRIPTION:Kalenderwoche 34 im Jahr 2262\nMontag: 18.08.2262\nSonntag: 24.08.2262\nTyp: gerade Woche\nMehr unter: https://kalenderwoche.info/2262/kw-34
URL:https://kalenderwoche.info/2262/kw-34
CATEGORIES:Kalenderwoche
TRANSP:TRANSPARENT
END:VEVENT
BEGIN:VEVENT
UID:kw-2262-35@kalenderwoche.info
DTSTAMP:20260421T095900Z
DTSTART;VALUE=DATE:22620825
DTEND;VALUE=DATE:22620901
SUMMARY:KW 35 (ungerade)
DESCRIPTION:Kalenderwoche 35 im Jahr 2262\nMontag: 25.08.2262\nSonntag: 31.08.2262\nTyp: ungerade Woche\nMehr unter: https://kalenderwoche.info/2262/kw-35
URL:https://kalenderwoche.info/2262/kw-35
CATEGORIES:Kalenderwoche
TRANSP:TRANSPARENT
END:VEVENT
BEGIN:VEVENT
UID:kw-2262-36@kalenderwoche.info
DTSTAMP:20260421T095900Z
DTSTART;VALUE=DATE:22620901
DTEND;VALUE=DATE:22620908
SUMMARY:KW 36 (gerade)
DESCRIPTION:Kalenderwoche 36 im Jahr 2262\nMontag: 01.09.2262\nSonntag: 07.09.2262\nTyp: gerade Woche\nMehr unter: https://kalenderwoche.info/2262/kw-36
URL:https://kalenderwoche.info/2262/kw-36
CATEGORIES:Kalenderwoche
TRANSP:TRANSPARENT
END:VEVENT
BEGIN:VEVENT
UID:kw-2262-37@kalenderwoche.info
DTSTAMP:20260421T095900Z
DTSTART;VALUE=DATE:22620908
DTEND;VALUE=DATE:22620915
SUMMARY:KW 37 (ungerade)
DESCRIPTION:Kalenderwoche 37 im Jahr 2262\nMontag: 08.09.2262\nSonntag: 14.09.2262\nTyp: ungerade Woche\nMehr unter: https://kalenderwoche.info/2262/kw-37
URL:https://kalenderwoche.info/2262/kw-37
CATEGORIES:Kalenderwoche
TRANSP:TRANSPARENT
END:VEVENT
BEGIN:VEVENT
UID:kw-2262-38@kalenderwoche.info
DTSTAMP:20260421T095900Z
DTSTART;VALUE=DATE:22620915
DTEND;VALUE=DATE:22620922
SUMMARY:KW 38 (gerade)
DESCRIPTION:Kalenderwoche 38 im Jahr 2262\nMontag: 15.09.2262\nSonntag: 21.09.2262\nTyp: gerade Woche\nMehr unter: https://kalenderwoche.info/2262/kw-38
URL:https://kalenderwoche.info/2262/kw-38
CATEGORIES:Kalenderwoche
TRANSP:TRANSPARENT
END:VEVENT
BEGIN:VEVENT
UID:kw-2262-39@kalenderwoche.info
DTSTAMP:20260421T095900Z
DTSTART;VALUE=DATE:22620922
DTEND;VALUE=DATE:22620929
SUMMARY:KW 39 (ungerade)
DESCRIPTION:Kalenderwoche 39 im Jahr 2262\nMontag: 22.09.2262\nSonntag: 28.09.2262\nTyp: ungerade Woche\nMehr unter: https://kalenderwoche.info/2262/kw-39
URL:https://kalenderwoche.info/2262/kw-39
CATEGORIES:Kalenderwoche
TRANSP:TRANSPARENT
END:VEVENT
BEGIN:VEVENT
UID:kw-2262-40@kalenderwoche.info
DTSTAMP:20260421T095900Z
DTSTART;VALUE=DATE:22620929
DTEND;VALUE=DATE:22621006
SUMMARY:KW 40 (gerade)
DESCRIPTION:Kalenderwoche 40 im Jahr 2262\nMontag: 29.09.2262\nSonntag: 05.10.2262\nTyp: gerade Woche\nMehr unter: https://kalenderwoche.info/2262/kw-40
URL:https://kalenderwoche.info/2262/kw-40
CATEGORIES:Kalenderwoche
TRANSP:TRANSPARENT
END:VEVENT
BEGIN:VEVENT
UID:kw-2262-41@kalenderwoche.info
DTSTAMP:20260421T095900Z
DTSTART;VALUE=DATE:22621006
DTEND;VALUE=DATE:22621013
SUMMARY:KW 41 (ungerade)
DESCRIPTION:Kalenderwoche 41 im Jahr 2262\nMontag: 06.10.2262\nSonntag: 12.10.2262\nTyp: ungerade Woche\nMehr unter: https://kalenderwoche.info/2262/kw-41
URL:https://kalenderwoche.info/2262/kw-41
CATEGORIES:Kalenderwoche
TRANSP:TRANSPARENT
END:VEVENT
BEGIN:VEVENT
UID:kw-2262-42@kalenderwoche.info
DTSTAMP:20260421T095900Z
DTSTART;VALUE=DATE:22621013
DTEND;VALUE=DATE:22621020
SUMMARY:KW 42 (gerade)
DESCRIPTION:Kalenderwoche 42 im Jahr 2262\nMontag: 13.10.2262\nSonntag: 19.10.2262\nTyp: gerade Woche\nMehr unter: https://kalenderwoche.info/2262/kw-42
URL:https://kalenderwoche.info/2262/kw-42
CATEGORIES:Kalenderwoche
TRANSP:TRANSPARENT
END:VEVENT
BEGIN:VEVENT
UID:kw-2262-43@kalenderwoche.info
DTSTAMP:20260421T095900Z
DTSTART;VALUE=DATE:22621020
DTEND;VALUE=DATE:22621027
SUMMARY:KW 43 (ungerade)
DESCRIPTION:Kalenderwoche 43 im Jahr 2262\nMontag: 20.10.2262\nSonntag: 26.10.2262\nTyp: ungerade Woche\nMehr unter: https://kalenderwoche.info/2262/kw-43
URL:https://kalenderwoche.info/2262/kw-43
CATEGORIES:Kalenderwoche
TRANSP:TRANSPARENT
END:VEVENT
BEGIN:VEVENT
UID:kw-2262-44@kalenderwoche.info
DTSTAMP:20260421T095900Z
DTSTART;VALUE=DATE:22621027
DTEND;VALUE=DATE:22621103
SUMMARY:KW 44 (gerade)
DESCRIPTION:Kalenderwoche 44 im Jahr 2262\nMontag: 27.10.2262\nSonntag: 02.11.2262\nTyp: gerade Woche\nMehr unter: https://kalenderwoche.info/2262/kw-44
URL:https://kalenderwoche.info/2262/kw-44
CATEGORIES:Kalenderwoche
TRANSP:TRANSPARENT
END:VEVENT
BEGIN:VEVENT
UID:kw-2262-45@kalenderwoche.info
DTSTAMP:20260421T095900Z
DTSTART;VALUE=DATE:22621103
DTEND;VALUE=DATE:22621110
SUMMARY:KW 45 (ungerade)
DESCRIPTION:Kalenderwoche 45 im Jahr 2262\nMontag: 03.11.2262\nSonntag: 09.11.2262\nTyp: ungerade Woche\nMehr unter: https://kalenderwoche.info/2262/kw-45
URL:https://kalenderwoche.info/2262/kw-45
CATEGORIES:Kalenderwoche
TRANSP:TRANSPARENT
END:VEVENT
BEGIN:VEVENT
UID:kw-2262-46@kalenderwoche.info
DTSTAMP:20260421T095900Z
DTSTART;VALUE=DATE:22621110
DTEND;VALUE=DATE:22621117
SUMMARY:KW 46 (gerade)
DESCRIPTION:Kalenderwoche 46 im Jahr 2262\nMontag: 10.11.2262\nSonntag: 16.11.2262\nTyp: gerade Woche\nMehr unter: https://kalenderwoche.info/2262/kw-46
URL:https://kalenderwoche.info/2262/kw-46
CATEGORIES:Kalenderwoche
TRANSP:TRANSPARENT
END:VEVENT
BEGIN:VEVENT
UID:kw-2262-47@kalenderwoche.info
DTSTAMP:20260421T095900Z
DTSTART;VALUE=DATE:22621117
DTEND;VALUE=DATE:22621124
SUMMARY:KW 47 (ungerade)
DESCRIPTION:Kalenderwoche 47 im Jahr 2262\nMontag: 17.11.2262\nSonntag: 23.11.2262\nTyp: ungerade Woche\nMehr unter: https://kalenderwoche.info/2262/kw-47
URL:https://kalenderwoche.info/2262/kw-47
CATEGORIES:Kalenderwoche
TRANSP:TRANSPARENT
END:VEVENT
BEGIN:VEVENT
UID:kw-2262-48@kalenderwoche.info
DTSTAMP:20260421T095900Z
DTSTART;VALUE=DATE:22621124
DTEND;VALUE=DATE:22621201
SUMMARY:KW 48 (gerade)
DESCRIPTION:Kalenderwoche 48 im Jahr 2262\nMontag: 24.11.2262\nSonntag: 30.11.2262\nTyp: gerade Woche\nMehr unter: https://kalenderwoche.info/2262/kw-48
URL:https://kalenderwoche.info/2262/kw-48
CATEGORIES:Kalenderwoche
TRANSP:TRANSPARENT
END:VEVENT
BEGIN:VEVENT
UID:kw-2262-49@kalenderwoche.info
DTSTAMP:20260421T095900Z
DTSTART;VALUE=DATE:22621201
DTEND;VALUE=DATE:22621208
SUMMARY:KW 49 (ungerade)
DESCRIPTION:Kalenderwoche 49 im Jahr 2262\nMontag: 01.12.2262\nSonntag: 07.12.2262\nTyp: ungerade Woche\nMehr unter: https://kalenderwoche.info/2262/kw-49
URL:https://kalenderwoche.info/2262/kw-49
CATEGORIES:Kalenderwoche
TRANSP:TRANSPARENT
END:VEVENT
BEGIN:VEVENT
UID:kw-2262-50@kalenderwoche.info
DTSTAMP:20260421T095900Z
DTSTART;VALUE=DATE:22621208
DTEND;VALUE=DATE:22621215
SUMMARY:KW 50 (gerade)
DESCRIPTION:Kalenderwoche 50 im Jahr 2262\nMontag: 08.12.2262\nSonntag: 14.12.2262\nTyp: gerade Woche\nMehr unter: https://kalenderwoche.info/2262/kw-50
URL:https://kalenderwoche.info/2262/kw-50
CATEGORIES:Kalenderwoche
TRANSP:TRANSPARENT
END:VEVENT
BEGIN:VEVENT
UID:kw-2262-51@kalenderwoche.info
DTSTAMP:20260421T095900Z
DTSTART;VALUE=DATE:22621215
DTEND;VALUE=DATE:22621222
SUMMARY:KW 51 (ungerade)
DESCRIPTION:Kalenderwoche 51 im Jahr 2262\nMontag: 15.12.2262\nSonntag: 21.12.2262\nTyp: ungerade Woche\nMehr unter: https://kalenderwoche.info/2262/kw-51
URL:https://kalenderwoche.info/2262/kw-51
CATEGORIES:Kalenderwoche
TRANSP:TRANSPARENT
END:VEVENT
BEGIN:VEVENT
UID:kw-2262-52@kalenderwoche.info
DTSTAMP:20260421T095900Z
DTSTART;VALUE=DATE:22621222
DTEND;VALUE=DATE:22621229
SUMMARY:KW 52 (gerade)
DESCRIPTION:Kalenderwoche 52 im Jahr 2262\nMontag: 22.12.2262\nSonntag: 28.12.2262\nTyp: gerade Woche\nMehr unter: https://kalenderwoche.info/2262/kw-52
URL:https://kalenderwoche.info/2262/kw-52
CATEGORIES:Kalenderwoche
TRANSP:TRANSPARENT
END:VEVENT
END:VCALENDAR
