BEGIN:VCALENDAR
VERSION:2.0
PRODID:-//kalenderwoche.info//Kalender//DE
CALSCALE:GREGORIAN
METHOD:PUBLISH
X-WR-CALNAME:Kalenderwochen 2269
X-WR-CALDESC:Alle Kalenderwochen für das Jahr 2269
X-WR-TIMEZONE:Europe/Berlin
BEGIN:VEVENT
UID:kw-2269-1@kalenderwoche.info
DTSTAMP:20260421T184741Z
DTSTART;VALUE=DATE:22690104
DTEND;VALUE=DATE:22690111
SUMMARY:KW 1 (ungerade)
DESCRIPTION:Kalenderwoche 1 im Jahr 2269\nMontag: 04.01.2269\nSonntag: 10.01.2269\nTyp: ungerade Woche\nMehr unter: https://kalenderwoche.info/2269/kw-1
URL:https://kalenderwoche.info/2269/kw-1
CATEGORIES:Kalenderwoche
TRANSP:TRANSPARENT
END:VEVENT
BEGIN:VEVENT
UID:kw-2269-2@kalenderwoche.info
DTSTAMP:20260421T184741Z
DTSTART;VALUE=DATE:22690111
DTEND;VALUE=DATE:22690118
SUMMARY:KW 2 (gerade)
DESCRIPTION:Kalenderwoche 2 im Jahr 2269\nMontag: 11.01.2269\nSonntag: 17.01.2269\nTyp: gerade Woche\nMehr unter: https://kalenderwoche.info/2269/kw-2
URL:https://kalenderwoche.info/2269/kw-2
CATEGORIES:Kalenderwoche
TRANSP:TRANSPARENT
END:VEVENT
BEGIN:VEVENT
UID:kw-2269-3@kalenderwoche.info
DTSTAMP:20260421T184741Z
DTSTART;VALUE=DATE:22690118
DTEND;VALUE=DATE:22690125
SUMMARY:KW 3 (ungerade)
DESCRIPTION:Kalenderwoche 3 im Jahr 2269\nMontag: 18.01.2269\nSonntag: 24.01.2269\nTyp: ungerade Woche\nMehr unter: https://kalenderwoche.info/2269/kw-3
URL:https://kalenderwoche.info/2269/kw-3
CATEGORIES:Kalenderwoche
TRANSP:TRANSPARENT
END:VEVENT
BEGIN:VEVENT
UID:kw-2269-4@kalenderwoche.info
DTSTAMP:20260421T184741Z
DTSTART;VALUE=DATE:22690125
DTEND;VALUE=DATE:22690201
SUMMARY:KW 4 (gerade)
DESCRIPTION:Kalenderwoche 4 im Jahr 2269\nMontag: 25.01.2269\nSonntag: 31.01.2269\nTyp: gerade Woche\nMehr unter: https://kalenderwoche.info/2269/kw-4
URL:https://kalenderwoche.info/2269/kw-4
CATEGORIES:Kalenderwoche
TRANSP:TRANSPARENT
END:VEVENT
BEGIN:VEVENT
UID:kw-2269-5@kalenderwoche.info
DTSTAMP:20260421T184741Z
DTSTART;VALUE=DATE:22690201
DTEND;VALUE=DATE:22690208
SUMMARY:KW 5 (ungerade)
DESCRIPTION:Kalenderwoche 5 im Jahr 2269\nMontag: 01.02.2269\nSonntag: 07.02.2269\nTyp: ungerade Woche\nMehr unter: https://kalenderwoche.info/2269/kw-5
URL:https://kalenderwoche.info/2269/kw-5
CATEGORIES:Kalenderwoche
TRANSP:TRANSPARENT
END:VEVENT
BEGIN:VEVENT
UID:kw-2269-6@kalenderwoche.info
DTSTAMP:20260421T184741Z
DTSTART;VALUE=DATE:22690208
DTEND;VALUE=DATE:22690215
SUMMARY:KW 6 (gerade)
DESCRIPTION:Kalenderwoche 6 im Jahr 2269\nMontag: 08.02.2269\nSonntag: 14.02.2269\nTyp: gerade Woche\nMehr unter: https://kalenderwoche.info/2269/kw-6
URL:https://kalenderwoche.info/2269/kw-6
CATEGORIES:Kalenderwoche
TRANSP:TRANSPARENT
END:VEVENT
BEGIN:VEVENT
UID:kw-2269-7@kalenderwoche.info
DTSTAMP:20260421T184741Z
DTSTART;VALUE=DATE:22690215
DTEND;VALUE=DATE:22690222
SUMMARY:KW 7 (ungerade)
DESCRIPTION:Kalenderwoche 7 im Jahr 2269\nMontag: 15.02.2269\nSonntag: 21.02.2269\nTyp: ungerade Woche\nMehr unter: https://kalenderwoche.info/2269/kw-7
URL:https://kalenderwoche.info/2269/kw-7
CATEGORIES:Kalenderwoche
TRANSP:TRANSPARENT
END:VEVENT
BEGIN:VEVENT
UID:kw-2269-8@kalenderwoche.info
DTSTAMP:20260421T184741Z
DTSTART;VALUE=DATE:22690222
DTEND;VALUE=DATE:22690301
SUMMARY:KW 8 (gerade)
DESCRIPTION:Kalenderwoche 8 im Jahr 2269\nMontag: 22.02.2269\nSonntag: 28.02.2269\nTyp: gerade Woche\nMehr unter: https://kalenderwoche.info/2269/kw-8
URL:https://kalenderwoche.info/2269/kw-8
CATEGORIES:Kalenderwoche
TRANSP:TRANSPARENT
END:VEVENT
BEGIN:VEVENT
UID:kw-2269-9@kalenderwoche.info
DTSTAMP:20260421T184741Z
DTSTART;VALUE=DATE:22690301
DTEND;VALUE=DATE:22690308
SUMMARY:KW 9 (ungerade)
DESCRIPTION:Kalenderwoche 9 im Jahr 2269\nMontag: 01.03.2269\nSonntag: 07.03.2269\nTyp: ungerade Woche\nMehr unter: https://kalenderwoche.info/2269/kw-9
URL:https://kalenderwoche.info/2269/kw-9
CATEGORIES:Kalenderwoche
TRANSP:TRANSPARENT
END:VEVENT
BEGIN:VEVENT
UID:kw-2269-10@kalenderwoche.info
DTSTAMP:20260421T184741Z
DTSTART;VALUE=DATE:22690308
DTEND;VALUE=DATE:22690315
SUMMARY:KW 10 (gerade)
DESCRIPTION:Kalenderwoche 10 im Jahr 2269\nMontag: 08.03.2269\nSonntag: 14.03.2269\nTyp: gerade Woche\nMehr unter: https://kalenderwoche.info/2269/kw-10
URL:https://kalenderwoche.info/2269/kw-10
CATEGORIES:Kalenderwoche
TRANSP:TRANSPARENT
END:VEVENT
BEGIN:VEVENT
UID:kw-2269-11@kalenderwoche.info
DTSTAMP:20260421T184741Z
DTSTART;VALUE=DATE:22690315
DTEND;VALUE=DATE:22690322
SUMMARY:KW 11 (ungerade)
DESCRIPTION:Kalenderwoche 11 im Jahr 2269\nMontag: 15.03.2269\nSonntag: 21.03.2269\nTyp: ungerade Woche\nMehr unter: https://kalenderwoche.info/2269/kw-11
URL:https://kalenderwoche.info/2269/kw-11
CATEGORIES:Kalenderwoche
TRANSP:TRANSPARENT
END:VEVENT
BEGIN:VEVENT
UID:kw-2269-12@kalenderwoche.info
DTSTAMP:20260421T184741Z
DTSTART;VALUE=DATE:22690322
DTEND;VALUE=DATE:22690329
SUMMARY:KW 12 (gerade)
DESCRIPTION:Kalenderwoche 12 im Jahr 2269\nMontag: 22.03.2269\nSonntag: 28.03.2269\nTyp: gerade Woche\nMehr unter: https://kalenderwoche.info/2269/kw-12
URL:https://kalenderwoche.info/2269/kw-12
CATEGORIES:Kalenderwoche
TRANSP:TRANSPARENT
END:VEVENT
BEGIN:VEVENT
UID:kw-2269-13@kalenderwoche.info
DTSTAMP:20260421T184741Z
DTSTART;VALUE=DATE:22690329
DTEND;VALUE=DATE:22690405
SUMMARY:KW 13 (ungerade)
DESCRIPTION:Kalenderwoche 13 im Jahr 2269\nMontag: 29.03.2269\nSonntag: 04.04.2269\nTyp: ungerade Woche\nMehr unter: https://kalenderwoche.info/2269/kw-13
URL:https://kalenderwoche.info/2269/kw-13
CATEGORIES:Kalenderwoche
TRANSP:TRANSPARENT
END:VEVENT
BEGIN:VEVENT
UID:kw-2269-14@kalenderwoche.info
DTSTAMP:20260421T184741Z
DTSTART;VALUE=DATE:22690405
DTEND;VALUE=DATE:22690412
SUMMARY:KW 14 (gerade)
DESCRIPTION:Kalenderwoche 14 im Jahr 2269\nMontag: 05.04.2269\nSonntag: 11.04.2269\nTyp: gerade Woche\nMehr unter: https://kalenderwoche.info/2269/kw-14
URL:https://kalenderwoche.info/2269/kw-14
CATEGORIES:Kalenderwoche
TRANSP:TRANSPARENT
END:VEVENT
BEGIN:VEVENT
UID:kw-2269-15@kalenderwoche.info
DTSTAMP:20260421T184741Z
DTSTART;VALUE=DATE:22690412
DTEND;VALUE=DATE:22690419
SUMMARY:KW 15 (ungerade)
DESCRIPTION:Kalenderwoche 15 im Jahr 2269\nMontag: 12.04.2269\nSonntag: 18.04.2269\nTyp: ungerade Woche\nMehr unter: https://kalenderwoche.info/2269/kw-15
URL:https://kalenderwoche.info/2269/kw-15
CATEGORIES:Kalenderwoche
TRANSP:TRANSPARENT
END:VEVENT
BEGIN:VEVENT
UID:kw-2269-16@kalenderwoche.info
DTSTAMP:20260421T184741Z
DTSTART;VALUE=DATE:22690419
DTEND;VALUE=DATE:22690426
SUMMARY:KW 16 (gerade)
DESCRIPTION:Kalenderwoche 16 im Jahr 2269\nMontag: 19.04.2269\nSonntag: 25.04.2269\nTyp: gerade Woche\nMehr unter: https://kalenderwoche.info/2269/kw-16
URL:https://kalenderwoche.info/2269/kw-16
CATEGORIES:Kalenderwoche
TRANSP:TRANSPARENT
END:VEVENT
BEGIN:VEVENT
UID:kw-2269-17@kalenderwoche.info
DTSTAMP:20260421T184741Z
DTSTART;VALUE=DATE:22690426
DTEND;VALUE=DATE:22690503
SUMMARY:KW 17 (ungerade)
DESCRIPTION:Kalenderwoche 17 im Jahr 2269\nMontag: 26.04.2269\nSonntag: 02.05.2269\nTyp: ungerade Woche\nMehr unter: https://kalenderwoche.info/2269/kw-17
URL:https://kalenderwoche.info/2269/kw-17
CATEGORIES:Kalenderwoche
TRANSP:TRANSPARENT
END:VEVENT
BEGIN:VEVENT
UID:kw-2269-18@kalenderwoche.info
DTSTAMP:20260421T184741Z
DTSTART;VALUE=DATE:22690503
DTEND;VALUE=DATE:22690510
SUMMARY:KW 18 (gerade)
DESCRIPTION:Kalenderwoche 18 im Jahr 2269\nMontag: 03.05.2269\nSonntag: 09.05.2269\nTyp: gerade Woche\nMehr unter: https://kalenderwoche.info/2269/kw-18
URL:https://kalenderwoche.info/2269/kw-18
CATEGORIES:Kalenderwoche
TRANSP:TRANSPARENT
END:VEVENT
BEGIN:VEVENT
UID:kw-2269-19@kalenderwoche.info
DTSTAMP:20260421T184741Z
DTSTART;VALUE=DATE:22690510
DTEND;VALUE=DATE:22690517
SUMMARY:KW 19 (ungerade)
DESCRIPTION:Kalenderwoche 19 im Jahr 2269\nMontag: 10.05.2269\nSonntag: 16.05.2269\nTyp: ungerade Woche\nMehr unter: https://kalenderwoche.info/2269/kw-19
URL:https://kalenderwoche.info/2269/kw-19
CATEGORIES:Kalenderwoche
TRANSP:TRANSPARENT
END:VEVENT
BEGIN:VEVENT
UID:kw-2269-20@kalenderwoche.info
DTSTAMP:20260421T184741Z
DTSTART;VALUE=DATE:22690517
DTEND;VALUE=DATE:22690524
SUMMARY:KW 20 (gerade)
DESCRIPTION:Kalenderwoche 20 im Jahr 2269\nMontag: 17.05.2269\nSonntag: 23.05.2269\nTyp: gerade Woche\nMehr unter: https://kalenderwoche.info/2269/kw-20
URL:https://kalenderwoche.info/2269/kw-20
CATEGORIES:Kalenderwoche
TRANSP:TRANSPARENT
END:VEVENT
BEGIN:VEVENT
UID:kw-2269-21@kalenderwoche.info
DTSTAMP:20260421T184741Z
DTSTART;VALUE=DATE:22690524
DTEND;VALUE=DATE:22690531
SUMMARY:KW 21 (ungerade)
DESCRIPTION:Kalenderwoche 21 im Jahr 2269\nMontag: 24.05.2269\nSonntag: 30.05.2269\nTyp: ungerade Woche\nMehr unter: https://kalenderwoche.info/2269/kw-21
URL:https://kalenderwoche.info/2269/kw-21
CATEGORIES:Kalenderwoche
TRANSP:TRANSPARENT
END:VEVENT
BEGIN:VEVENT
UID:kw-2269-22@kalenderwoche.info
DTSTAMP:20260421T184741Z
DTSTART;VALUE=DATE:22690531
DTEND;VALUE=DATE:22690607
SUMMARY:KW 22 (gerade)
DESCRIPTION:Kalenderwoche 22 im Jahr 2269\nMontag: 31.05.2269\nSonntag: 06.06.2269\nTyp: gerade Woche\nMehr unter: https://kalenderwoche.info/2269/kw-22
URL:https://kalenderwoche.info/2269/kw-22
CATEGORIES:Kalenderwoche
TRANSP:TRANSPARENT
END:VEVENT
BEGIN:VEVENT
UID:kw-2269-23@kalenderwoche.info
DTSTAMP:20260421T184741Z
DTSTART;VALUE=DATE:22690607
DTEND;VALUE=DATE:22690614
SUMMARY:KW 23 (ungerade)
DESCRIPTION:Kalenderwoche 23 im Jahr 2269\nMontag: 07.06.2269\nSonntag: 13.06.2269\nTyp: ungerade Woche\nMehr unter: https://kalenderwoche.info/2269/kw-23
URL:https://kalenderwoche.info/2269/kw-23
CATEGORIES:Kalenderwoche
TRANSP:TRANSPARENT
END:VEVENT
BEGIN:VEVENT
UID:kw-2269-24@kalenderwoche.info
DTSTAMP:20260421T184741Z
DTSTART;VALUE=DATE:22690614
DTEND;VALUE=DATE:22690621
SUMMARY:KW 24 (gerade)
DESCRIPTION:Kalenderwoche 24 im Jahr 2269\nMontag: 14.06.2269\nSonntag: 20.06.2269\nTyp: gerade Woche\nMehr unter: https://kalenderwoche.info/2269/kw-24
URL:https://kalenderwoche.info/2269/kw-24
CATEGORIES:Kalenderwoche
TRANSP:TRANSPARENT
END:VEVENT
BEGIN:VEVENT
UID:kw-2269-25@kalenderwoche.info
DTSTAMP:20260421T184741Z
DTSTART;VALUE=DATE:22690621
DTEND;VALUE=DATE:22690628
SUMMARY:KW 25 (ungerade)
DESCRIPTION:Kalenderwoche 25 im Jahr 2269\nMontag: 21.06.2269\nSonntag: 27.06.2269\nTyp: ungerade Woche\nMehr unter: https://kalenderwoche.info/2269/kw-25
URL:https://kalenderwoche.info/2269/kw-25
CATEGORIES:Kalenderwoche
TRANSP:TRANSPARENT
END:VEVENT
BEGIN:VEVENT
UID:kw-2269-26@kalenderwoche.info
DTSTAMP:20260421T184741Z
DTSTART;VALUE=DATE:22690628
DTEND;VALUE=DATE:22690705
SUMMARY:KW 26 (gerade)
DESCRIPTION:Kalenderwoche 26 im Jahr 2269\nMontag: 28.06.2269\nSonntag: 04.07.2269\nTyp: gerade Woche\nMehr unter: https://kalenderwoche.info/2269/kw-26
URL:https://kalenderwoche.info/2269/kw-26
CATEGORIES:Kalenderwoche
TRANSP:TRANSPARENT
END:VEVENT
BEGIN:VEVENT
UID:kw-2269-27@kalenderwoche.info
DTSTAMP:20260421T184741Z
DTSTART;VALUE=DATE:22690705
DTEND;VALUE=DATE:22690712
SUMMARY:KW 27 (ungerade)
DESCRIPTION:Kalenderwoche 27 im Jahr 2269\nMontag: 05.07.2269\nSonntag: 11.07.2269\nTyp: ungerade Woche\nMehr unter: https://kalenderwoche.info/2269/kw-27
URL:https://kalenderwoche.info/2269/kw-27
CATEGORIES:Kalenderwoche
TRANSP:TRANSPARENT
END:VEVENT
BEGIN:VEVENT
UID:kw-2269-28@kalenderwoche.info
DTSTAMP:20260421T184741Z
DTSTART;VALUE=DATE:22690712
DTEND;VALUE=DATE:22690719
SUMMARY:KW 28 (gerade)
DESCRIPTION:Kalenderwoche 28 im Jahr 2269\nMontag: 12.07.2269\nSonntag: 18.07.2269\nTyp: gerade Woche\nMehr unter: https://kalenderwoche.info/2269/kw-28
URL:https://kalenderwoche.info/2269/kw-28
CATEGORIES:Kalenderwoche
TRANSP:TRANSPARENT
END:VEVENT
BEGIN:VEVENT
UID:kw-2269-29@kalenderwoche.info
DTSTAMP:20260421T184741Z
DTSTART;VALUE=DATE:22690719
DTEND;VALUE=DATE:22690726
SUMMARY:KW 29 (ungerade)
DESCRIPTION:Kalenderwoche 29 im Jahr 2269\nMontag: 19.07.2269\nSonntag: 25.07.2269\nTyp: ungerade Woche\nMehr unter: https://kalenderwoche.info/2269/kw-29
URL:https://kalenderwoche.info/2269/kw-29
CATEGORIES:Kalenderwoche
TRANSP:TRANSPARENT
END:VEVENT
BEGIN:VEVENT
UID:kw-2269-30@kalenderwoche.info
DTSTAMP:20260421T184741Z
DTSTART;VALUE=DATE:22690726
DTEND;VALUE=DATE:22690802
SUMMARY:KW 30 (gerade)
DESCRIPTION:Kalenderwoche 30 im Jahr 2269\nMontag: 26.07.2269\nSonntag: 01.08.2269\nTyp: gerade Woche\nMehr unter: https://kalenderwoche.info/2269/kw-30
URL:https://kalenderwoche.info/2269/kw-30
CATEGORIES:Kalenderwoche
TRANSP:TRANSPARENT
END:VEVENT
BEGIN:VEVENT
UID:kw-2269-31@kalenderwoche.info
DTSTAMP:20260421T184741Z
DTSTART;VALUE=DATE:22690802
DTEND;VALUE=DATE:22690809
SUMMARY:KW 31 (ungerade)
DESCRIPTION:Kalenderwoche 31 im Jahr 2269\nMontag: 02.08.2269\nSonntag: 08.08.2269\nTyp: ungerade Woche\nMehr unter: https://kalenderwoche.info/2269/kw-31
URL:https://kalenderwoche.info/2269/kw-31
CATEGORIES:Kalenderwoche
TRANSP:TRANSPARENT
END:VEVENT
BEGIN:VEVENT
UID:kw-2269-32@kalenderwoche.info
DTSTAMP:20260421T184741Z
DTSTART;VALUE=DATE:22690809
DTEND;VALUE=DATE:22690816
SUMMARY:KW 32 (gerade)
DESCRIPTION:Kalenderwoche 32 im Jahr 2269\nMontag: 09.08.2269\nSonntag: 15.08.2269\nTyp: gerade Woche\nMehr unter: https://kalenderwoche.info/2269/kw-32
URL:https://kalenderwoche.info/2269/kw-32
CATEGORIES:Kalenderwoche
TRANSP:TRANSPARENT
END:VEVENT
BEGIN:VEVENT
UID:kw-2269-33@kalenderwoche.info
DTSTAMP:20260421T184741Z
DTSTART;VALUE=DATE:22690816
DTEND;VALUE=DATE:22690823
SUMMARY:KW 33 (ungerade)
DESCRIPTION:Kalenderwoche 33 im Jahr 2269\nMontag: 16.08.2269\nSonntag: 22.08.2269\nTyp: ungerade Woche\nMehr unter: https://kalenderwoche.info/2269/kw-33
URL:https://kalenderwoche.info/2269/kw-33
CATEGORIES:Kalenderwoche
TRANSP:TRANSPARENT
END:VEVENT
BEGIN:VEVENT
UID:kw-2269-34@kalenderwoche.info
DTSTAMP:20260421T184741Z
DTSTART;VALUE=DATE:22690823
DTEND;VALUE=DATE:22690830
SUMMARY:KW 34 (gerade)
DESCRIPTION:Kalenderwoche 34 im Jahr 2269\nMontag: 23.08.2269\nSonntag: 29.08.2269\nTyp: gerade Woche\nMehr unter: https://kalenderwoche.info/2269/kw-34
URL:https://kalenderwoche.info/2269/kw-34
CATEGORIES:Kalenderwoche
TRANSP:TRANSPARENT
END:VEVENT
BEGIN:VEVENT
UID:kw-2269-35@kalenderwoche.info
DTSTAMP:20260421T184741Z
DTSTART;VALUE=DATE:22690830
DTEND;VALUE=DATE:22690906
SUMMARY:KW 35 (ungerade)
DESCRIPTION:Kalenderwoche 35 im Jahr 2269\nMontag: 30.08.2269\nSonntag: 05.09.2269\nTyp: ungerade Woche\nMehr unter: https://kalenderwoche.info/2269/kw-35
URL:https://kalenderwoche.info/2269/kw-35
CATEGORIES:Kalenderwoche
TRANSP:TRANSPARENT
END:VEVENT
BEGIN:VEVENT
UID:kw-2269-36@kalenderwoche.info
DTSTAMP:20260421T184741Z
DTSTART;VALUE=DATE:22690906
DTEND;VALUE=DATE:22690913
SUMMARY:KW 36 (gerade)
DESCRIPTION:Kalenderwoche 36 im Jahr 2269\nMontag: 06.09.2269\nSonntag: 12.09.2269\nTyp: gerade Woche\nMehr unter: https://kalenderwoche.info/2269/kw-36
URL:https://kalenderwoche.info/2269/kw-36
CATEGORIES:Kalenderwoche
TRANSP:TRANSPARENT
END:VEVENT
BEGIN:VEVENT
UID:kw-2269-37@kalenderwoche.info
DTSTAMP:20260421T184741Z
DTSTART;VALUE=DATE:22690913
DTEND;VALUE=DATE:22690920
SUMMARY:KW 37 (ungerade)
DESCRIPTION:Kalenderwoche 37 im Jahr 2269\nMontag: 13.09.2269\nSonntag: 19.09.2269\nTyp: ungerade Woche\nMehr unter: https://kalenderwoche.info/2269/kw-37
URL:https://kalenderwoche.info/2269/kw-37
CATEGORIES:Kalenderwoche
TRANSP:TRANSPARENT
END:VEVENT
BEGIN:VEVENT
UID:kw-2269-38@kalenderwoche.info
DTSTAMP:20260421T184741Z
DTSTART;VALUE=DATE:22690920
DTEND;VALUE=DATE:22690927
SUMMARY:KW 38 (gerade)
DESCRIPTION:Kalenderwoche 38 im Jahr 2269\nMontag: 20.09.2269\nSonntag: 26.09.2269\nTyp: gerade Woche\nMehr unter: https://kalenderwoche.info/2269/kw-38
URL:https://kalenderwoche.info/2269/kw-38
CATEGORIES:Kalenderwoche
TRANSP:TRANSPARENT
END:VEVENT
BEGIN:VEVENT
UID:kw-2269-39@kalenderwoche.info
DTSTAMP:20260421T184741Z
DTSTART;VALUE=DATE:22690927
DTEND;VALUE=DATE:22691004
SUMMARY:KW 39 (ungerade)
DESCRIPTION:Kalenderwoche 39 im Jahr 2269\nMontag: 27.09.2269\nSonntag: 03.10.2269\nTyp: ungerade Woche\nMehr unter: https://kalenderwoche.info/2269/kw-39
URL:https://kalenderwoche.info/2269/kw-39
CATEGORIES:Kalenderwoche
TRANSP:TRANSPARENT
END:VEVENT
BEGIN:VEVENT
UID:kw-2269-40@kalenderwoche.info
DTSTAMP:20260421T184741Z
DTSTART;VALUE=DATE:22691004
DTEND;VALUE=DATE:22691011
SUMMARY:KW 40 (gerade)
DESCRIPTION:Kalenderwoche 40 im Jahr 2269\nMontag: 04.10.2269\nSonntag: 10.10.2269\nTyp: gerade Woche\nMehr unter: https://kalenderwoche.info/2269/kw-40
URL:https://kalenderwoche.info/2269/kw-40
CATEGORIES:Kalenderwoche
TRANSP:TRANSPARENT
END:VEVENT
BEGIN:VEVENT
UID:kw-2269-41@kalenderwoche.info
DTSTAMP:20260421T184741Z
DTSTART;VALUE=DATE:22691011
DTEND;VALUE=DATE:22691018
SUMMARY:KW 41 (ungerade)
DESCRIPTION:Kalenderwoche 41 im Jahr 2269\nMontag: 11.10.2269\nSonntag: 17.10.2269\nTyp: ungerade Woche\nMehr unter: https://kalenderwoche.info/2269/kw-41
URL:https://kalenderwoche.info/2269/kw-41
CATEGORIES:Kalenderwoche
TRANSP:TRANSPARENT
END:VEVENT
BEGIN:VEVENT
UID:kw-2269-42@kalenderwoche.info
DTSTAMP:20260421T184741Z
DTSTART;VALUE=DATE:22691018
DTEND;VALUE=DATE:22691025
SUMMARY:KW 42 (gerade)
DESCRIPTION:Kalenderwoche 42 im Jahr 2269\nMontag: 18.10.2269\nSonntag: 24.10.2269\nTyp: gerade Woche\nMehr unter: https://kalenderwoche.info/2269/kw-42
URL:https://kalenderwoche.info/2269/kw-42
CATEGORIES:Kalenderwoche
TRANSP:TRANSPARENT
END:VEVENT
BEGIN:VEVENT
UID:kw-2269-43@kalenderwoche.info
DTSTAMP:20260421T184741Z
DTSTART;VALUE=DATE:22691025
DTEND;VALUE=DATE:22691101
SUMMARY:KW 43 (ungerade)
DESCRIPTION:Kalenderwoche 43 im Jahr 2269\nMontag: 25.10.2269\nSonntag: 31.10.2269\nTyp: ungerade Woche\nMehr unter: https://kalenderwoche.info/2269/kw-43
URL:https://kalenderwoche.info/2269/kw-43
CATEGORIES:Kalenderwoche
TRANSP:TRANSPARENT
END:VEVENT
BEGIN:VEVENT
UID:kw-2269-44@kalenderwoche.info
DTSTAMP:20260421T184741Z
DTSTART;VALUE=DATE:22691101
DTEND;VALUE=DATE:22691108
SUMMARY:KW 44 (gerade)
DESCRIPTION:Kalenderwoche 44 im Jahr 2269\nMontag: 01.11.2269\nSonntag: 07.11.2269\nTyp: gerade Woche\nMehr unter: https://kalenderwoche.info/2269/kw-44
URL:https://kalenderwoche.info/2269/kw-44
CATEGORIES:Kalenderwoche
TRANSP:TRANSPARENT
END:VEVENT
BEGIN:VEVENT
UID:kw-2269-45@kalenderwoche.info
DTSTAMP:20260421T184741Z
DTSTART;VALUE=DATE:22691108
DTEND;VALUE=DATE:22691115
SUMMARY:KW 45 (ungerade)
DESCRIPTION:Kalenderwoche 45 im Jahr 2269\nMontag: 08.11.2269\nSonntag: 14.11.2269\nTyp: ungerade Woche\nMehr unter: https://kalenderwoche.info/2269/kw-45
URL:https://kalenderwoche.info/2269/kw-45
CATEGORIES:Kalenderwoche
TRANSP:TRANSPARENT
END:VEVENT
BEGIN:VEVENT
UID:kw-2269-46@kalenderwoche.info
DTSTAMP:20260421T184741Z
DTSTART;VALUE=DATE:22691115
DTEND;VALUE=DATE:22691122
SUMMARY:KW 46 (gerade)
DESCRIPTION:Kalenderwoche 46 im Jahr 2269\nMontag: 15.11.2269\nSonntag: 21.11.2269\nTyp: gerade Woche\nMehr unter: https://kalenderwoche.info/2269/kw-46
URL:https://kalenderwoche.info/2269/kw-46
CATEGORIES:Kalenderwoche
TRANSP:TRANSPARENT
END:VEVENT
BEGIN:VEVENT
UID:kw-2269-47@kalenderwoche.info
DTSTAMP:20260421T184741Z
DTSTART;VALUE=DATE:22691122
DTEND;VALUE=DATE:22691129
SUMMARY:KW 47 (ungerade)
DESCRIPTION:Kalenderwoche 47 im Jahr 2269\nMontag: 22.11.2269\nSonntag: 28.11.2269\nTyp: ungerade Woche\nMehr unter: https://kalenderwoche.info/2269/kw-47
URL:https://kalenderwoche.info/2269/kw-47
CATEGORIES:Kalenderwoche
TRANSP:TRANSPARENT
END:VEVENT
BEGIN:VEVENT
UID:kw-2269-48@kalenderwoche.info
DTSTAMP:20260421T184741Z
DTSTART;VALUE=DATE:22691129
DTEND;VALUE=DATE:22691206
SUMMARY:KW 48 (gerade)
DESCRIPTION:Kalenderwoche 48 im Jahr 2269\nMontag: 29.11.2269\nSonntag: 05.12.2269\nTyp: gerade Woche\nMehr unter: https://kalenderwoche.info/2269/kw-48
URL:https://kalenderwoche.info/2269/kw-48
CATEGORIES:Kalenderwoche
TRANSP:TRANSPARENT
END:VEVENT
BEGIN:VEVENT
UID:kw-2269-49@kalenderwoche.info
DTSTAMP:20260421T184741Z
DTSTART;VALUE=DATE:22691206
DTEND;VALUE=DATE:22691213
SUMMARY:KW 49 (ungerade)
DESCRIPTION:Kalenderwoche 49 im Jahr 2269\nMontag: 06.12.2269\nSonntag: 12.12.2269\nTyp: ungerade Woche\nMehr unter: https://kalenderwoche.info/2269/kw-49
URL:https://kalenderwoche.info/2269/kw-49
CATEGORIES:Kalenderwoche
TRANSP:TRANSPARENT
END:VEVENT
BEGIN:VEVENT
UID:kw-2269-50@kalenderwoche.info
DTSTAMP:20260421T184741Z
DTSTART;VALUE=DATE:22691213
DTEND;VALUE=DATE:22691220
SUMMARY:KW 50 (gerade)
DESCRIPTION:Kalenderwoche 50 im Jahr 2269\nMontag: 13.12.2269\nSonntag: 19.12.2269\nTyp: gerade Woche\nMehr unter: https://kalenderwoche.info/2269/kw-50
URL:https://kalenderwoche.info/2269/kw-50
CATEGORIES:Kalenderwoche
TRANSP:TRANSPARENT
END:VEVENT
BEGIN:VEVENT
UID:kw-2269-51@kalenderwoche.info
DTSTAMP:20260421T184741Z
DTSTART;VALUE=DATE:22691220
DTEND;VALUE=DATE:22691227
SUMMARY:KW 51 (ungerade)
DESCRIPTION:Kalenderwoche 51 im Jahr 2269\nMontag: 20.12.2269\nSonntag: 26.12.2269\nTyp: ungerade Woche\nMehr unter: https://kalenderwoche.info/2269/kw-51
URL:https://kalenderwoche.info/2269/kw-51
CATEGORIES:Kalenderwoche
TRANSP:TRANSPARENT
END:VEVENT
BEGIN:VEVENT
UID:kw-2269-52@kalenderwoche.info
DTSTAMP:20260421T184741Z
DTSTART;VALUE=DATE:22691227
DTEND;VALUE=DATE:22700103
SUMMARY:KW 52 (gerade)
DESCRIPTION:Kalenderwoche 52 im Jahr 2269\nMontag: 27.12.2269\nSonntag: 02.01.2270\nTyp: gerade Woche\nMehr unter: https://kalenderwoche.info/2269/kw-52
URL:https://kalenderwoche.info/2269/kw-52
CATEGORIES:Kalenderwoche
TRANSP:TRANSPARENT
END:VEVENT
END:VCALENDAR
