BEGIN:VCALENDAR
VERSION:2.0
PRODID:-//kalenderwoche.info//Kalender//DE
CALSCALE:GREGORIAN
METHOD:PUBLISH
X-WR-CALNAME:Kalenderwochen 2274
X-WR-CALDESC:Alle Kalenderwochen für das Jahr 2274
X-WR-TIMEZONE:Europe/Berlin
BEGIN:VEVENT
UID:kw-2274-1@kalenderwoche.info
DTSTAMP:20260422T011110Z
DTSTART;VALUE=DATE:22731229
DTEND;VALUE=DATE:22740105
SUMMARY:KW 1 (ungerade)
DESCRIPTION:Kalenderwoche 1 im Jahr 2274\nMontag: 29.12.2273\nSonntag: 04.01.2274\nTyp: ungerade Woche\nMehr unter: https://kalenderwoche.info/2274/kw-1
URL:https://kalenderwoche.info/2274/kw-1
CATEGORIES:Kalenderwoche
TRANSP:TRANSPARENT
END:VEVENT
BEGIN:VEVENT
UID:kw-2274-2@kalenderwoche.info
DTSTAMP:20260422T011110Z
DTSTART;VALUE=DATE:22740105
DTEND;VALUE=DATE:22740112
SUMMARY:KW 2 (gerade)
DESCRIPTION:Kalenderwoche 2 im Jahr 2274\nMontag: 05.01.2274\nSonntag: 11.01.2274\nTyp: gerade Woche\nMehr unter: https://kalenderwoche.info/2274/kw-2
URL:https://kalenderwoche.info/2274/kw-2
CATEGORIES:Kalenderwoche
TRANSP:TRANSPARENT
END:VEVENT
BEGIN:VEVENT
UID:kw-2274-3@kalenderwoche.info
DTSTAMP:20260422T011110Z
DTSTART;VALUE=DATE:22740112
DTEND;VALUE=DATE:22740119
SUMMARY:KW 3 (ungerade)
DESCRIPTION:Kalenderwoche 3 im Jahr 2274\nMontag: 12.01.2274\nSonntag: 18.01.2274\nTyp: ungerade Woche\nMehr unter: https://kalenderwoche.info/2274/kw-3
URL:https://kalenderwoche.info/2274/kw-3
CATEGORIES:Kalenderwoche
TRANSP:TRANSPARENT
END:VEVENT
BEGIN:VEVENT
UID:kw-2274-4@kalenderwoche.info
DTSTAMP:20260422T011110Z
DTSTART;VALUE=DATE:22740119
DTEND;VALUE=DATE:22740126
SUMMARY:KW 4 (gerade)
DESCRIPTION:Kalenderwoche 4 im Jahr 2274\nMontag: 19.01.2274\nSonntag: 25.01.2274\nTyp: gerade Woche\nMehr unter: https://kalenderwoche.info/2274/kw-4
URL:https://kalenderwoche.info/2274/kw-4
CATEGORIES:Kalenderwoche
TRANSP:TRANSPARENT
END:VEVENT
BEGIN:VEVENT
UID:kw-2274-5@kalenderwoche.info
DTSTAMP:20260422T011110Z
DTSTART;VALUE=DATE:22740126
DTEND;VALUE=DATE:22740202
SUMMARY:KW 5 (ungerade)
DESCRIPTION:Kalenderwoche 5 im Jahr 2274\nMontag: 26.01.2274\nSonntag: 01.02.2274\nTyp: ungerade Woche\nMehr unter: https://kalenderwoche.info/2274/kw-5
URL:https://kalenderwoche.info/2274/kw-5
CATEGORIES:Kalenderwoche
TRANSP:TRANSPARENT
END:VEVENT
BEGIN:VEVENT
UID:kw-2274-6@kalenderwoche.info
DTSTAMP:20260422T011110Z
DTSTART;VALUE=DATE:22740202
DTEND;VALUE=DATE:22740209
SUMMARY:KW 6 (gerade)
DESCRIPTION:Kalenderwoche 6 im Jahr 2274\nMontag: 02.02.2274\nSonntag: 08.02.2274\nTyp: gerade Woche\nMehr unter: https://kalenderwoche.info/2274/kw-6
URL:https://kalenderwoche.info/2274/kw-6
CATEGORIES:Kalenderwoche
TRANSP:TRANSPARENT
END:VEVENT
BEGIN:VEVENT
UID:kw-2274-7@kalenderwoche.info
DTSTAMP:20260422T011110Z
DTSTART;VALUE=DATE:22740209
DTEND;VALUE=DATE:22740216
SUMMARY:KW 7 (ungerade)
DESCRIPTION:Kalenderwoche 7 im Jahr 2274\nMontag: 09.02.2274\nSonntag: 15.02.2274\nTyp: ungerade Woche\nMehr unter: https://kalenderwoche.info/2274/kw-7
URL:https://kalenderwoche.info/2274/kw-7
CATEGORIES:Kalenderwoche
TRANSP:TRANSPARENT
END:VEVENT
BEGIN:VEVENT
UID:kw-2274-8@kalenderwoche.info
DTSTAMP:20260422T011110Z
DTSTART;VALUE=DATE:22740216
DTEND;VALUE=DATE:22740223
SUMMARY:KW 8 (gerade)
DESCRIPTION:Kalenderwoche 8 im Jahr 2274\nMontag: 16.02.2274\nSonntag: 22.02.2274\nTyp: gerade Woche\nMehr unter: https://kalenderwoche.info/2274/kw-8
URL:https://kalenderwoche.info/2274/kw-8
CATEGORIES:Kalenderwoche
TRANSP:TRANSPARENT
END:VEVENT
BEGIN:VEVENT
UID:kw-2274-9@kalenderwoche.info
DTSTAMP:20260422T011110Z
DTSTART;VALUE=DATE:22740223
DTEND;VALUE=DATE:22740302
SUMMARY:KW 9 (ungerade)
DESCRIPTION:Kalenderwoche 9 im Jahr 2274\nMontag: 23.02.2274\nSonntag: 01.03.2274\nTyp: ungerade Woche\nMehr unter: https://kalenderwoche.info/2274/kw-9
URL:https://kalenderwoche.info/2274/kw-9
CATEGORIES:Kalenderwoche
TRANSP:TRANSPARENT
END:VEVENT
BEGIN:VEVENT
UID:kw-2274-10@kalenderwoche.info
DTSTAMP:20260422T011110Z
DTSTART;VALUE=DATE:22740302
DTEND;VALUE=DATE:22740309
SUMMARY:KW 10 (gerade)
DESCRIPTION:Kalenderwoche 10 im Jahr 2274\nMontag: 02.03.2274\nSonntag: 08.03.2274\nTyp: gerade Woche\nMehr unter: https://kalenderwoche.info/2274/kw-10
URL:https://kalenderwoche.info/2274/kw-10
CATEGORIES:Kalenderwoche
TRANSP:TRANSPARENT
END:VEVENT
BEGIN:VEVENT
UID:kw-2274-11@kalenderwoche.info
DTSTAMP:20260422T011110Z
DTSTART;VALUE=DATE:22740309
DTEND;VALUE=DATE:22740316
SUMMARY:KW 11 (ungerade)
DESCRIPTION:Kalenderwoche 11 im Jahr 2274\nMontag: 09.03.2274\nSonntag: 15.03.2274\nTyp: ungerade Woche\nMehr unter: https://kalenderwoche.info/2274/kw-11
URL:https://kalenderwoche.info/2274/kw-11
CATEGORIES:Kalenderwoche
TRANSP:TRANSPARENT
END:VEVENT
BEGIN:VEVENT
UID:kw-2274-12@kalenderwoche.info
DTSTAMP:20260422T011110Z
DTSTART;VALUE=DATE:22740316
DTEND;VALUE=DATE:22740323
SUMMARY:KW 12 (gerade)
DESCRIPTION:Kalenderwoche 12 im Jahr 2274\nMontag: 16.03.2274\nSonntag: 22.03.2274\nTyp: gerade Woche\nMehr unter: https://kalenderwoche.info/2274/kw-12
URL:https://kalenderwoche.info/2274/kw-12
CATEGORIES:Kalenderwoche
TRANSP:TRANSPARENT
END:VEVENT
BEGIN:VEVENT
UID:kw-2274-13@kalenderwoche.info
DTSTAMP:20260422T011110Z
DTSTART;VALUE=DATE:22740323
DTEND;VALUE=DATE:22740330
SUMMARY:KW 13 (ungerade)
DESCRIPTION:Kalenderwoche 13 im Jahr 2274\nMontag: 23.03.2274\nSonntag: 29.03.2274\nTyp: ungerade Woche\nMehr unter: https://kalenderwoche.info/2274/kw-13
URL:https://kalenderwoche.info/2274/kw-13
CATEGORIES:Kalenderwoche
TRANSP:TRANSPARENT
END:VEVENT
BEGIN:VEVENT
UID:kw-2274-14@kalenderwoche.info
DTSTAMP:20260422T011110Z
DTSTART;VALUE=DATE:22740330
DTEND;VALUE=DATE:22740406
SUMMARY:KW 14 (gerade)
DESCRIPTION:Kalenderwoche 14 im Jahr 2274\nMontag: 30.03.2274\nSonntag: 05.04.2274\nTyp: gerade Woche\nMehr unter: https://kalenderwoche.info/2274/kw-14
URL:https://kalenderwoche.info/2274/kw-14
CATEGORIES:Kalenderwoche
TRANSP:TRANSPARENT
END:VEVENT
BEGIN:VEVENT
UID:kw-2274-15@kalenderwoche.info
DTSTAMP:20260422T011110Z
DTSTART;VALUE=DATE:22740406
DTEND;VALUE=DATE:22740413
SUMMARY:KW 15 (ungerade)
DESCRIPTION:Kalenderwoche 15 im Jahr 2274\nMontag: 06.04.2274\nSonntag: 12.04.2274\nTyp: ungerade Woche\nMehr unter: https://kalenderwoche.info/2274/kw-15
URL:https://kalenderwoche.info/2274/kw-15
CATEGORIES:Kalenderwoche
TRANSP:TRANSPARENT
END:VEVENT
BEGIN:VEVENT
UID:kw-2274-16@kalenderwoche.info
DTSTAMP:20260422T011110Z
DTSTART;VALUE=DATE:22740413
DTEND;VALUE=DATE:22740420
SUMMARY:KW 16 (gerade)
DESCRIPTION:Kalenderwoche 16 im Jahr 2274\nMontag: 13.04.2274\nSonntag: 19.04.2274\nTyp: gerade Woche\nMehr unter: https://kalenderwoche.info/2274/kw-16
URL:https://kalenderwoche.info/2274/kw-16
CATEGORIES:Kalenderwoche
TRANSP:TRANSPARENT
END:VEVENT
BEGIN:VEVENT
UID:kw-2274-17@kalenderwoche.info
DTSTAMP:20260422T011110Z
DTSTART;VALUE=DATE:22740420
DTEND;VALUE=DATE:22740427
SUMMARY:KW 17 (ungerade)
DESCRIPTION:Kalenderwoche 17 im Jahr 2274\nMontag: 20.04.2274\nSonntag: 26.04.2274\nTyp: ungerade Woche\nMehr unter: https://kalenderwoche.info/2274/kw-17
URL:https://kalenderwoche.info/2274/kw-17
CATEGORIES:Kalenderwoche
TRANSP:TRANSPARENT
END:VEVENT
BEGIN:VEVENT
UID:kw-2274-18@kalenderwoche.info
DTSTAMP:20260422T011110Z
DTSTART;VALUE=DATE:22740427
DTEND;VALUE=DATE:22740504
SUMMARY:KW 18 (gerade)
DESCRIPTION:Kalenderwoche 18 im Jahr 2274\nMontag: 27.04.2274\nSonntag: 03.05.2274\nTyp: gerade Woche\nMehr unter: https://kalenderwoche.info/2274/kw-18
URL:https://kalenderwoche.info/2274/kw-18
CATEGORIES:Kalenderwoche
TRANSP:TRANSPARENT
END:VEVENT
BEGIN:VEVENT
UID:kw-2274-19@kalenderwoche.info
DTSTAMP:20260422T011110Z
DTSTART;VALUE=DATE:22740504
DTEND;VALUE=DATE:22740511
SUMMARY:KW 19 (ungerade)
DESCRIPTION:Kalenderwoche 19 im Jahr 2274\nMontag: 04.05.2274\nSonntag: 10.05.2274\nTyp: ungerade Woche\nMehr unter: https://kalenderwoche.info/2274/kw-19
URL:https://kalenderwoche.info/2274/kw-19
CATEGORIES:Kalenderwoche
TRANSP:TRANSPARENT
END:VEVENT
BEGIN:VEVENT
UID:kw-2274-20@kalenderwoche.info
DTSTAMP:20260422T011110Z
DTSTART;VALUE=DATE:22740511
DTEND;VALUE=DATE:22740518
SUMMARY:KW 20 (gerade)
DESCRIPTION:Kalenderwoche 20 im Jahr 2274\nMontag: 11.05.2274\nSonntag: 17.05.2274\nTyp: gerade Woche\nMehr unter: https://kalenderwoche.info/2274/kw-20
URL:https://kalenderwoche.info/2274/kw-20
CATEGORIES:Kalenderwoche
TRANSP:TRANSPARENT
END:VEVENT
BEGIN:VEVENT
UID:kw-2274-21@kalenderwoche.info
DTSTAMP:20260422T011110Z
DTSTART;VALUE=DATE:22740518
DTEND;VALUE=DATE:22740525
SUMMARY:KW 21 (ungerade)
DESCRIPTION:Kalenderwoche 21 im Jahr 2274\nMontag: 18.05.2274\nSonntag: 24.05.2274\nTyp: ungerade Woche\nMehr unter: https://kalenderwoche.info/2274/kw-21
URL:https://kalenderwoche.info/2274/kw-21
CATEGORIES:Kalenderwoche
TRANSP:TRANSPARENT
END:VEVENT
BEGIN:VEVENT
UID:kw-2274-22@kalenderwoche.info
DTSTAMP:20260422T011110Z
DTSTART;VALUE=DATE:22740525
DTEND;VALUE=DATE:22740601
SUMMARY:KW 22 (gerade)
DESCRIPTION:Kalenderwoche 22 im Jahr 2274\nMontag: 25.05.2274\nSonntag: 31.05.2274\nTyp: gerade Woche\nMehr unter: https://kalenderwoche.info/2274/kw-22
URL:https://kalenderwoche.info/2274/kw-22
CATEGORIES:Kalenderwoche
TRANSP:TRANSPARENT
END:VEVENT
BEGIN:VEVENT
UID:kw-2274-23@kalenderwoche.info
DTSTAMP:20260422T011110Z
DTSTART;VALUE=DATE:22740601
DTEND;VALUE=DATE:22740608
SUMMARY:KW 23 (ungerade)
DESCRIPTION:Kalenderwoche 23 im Jahr 2274\nMontag: 01.06.2274\nSonntag: 07.06.2274\nTyp: ungerade Woche\nMehr unter: https://kalenderwoche.info/2274/kw-23
URL:https://kalenderwoche.info/2274/kw-23
CATEGORIES:Kalenderwoche
TRANSP:TRANSPARENT
END:VEVENT
BEGIN:VEVENT
UID:kw-2274-24@kalenderwoche.info
DTSTAMP:20260422T011110Z
DTSTART;VALUE=DATE:22740608
DTEND;VALUE=DATE:22740615
SUMMARY:KW 24 (gerade)
DESCRIPTION:Kalenderwoche 24 im Jahr 2274\nMontag: 08.06.2274\nSonntag: 14.06.2274\nTyp: gerade Woche\nMehr unter: https://kalenderwoche.info/2274/kw-24
URL:https://kalenderwoche.info/2274/kw-24
CATEGORIES:Kalenderwoche
TRANSP:TRANSPARENT
END:VEVENT
BEGIN:VEVENT
UID:kw-2274-25@kalenderwoche.info
DTSTAMP:20260422T011110Z
DTSTART;VALUE=DATE:22740615
DTEND;VALUE=DATE:22740622
SUMMARY:KW 25 (ungerade)
DESCRIPTION:Kalenderwoche 25 im Jahr 2274\nMontag: 15.06.2274\nSonntag: 21.06.2274\nTyp: ungerade Woche\nMehr unter: https://kalenderwoche.info/2274/kw-25
URL:https://kalenderwoche.info/2274/kw-25
CATEGORIES:Kalenderwoche
TRANSP:TRANSPARENT
END:VEVENT
BEGIN:VEVENT
UID:kw-2274-26@kalenderwoche.info
DTSTAMP:20260422T011110Z
DTSTART;VALUE=DATE:22740622
DTEND;VALUE=DATE:22740629
SUMMARY:KW 26 (gerade)
DESCRIPTION:Kalenderwoche 26 im Jahr 2274\nMontag: 22.06.2274\nSonntag: 28.06.2274\nTyp: gerade Woche\nMehr unter: https://kalenderwoche.info/2274/kw-26
URL:https://kalenderwoche.info/2274/kw-26
CATEGORIES:Kalenderwoche
TRANSP:TRANSPARENT
END:VEVENT
BEGIN:VEVENT
UID:kw-2274-27@kalenderwoche.info
DTSTAMP:20260422T011110Z
DTSTART;VALUE=DATE:22740629
DTEND;VALUE=DATE:22740706
SUMMARY:KW 27 (ungerade)
DESCRIPTION:Kalenderwoche 27 im Jahr 2274\nMontag: 29.06.2274\nSonntag: 05.07.2274\nTyp: ungerade Woche\nMehr unter: https://kalenderwoche.info/2274/kw-27
URL:https://kalenderwoche.info/2274/kw-27
CATEGORIES:Kalenderwoche
TRANSP:TRANSPARENT
END:VEVENT
BEGIN:VEVENT
UID:kw-2274-28@kalenderwoche.info
DTSTAMP:20260422T011110Z
DTSTART;VALUE=DATE:22740706
DTEND;VALUE=DATE:22740713
SUMMARY:KW 28 (gerade)
DESCRIPTION:Kalenderwoche 28 im Jahr 2274\nMontag: 06.07.2274\nSonntag: 12.07.2274\nTyp: gerade Woche\nMehr unter: https://kalenderwoche.info/2274/kw-28
URL:https://kalenderwoche.info/2274/kw-28
CATEGORIES:Kalenderwoche
TRANSP:TRANSPARENT
END:VEVENT
BEGIN:VEVENT
UID:kw-2274-29@kalenderwoche.info
DTSTAMP:20260422T011110Z
DTSTART;VALUE=DATE:22740713
DTEND;VALUE=DATE:22740720
SUMMARY:KW 29 (ungerade)
DESCRIPTION:Kalenderwoche 29 im Jahr 2274\nMontag: 13.07.2274\nSonntag: 19.07.2274\nTyp: ungerade Woche\nMehr unter: https://kalenderwoche.info/2274/kw-29
URL:https://kalenderwoche.info/2274/kw-29
CATEGORIES:Kalenderwoche
TRANSP:TRANSPARENT
END:VEVENT
BEGIN:VEVENT
UID:kw-2274-30@kalenderwoche.info
DTSTAMP:20260422T011110Z
DTSTART;VALUE=DATE:22740720
DTEND;VALUE=DATE:22740727
SUMMARY:KW 30 (gerade)
DESCRIPTION:Kalenderwoche 30 im Jahr 2274\nMontag: 20.07.2274\nSonntag: 26.07.2274\nTyp: gerade Woche\nMehr unter: https://kalenderwoche.info/2274/kw-30
URL:https://kalenderwoche.info/2274/kw-30
CATEGORIES:Kalenderwoche
TRANSP:TRANSPARENT
END:VEVENT
BEGIN:VEVENT
UID:kw-2274-31@kalenderwoche.info
DTSTAMP:20260422T011110Z
DTSTART;VALUE=DATE:22740727
DTEND;VALUE=DATE:22740803
SUMMARY:KW 31 (ungerade)
DESCRIPTION:Kalenderwoche 31 im Jahr 2274\nMontag: 27.07.2274\nSonntag: 02.08.2274\nTyp: ungerade Woche\nMehr unter: https://kalenderwoche.info/2274/kw-31
URL:https://kalenderwoche.info/2274/kw-31
CATEGORIES:Kalenderwoche
TRANSP:TRANSPARENT
END:VEVENT
BEGIN:VEVENT
UID:kw-2274-32@kalenderwoche.info
DTSTAMP:20260422T011110Z
DTSTART;VALUE=DATE:22740803
DTEND;VALUE=DATE:22740810
SUMMARY:KW 32 (gerade)
DESCRIPTION:Kalenderwoche 32 im Jahr 2274\nMontag: 03.08.2274\nSonntag: 09.08.2274\nTyp: gerade Woche\nMehr unter: https://kalenderwoche.info/2274/kw-32
URL:https://kalenderwoche.info/2274/kw-32
CATEGORIES:Kalenderwoche
TRANSP:TRANSPARENT
END:VEVENT
BEGIN:VEVENT
UID:kw-2274-33@kalenderwoche.info
DTSTAMP:20260422T011110Z
DTSTART;VALUE=DATE:22740810
DTEND;VALUE=DATE:22740817
SUMMARY:KW 33 (ungerade)
DESCRIPTION:Kalenderwoche 33 im Jahr 2274\nMontag: 10.08.2274\nSonntag: 16.08.2274\nTyp: ungerade Woche\nMehr unter: https://kalenderwoche.info/2274/kw-33
URL:https://kalenderwoche.info/2274/kw-33
CATEGORIES:Kalenderwoche
TRANSP:TRANSPARENT
END:VEVENT
BEGIN:VEVENT
UID:kw-2274-34@kalenderwoche.info
DTSTAMP:20260422T011110Z
DTSTART;VALUE=DATE:22740817
DTEND;VALUE=DATE:22740824
SUMMARY:KW 34 (gerade)
DESCRIPTION:Kalenderwoche 34 im Jahr 2274\nMontag: 17.08.2274\nSonntag: 23.08.2274\nTyp: gerade Woche\nMehr unter: https://kalenderwoche.info/2274/kw-34
URL:https://kalenderwoche.info/2274/kw-34
CATEGORIES:Kalenderwoche
TRANSP:TRANSPARENT
END:VEVENT
BEGIN:VEVENT
UID:kw-2274-35@kalenderwoche.info
DTSTAMP:20260422T011110Z
DTSTART;VALUE=DATE:22740824
DTEND;VALUE=DATE:22740831
SUMMARY:KW 35 (ungerade)
DESCRIPTION:Kalenderwoche 35 im Jahr 2274\nMontag: 24.08.2274\nSonntag: 30.08.2274\nTyp: ungerade Woche\nMehr unter: https://kalenderwoche.info/2274/kw-35
URL:https://kalenderwoche.info/2274/kw-35
CATEGORIES:Kalenderwoche
TRANSP:TRANSPARENT
END:VEVENT
BEGIN:VEVENT
UID:kw-2274-36@kalenderwoche.info
DTSTAMP:20260422T011110Z
DTSTART;VALUE=DATE:22740831
DTEND;VALUE=DATE:22740907
SUMMARY:KW 36 (gerade)
DESCRIPTION:Kalenderwoche 36 im Jahr 2274\nMontag: 31.08.2274\nSonntag: 06.09.2274\nTyp: gerade Woche\nMehr unter: https://kalenderwoche.info/2274/kw-36
URL:https://kalenderwoche.info/2274/kw-36
CATEGORIES:Kalenderwoche
TRANSP:TRANSPARENT
END:VEVENT
BEGIN:VEVENT
UID:kw-2274-37@kalenderwoche.info
DTSTAMP:20260422T011110Z
DTSTART;VALUE=DATE:22740907
DTEND;VALUE=DATE:22740914
SUMMARY:KW 37 (ungerade)
DESCRIPTION:Kalenderwoche 37 im Jahr 2274\nMontag: 07.09.2274\nSonntag: 13.09.2274\nTyp: ungerade Woche\nMehr unter: https://kalenderwoche.info/2274/kw-37
URL:https://kalenderwoche.info/2274/kw-37
CATEGORIES:Kalenderwoche
TRANSP:TRANSPARENT
END:VEVENT
BEGIN:VEVENT
UID:kw-2274-38@kalenderwoche.info
DTSTAMP:20260422T011110Z
DTSTART;VALUE=DATE:22740914
DTEND;VALUE=DATE:22740921
SUMMARY:KW 38 (gerade)
DESCRIPTION:Kalenderwoche 38 im Jahr 2274\nMontag: 14.09.2274\nSonntag: 20.09.2274\nTyp: gerade Woche\nMehr unter: https://kalenderwoche.info/2274/kw-38
URL:https://kalenderwoche.info/2274/kw-38
CATEGORIES:Kalenderwoche
TRANSP:TRANSPARENT
END:VEVENT
BEGIN:VEVENT
UID:kw-2274-39@kalenderwoche.info
DTSTAMP:20260422T011110Z
DTSTART;VALUE=DATE:22740921
DTEND;VALUE=DATE:22740928
SUMMARY:KW 39 (ungerade)
DESCRIPTION:Kalenderwoche 39 im Jahr 2274\nMontag: 21.09.2274\nSonntag: 27.09.2274\nTyp: ungerade Woche\nMehr unter: https://kalenderwoche.info/2274/kw-39
URL:https://kalenderwoche.info/2274/kw-39
CATEGORIES:Kalenderwoche
TRANSP:TRANSPARENT
END:VEVENT
BEGIN:VEVENT
UID:kw-2274-40@kalenderwoche.info
DTSTAMP:20260422T011110Z
DTSTART;VALUE=DATE:22740928
DTEND;VALUE=DATE:22741005
SUMMARY:KW 40 (gerade)
DESCRIPTION:Kalenderwoche 40 im Jahr 2274\nMontag: 28.09.2274\nSonntag: 04.10.2274\nTyp: gerade Woche\nMehr unter: https://kalenderwoche.info/2274/kw-40
URL:https://kalenderwoche.info/2274/kw-40
CATEGORIES:Kalenderwoche
TRANSP:TRANSPARENT
END:VEVENT
BEGIN:VEVENT
UID:kw-2274-41@kalenderwoche.info
DTSTAMP:20260422T011110Z
DTSTART;VALUE=DATE:22741005
DTEND;VALUE=DATE:22741012
SUMMARY:KW 41 (ungerade)
DESCRIPTION:Kalenderwoche 41 im Jahr 2274\nMontag: 05.10.2274\nSonntag: 11.10.2274\nTyp: ungerade Woche\nMehr unter: https://kalenderwoche.info/2274/kw-41
URL:https://kalenderwoche.info/2274/kw-41
CATEGORIES:Kalenderwoche
TRANSP:TRANSPARENT
END:VEVENT
BEGIN:VEVENT
UID:kw-2274-42@kalenderwoche.info
DTSTAMP:20260422T011110Z
DTSTART;VALUE=DATE:22741012
DTEND;VALUE=DATE:22741019
SUMMARY:KW 42 (gerade)
DESCRIPTION:Kalenderwoche 42 im Jahr 2274\nMontag: 12.10.2274\nSonntag: 18.10.2274\nTyp: gerade Woche\nMehr unter: https://kalenderwoche.info/2274/kw-42
URL:https://kalenderwoche.info/2274/kw-42
CATEGORIES:Kalenderwoche
TRANSP:TRANSPARENT
END:VEVENT
BEGIN:VEVENT
UID:kw-2274-43@kalenderwoche.info
DTSTAMP:20260422T011110Z
DTSTART;VALUE=DATE:22741019
DTEND;VALUE=DATE:22741026
SUMMARY:KW 43 (ungerade)
DESCRIPTION:Kalenderwoche 43 im Jahr 2274\nMontag: 19.10.2274\nSonntag: 25.10.2274\nTyp: ungerade Woche\nMehr unter: https://kalenderwoche.info/2274/kw-43
URL:https://kalenderwoche.info/2274/kw-43
CATEGORIES:Kalenderwoche
TRANSP:TRANSPARENT
END:VEVENT
BEGIN:VEVENT
UID:kw-2274-44@kalenderwoche.info
DTSTAMP:20260422T011110Z
DTSTART;VALUE=DATE:22741026
DTEND;VALUE=DATE:22741102
SUMMARY:KW 44 (gerade)
DESCRIPTION:Kalenderwoche 44 im Jahr 2274\nMontag: 26.10.2274\nSonntag: 01.11.2274\nTyp: gerade Woche\nMehr unter: https://kalenderwoche.info/2274/kw-44
URL:https://kalenderwoche.info/2274/kw-44
CATEGORIES:Kalenderwoche
TRANSP:TRANSPARENT
END:VEVENT
BEGIN:VEVENT
UID:kw-2274-45@kalenderwoche.info
DTSTAMP:20260422T011110Z
DTSTART;VALUE=DATE:22741102
DTEND;VALUE=DATE:22741109
SUMMARY:KW 45 (ungerade)
DESCRIPTION:Kalenderwoche 45 im Jahr 2274\nMontag: 02.11.2274\nSonntag: 08.11.2274\nTyp: ungerade Woche\nMehr unter: https://kalenderwoche.info/2274/kw-45
URL:https://kalenderwoche.info/2274/kw-45
CATEGORIES:Kalenderwoche
TRANSP:TRANSPARENT
END:VEVENT
BEGIN:VEVENT
UID:kw-2274-46@kalenderwoche.info
DTSTAMP:20260422T011110Z
DTSTART;VALUE=DATE:22741109
DTEND;VALUE=DATE:22741116
SUMMARY:KW 46 (gerade)
DESCRIPTION:Kalenderwoche 46 im Jahr 2274\nMontag: 09.11.2274\nSonntag: 15.11.2274\nTyp: gerade Woche\nMehr unter: https://kalenderwoche.info/2274/kw-46
URL:https://kalenderwoche.info/2274/kw-46
CATEGORIES:Kalenderwoche
TRANSP:TRANSPARENT
END:VEVENT
BEGIN:VEVENT
UID:kw-2274-47@kalenderwoche.info
DTSTAMP:20260422T011110Z
DTSTART;VALUE=DATE:22741116
DTEND;VALUE=DATE:22741123
SUMMARY:KW 47 (ungerade)
DESCRIPTION:Kalenderwoche 47 im Jahr 2274\nMontag: 16.11.2274\nSonntag: 22.11.2274\nTyp: ungerade Woche\nMehr unter: https://kalenderwoche.info/2274/kw-47
URL:https://kalenderwoche.info/2274/kw-47
CATEGORIES:Kalenderwoche
TRANSP:TRANSPARENT
END:VEVENT
BEGIN:VEVENT
UID:kw-2274-48@kalenderwoche.info
DTSTAMP:20260422T011110Z
DTSTART;VALUE=DATE:22741123
DTEND;VALUE=DATE:22741130
SUMMARY:KW 48 (gerade)
DESCRIPTION:Kalenderwoche 48 im Jahr 2274\nMontag: 23.11.2274\nSonntag: 29.11.2274\nTyp: gerade Woche\nMehr unter: https://kalenderwoche.info/2274/kw-48
URL:https://kalenderwoche.info/2274/kw-48
CATEGORIES:Kalenderwoche
TRANSP:TRANSPARENT
END:VEVENT
BEGIN:VEVENT
UID:kw-2274-49@kalenderwoche.info
DTSTAMP:20260422T011110Z
DTSTART;VALUE=DATE:22741130
DTEND;VALUE=DATE:22741207
SUMMARY:KW 49 (ungerade)
DESCRIPTION:Kalenderwoche 49 im Jahr 2274\nMontag: 30.11.2274\nSonntag: 06.12.2274\nTyp: ungerade Woche\nMehr unter: https://kalenderwoche.info/2274/kw-49
URL:https://kalenderwoche.info/2274/kw-49
CATEGORIES:Kalenderwoche
TRANSP:TRANSPARENT
END:VEVENT
BEGIN:VEVENT
UID:kw-2274-50@kalenderwoche.info
DTSTAMP:20260422T011110Z
DTSTART;VALUE=DATE:22741207
DTEND;VALUE=DATE:22741214
SUMMARY:KW 50 (gerade)
DESCRIPTION:Kalenderwoche 50 im Jahr 2274\nMontag: 07.12.2274\nSonntag: 13.12.2274\nTyp: gerade Woche\nMehr unter: https://kalenderwoche.info/2274/kw-50
URL:https://kalenderwoche.info/2274/kw-50
CATEGORIES:Kalenderwoche
TRANSP:TRANSPARENT
END:VEVENT
BEGIN:VEVENT
UID:kw-2274-51@kalenderwoche.info
DTSTAMP:20260422T011110Z
DTSTART;VALUE=DATE:22741214
DTEND;VALUE=DATE:22741221
SUMMARY:KW 51 (ungerade)
DESCRIPTION:Kalenderwoche 51 im Jahr 2274\nMontag: 14.12.2274\nSonntag: 20.12.2274\nTyp: ungerade Woche\nMehr unter: https://kalenderwoche.info/2274/kw-51
URL:https://kalenderwoche.info/2274/kw-51
CATEGORIES:Kalenderwoche
TRANSP:TRANSPARENT
END:VEVENT
BEGIN:VEVENT
UID:kw-2274-52@kalenderwoche.info
DTSTAMP:20260422T011110Z
DTSTART;VALUE=DATE:22741221
DTEND;VALUE=DATE:22741228
SUMMARY:KW 52 (gerade)
DESCRIPTION:Kalenderwoche 52 im Jahr 2274\nMontag: 21.12.2274\nSonntag: 27.12.2274\nTyp: gerade Woche\nMehr unter: https://kalenderwoche.info/2274/kw-52
URL:https://kalenderwoche.info/2274/kw-52
CATEGORIES:Kalenderwoche
TRANSP:TRANSPARENT
END:VEVENT
BEGIN:VEVENT
UID:kw-2274-53@kalenderwoche.info
DTSTAMP:20260422T011110Z
DTSTART;VALUE=DATE:22741228
DTEND;VALUE=DATE:22750104
SUMMARY:KW 53 (ungerade)
DESCRIPTION:Kalenderwoche 53 im Jahr 2274\nMontag: 28.12.2274\nSonntag: 03.01.2275\nTyp: ungerade Woche\nMehr unter: https://kalenderwoche.info/2274/kw-53
URL:https://kalenderwoche.info/2274/kw-53
CATEGORIES:Kalenderwoche
TRANSP:TRANSPARENT
END:VEVENT
END:VCALENDAR
