BEGIN:VCALENDAR
VERSION:2.0
PRODID:-//kalenderwoche.info//Kalender//DE
CALSCALE:GREGORIAN
METHOD:PUBLISH
X-WR-CALNAME:Kalenderwochen 2290
X-WR-CALDESC:Alle Kalenderwochen für das Jahr 2290
X-WR-TIMEZONE:Europe/Berlin
BEGIN:VEVENT
UID:kw-2290-1@kalenderwoche.info
DTSTAMP:20260422T230826Z
DTSTART;VALUE=DATE:22891230
DTEND;VALUE=DATE:22900106
SUMMARY:KW 1 (ungerade)
DESCRIPTION:Kalenderwoche 1 im Jahr 2290\nMontag: 30.12.2289\nSonntag: 05.01.2290\nTyp: ungerade Woche\nMehr unter: https://kalenderwoche.info/2290/kw-1
URL:https://kalenderwoche.info/2290/kw-1
CATEGORIES:Kalenderwoche
TRANSP:TRANSPARENT
END:VEVENT
BEGIN:VEVENT
UID:kw-2290-2@kalenderwoche.info
DTSTAMP:20260422T230826Z
DTSTART;VALUE=DATE:22900106
DTEND;VALUE=DATE:22900113
SUMMARY:KW 2 (gerade)
DESCRIPTION:Kalenderwoche 2 im Jahr 2290\nMontag: 06.01.2290\nSonntag: 12.01.2290\nTyp: gerade Woche\nMehr unter: https://kalenderwoche.info/2290/kw-2
URL:https://kalenderwoche.info/2290/kw-2
CATEGORIES:Kalenderwoche
TRANSP:TRANSPARENT
END:VEVENT
BEGIN:VEVENT
UID:kw-2290-3@kalenderwoche.info
DTSTAMP:20260422T230826Z
DTSTART;VALUE=DATE:22900113
DTEND;VALUE=DATE:22900120
SUMMARY:KW 3 (ungerade)
DESCRIPTION:Kalenderwoche 3 im Jahr 2290\nMontag: 13.01.2290\nSonntag: 19.01.2290\nTyp: ungerade Woche\nMehr unter: https://kalenderwoche.info/2290/kw-3
URL:https://kalenderwoche.info/2290/kw-3
CATEGORIES:Kalenderwoche
TRANSP:TRANSPARENT
END:VEVENT
BEGIN:VEVENT
UID:kw-2290-4@kalenderwoche.info
DTSTAMP:20260422T230826Z
DTSTART;VALUE=DATE:22900120
DTEND;VALUE=DATE:22900127
SUMMARY:KW 4 (gerade)
DESCRIPTION:Kalenderwoche 4 im Jahr 2290\nMontag: 20.01.2290\nSonntag: 26.01.2290\nTyp: gerade Woche\nMehr unter: https://kalenderwoche.info/2290/kw-4
URL:https://kalenderwoche.info/2290/kw-4
CATEGORIES:Kalenderwoche
TRANSP:TRANSPARENT
END:VEVENT
BEGIN:VEVENT
UID:kw-2290-5@kalenderwoche.info
DTSTAMP:20260422T230826Z
DTSTART;VALUE=DATE:22900127
DTEND;VALUE=DATE:22900203
SUMMARY:KW 5 (ungerade)
DESCRIPTION:Kalenderwoche 5 im Jahr 2290\nMontag: 27.01.2290\nSonntag: 02.02.2290\nTyp: ungerade Woche\nMehr unter: https://kalenderwoche.info/2290/kw-5
URL:https://kalenderwoche.info/2290/kw-5
CATEGORIES:Kalenderwoche
TRANSP:TRANSPARENT
END:VEVENT
BEGIN:VEVENT
UID:kw-2290-6@kalenderwoche.info
DTSTAMP:20260422T230826Z
DTSTART;VALUE=DATE:22900203
DTEND;VALUE=DATE:22900210
SUMMARY:KW 6 (gerade)
DESCRIPTION:Kalenderwoche 6 im Jahr 2290\nMontag: 03.02.2290\nSonntag: 09.02.2290\nTyp: gerade Woche\nMehr unter: https://kalenderwoche.info/2290/kw-6
URL:https://kalenderwoche.info/2290/kw-6
CATEGORIES:Kalenderwoche
TRANSP:TRANSPARENT
END:VEVENT
BEGIN:VEVENT
UID:kw-2290-7@kalenderwoche.info
DTSTAMP:20260422T230826Z
DTSTART;VALUE=DATE:22900210
DTEND;VALUE=DATE:22900217
SUMMARY:KW 7 (ungerade)
DESCRIPTION:Kalenderwoche 7 im Jahr 2290\nMontag: 10.02.2290\nSonntag: 16.02.2290\nTyp: ungerade Woche\nMehr unter: https://kalenderwoche.info/2290/kw-7
URL:https://kalenderwoche.info/2290/kw-7
CATEGORIES:Kalenderwoche
TRANSP:TRANSPARENT
END:VEVENT
BEGIN:VEVENT
UID:kw-2290-8@kalenderwoche.info
DTSTAMP:20260422T230826Z
DTSTART;VALUE=DATE:22900217
DTEND;VALUE=DATE:22900224
SUMMARY:KW 8 (gerade)
DESCRIPTION:Kalenderwoche 8 im Jahr 2290\nMontag: 17.02.2290\nSonntag: 23.02.2290\nTyp: gerade Woche\nMehr unter: https://kalenderwoche.info/2290/kw-8
URL:https://kalenderwoche.info/2290/kw-8
CATEGORIES:Kalenderwoche
TRANSP:TRANSPARENT
END:VEVENT
BEGIN:VEVENT
UID:kw-2290-9@kalenderwoche.info
DTSTAMP:20260422T230826Z
DTSTART;VALUE=DATE:22900224
DTEND;VALUE=DATE:22900303
SUMMARY:KW 9 (ungerade)
DESCRIPTION:Kalenderwoche 9 im Jahr 2290\nMontag: 24.02.2290\nSonntag: 02.03.2290\nTyp: ungerade Woche\nMehr unter: https://kalenderwoche.info/2290/kw-9
URL:https://kalenderwoche.info/2290/kw-9
CATEGORIES:Kalenderwoche
TRANSP:TRANSPARENT
END:VEVENT
BEGIN:VEVENT
UID:kw-2290-10@kalenderwoche.info
DTSTAMP:20260422T230826Z
DTSTART;VALUE=DATE:22900303
DTEND;VALUE=DATE:22900310
SUMMARY:KW 10 (gerade)
DESCRIPTION:Kalenderwoche 10 im Jahr 2290\nMontag: 03.03.2290\nSonntag: 09.03.2290\nTyp: gerade Woche\nMehr unter: https://kalenderwoche.info/2290/kw-10
URL:https://kalenderwoche.info/2290/kw-10
CATEGORIES:Kalenderwoche
TRANSP:TRANSPARENT
END:VEVENT
BEGIN:VEVENT
UID:kw-2290-11@kalenderwoche.info
DTSTAMP:20260422T230826Z
DTSTART;VALUE=DATE:22900310
DTEND;VALUE=DATE:22900317
SUMMARY:KW 11 (ungerade)
DESCRIPTION:Kalenderwoche 11 im Jahr 2290\nMontag: 10.03.2290\nSonntag: 16.03.2290\nTyp: ungerade Woche\nMehr unter: https://kalenderwoche.info/2290/kw-11
URL:https://kalenderwoche.info/2290/kw-11
CATEGORIES:Kalenderwoche
TRANSP:TRANSPARENT
END:VEVENT
BEGIN:VEVENT
UID:kw-2290-12@kalenderwoche.info
DTSTAMP:20260422T230826Z
DTSTART;VALUE=DATE:22900317
DTEND;VALUE=DATE:22900324
SUMMARY:KW 12 (gerade)
DESCRIPTION:Kalenderwoche 12 im Jahr 2290\nMontag: 17.03.2290\nSonntag: 23.03.2290\nTyp: gerade Woche\nMehr unter: https://kalenderwoche.info/2290/kw-12
URL:https://kalenderwoche.info/2290/kw-12
CATEGORIES:Kalenderwoche
TRANSP:TRANSPARENT
END:VEVENT
BEGIN:VEVENT
UID:kw-2290-13@kalenderwoche.info
DTSTAMP:20260422T230826Z
DTSTART;VALUE=DATE:22900324
DTEND;VALUE=DATE:22900331
SUMMARY:KW 13 (ungerade)
DESCRIPTION:Kalenderwoche 13 im Jahr 2290\nMontag: 24.03.2290\nSonntag: 30.03.2290\nTyp: ungerade Woche\nMehr unter: https://kalenderwoche.info/2290/kw-13
URL:https://kalenderwoche.info/2290/kw-13
CATEGORIES:Kalenderwoche
TRANSP:TRANSPARENT
END:VEVENT
BEGIN:VEVENT
UID:kw-2290-14@kalenderwoche.info
DTSTAMP:20260422T230826Z
DTSTART;VALUE=DATE:22900331
DTEND;VALUE=DATE:22900407
SUMMARY:KW 14 (gerade)
DESCRIPTION:Kalenderwoche 14 im Jahr 2290\nMontag: 31.03.2290\nSonntag: 06.04.2290\nTyp: gerade Woche\nMehr unter: https://kalenderwoche.info/2290/kw-14
URL:https://kalenderwoche.info/2290/kw-14
CATEGORIES:Kalenderwoche
TRANSP:TRANSPARENT
END:VEVENT
BEGIN:VEVENT
UID:kw-2290-15@kalenderwoche.info
DTSTAMP:20260422T230826Z
DTSTART;VALUE=DATE:22900407
DTEND;VALUE=DATE:22900414
SUMMARY:KW 15 (ungerade)
DESCRIPTION:Kalenderwoche 15 im Jahr 2290\nMontag: 07.04.2290\nSonntag: 13.04.2290\nTyp: ungerade Woche\nMehr unter: https://kalenderwoche.info/2290/kw-15
URL:https://kalenderwoche.info/2290/kw-15
CATEGORIES:Kalenderwoche
TRANSP:TRANSPARENT
END:VEVENT
BEGIN:VEVENT
UID:kw-2290-16@kalenderwoche.info
DTSTAMP:20260422T230826Z
DTSTART;VALUE=DATE:22900414
DTEND;VALUE=DATE:22900421
SUMMARY:KW 16 (gerade)
DESCRIPTION:Kalenderwoche 16 im Jahr 2290\nMontag: 14.04.2290\nSonntag: 20.04.2290\nTyp: gerade Woche\nMehr unter: https://kalenderwoche.info/2290/kw-16
URL:https://kalenderwoche.info/2290/kw-16
CATEGORIES:Kalenderwoche
TRANSP:TRANSPARENT
END:VEVENT
BEGIN:VEVENT
UID:kw-2290-17@kalenderwoche.info
DTSTAMP:20260422T230826Z
DTSTART;VALUE=DATE:22900421
DTEND;VALUE=DATE:22900428
SUMMARY:KW 17 (ungerade)
DESCRIPTION:Kalenderwoche 17 im Jahr 2290\nMontag: 21.04.2290\nSonntag: 27.04.2290\nTyp: ungerade Woche\nMehr unter: https://kalenderwoche.info/2290/kw-17
URL:https://kalenderwoche.info/2290/kw-17
CATEGORIES:Kalenderwoche
TRANSP:TRANSPARENT
END:VEVENT
BEGIN:VEVENT
UID:kw-2290-18@kalenderwoche.info
DTSTAMP:20260422T230826Z
DTSTART;VALUE=DATE:22900428
DTEND;VALUE=DATE:22900505
SUMMARY:KW 18 (gerade)
DESCRIPTION:Kalenderwoche 18 im Jahr 2290\nMontag: 28.04.2290\nSonntag: 04.05.2290\nTyp: gerade Woche\nMehr unter: https://kalenderwoche.info/2290/kw-18
URL:https://kalenderwoche.info/2290/kw-18
CATEGORIES:Kalenderwoche
TRANSP:TRANSPARENT
END:VEVENT
BEGIN:VEVENT
UID:kw-2290-19@kalenderwoche.info
DTSTAMP:20260422T230826Z
DTSTART;VALUE=DATE:22900505
DTEND;VALUE=DATE:22900512
SUMMARY:KW 19 (ungerade)
DESCRIPTION:Kalenderwoche 19 im Jahr 2290\nMontag: 05.05.2290\nSonntag: 11.05.2290\nTyp: ungerade Woche\nMehr unter: https://kalenderwoche.info/2290/kw-19
URL:https://kalenderwoche.info/2290/kw-19
CATEGORIES:Kalenderwoche
TRANSP:TRANSPARENT
END:VEVENT
BEGIN:VEVENT
UID:kw-2290-20@kalenderwoche.info
DTSTAMP:20260422T230826Z
DTSTART;VALUE=DATE:22900512
DTEND;VALUE=DATE:22900519
SUMMARY:KW 20 (gerade)
DESCRIPTION:Kalenderwoche 20 im Jahr 2290\nMontag: 12.05.2290\nSonntag: 18.05.2290\nTyp: gerade Woche\nMehr unter: https://kalenderwoche.info/2290/kw-20
URL:https://kalenderwoche.info/2290/kw-20
CATEGORIES:Kalenderwoche
TRANSP:TRANSPARENT
END:VEVENT
BEGIN:VEVENT
UID:kw-2290-21@kalenderwoche.info
DTSTAMP:20260422T230826Z
DTSTART;VALUE=DATE:22900519
DTEND;VALUE=DATE:22900526
SUMMARY:KW 21 (ungerade)
DESCRIPTION:Kalenderwoche 21 im Jahr 2290\nMontag: 19.05.2290\nSonntag: 25.05.2290\nTyp: ungerade Woche\nMehr unter: https://kalenderwoche.info/2290/kw-21
URL:https://kalenderwoche.info/2290/kw-21
CATEGORIES:Kalenderwoche
TRANSP:TRANSPARENT
END:VEVENT
BEGIN:VEVENT
UID:kw-2290-22@kalenderwoche.info
DTSTAMP:20260422T230826Z
DTSTART;VALUE=DATE:22900526
DTEND;VALUE=DATE:22900602
SUMMARY:KW 22 (gerade)
DESCRIPTION:Kalenderwoche 22 im Jahr 2290\nMontag: 26.05.2290\nSonntag: 01.06.2290\nTyp: gerade Woche\nMehr unter: https://kalenderwoche.info/2290/kw-22
URL:https://kalenderwoche.info/2290/kw-22
CATEGORIES:Kalenderwoche
TRANSP:TRANSPARENT
END:VEVENT
BEGIN:VEVENT
UID:kw-2290-23@kalenderwoche.info
DTSTAMP:20260422T230826Z
DTSTART;VALUE=DATE:22900602
DTEND;VALUE=DATE:22900609
SUMMARY:KW 23 (ungerade)
DESCRIPTION:Kalenderwoche 23 im Jahr 2290\nMontag: 02.06.2290\nSonntag: 08.06.2290\nTyp: ungerade Woche\nMehr unter: https://kalenderwoche.info/2290/kw-23
URL:https://kalenderwoche.info/2290/kw-23
CATEGORIES:Kalenderwoche
TRANSP:TRANSPARENT
END:VEVENT
BEGIN:VEVENT
UID:kw-2290-24@kalenderwoche.info
DTSTAMP:20260422T230826Z
DTSTART;VALUE=DATE:22900609
DTEND;VALUE=DATE:22900616
SUMMARY:KW 24 (gerade)
DESCRIPTION:Kalenderwoche 24 im Jahr 2290\nMontag: 09.06.2290\nSonntag: 15.06.2290\nTyp: gerade Woche\nMehr unter: https://kalenderwoche.info/2290/kw-24
URL:https://kalenderwoche.info/2290/kw-24
CATEGORIES:Kalenderwoche
TRANSP:TRANSPARENT
END:VEVENT
BEGIN:VEVENT
UID:kw-2290-25@kalenderwoche.info
DTSTAMP:20260422T230826Z
DTSTART;VALUE=DATE:22900616
DTEND;VALUE=DATE:22900623
SUMMARY:KW 25 (ungerade)
DESCRIPTION:Kalenderwoche 25 im Jahr 2290\nMontag: 16.06.2290\nSonntag: 22.06.2290\nTyp: ungerade Woche\nMehr unter: https://kalenderwoche.info/2290/kw-25
URL:https://kalenderwoche.info/2290/kw-25
CATEGORIES:Kalenderwoche
TRANSP:TRANSPARENT
END:VEVENT
BEGIN:VEVENT
UID:kw-2290-26@kalenderwoche.info
DTSTAMP:20260422T230826Z
DTSTART;VALUE=DATE:22900623
DTEND;VALUE=DATE:22900630
SUMMARY:KW 26 (gerade)
DESCRIPTION:Kalenderwoche 26 im Jahr 2290\nMontag: 23.06.2290\nSonntag: 29.06.2290\nTyp: gerade Woche\nMehr unter: https://kalenderwoche.info/2290/kw-26
URL:https://kalenderwoche.info/2290/kw-26
CATEGORIES:Kalenderwoche
TRANSP:TRANSPARENT
END:VEVENT
BEGIN:VEVENT
UID:kw-2290-27@kalenderwoche.info
DTSTAMP:20260422T230826Z
DTSTART;VALUE=DATE:22900630
DTEND;VALUE=DATE:22900707
SUMMARY:KW 27 (ungerade)
DESCRIPTION:Kalenderwoche 27 im Jahr 2290\nMontag: 30.06.2290\nSonntag: 06.07.2290\nTyp: ungerade Woche\nMehr unter: https://kalenderwoche.info/2290/kw-27
URL:https://kalenderwoche.info/2290/kw-27
CATEGORIES:Kalenderwoche
TRANSP:TRANSPARENT
END:VEVENT
BEGIN:VEVENT
UID:kw-2290-28@kalenderwoche.info
DTSTAMP:20260422T230826Z
DTSTART;VALUE=DATE:22900707
DTEND;VALUE=DATE:22900714
SUMMARY:KW 28 (gerade)
DESCRIPTION:Kalenderwoche 28 im Jahr 2290\nMontag: 07.07.2290\nSonntag: 13.07.2290\nTyp: gerade Woche\nMehr unter: https://kalenderwoche.info/2290/kw-28
URL:https://kalenderwoche.info/2290/kw-28
CATEGORIES:Kalenderwoche
TRANSP:TRANSPARENT
END:VEVENT
BEGIN:VEVENT
UID:kw-2290-29@kalenderwoche.info
DTSTAMP:20260422T230826Z
DTSTART;VALUE=DATE:22900714
DTEND;VALUE=DATE:22900721
SUMMARY:KW 29 (ungerade)
DESCRIPTION:Kalenderwoche 29 im Jahr 2290\nMontag: 14.07.2290\nSonntag: 20.07.2290\nTyp: ungerade Woche\nMehr unter: https://kalenderwoche.info/2290/kw-29
URL:https://kalenderwoche.info/2290/kw-29
CATEGORIES:Kalenderwoche
TRANSP:TRANSPARENT
END:VEVENT
BEGIN:VEVENT
UID:kw-2290-30@kalenderwoche.info
DTSTAMP:20260422T230826Z
DTSTART;VALUE=DATE:22900721
DTEND;VALUE=DATE:22900728
SUMMARY:KW 30 (gerade)
DESCRIPTION:Kalenderwoche 30 im Jahr 2290\nMontag: 21.07.2290\nSonntag: 27.07.2290\nTyp: gerade Woche\nMehr unter: https://kalenderwoche.info/2290/kw-30
URL:https://kalenderwoche.info/2290/kw-30
CATEGORIES:Kalenderwoche
TRANSP:TRANSPARENT
END:VEVENT
BEGIN:VEVENT
UID:kw-2290-31@kalenderwoche.info
DTSTAMP:20260422T230826Z
DTSTART;VALUE=DATE:22900728
DTEND;VALUE=DATE:22900804
SUMMARY:KW 31 (ungerade)
DESCRIPTION:Kalenderwoche 31 im Jahr 2290\nMontag: 28.07.2290\nSonntag: 03.08.2290\nTyp: ungerade Woche\nMehr unter: https://kalenderwoche.info/2290/kw-31
URL:https://kalenderwoche.info/2290/kw-31
CATEGORIES:Kalenderwoche
TRANSP:TRANSPARENT
END:VEVENT
BEGIN:VEVENT
UID:kw-2290-32@kalenderwoche.info
DTSTAMP:20260422T230826Z
DTSTART;VALUE=DATE:22900804
DTEND;VALUE=DATE:22900811
SUMMARY:KW 32 (gerade)
DESCRIPTION:Kalenderwoche 32 im Jahr 2290\nMontag: 04.08.2290\nSonntag: 10.08.2290\nTyp: gerade Woche\nMehr unter: https://kalenderwoche.info/2290/kw-32
URL:https://kalenderwoche.info/2290/kw-32
CATEGORIES:Kalenderwoche
TRANSP:TRANSPARENT
END:VEVENT
BEGIN:VEVENT
UID:kw-2290-33@kalenderwoche.info
DTSTAMP:20260422T230826Z
DTSTART;VALUE=DATE:22900811
DTEND;VALUE=DATE:22900818
SUMMARY:KW 33 (ungerade)
DESCRIPTION:Kalenderwoche 33 im Jahr 2290\nMontag: 11.08.2290\nSonntag: 17.08.2290\nTyp: ungerade Woche\nMehr unter: https://kalenderwoche.info/2290/kw-33
URL:https://kalenderwoche.info/2290/kw-33
CATEGORIES:Kalenderwoche
TRANSP:TRANSPARENT
END:VEVENT
BEGIN:VEVENT
UID:kw-2290-34@kalenderwoche.info
DTSTAMP:20260422T230826Z
DTSTART;VALUE=DATE:22900818
DTEND;VALUE=DATE:22900825
SUMMARY:KW 34 (gerade)
DESCRIPTION:Kalenderwoche 34 im Jahr 2290\nMontag: 18.08.2290\nSonntag: 24.08.2290\nTyp: gerade Woche\nMehr unter: https://kalenderwoche.info/2290/kw-34
URL:https://kalenderwoche.info/2290/kw-34
CATEGORIES:Kalenderwoche
TRANSP:TRANSPARENT
END:VEVENT
BEGIN:VEVENT
UID:kw-2290-35@kalenderwoche.info
DTSTAMP:20260422T230826Z
DTSTART;VALUE=DATE:22900825
DTEND;VALUE=DATE:22900901
SUMMARY:KW 35 (ungerade)
DESCRIPTION:Kalenderwoche 35 im Jahr 2290\nMontag: 25.08.2290\nSonntag: 31.08.2290\nTyp: ungerade Woche\nMehr unter: https://kalenderwoche.info/2290/kw-35
URL:https://kalenderwoche.info/2290/kw-35
CATEGORIES:Kalenderwoche
TRANSP:TRANSPARENT
END:VEVENT
BEGIN:VEVENT
UID:kw-2290-36@kalenderwoche.info
DTSTAMP:20260422T230826Z
DTSTART;VALUE=DATE:22900901
DTEND;VALUE=DATE:22900908
SUMMARY:KW 36 (gerade)
DESCRIPTION:Kalenderwoche 36 im Jahr 2290\nMontag: 01.09.2290\nSonntag: 07.09.2290\nTyp: gerade Woche\nMehr unter: https://kalenderwoche.info/2290/kw-36
URL:https://kalenderwoche.info/2290/kw-36
CATEGORIES:Kalenderwoche
TRANSP:TRANSPARENT
END:VEVENT
BEGIN:VEVENT
UID:kw-2290-37@kalenderwoche.info
DTSTAMP:20260422T230826Z
DTSTART;VALUE=DATE:22900908
DTEND;VALUE=DATE:22900915
SUMMARY:KW 37 (ungerade)
DESCRIPTION:Kalenderwoche 37 im Jahr 2290\nMontag: 08.09.2290\nSonntag: 14.09.2290\nTyp: ungerade Woche\nMehr unter: https://kalenderwoche.info/2290/kw-37
URL:https://kalenderwoche.info/2290/kw-37
CATEGORIES:Kalenderwoche
TRANSP:TRANSPARENT
END:VEVENT
BEGIN:VEVENT
UID:kw-2290-38@kalenderwoche.info
DTSTAMP:20260422T230826Z
DTSTART;VALUE=DATE:22900915
DTEND;VALUE=DATE:22900922
SUMMARY:KW 38 (gerade)
DESCRIPTION:Kalenderwoche 38 im Jahr 2290\nMontag: 15.09.2290\nSonntag: 21.09.2290\nTyp: gerade Woche\nMehr unter: https://kalenderwoche.info/2290/kw-38
URL:https://kalenderwoche.info/2290/kw-38
CATEGORIES:Kalenderwoche
TRANSP:TRANSPARENT
END:VEVENT
BEGIN:VEVENT
UID:kw-2290-39@kalenderwoche.info
DTSTAMP:20260422T230826Z
DTSTART;VALUE=DATE:22900922
DTEND;VALUE=DATE:22900929
SUMMARY:KW 39 (ungerade)
DESCRIPTION:Kalenderwoche 39 im Jahr 2290\nMontag: 22.09.2290\nSonntag: 28.09.2290\nTyp: ungerade Woche\nMehr unter: https://kalenderwoche.info/2290/kw-39
URL:https://kalenderwoche.info/2290/kw-39
CATEGORIES:Kalenderwoche
TRANSP:TRANSPARENT
END:VEVENT
BEGIN:VEVENT
UID:kw-2290-40@kalenderwoche.info
DTSTAMP:20260422T230826Z
DTSTART;VALUE=DATE:22900929
DTEND;VALUE=DATE:22901006
SUMMARY:KW 40 (gerade)
DESCRIPTION:Kalenderwoche 40 im Jahr 2290\nMontag: 29.09.2290\nSonntag: 05.10.2290\nTyp: gerade Woche\nMehr unter: https://kalenderwoche.info/2290/kw-40
URL:https://kalenderwoche.info/2290/kw-40
CATEGORIES:Kalenderwoche
TRANSP:TRANSPARENT
END:VEVENT
BEGIN:VEVENT
UID:kw-2290-41@kalenderwoche.info
DTSTAMP:20260422T230826Z
DTSTART;VALUE=DATE:22901006
DTEND;VALUE=DATE:22901013
SUMMARY:KW 41 (ungerade)
DESCRIPTION:Kalenderwoche 41 im Jahr 2290\nMontag: 06.10.2290\nSonntag: 12.10.2290\nTyp: ungerade Woche\nMehr unter: https://kalenderwoche.info/2290/kw-41
URL:https://kalenderwoche.info/2290/kw-41
CATEGORIES:Kalenderwoche
TRANSP:TRANSPARENT
END:VEVENT
BEGIN:VEVENT
UID:kw-2290-42@kalenderwoche.info
DTSTAMP:20260422T230826Z
DTSTART;VALUE=DATE:22901013
DTEND;VALUE=DATE:22901020
SUMMARY:KW 42 (gerade)
DESCRIPTION:Kalenderwoche 42 im Jahr 2290\nMontag: 13.10.2290\nSonntag: 19.10.2290\nTyp: gerade Woche\nMehr unter: https://kalenderwoche.info/2290/kw-42
URL:https://kalenderwoche.info/2290/kw-42
CATEGORIES:Kalenderwoche
TRANSP:TRANSPARENT
END:VEVENT
BEGIN:VEVENT
UID:kw-2290-43@kalenderwoche.info
DTSTAMP:20260422T230826Z
DTSTART;VALUE=DATE:22901020
DTEND;VALUE=DATE:22901027
SUMMARY:KW 43 (ungerade)
DESCRIPTION:Kalenderwoche 43 im Jahr 2290\nMontag: 20.10.2290\nSonntag: 26.10.2290\nTyp: ungerade Woche\nMehr unter: https://kalenderwoche.info/2290/kw-43
URL:https://kalenderwoche.info/2290/kw-43
CATEGORIES:Kalenderwoche
TRANSP:TRANSPARENT
END:VEVENT
BEGIN:VEVENT
UID:kw-2290-44@kalenderwoche.info
DTSTAMP:20260422T230826Z
DTSTART;VALUE=DATE:22901027
DTEND;VALUE=DATE:22901103
SUMMARY:KW 44 (gerade)
DESCRIPTION:Kalenderwoche 44 im Jahr 2290\nMontag: 27.10.2290\nSonntag: 02.11.2290\nTyp: gerade Woche\nMehr unter: https://kalenderwoche.info/2290/kw-44
URL:https://kalenderwoche.info/2290/kw-44
CATEGORIES:Kalenderwoche
TRANSP:TRANSPARENT
END:VEVENT
BEGIN:VEVENT
UID:kw-2290-45@kalenderwoche.info
DTSTAMP:20260422T230826Z
DTSTART;VALUE=DATE:22901103
DTEND;VALUE=DATE:22901110
SUMMARY:KW 45 (ungerade)
DESCRIPTION:Kalenderwoche 45 im Jahr 2290\nMontag: 03.11.2290\nSonntag: 09.11.2290\nTyp: ungerade Woche\nMehr unter: https://kalenderwoche.info/2290/kw-45
URL:https://kalenderwoche.info/2290/kw-45
CATEGORIES:Kalenderwoche
TRANSP:TRANSPARENT
END:VEVENT
BEGIN:VEVENT
UID:kw-2290-46@kalenderwoche.info
DTSTAMP:20260422T230826Z
DTSTART;VALUE=DATE:22901110
DTEND;VALUE=DATE:22901117
SUMMARY:KW 46 (gerade)
DESCRIPTION:Kalenderwoche 46 im Jahr 2290\nMontag: 10.11.2290\nSonntag: 16.11.2290\nTyp: gerade Woche\nMehr unter: https://kalenderwoche.info/2290/kw-46
URL:https://kalenderwoche.info/2290/kw-46
CATEGORIES:Kalenderwoche
TRANSP:TRANSPARENT
END:VEVENT
BEGIN:VEVENT
UID:kw-2290-47@kalenderwoche.info
DTSTAMP:20260422T230826Z
DTSTART;VALUE=DATE:22901117
DTEND;VALUE=DATE:22901124
SUMMARY:KW 47 (ungerade)
DESCRIPTION:Kalenderwoche 47 im Jahr 2290\nMontag: 17.11.2290\nSonntag: 23.11.2290\nTyp: ungerade Woche\nMehr unter: https://kalenderwoche.info/2290/kw-47
URL:https://kalenderwoche.info/2290/kw-47
CATEGORIES:Kalenderwoche
TRANSP:TRANSPARENT
END:VEVENT
BEGIN:VEVENT
UID:kw-2290-48@kalenderwoche.info
DTSTAMP:20260422T230826Z
DTSTART;VALUE=DATE:22901124
DTEND;VALUE=DATE:22901201
SUMMARY:KW 48 (gerade)
DESCRIPTION:Kalenderwoche 48 im Jahr 2290\nMontag: 24.11.2290\nSonntag: 30.11.2290\nTyp: gerade Woche\nMehr unter: https://kalenderwoche.info/2290/kw-48
URL:https://kalenderwoche.info/2290/kw-48
CATEGORIES:Kalenderwoche
TRANSP:TRANSPARENT
END:VEVENT
BEGIN:VEVENT
UID:kw-2290-49@kalenderwoche.info
DTSTAMP:20260422T230826Z
DTSTART;VALUE=DATE:22901201
DTEND;VALUE=DATE:22901208
SUMMARY:KW 49 (ungerade)
DESCRIPTION:Kalenderwoche 49 im Jahr 2290\nMontag: 01.12.2290\nSonntag: 07.12.2290\nTyp: ungerade Woche\nMehr unter: https://kalenderwoche.info/2290/kw-49
URL:https://kalenderwoche.info/2290/kw-49
CATEGORIES:Kalenderwoche
TRANSP:TRANSPARENT
END:VEVENT
BEGIN:VEVENT
UID:kw-2290-50@kalenderwoche.info
DTSTAMP:20260422T230826Z
DTSTART;VALUE=DATE:22901208
DTEND;VALUE=DATE:22901215
SUMMARY:KW 50 (gerade)
DESCRIPTION:Kalenderwoche 50 im Jahr 2290\nMontag: 08.12.2290\nSonntag: 14.12.2290\nTyp: gerade Woche\nMehr unter: https://kalenderwoche.info/2290/kw-50
URL:https://kalenderwoche.info/2290/kw-50
CATEGORIES:Kalenderwoche
TRANSP:TRANSPARENT
END:VEVENT
BEGIN:VEVENT
UID:kw-2290-51@kalenderwoche.info
DTSTAMP:20260422T230826Z
DTSTART;VALUE=DATE:22901215
DTEND;VALUE=DATE:22901222
SUMMARY:KW 51 (ungerade)
DESCRIPTION:Kalenderwoche 51 im Jahr 2290\nMontag: 15.12.2290\nSonntag: 21.12.2290\nTyp: ungerade Woche\nMehr unter: https://kalenderwoche.info/2290/kw-51
URL:https://kalenderwoche.info/2290/kw-51
CATEGORIES:Kalenderwoche
TRANSP:TRANSPARENT
END:VEVENT
BEGIN:VEVENT
UID:kw-2290-52@kalenderwoche.info
DTSTAMP:20260422T230826Z
DTSTART;VALUE=DATE:22901222
DTEND;VALUE=DATE:22901229
SUMMARY:KW 52 (gerade)
DESCRIPTION:Kalenderwoche 52 im Jahr 2290\nMontag: 22.12.2290\nSonntag: 28.12.2290\nTyp: gerade Woche\nMehr unter: https://kalenderwoche.info/2290/kw-52
URL:https://kalenderwoche.info/2290/kw-52
CATEGORIES:Kalenderwoche
TRANSP:TRANSPARENT
END:VEVENT
END:VCALENDAR
