BEGIN:VCALENDAR
VERSION:2.0
PRODID:-//kalenderwoche.info//Kalender//DE
CALSCALE:GREGORIAN
METHOD:PUBLISH
X-WR-CALNAME:Kalenderwochen 2292
X-WR-CALDESC:Alle Kalenderwochen für das Jahr 2292
X-WR-TIMEZONE:Europe/Berlin
BEGIN:VEVENT
UID:kw-2292-1@kalenderwoche.info
DTSTAMP:20260423T020100Z
DTSTART;VALUE=DATE:22920104
DTEND;VALUE=DATE:22920111
SUMMARY:KW 1 (ungerade)
DESCRIPTION:Kalenderwoche 1 im Jahr 2292\nMontag: 04.01.2292\nSonntag: 10.01.2292\nTyp: ungerade Woche\nMehr unter: https://kalenderwoche.info/2292/kw-1
URL:https://kalenderwoche.info/2292/kw-1
CATEGORIES:Kalenderwoche
TRANSP:TRANSPARENT
END:VEVENT
BEGIN:VEVENT
UID:kw-2292-2@kalenderwoche.info
DTSTAMP:20260423T020100Z
DTSTART;VALUE=DATE:22920111
DTEND;VALUE=DATE:22920118
SUMMARY:KW 2 (gerade)
DESCRIPTION:Kalenderwoche 2 im Jahr 2292\nMontag: 11.01.2292\nSonntag: 17.01.2292\nTyp: gerade Woche\nMehr unter: https://kalenderwoche.info/2292/kw-2
URL:https://kalenderwoche.info/2292/kw-2
CATEGORIES:Kalenderwoche
TRANSP:TRANSPARENT
END:VEVENT
BEGIN:VEVENT
UID:kw-2292-3@kalenderwoche.info
DTSTAMP:20260423T020100Z
DTSTART;VALUE=DATE:22920118
DTEND;VALUE=DATE:22920125
SUMMARY:KW 3 (ungerade)
DESCRIPTION:Kalenderwoche 3 im Jahr 2292\nMontag: 18.01.2292\nSonntag: 24.01.2292\nTyp: ungerade Woche\nMehr unter: https://kalenderwoche.info/2292/kw-3
URL:https://kalenderwoche.info/2292/kw-3
CATEGORIES:Kalenderwoche
TRANSP:TRANSPARENT
END:VEVENT
BEGIN:VEVENT
UID:kw-2292-4@kalenderwoche.info
DTSTAMP:20260423T020100Z
DTSTART;VALUE=DATE:22920125
DTEND;VALUE=DATE:22920201
SUMMARY:KW 4 (gerade)
DESCRIPTION:Kalenderwoche 4 im Jahr 2292\nMontag: 25.01.2292\nSonntag: 31.01.2292\nTyp: gerade Woche\nMehr unter: https://kalenderwoche.info/2292/kw-4
URL:https://kalenderwoche.info/2292/kw-4
CATEGORIES:Kalenderwoche
TRANSP:TRANSPARENT
END:VEVENT
BEGIN:VEVENT
UID:kw-2292-5@kalenderwoche.info
DTSTAMP:20260423T020100Z
DTSTART;VALUE=DATE:22920201
DTEND;VALUE=DATE:22920208
SUMMARY:KW 5 (ungerade)
DESCRIPTION:Kalenderwoche 5 im Jahr 2292\nMontag: 01.02.2292\nSonntag: 07.02.2292\nTyp: ungerade Woche\nMehr unter: https://kalenderwoche.info/2292/kw-5
URL:https://kalenderwoche.info/2292/kw-5
CATEGORIES:Kalenderwoche
TRANSP:TRANSPARENT
END:VEVENT
BEGIN:VEVENT
UID:kw-2292-6@kalenderwoche.info
DTSTAMP:20260423T020100Z
DTSTART;VALUE=DATE:22920208
DTEND;VALUE=DATE:22920215
SUMMARY:KW 6 (gerade)
DESCRIPTION:Kalenderwoche 6 im Jahr 2292\nMontag: 08.02.2292\nSonntag: 14.02.2292\nTyp: gerade Woche\nMehr unter: https://kalenderwoche.info/2292/kw-6
URL:https://kalenderwoche.info/2292/kw-6
CATEGORIES:Kalenderwoche
TRANSP:TRANSPARENT
END:VEVENT
BEGIN:VEVENT
UID:kw-2292-7@kalenderwoche.info
DTSTAMP:20260423T020100Z
DTSTART;VALUE=DATE:22920215
DTEND;VALUE=DATE:22920222
SUMMARY:KW 7 (ungerade)
DESCRIPTION:Kalenderwoche 7 im Jahr 2292\nMontag: 15.02.2292\nSonntag: 21.02.2292\nTyp: ungerade Woche\nMehr unter: https://kalenderwoche.info/2292/kw-7
URL:https://kalenderwoche.info/2292/kw-7
CATEGORIES:Kalenderwoche
TRANSP:TRANSPARENT
END:VEVENT
BEGIN:VEVENT
UID:kw-2292-8@kalenderwoche.info
DTSTAMP:20260423T020100Z
DTSTART;VALUE=DATE:22920222
DTEND;VALUE=DATE:22920229
SUMMARY:KW 8 (gerade)
DESCRIPTION:Kalenderwoche 8 im Jahr 2292\nMontag: 22.02.2292\nSonntag: 28.02.2292\nTyp: gerade Woche\nMehr unter: https://kalenderwoche.info/2292/kw-8
URL:https://kalenderwoche.info/2292/kw-8
CATEGORIES:Kalenderwoche
TRANSP:TRANSPARENT
END:VEVENT
BEGIN:VEVENT
UID:kw-2292-9@kalenderwoche.info
DTSTAMP:20260423T020100Z
DTSTART;VALUE=DATE:22920229
DTEND;VALUE=DATE:22920307
SUMMARY:KW 9 (ungerade)
DESCRIPTION:Kalenderwoche 9 im Jahr 2292\nMontag: 29.02.2292\nSonntag: 06.03.2292\nTyp: ungerade Woche\nMehr unter: https://kalenderwoche.info/2292/kw-9
URL:https://kalenderwoche.info/2292/kw-9
CATEGORIES:Kalenderwoche
TRANSP:TRANSPARENT
END:VEVENT
BEGIN:VEVENT
UID:kw-2292-10@kalenderwoche.info
DTSTAMP:20260423T020100Z
DTSTART;VALUE=DATE:22920307
DTEND;VALUE=DATE:22920314
SUMMARY:KW 10 (gerade)
DESCRIPTION:Kalenderwoche 10 im Jahr 2292\nMontag: 07.03.2292\nSonntag: 13.03.2292\nTyp: gerade Woche\nMehr unter: https://kalenderwoche.info/2292/kw-10
URL:https://kalenderwoche.info/2292/kw-10
CATEGORIES:Kalenderwoche
TRANSP:TRANSPARENT
END:VEVENT
BEGIN:VEVENT
UID:kw-2292-11@kalenderwoche.info
DTSTAMP:20260423T020100Z
DTSTART;VALUE=DATE:22920314
DTEND;VALUE=DATE:22920321
SUMMARY:KW 11 (ungerade)
DESCRIPTION:Kalenderwoche 11 im Jahr 2292\nMontag: 14.03.2292\nSonntag: 20.03.2292\nTyp: ungerade Woche\nMehr unter: https://kalenderwoche.info/2292/kw-11
URL:https://kalenderwoche.info/2292/kw-11
CATEGORIES:Kalenderwoche
TRANSP:TRANSPARENT
END:VEVENT
BEGIN:VEVENT
UID:kw-2292-12@kalenderwoche.info
DTSTAMP:20260423T020100Z
DTSTART;VALUE=DATE:22920321
DTEND;VALUE=DATE:22920328
SUMMARY:KW 12 (gerade)
DESCRIPTION:Kalenderwoche 12 im Jahr 2292\nMontag: 21.03.2292\nSonntag: 27.03.2292\nTyp: gerade Woche\nMehr unter: https://kalenderwoche.info/2292/kw-12
URL:https://kalenderwoche.info/2292/kw-12
CATEGORIES:Kalenderwoche
TRANSP:TRANSPARENT
END:VEVENT
BEGIN:VEVENT
UID:kw-2292-13@kalenderwoche.info
DTSTAMP:20260423T020100Z
DTSTART;VALUE=DATE:22920328
DTEND;VALUE=DATE:22920404
SUMMARY:KW 13 (ungerade)
DESCRIPTION:Kalenderwoche 13 im Jahr 2292\nMontag: 28.03.2292\nSonntag: 03.04.2292\nTyp: ungerade Woche\nMehr unter: https://kalenderwoche.info/2292/kw-13
URL:https://kalenderwoche.info/2292/kw-13
CATEGORIES:Kalenderwoche
TRANSP:TRANSPARENT
END:VEVENT
BEGIN:VEVENT
UID:kw-2292-14@kalenderwoche.info
DTSTAMP:20260423T020100Z
DTSTART;VALUE=DATE:22920404
DTEND;VALUE=DATE:22920411
SUMMARY:KW 14 (gerade)
DESCRIPTION:Kalenderwoche 14 im Jahr 2292\nMontag: 04.04.2292\nSonntag: 10.04.2292\nTyp: gerade Woche\nMehr unter: https://kalenderwoche.info/2292/kw-14
URL:https://kalenderwoche.info/2292/kw-14
CATEGORIES:Kalenderwoche
TRANSP:TRANSPARENT
END:VEVENT
BEGIN:VEVENT
UID:kw-2292-15@kalenderwoche.info
DTSTAMP:20260423T020100Z
DTSTART;VALUE=DATE:22920411
DTEND;VALUE=DATE:22920418
SUMMARY:KW 15 (ungerade)
DESCRIPTION:Kalenderwoche 15 im Jahr 2292\nMontag: 11.04.2292\nSonntag: 17.04.2292\nTyp: ungerade Woche\nMehr unter: https://kalenderwoche.info/2292/kw-15
URL:https://kalenderwoche.info/2292/kw-15
CATEGORIES:Kalenderwoche
TRANSP:TRANSPARENT
END:VEVENT
BEGIN:VEVENT
UID:kw-2292-16@kalenderwoche.info
DTSTAMP:20260423T020100Z
DTSTART;VALUE=DATE:22920418
DTEND;VALUE=DATE:22920425
SUMMARY:KW 16 (gerade)
DESCRIPTION:Kalenderwoche 16 im Jahr 2292\nMontag: 18.04.2292\nSonntag: 24.04.2292\nTyp: gerade Woche\nMehr unter: https://kalenderwoche.info/2292/kw-16
URL:https://kalenderwoche.info/2292/kw-16
CATEGORIES:Kalenderwoche
TRANSP:TRANSPARENT
END:VEVENT
BEGIN:VEVENT
UID:kw-2292-17@kalenderwoche.info
DTSTAMP:20260423T020100Z
DTSTART;VALUE=DATE:22920425
DTEND;VALUE=DATE:22920502
SUMMARY:KW 17 (ungerade)
DESCRIPTION:Kalenderwoche 17 im Jahr 2292\nMontag: 25.04.2292\nSonntag: 01.05.2292\nTyp: ungerade Woche\nMehr unter: https://kalenderwoche.info/2292/kw-17
URL:https://kalenderwoche.info/2292/kw-17
CATEGORIES:Kalenderwoche
TRANSP:TRANSPARENT
END:VEVENT
BEGIN:VEVENT
UID:kw-2292-18@kalenderwoche.info
DTSTAMP:20260423T020100Z
DTSTART;VALUE=DATE:22920502
DTEND;VALUE=DATE:22920509
SUMMARY:KW 18 (gerade)
DESCRIPTION:Kalenderwoche 18 im Jahr 2292\nMontag: 02.05.2292\nSonntag: 08.05.2292\nTyp: gerade Woche\nMehr unter: https://kalenderwoche.info/2292/kw-18
URL:https://kalenderwoche.info/2292/kw-18
CATEGORIES:Kalenderwoche
TRANSP:TRANSPARENT
END:VEVENT
BEGIN:VEVENT
UID:kw-2292-19@kalenderwoche.info
DTSTAMP:20260423T020100Z
DTSTART;VALUE=DATE:22920509
DTEND;VALUE=DATE:22920516
SUMMARY:KW 19 (ungerade)
DESCRIPTION:Kalenderwoche 19 im Jahr 2292\nMontag: 09.05.2292\nSonntag: 15.05.2292\nTyp: ungerade Woche\nMehr unter: https://kalenderwoche.info/2292/kw-19
URL:https://kalenderwoche.info/2292/kw-19
CATEGORIES:Kalenderwoche
TRANSP:TRANSPARENT
END:VEVENT
BEGIN:VEVENT
UID:kw-2292-20@kalenderwoche.info
DTSTAMP:20260423T020100Z
DTSTART;VALUE=DATE:22920516
DTEND;VALUE=DATE:22920523
SUMMARY:KW 20 (gerade)
DESCRIPTION:Kalenderwoche 20 im Jahr 2292\nMontag: 16.05.2292\nSonntag: 22.05.2292\nTyp: gerade Woche\nMehr unter: https://kalenderwoche.info/2292/kw-20
URL:https://kalenderwoche.info/2292/kw-20
CATEGORIES:Kalenderwoche
TRANSP:TRANSPARENT
END:VEVENT
BEGIN:VEVENT
UID:kw-2292-21@kalenderwoche.info
DTSTAMP:20260423T020100Z
DTSTART;VALUE=DATE:22920523
DTEND;VALUE=DATE:22920530
SUMMARY:KW 21 (ungerade)
DESCRIPTION:Kalenderwoche 21 im Jahr 2292\nMontag: 23.05.2292\nSonntag: 29.05.2292\nTyp: ungerade Woche\nMehr unter: https://kalenderwoche.info/2292/kw-21
URL:https://kalenderwoche.info/2292/kw-21
CATEGORIES:Kalenderwoche
TRANSP:TRANSPARENT
END:VEVENT
BEGIN:VEVENT
UID:kw-2292-22@kalenderwoche.info
DTSTAMP:20260423T020100Z
DTSTART;VALUE=DATE:22920530
DTEND;VALUE=DATE:22920606
SUMMARY:KW 22 (gerade)
DESCRIPTION:Kalenderwoche 22 im Jahr 2292\nMontag: 30.05.2292\nSonntag: 05.06.2292\nTyp: gerade Woche\nMehr unter: https://kalenderwoche.info/2292/kw-22
URL:https://kalenderwoche.info/2292/kw-22
CATEGORIES:Kalenderwoche
TRANSP:TRANSPARENT
END:VEVENT
BEGIN:VEVENT
UID:kw-2292-23@kalenderwoche.info
DTSTAMP:20260423T020100Z
DTSTART;VALUE=DATE:22920606
DTEND;VALUE=DATE:22920613
SUMMARY:KW 23 (ungerade)
DESCRIPTION:Kalenderwoche 23 im Jahr 2292\nMontag: 06.06.2292\nSonntag: 12.06.2292\nTyp: ungerade Woche\nMehr unter: https://kalenderwoche.info/2292/kw-23
URL:https://kalenderwoche.info/2292/kw-23
CATEGORIES:Kalenderwoche
TRANSP:TRANSPARENT
END:VEVENT
BEGIN:VEVENT
UID:kw-2292-24@kalenderwoche.info
DTSTAMP:20260423T020100Z
DTSTART;VALUE=DATE:22920613
DTEND;VALUE=DATE:22920620
SUMMARY:KW 24 (gerade)
DESCRIPTION:Kalenderwoche 24 im Jahr 2292\nMontag: 13.06.2292\nSonntag: 19.06.2292\nTyp: gerade Woche\nMehr unter: https://kalenderwoche.info/2292/kw-24
URL:https://kalenderwoche.info/2292/kw-24
CATEGORIES:Kalenderwoche
TRANSP:TRANSPARENT
END:VEVENT
BEGIN:VEVENT
UID:kw-2292-25@kalenderwoche.info
DTSTAMP:20260423T020100Z
DTSTART;VALUE=DATE:22920620
DTEND;VALUE=DATE:22920627
SUMMARY:KW 25 (ungerade)
DESCRIPTION:Kalenderwoche 25 im Jahr 2292\nMontag: 20.06.2292\nSonntag: 26.06.2292\nTyp: ungerade Woche\nMehr unter: https://kalenderwoche.info/2292/kw-25
URL:https://kalenderwoche.info/2292/kw-25
CATEGORIES:Kalenderwoche
TRANSP:TRANSPARENT
END:VEVENT
BEGIN:VEVENT
UID:kw-2292-26@kalenderwoche.info
DTSTAMP:20260423T020100Z
DTSTART;VALUE=DATE:22920627
DTEND;VALUE=DATE:22920704
SUMMARY:KW 26 (gerade)
DESCRIPTION:Kalenderwoche 26 im Jahr 2292\nMontag: 27.06.2292\nSonntag: 03.07.2292\nTyp: gerade Woche\nMehr unter: https://kalenderwoche.info/2292/kw-26
URL:https://kalenderwoche.info/2292/kw-26
CATEGORIES:Kalenderwoche
TRANSP:TRANSPARENT
END:VEVENT
BEGIN:VEVENT
UID:kw-2292-27@kalenderwoche.info
DTSTAMP:20260423T020100Z
DTSTART;VALUE=DATE:22920704
DTEND;VALUE=DATE:22920711
SUMMARY:KW 27 (ungerade)
DESCRIPTION:Kalenderwoche 27 im Jahr 2292\nMontag: 04.07.2292\nSonntag: 10.07.2292\nTyp: ungerade Woche\nMehr unter: https://kalenderwoche.info/2292/kw-27
URL:https://kalenderwoche.info/2292/kw-27
CATEGORIES:Kalenderwoche
TRANSP:TRANSPARENT
END:VEVENT
BEGIN:VEVENT
UID:kw-2292-28@kalenderwoche.info
DTSTAMP:20260423T020100Z
DTSTART;VALUE=DATE:22920711
DTEND;VALUE=DATE:22920718
SUMMARY:KW 28 (gerade)
DESCRIPTION:Kalenderwoche 28 im Jahr 2292\nMontag: 11.07.2292\nSonntag: 17.07.2292\nTyp: gerade Woche\nMehr unter: https://kalenderwoche.info/2292/kw-28
URL:https://kalenderwoche.info/2292/kw-28
CATEGORIES:Kalenderwoche
TRANSP:TRANSPARENT
END:VEVENT
BEGIN:VEVENT
UID:kw-2292-29@kalenderwoche.info
DTSTAMP:20260423T020100Z
DTSTART;VALUE=DATE:22920718
DTEND;VALUE=DATE:22920725
SUMMARY:KW 29 (ungerade)
DESCRIPTION:Kalenderwoche 29 im Jahr 2292\nMontag: 18.07.2292\nSonntag: 24.07.2292\nTyp: ungerade Woche\nMehr unter: https://kalenderwoche.info/2292/kw-29
URL:https://kalenderwoche.info/2292/kw-29
CATEGORIES:Kalenderwoche
TRANSP:TRANSPARENT
END:VEVENT
BEGIN:VEVENT
UID:kw-2292-30@kalenderwoche.info
DTSTAMP:20260423T020100Z
DTSTART;VALUE=DATE:22920725
DTEND;VALUE=DATE:22920801
SUMMARY:KW 30 (gerade)
DESCRIPTION:Kalenderwoche 30 im Jahr 2292\nMontag: 25.07.2292\nSonntag: 31.07.2292\nTyp: gerade Woche\nMehr unter: https://kalenderwoche.info/2292/kw-30
URL:https://kalenderwoche.info/2292/kw-30
CATEGORIES:Kalenderwoche
TRANSP:TRANSPARENT
END:VEVENT
BEGIN:VEVENT
UID:kw-2292-31@kalenderwoche.info
DTSTAMP:20260423T020100Z
DTSTART;VALUE=DATE:22920801
DTEND;VALUE=DATE:22920808
SUMMARY:KW 31 (ungerade)
DESCRIPTION:Kalenderwoche 31 im Jahr 2292\nMontag: 01.08.2292\nSonntag: 07.08.2292\nTyp: ungerade Woche\nMehr unter: https://kalenderwoche.info/2292/kw-31
URL:https://kalenderwoche.info/2292/kw-31
CATEGORIES:Kalenderwoche
TRANSP:TRANSPARENT
END:VEVENT
BEGIN:VEVENT
UID:kw-2292-32@kalenderwoche.info
DTSTAMP:20260423T020100Z
DTSTART;VALUE=DATE:22920808
DTEND;VALUE=DATE:22920815
SUMMARY:KW 32 (gerade)
DESCRIPTION:Kalenderwoche 32 im Jahr 2292\nMontag: 08.08.2292\nSonntag: 14.08.2292\nTyp: gerade Woche\nMehr unter: https://kalenderwoche.info/2292/kw-32
URL:https://kalenderwoche.info/2292/kw-32
CATEGORIES:Kalenderwoche
TRANSP:TRANSPARENT
END:VEVENT
BEGIN:VEVENT
UID:kw-2292-33@kalenderwoche.info
DTSTAMP:20260423T020100Z
DTSTART;VALUE=DATE:22920815
DTEND;VALUE=DATE:22920822
SUMMARY:KW 33 (ungerade)
DESCRIPTION:Kalenderwoche 33 im Jahr 2292\nMontag: 15.08.2292\nSonntag: 21.08.2292\nTyp: ungerade Woche\nMehr unter: https://kalenderwoche.info/2292/kw-33
URL:https://kalenderwoche.info/2292/kw-33
CATEGORIES:Kalenderwoche
TRANSP:TRANSPARENT
END:VEVENT
BEGIN:VEVENT
UID:kw-2292-34@kalenderwoche.info
DTSTAMP:20260423T020100Z
DTSTART;VALUE=DATE:22920822
DTEND;VALUE=DATE:22920829
SUMMARY:KW 34 (gerade)
DESCRIPTION:Kalenderwoche 34 im Jahr 2292\nMontag: 22.08.2292\nSonntag: 28.08.2292\nTyp: gerade Woche\nMehr unter: https://kalenderwoche.info/2292/kw-34
URL:https://kalenderwoche.info/2292/kw-34
CATEGORIES:Kalenderwoche
TRANSP:TRANSPARENT
END:VEVENT
BEGIN:VEVENT
UID:kw-2292-35@kalenderwoche.info
DTSTAMP:20260423T020100Z
DTSTART;VALUE=DATE:22920829
DTEND;VALUE=DATE:22920905
SUMMARY:KW 35 (ungerade)
DESCRIPTION:Kalenderwoche 35 im Jahr 2292\nMontag: 29.08.2292\nSonntag: 04.09.2292\nTyp: ungerade Woche\nMehr unter: https://kalenderwoche.info/2292/kw-35
URL:https://kalenderwoche.info/2292/kw-35
CATEGORIES:Kalenderwoche
TRANSP:TRANSPARENT
END:VEVENT
BEGIN:VEVENT
UID:kw-2292-36@kalenderwoche.info
DTSTAMP:20260423T020100Z
DTSTART;VALUE=DATE:22920905
DTEND;VALUE=DATE:22920912
SUMMARY:KW 36 (gerade)
DESCRIPTION:Kalenderwoche 36 im Jahr 2292\nMontag: 05.09.2292\nSonntag: 11.09.2292\nTyp: gerade Woche\nMehr unter: https://kalenderwoche.info/2292/kw-36
URL:https://kalenderwoche.info/2292/kw-36
CATEGORIES:Kalenderwoche
TRANSP:TRANSPARENT
END:VEVENT
BEGIN:VEVENT
UID:kw-2292-37@kalenderwoche.info
DTSTAMP:20260423T020100Z
DTSTART;VALUE=DATE:22920912
DTEND;VALUE=DATE:22920919
SUMMARY:KW 37 (ungerade)
DESCRIPTION:Kalenderwoche 37 im Jahr 2292\nMontag: 12.09.2292\nSonntag: 18.09.2292\nTyp: ungerade Woche\nMehr unter: https://kalenderwoche.info/2292/kw-37
URL:https://kalenderwoche.info/2292/kw-37
CATEGORIES:Kalenderwoche
TRANSP:TRANSPARENT
END:VEVENT
BEGIN:VEVENT
UID:kw-2292-38@kalenderwoche.info
DTSTAMP:20260423T020100Z
DTSTART;VALUE=DATE:22920919
DTEND;VALUE=DATE:22920926
SUMMARY:KW 38 (gerade)
DESCRIPTION:Kalenderwoche 38 im Jahr 2292\nMontag: 19.09.2292\nSonntag: 25.09.2292\nTyp: gerade Woche\nMehr unter: https://kalenderwoche.info/2292/kw-38
URL:https://kalenderwoche.info/2292/kw-38
CATEGORIES:Kalenderwoche
TRANSP:TRANSPARENT
END:VEVENT
BEGIN:VEVENT
UID:kw-2292-39@kalenderwoche.info
DTSTAMP:20260423T020100Z
DTSTART;VALUE=DATE:22920926
DTEND;VALUE=DATE:22921003
SUMMARY:KW 39 (ungerade)
DESCRIPTION:Kalenderwoche 39 im Jahr 2292\nMontag: 26.09.2292\nSonntag: 02.10.2292\nTyp: ungerade Woche\nMehr unter: https://kalenderwoche.info/2292/kw-39
URL:https://kalenderwoche.info/2292/kw-39
CATEGORIES:Kalenderwoche
TRANSP:TRANSPARENT
END:VEVENT
BEGIN:VEVENT
UID:kw-2292-40@kalenderwoche.info
DTSTAMP:20260423T020100Z
DTSTART;VALUE=DATE:22921003
DTEND;VALUE=DATE:22921010
SUMMARY:KW 40 (gerade)
DESCRIPTION:Kalenderwoche 40 im Jahr 2292\nMontag: 03.10.2292\nSonntag: 09.10.2292\nTyp: gerade Woche\nMehr unter: https://kalenderwoche.info/2292/kw-40
URL:https://kalenderwoche.info/2292/kw-40
CATEGORIES:Kalenderwoche
TRANSP:TRANSPARENT
END:VEVENT
BEGIN:VEVENT
UID:kw-2292-41@kalenderwoche.info
DTSTAMP:20260423T020100Z
DTSTART;VALUE=DATE:22921010
DTEND;VALUE=DATE:22921017
SUMMARY:KW 41 (ungerade)
DESCRIPTION:Kalenderwoche 41 im Jahr 2292\nMontag: 10.10.2292\nSonntag: 16.10.2292\nTyp: ungerade Woche\nMehr unter: https://kalenderwoche.info/2292/kw-41
URL:https://kalenderwoche.info/2292/kw-41
CATEGORIES:Kalenderwoche
TRANSP:TRANSPARENT
END:VEVENT
BEGIN:VEVENT
UID:kw-2292-42@kalenderwoche.info
DTSTAMP:20260423T020100Z
DTSTART;VALUE=DATE:22921017
DTEND;VALUE=DATE:22921024
SUMMARY:KW 42 (gerade)
DESCRIPTION:Kalenderwoche 42 im Jahr 2292\nMontag: 17.10.2292\nSonntag: 23.10.2292\nTyp: gerade Woche\nMehr unter: https://kalenderwoche.info/2292/kw-42
URL:https://kalenderwoche.info/2292/kw-42
CATEGORIES:Kalenderwoche
TRANSP:TRANSPARENT
END:VEVENT
BEGIN:VEVENT
UID:kw-2292-43@kalenderwoche.info
DTSTAMP:20260423T020100Z
DTSTART;VALUE=DATE:22921024
DTEND;VALUE=DATE:22921031
SUMMARY:KW 43 (ungerade)
DESCRIPTION:Kalenderwoche 43 im Jahr 2292\nMontag: 24.10.2292\nSonntag: 30.10.2292\nTyp: ungerade Woche\nMehr unter: https://kalenderwoche.info/2292/kw-43
URL:https://kalenderwoche.info/2292/kw-43
CATEGORIES:Kalenderwoche
TRANSP:TRANSPARENT
END:VEVENT
BEGIN:VEVENT
UID:kw-2292-44@kalenderwoche.info
DTSTAMP:20260423T020100Z
DTSTART;VALUE=DATE:22921031
DTEND;VALUE=DATE:22921107
SUMMARY:KW 44 (gerade)
DESCRIPTION:Kalenderwoche 44 im Jahr 2292\nMontag: 31.10.2292\nSonntag: 06.11.2292\nTyp: gerade Woche\nMehr unter: https://kalenderwoche.info/2292/kw-44
URL:https://kalenderwoche.info/2292/kw-44
CATEGORIES:Kalenderwoche
TRANSP:TRANSPARENT
END:VEVENT
BEGIN:VEVENT
UID:kw-2292-45@kalenderwoche.info
DTSTAMP:20260423T020100Z
DTSTART;VALUE=DATE:22921107
DTEND;VALUE=DATE:22921114
SUMMARY:KW 45 (ungerade)
DESCRIPTION:Kalenderwoche 45 im Jahr 2292\nMontag: 07.11.2292\nSonntag: 13.11.2292\nTyp: ungerade Woche\nMehr unter: https://kalenderwoche.info/2292/kw-45
URL:https://kalenderwoche.info/2292/kw-45
CATEGORIES:Kalenderwoche
TRANSP:TRANSPARENT
END:VEVENT
BEGIN:VEVENT
UID:kw-2292-46@kalenderwoche.info
DTSTAMP:20260423T020100Z
DTSTART;VALUE=DATE:22921114
DTEND;VALUE=DATE:22921121
SUMMARY:KW 46 (gerade)
DESCRIPTION:Kalenderwoche 46 im Jahr 2292\nMontag: 14.11.2292\nSonntag: 20.11.2292\nTyp: gerade Woche\nMehr unter: https://kalenderwoche.info/2292/kw-46
URL:https://kalenderwoche.info/2292/kw-46
CATEGORIES:Kalenderwoche
TRANSP:TRANSPARENT
END:VEVENT
BEGIN:VEVENT
UID:kw-2292-47@kalenderwoche.info
DTSTAMP:20260423T020100Z
DTSTART;VALUE=DATE:22921121
DTEND;VALUE=DATE:22921128
SUMMARY:KW 47 (ungerade)
DESCRIPTION:Kalenderwoche 47 im Jahr 2292\nMontag: 21.11.2292\nSonntag: 27.11.2292\nTyp: ungerade Woche\nMehr unter: https://kalenderwoche.info/2292/kw-47
URL:https://kalenderwoche.info/2292/kw-47
CATEGORIES:Kalenderwoche
TRANSP:TRANSPARENT
END:VEVENT
BEGIN:VEVENT
UID:kw-2292-48@kalenderwoche.info
DTSTAMP:20260423T020100Z
DTSTART;VALUE=DATE:22921128
DTEND;VALUE=DATE:22921205
SUMMARY:KW 48 (gerade)
DESCRIPTION:Kalenderwoche 48 im Jahr 2292\nMontag: 28.11.2292\nSonntag: 04.12.2292\nTyp: gerade Woche\nMehr unter: https://kalenderwoche.info/2292/kw-48
URL:https://kalenderwoche.info/2292/kw-48
CATEGORIES:Kalenderwoche
TRANSP:TRANSPARENT
END:VEVENT
BEGIN:VEVENT
UID:kw-2292-49@kalenderwoche.info
DTSTAMP:20260423T020100Z
DTSTART;VALUE=DATE:22921205
DTEND;VALUE=DATE:22921212
SUMMARY:KW 49 (ungerade)
DESCRIPTION:Kalenderwoche 49 im Jahr 2292\nMontag: 05.12.2292\nSonntag: 11.12.2292\nTyp: ungerade Woche\nMehr unter: https://kalenderwoche.info/2292/kw-49
URL:https://kalenderwoche.info/2292/kw-49
CATEGORIES:Kalenderwoche
TRANSP:TRANSPARENT
END:VEVENT
BEGIN:VEVENT
UID:kw-2292-50@kalenderwoche.info
DTSTAMP:20260423T020100Z
DTSTART;VALUE=DATE:22921212
DTEND;VALUE=DATE:22921219
SUMMARY:KW 50 (gerade)
DESCRIPTION:Kalenderwoche 50 im Jahr 2292\nMontag: 12.12.2292\nSonntag: 18.12.2292\nTyp: gerade Woche\nMehr unter: https://kalenderwoche.info/2292/kw-50
URL:https://kalenderwoche.info/2292/kw-50
CATEGORIES:Kalenderwoche
TRANSP:TRANSPARENT
END:VEVENT
BEGIN:VEVENT
UID:kw-2292-51@kalenderwoche.info
DTSTAMP:20260423T020100Z
DTSTART;VALUE=DATE:22921219
DTEND;VALUE=DATE:22921226
SUMMARY:KW 51 (ungerade)
DESCRIPTION:Kalenderwoche 51 im Jahr 2292\nMontag: 19.12.2292\nSonntag: 25.12.2292\nTyp: ungerade Woche\nMehr unter: https://kalenderwoche.info/2292/kw-51
URL:https://kalenderwoche.info/2292/kw-51
CATEGORIES:Kalenderwoche
TRANSP:TRANSPARENT
END:VEVENT
BEGIN:VEVENT
UID:kw-2292-52@kalenderwoche.info
DTSTAMP:20260423T020100Z
DTSTART;VALUE=DATE:22921226
DTEND;VALUE=DATE:22930102
SUMMARY:KW 52 (gerade)
DESCRIPTION:Kalenderwoche 52 im Jahr 2292\nMontag: 26.12.2292\nSonntag: 01.01.2293\nTyp: gerade Woche\nMehr unter: https://kalenderwoche.info/2292/kw-52
URL:https://kalenderwoche.info/2292/kw-52
CATEGORIES:Kalenderwoche
TRANSP:TRANSPARENT
END:VEVENT
END:VCALENDAR
