BEGIN:VCALENDAR
VERSION:2.0
PRODID:-//kalenderwoche.info//Kalender//DE
CALSCALE:GREGORIAN
METHOD:PUBLISH
X-WR-CALNAME:Kalenderwochen 2295
X-WR-CALDESC:Alle Kalenderwochen für das Jahr 2295
X-WR-TIMEZONE:Europe/Berlin
BEGIN:VEVENT
UID:kw-2295-1@kalenderwoche.info
DTSTAMP:20260423T055300Z
DTSTART;VALUE=DATE:22941231
DTEND;VALUE=DATE:22950107
SUMMARY:KW 1 (ungerade)
DESCRIPTION:Kalenderwoche 1 im Jahr 2295\nMontag: 31.12.2294\nSonntag: 06.01.2295\nTyp: ungerade Woche\nMehr unter: https://kalenderwoche.info/2295/kw-1
URL:https://kalenderwoche.info/2295/kw-1
CATEGORIES:Kalenderwoche
TRANSP:TRANSPARENT
END:VEVENT
BEGIN:VEVENT
UID:kw-2295-2@kalenderwoche.info
DTSTAMP:20260423T055300Z
DTSTART;VALUE=DATE:22950107
DTEND;VALUE=DATE:22950114
SUMMARY:KW 2 (gerade)
DESCRIPTION:Kalenderwoche 2 im Jahr 2295\nMontag: 07.01.2295\nSonntag: 13.01.2295\nTyp: gerade Woche\nMehr unter: https://kalenderwoche.info/2295/kw-2
URL:https://kalenderwoche.info/2295/kw-2
CATEGORIES:Kalenderwoche
TRANSP:TRANSPARENT
END:VEVENT
BEGIN:VEVENT
UID:kw-2295-3@kalenderwoche.info
DTSTAMP:20260423T055300Z
DTSTART;VALUE=DATE:22950114
DTEND;VALUE=DATE:22950121
SUMMARY:KW 3 (ungerade)
DESCRIPTION:Kalenderwoche 3 im Jahr 2295\nMontag: 14.01.2295\nSonntag: 20.01.2295\nTyp: ungerade Woche\nMehr unter: https://kalenderwoche.info/2295/kw-3
URL:https://kalenderwoche.info/2295/kw-3
CATEGORIES:Kalenderwoche
TRANSP:TRANSPARENT
END:VEVENT
BEGIN:VEVENT
UID:kw-2295-4@kalenderwoche.info
DTSTAMP:20260423T055300Z
DTSTART;VALUE=DATE:22950121
DTEND;VALUE=DATE:22950128
SUMMARY:KW 4 (gerade)
DESCRIPTION:Kalenderwoche 4 im Jahr 2295\nMontag: 21.01.2295\nSonntag: 27.01.2295\nTyp: gerade Woche\nMehr unter: https://kalenderwoche.info/2295/kw-4
URL:https://kalenderwoche.info/2295/kw-4
CATEGORIES:Kalenderwoche
TRANSP:TRANSPARENT
END:VEVENT
BEGIN:VEVENT
UID:kw-2295-5@kalenderwoche.info
DTSTAMP:20260423T055300Z
DTSTART;VALUE=DATE:22950128
DTEND;VALUE=DATE:22950204
SUMMARY:KW 5 (ungerade)
DESCRIPTION:Kalenderwoche 5 im Jahr 2295\nMontag: 28.01.2295\nSonntag: 03.02.2295\nTyp: ungerade Woche\nMehr unter: https://kalenderwoche.info/2295/kw-5
URL:https://kalenderwoche.info/2295/kw-5
CATEGORIES:Kalenderwoche
TRANSP:TRANSPARENT
END:VEVENT
BEGIN:VEVENT
UID:kw-2295-6@kalenderwoche.info
DTSTAMP:20260423T055300Z
DTSTART;VALUE=DATE:22950204
DTEND;VALUE=DATE:22950211
SUMMARY:KW 6 (gerade)
DESCRIPTION:Kalenderwoche 6 im Jahr 2295\nMontag: 04.02.2295\nSonntag: 10.02.2295\nTyp: gerade Woche\nMehr unter: https://kalenderwoche.info/2295/kw-6
URL:https://kalenderwoche.info/2295/kw-6
CATEGORIES:Kalenderwoche
TRANSP:TRANSPARENT
END:VEVENT
BEGIN:VEVENT
UID:kw-2295-7@kalenderwoche.info
DTSTAMP:20260423T055300Z
DTSTART;VALUE=DATE:22950211
DTEND;VALUE=DATE:22950218
SUMMARY:KW 7 (ungerade)
DESCRIPTION:Kalenderwoche 7 im Jahr 2295\nMontag: 11.02.2295\nSonntag: 17.02.2295\nTyp: ungerade Woche\nMehr unter: https://kalenderwoche.info/2295/kw-7
URL:https://kalenderwoche.info/2295/kw-7
CATEGORIES:Kalenderwoche
TRANSP:TRANSPARENT
END:VEVENT
BEGIN:VEVENT
UID:kw-2295-8@kalenderwoche.info
DTSTAMP:20260423T055300Z
DTSTART;VALUE=DATE:22950218
DTEND;VALUE=DATE:22950225
SUMMARY:KW 8 (gerade)
DESCRIPTION:Kalenderwoche 8 im Jahr 2295\nMontag: 18.02.2295\nSonntag: 24.02.2295\nTyp: gerade Woche\nMehr unter: https://kalenderwoche.info/2295/kw-8
URL:https://kalenderwoche.info/2295/kw-8
CATEGORIES:Kalenderwoche
TRANSP:TRANSPARENT
END:VEVENT
BEGIN:VEVENT
UID:kw-2295-9@kalenderwoche.info
DTSTAMP:20260423T055300Z
DTSTART;VALUE=DATE:22950225
DTEND;VALUE=DATE:22950304
SUMMARY:KW 9 (ungerade)
DESCRIPTION:Kalenderwoche 9 im Jahr 2295\nMontag: 25.02.2295\nSonntag: 03.03.2295\nTyp: ungerade Woche\nMehr unter: https://kalenderwoche.info/2295/kw-9
URL:https://kalenderwoche.info/2295/kw-9
CATEGORIES:Kalenderwoche
TRANSP:TRANSPARENT
END:VEVENT
BEGIN:VEVENT
UID:kw-2295-10@kalenderwoche.info
DTSTAMP:20260423T055300Z
DTSTART;VALUE=DATE:22950304
DTEND;VALUE=DATE:22950311
SUMMARY:KW 10 (gerade)
DESCRIPTION:Kalenderwoche 10 im Jahr 2295\nMontag: 04.03.2295\nSonntag: 10.03.2295\nTyp: gerade Woche\nMehr unter: https://kalenderwoche.info/2295/kw-10
URL:https://kalenderwoche.info/2295/kw-10
CATEGORIES:Kalenderwoche
TRANSP:TRANSPARENT
END:VEVENT
BEGIN:VEVENT
UID:kw-2295-11@kalenderwoche.info
DTSTAMP:20260423T055300Z
DTSTART;VALUE=DATE:22950311
DTEND;VALUE=DATE:22950318
SUMMARY:KW 11 (ungerade)
DESCRIPTION:Kalenderwoche 11 im Jahr 2295\nMontag: 11.03.2295\nSonntag: 17.03.2295\nTyp: ungerade Woche\nMehr unter: https://kalenderwoche.info/2295/kw-11
URL:https://kalenderwoche.info/2295/kw-11
CATEGORIES:Kalenderwoche
TRANSP:TRANSPARENT
END:VEVENT
BEGIN:VEVENT
UID:kw-2295-12@kalenderwoche.info
DTSTAMP:20260423T055300Z
DTSTART;VALUE=DATE:22950318
DTEND;VALUE=DATE:22950325
SUMMARY:KW 12 (gerade)
DESCRIPTION:Kalenderwoche 12 im Jahr 2295\nMontag: 18.03.2295\nSonntag: 24.03.2295\nTyp: gerade Woche\nMehr unter: https://kalenderwoche.info/2295/kw-12
URL:https://kalenderwoche.info/2295/kw-12
CATEGORIES:Kalenderwoche
TRANSP:TRANSPARENT
END:VEVENT
BEGIN:VEVENT
UID:kw-2295-13@kalenderwoche.info
DTSTAMP:20260423T055300Z
DTSTART;VALUE=DATE:22950325
DTEND;VALUE=DATE:22950401
SUMMARY:KW 13 (ungerade)
DESCRIPTION:Kalenderwoche 13 im Jahr 2295\nMontag: 25.03.2295\nSonntag: 31.03.2295\nTyp: ungerade Woche\nMehr unter: https://kalenderwoche.info/2295/kw-13
URL:https://kalenderwoche.info/2295/kw-13
CATEGORIES:Kalenderwoche
TRANSP:TRANSPARENT
END:VEVENT
BEGIN:VEVENT
UID:kw-2295-14@kalenderwoche.info
DTSTAMP:20260423T055300Z
DTSTART;VALUE=DATE:22950401
DTEND;VALUE=DATE:22950408
SUMMARY:KW 14 (gerade)
DESCRIPTION:Kalenderwoche 14 im Jahr 2295\nMontag: 01.04.2295\nSonntag: 07.04.2295\nTyp: gerade Woche\nMehr unter: https://kalenderwoche.info/2295/kw-14
URL:https://kalenderwoche.info/2295/kw-14
CATEGORIES:Kalenderwoche
TRANSP:TRANSPARENT
END:VEVENT
BEGIN:VEVENT
UID:kw-2295-15@kalenderwoche.info
DTSTAMP:20260423T055300Z
DTSTART;VALUE=DATE:22950408
DTEND;VALUE=DATE:22950415
SUMMARY:KW 15 (ungerade)
DESCRIPTION:Kalenderwoche 15 im Jahr 2295\nMontag: 08.04.2295\nSonntag: 14.04.2295\nTyp: ungerade Woche\nMehr unter: https://kalenderwoche.info/2295/kw-15
URL:https://kalenderwoche.info/2295/kw-15
CATEGORIES:Kalenderwoche
TRANSP:TRANSPARENT
END:VEVENT
BEGIN:VEVENT
UID:kw-2295-16@kalenderwoche.info
DTSTAMP:20260423T055300Z
DTSTART;VALUE=DATE:22950415
DTEND;VALUE=DATE:22950422
SUMMARY:KW 16 (gerade)
DESCRIPTION:Kalenderwoche 16 im Jahr 2295\nMontag: 15.04.2295\nSonntag: 21.04.2295\nTyp: gerade Woche\nMehr unter: https://kalenderwoche.info/2295/kw-16
URL:https://kalenderwoche.info/2295/kw-16
CATEGORIES:Kalenderwoche
TRANSP:TRANSPARENT
END:VEVENT
BEGIN:VEVENT
UID:kw-2295-17@kalenderwoche.info
DTSTAMP:20260423T055300Z
DTSTART;VALUE=DATE:22950422
DTEND;VALUE=DATE:22950429
SUMMARY:KW 17 (ungerade)
DESCRIPTION:Kalenderwoche 17 im Jahr 2295\nMontag: 22.04.2295\nSonntag: 28.04.2295\nTyp: ungerade Woche\nMehr unter: https://kalenderwoche.info/2295/kw-17
URL:https://kalenderwoche.info/2295/kw-17
CATEGORIES:Kalenderwoche
TRANSP:TRANSPARENT
END:VEVENT
BEGIN:VEVENT
UID:kw-2295-18@kalenderwoche.info
DTSTAMP:20260423T055300Z
DTSTART;VALUE=DATE:22950429
DTEND;VALUE=DATE:22950506
SUMMARY:KW 18 (gerade)
DESCRIPTION:Kalenderwoche 18 im Jahr 2295\nMontag: 29.04.2295\nSonntag: 05.05.2295\nTyp: gerade Woche\nMehr unter: https://kalenderwoche.info/2295/kw-18
URL:https://kalenderwoche.info/2295/kw-18
CATEGORIES:Kalenderwoche
TRANSP:TRANSPARENT
END:VEVENT
BEGIN:VEVENT
UID:kw-2295-19@kalenderwoche.info
DTSTAMP:20260423T055300Z
DTSTART;VALUE=DATE:22950506
DTEND;VALUE=DATE:22950513
SUMMARY:KW 19 (ungerade)
DESCRIPTION:Kalenderwoche 19 im Jahr 2295\nMontag: 06.05.2295\nSonntag: 12.05.2295\nTyp: ungerade Woche\nMehr unter: https://kalenderwoche.info/2295/kw-19
URL:https://kalenderwoche.info/2295/kw-19
CATEGORIES:Kalenderwoche
TRANSP:TRANSPARENT
END:VEVENT
BEGIN:VEVENT
UID:kw-2295-20@kalenderwoche.info
DTSTAMP:20260423T055300Z
DTSTART;VALUE=DATE:22950513
DTEND;VALUE=DATE:22950520
SUMMARY:KW 20 (gerade)
DESCRIPTION:Kalenderwoche 20 im Jahr 2295\nMontag: 13.05.2295\nSonntag: 19.05.2295\nTyp: gerade Woche\nMehr unter: https://kalenderwoche.info/2295/kw-20
URL:https://kalenderwoche.info/2295/kw-20
CATEGORIES:Kalenderwoche
TRANSP:TRANSPARENT
END:VEVENT
BEGIN:VEVENT
UID:kw-2295-21@kalenderwoche.info
DTSTAMP:20260423T055300Z
DTSTART;VALUE=DATE:22950520
DTEND;VALUE=DATE:22950527
SUMMARY:KW 21 (ungerade)
DESCRIPTION:Kalenderwoche 21 im Jahr 2295\nMontag: 20.05.2295\nSonntag: 26.05.2295\nTyp: ungerade Woche\nMehr unter: https://kalenderwoche.info/2295/kw-21
URL:https://kalenderwoche.info/2295/kw-21
CATEGORIES:Kalenderwoche
TRANSP:TRANSPARENT
END:VEVENT
BEGIN:VEVENT
UID:kw-2295-22@kalenderwoche.info
DTSTAMP:20260423T055300Z
DTSTART;VALUE=DATE:22950527
DTEND;VALUE=DATE:22950603
SUMMARY:KW 22 (gerade)
DESCRIPTION:Kalenderwoche 22 im Jahr 2295\nMontag: 27.05.2295\nSonntag: 02.06.2295\nTyp: gerade Woche\nMehr unter: https://kalenderwoche.info/2295/kw-22
URL:https://kalenderwoche.info/2295/kw-22
CATEGORIES:Kalenderwoche
TRANSP:TRANSPARENT
END:VEVENT
BEGIN:VEVENT
UID:kw-2295-23@kalenderwoche.info
DTSTAMP:20260423T055300Z
DTSTART;VALUE=DATE:22950603
DTEND;VALUE=DATE:22950610
SUMMARY:KW 23 (ungerade)
DESCRIPTION:Kalenderwoche 23 im Jahr 2295\nMontag: 03.06.2295\nSonntag: 09.06.2295\nTyp: ungerade Woche\nMehr unter: https://kalenderwoche.info/2295/kw-23
URL:https://kalenderwoche.info/2295/kw-23
CATEGORIES:Kalenderwoche
TRANSP:TRANSPARENT
END:VEVENT
BEGIN:VEVENT
UID:kw-2295-24@kalenderwoche.info
DTSTAMP:20260423T055300Z
DTSTART;VALUE=DATE:22950610
DTEND;VALUE=DATE:22950617
SUMMARY:KW 24 (gerade)
DESCRIPTION:Kalenderwoche 24 im Jahr 2295\nMontag: 10.06.2295\nSonntag: 16.06.2295\nTyp: gerade Woche\nMehr unter: https://kalenderwoche.info/2295/kw-24
URL:https://kalenderwoche.info/2295/kw-24
CATEGORIES:Kalenderwoche
TRANSP:TRANSPARENT
END:VEVENT
BEGIN:VEVENT
UID:kw-2295-25@kalenderwoche.info
DTSTAMP:20260423T055300Z
DTSTART;VALUE=DATE:22950617
DTEND;VALUE=DATE:22950624
SUMMARY:KW 25 (ungerade)
DESCRIPTION:Kalenderwoche 25 im Jahr 2295\nMontag: 17.06.2295\nSonntag: 23.06.2295\nTyp: ungerade Woche\nMehr unter: https://kalenderwoche.info/2295/kw-25
URL:https://kalenderwoche.info/2295/kw-25
CATEGORIES:Kalenderwoche
TRANSP:TRANSPARENT
END:VEVENT
BEGIN:VEVENT
UID:kw-2295-26@kalenderwoche.info
DTSTAMP:20260423T055300Z
DTSTART;VALUE=DATE:22950624
DTEND;VALUE=DATE:22950701
SUMMARY:KW 26 (gerade)
DESCRIPTION:Kalenderwoche 26 im Jahr 2295\nMontag: 24.06.2295\nSonntag: 30.06.2295\nTyp: gerade Woche\nMehr unter: https://kalenderwoche.info/2295/kw-26
URL:https://kalenderwoche.info/2295/kw-26
CATEGORIES:Kalenderwoche
TRANSP:TRANSPARENT
END:VEVENT
BEGIN:VEVENT
UID:kw-2295-27@kalenderwoche.info
DTSTAMP:20260423T055300Z
DTSTART;VALUE=DATE:22950701
DTEND;VALUE=DATE:22950708
SUMMARY:KW 27 (ungerade)
DESCRIPTION:Kalenderwoche 27 im Jahr 2295\nMontag: 01.07.2295\nSonntag: 07.07.2295\nTyp: ungerade Woche\nMehr unter: https://kalenderwoche.info/2295/kw-27
URL:https://kalenderwoche.info/2295/kw-27
CATEGORIES:Kalenderwoche
TRANSP:TRANSPARENT
END:VEVENT
BEGIN:VEVENT
UID:kw-2295-28@kalenderwoche.info
DTSTAMP:20260423T055300Z
DTSTART;VALUE=DATE:22950708
DTEND;VALUE=DATE:22950715
SUMMARY:KW 28 (gerade)
DESCRIPTION:Kalenderwoche 28 im Jahr 2295\nMontag: 08.07.2295\nSonntag: 14.07.2295\nTyp: gerade Woche\nMehr unter: https://kalenderwoche.info/2295/kw-28
URL:https://kalenderwoche.info/2295/kw-28
CATEGORIES:Kalenderwoche
TRANSP:TRANSPARENT
END:VEVENT
BEGIN:VEVENT
UID:kw-2295-29@kalenderwoche.info
DTSTAMP:20260423T055300Z
DTSTART;VALUE=DATE:22950715
DTEND;VALUE=DATE:22950722
SUMMARY:KW 29 (ungerade)
DESCRIPTION:Kalenderwoche 29 im Jahr 2295\nMontag: 15.07.2295\nSonntag: 21.07.2295\nTyp: ungerade Woche\nMehr unter: https://kalenderwoche.info/2295/kw-29
URL:https://kalenderwoche.info/2295/kw-29
CATEGORIES:Kalenderwoche
TRANSP:TRANSPARENT
END:VEVENT
BEGIN:VEVENT
UID:kw-2295-30@kalenderwoche.info
DTSTAMP:20260423T055300Z
DTSTART;VALUE=DATE:22950722
DTEND;VALUE=DATE:22950729
SUMMARY:KW 30 (gerade)
DESCRIPTION:Kalenderwoche 30 im Jahr 2295\nMontag: 22.07.2295\nSonntag: 28.07.2295\nTyp: gerade Woche\nMehr unter: https://kalenderwoche.info/2295/kw-30
URL:https://kalenderwoche.info/2295/kw-30
CATEGORIES:Kalenderwoche
TRANSP:TRANSPARENT
END:VEVENT
BEGIN:VEVENT
UID:kw-2295-31@kalenderwoche.info
DTSTAMP:20260423T055300Z
DTSTART;VALUE=DATE:22950729
DTEND;VALUE=DATE:22950805
SUMMARY:KW 31 (ungerade)
DESCRIPTION:Kalenderwoche 31 im Jahr 2295\nMontag: 29.07.2295\nSonntag: 04.08.2295\nTyp: ungerade Woche\nMehr unter: https://kalenderwoche.info/2295/kw-31
URL:https://kalenderwoche.info/2295/kw-31
CATEGORIES:Kalenderwoche
TRANSP:TRANSPARENT
END:VEVENT
BEGIN:VEVENT
UID:kw-2295-32@kalenderwoche.info
DTSTAMP:20260423T055300Z
DTSTART;VALUE=DATE:22950805
DTEND;VALUE=DATE:22950812
SUMMARY:KW 32 (gerade)
DESCRIPTION:Kalenderwoche 32 im Jahr 2295\nMontag: 05.08.2295\nSonntag: 11.08.2295\nTyp: gerade Woche\nMehr unter: https://kalenderwoche.info/2295/kw-32
URL:https://kalenderwoche.info/2295/kw-32
CATEGORIES:Kalenderwoche
TRANSP:TRANSPARENT
END:VEVENT
BEGIN:VEVENT
UID:kw-2295-33@kalenderwoche.info
DTSTAMP:20260423T055300Z
DTSTART;VALUE=DATE:22950812
DTEND;VALUE=DATE:22950819
SUMMARY:KW 33 (ungerade)
DESCRIPTION:Kalenderwoche 33 im Jahr 2295\nMontag: 12.08.2295\nSonntag: 18.08.2295\nTyp: ungerade Woche\nMehr unter: https://kalenderwoche.info/2295/kw-33
URL:https://kalenderwoche.info/2295/kw-33
CATEGORIES:Kalenderwoche
TRANSP:TRANSPARENT
END:VEVENT
BEGIN:VEVENT
UID:kw-2295-34@kalenderwoche.info
DTSTAMP:20260423T055300Z
DTSTART;VALUE=DATE:22950819
DTEND;VALUE=DATE:22950826
SUMMARY:KW 34 (gerade)
DESCRIPTION:Kalenderwoche 34 im Jahr 2295\nMontag: 19.08.2295\nSonntag: 25.08.2295\nTyp: gerade Woche\nMehr unter: https://kalenderwoche.info/2295/kw-34
URL:https://kalenderwoche.info/2295/kw-34
CATEGORIES:Kalenderwoche
TRANSP:TRANSPARENT
END:VEVENT
BEGIN:VEVENT
UID:kw-2295-35@kalenderwoche.info
DTSTAMP:20260423T055300Z
DTSTART;VALUE=DATE:22950826
DTEND;VALUE=DATE:22950902
SUMMARY:KW 35 (ungerade)
DESCRIPTION:Kalenderwoche 35 im Jahr 2295\nMontag: 26.08.2295\nSonntag: 01.09.2295\nTyp: ungerade Woche\nMehr unter: https://kalenderwoche.info/2295/kw-35
URL:https://kalenderwoche.info/2295/kw-35
CATEGORIES:Kalenderwoche
TRANSP:TRANSPARENT
END:VEVENT
BEGIN:VEVENT
UID:kw-2295-36@kalenderwoche.info
DTSTAMP:20260423T055300Z
DTSTART;VALUE=DATE:22950902
DTEND;VALUE=DATE:22950909
SUMMARY:KW 36 (gerade)
DESCRIPTION:Kalenderwoche 36 im Jahr 2295\nMontag: 02.09.2295\nSonntag: 08.09.2295\nTyp: gerade Woche\nMehr unter: https://kalenderwoche.info/2295/kw-36
URL:https://kalenderwoche.info/2295/kw-36
CATEGORIES:Kalenderwoche
TRANSP:TRANSPARENT
END:VEVENT
BEGIN:VEVENT
UID:kw-2295-37@kalenderwoche.info
DTSTAMP:20260423T055300Z
DTSTART;VALUE=DATE:22950909
DTEND;VALUE=DATE:22950916
SUMMARY:KW 37 (ungerade)
DESCRIPTION:Kalenderwoche 37 im Jahr 2295\nMontag: 09.09.2295\nSonntag: 15.09.2295\nTyp: ungerade Woche\nMehr unter: https://kalenderwoche.info/2295/kw-37
URL:https://kalenderwoche.info/2295/kw-37
CATEGORIES:Kalenderwoche
TRANSP:TRANSPARENT
END:VEVENT
BEGIN:VEVENT
UID:kw-2295-38@kalenderwoche.info
DTSTAMP:20260423T055300Z
DTSTART;VALUE=DATE:22950916
DTEND;VALUE=DATE:22950923
SUMMARY:KW 38 (gerade)
DESCRIPTION:Kalenderwoche 38 im Jahr 2295\nMontag: 16.09.2295\nSonntag: 22.09.2295\nTyp: gerade Woche\nMehr unter: https://kalenderwoche.info/2295/kw-38
URL:https://kalenderwoche.info/2295/kw-38
CATEGORIES:Kalenderwoche
TRANSP:TRANSPARENT
END:VEVENT
BEGIN:VEVENT
UID:kw-2295-39@kalenderwoche.info
DTSTAMP:20260423T055300Z
DTSTART;VALUE=DATE:22950923
DTEND;VALUE=DATE:22950930
SUMMARY:KW 39 (ungerade)
DESCRIPTION:Kalenderwoche 39 im Jahr 2295\nMontag: 23.09.2295\nSonntag: 29.09.2295\nTyp: ungerade Woche\nMehr unter: https://kalenderwoche.info/2295/kw-39
URL:https://kalenderwoche.info/2295/kw-39
CATEGORIES:Kalenderwoche
TRANSP:TRANSPARENT
END:VEVENT
BEGIN:VEVENT
UID:kw-2295-40@kalenderwoche.info
DTSTAMP:20260423T055300Z
DTSTART;VALUE=DATE:22950930
DTEND;VALUE=DATE:22951007
SUMMARY:KW 40 (gerade)
DESCRIPTION:Kalenderwoche 40 im Jahr 2295\nMontag: 30.09.2295\nSonntag: 06.10.2295\nTyp: gerade Woche\nMehr unter: https://kalenderwoche.info/2295/kw-40
URL:https://kalenderwoche.info/2295/kw-40
CATEGORIES:Kalenderwoche
TRANSP:TRANSPARENT
END:VEVENT
BEGIN:VEVENT
UID:kw-2295-41@kalenderwoche.info
DTSTAMP:20260423T055300Z
DTSTART;VALUE=DATE:22951007
DTEND;VALUE=DATE:22951014
SUMMARY:KW 41 (ungerade)
DESCRIPTION:Kalenderwoche 41 im Jahr 2295\nMontag: 07.10.2295\nSonntag: 13.10.2295\nTyp: ungerade Woche\nMehr unter: https://kalenderwoche.info/2295/kw-41
URL:https://kalenderwoche.info/2295/kw-41
CATEGORIES:Kalenderwoche
TRANSP:TRANSPARENT
END:VEVENT
BEGIN:VEVENT
UID:kw-2295-42@kalenderwoche.info
DTSTAMP:20260423T055300Z
DTSTART;VALUE=DATE:22951014
DTEND;VALUE=DATE:22951021
SUMMARY:KW 42 (gerade)
DESCRIPTION:Kalenderwoche 42 im Jahr 2295\nMontag: 14.10.2295\nSonntag: 20.10.2295\nTyp: gerade Woche\nMehr unter: https://kalenderwoche.info/2295/kw-42
URL:https://kalenderwoche.info/2295/kw-42
CATEGORIES:Kalenderwoche
TRANSP:TRANSPARENT
END:VEVENT
BEGIN:VEVENT
UID:kw-2295-43@kalenderwoche.info
DTSTAMP:20260423T055300Z
DTSTART;VALUE=DATE:22951021
DTEND;VALUE=DATE:22951028
SUMMARY:KW 43 (ungerade)
DESCRIPTION:Kalenderwoche 43 im Jahr 2295\nMontag: 21.10.2295\nSonntag: 27.10.2295\nTyp: ungerade Woche\nMehr unter: https://kalenderwoche.info/2295/kw-43
URL:https://kalenderwoche.info/2295/kw-43
CATEGORIES:Kalenderwoche
TRANSP:TRANSPARENT
END:VEVENT
BEGIN:VEVENT
UID:kw-2295-44@kalenderwoche.info
DTSTAMP:20260423T055300Z
DTSTART;VALUE=DATE:22951028
DTEND;VALUE=DATE:22951104
SUMMARY:KW 44 (gerade)
DESCRIPTION:Kalenderwoche 44 im Jahr 2295\nMontag: 28.10.2295\nSonntag: 03.11.2295\nTyp: gerade Woche\nMehr unter: https://kalenderwoche.info/2295/kw-44
URL:https://kalenderwoche.info/2295/kw-44
CATEGORIES:Kalenderwoche
TRANSP:TRANSPARENT
END:VEVENT
BEGIN:VEVENT
UID:kw-2295-45@kalenderwoche.info
DTSTAMP:20260423T055300Z
DTSTART;VALUE=DATE:22951104
DTEND;VALUE=DATE:22951111
SUMMARY:KW 45 (ungerade)
DESCRIPTION:Kalenderwoche 45 im Jahr 2295\nMontag: 04.11.2295\nSonntag: 10.11.2295\nTyp: ungerade Woche\nMehr unter: https://kalenderwoche.info/2295/kw-45
URL:https://kalenderwoche.info/2295/kw-45
CATEGORIES:Kalenderwoche
TRANSP:TRANSPARENT
END:VEVENT
BEGIN:VEVENT
UID:kw-2295-46@kalenderwoche.info
DTSTAMP:20260423T055300Z
DTSTART;VALUE=DATE:22951111
DTEND;VALUE=DATE:22951118
SUMMARY:KW 46 (gerade)
DESCRIPTION:Kalenderwoche 46 im Jahr 2295\nMontag: 11.11.2295\nSonntag: 17.11.2295\nTyp: gerade Woche\nMehr unter: https://kalenderwoche.info/2295/kw-46
URL:https://kalenderwoche.info/2295/kw-46
CATEGORIES:Kalenderwoche
TRANSP:TRANSPARENT
END:VEVENT
BEGIN:VEVENT
UID:kw-2295-47@kalenderwoche.info
DTSTAMP:20260423T055300Z
DTSTART;VALUE=DATE:22951118
DTEND;VALUE=DATE:22951125
SUMMARY:KW 47 (ungerade)
DESCRIPTION:Kalenderwoche 47 im Jahr 2295\nMontag: 18.11.2295\nSonntag: 24.11.2295\nTyp: ungerade Woche\nMehr unter: https://kalenderwoche.info/2295/kw-47
URL:https://kalenderwoche.info/2295/kw-47
CATEGORIES:Kalenderwoche
TRANSP:TRANSPARENT
END:VEVENT
BEGIN:VEVENT
UID:kw-2295-48@kalenderwoche.info
DTSTAMP:20260423T055300Z
DTSTART;VALUE=DATE:22951125
DTEND;VALUE=DATE:22951202
SUMMARY:KW 48 (gerade)
DESCRIPTION:Kalenderwoche 48 im Jahr 2295\nMontag: 25.11.2295\nSonntag: 01.12.2295\nTyp: gerade Woche\nMehr unter: https://kalenderwoche.info/2295/kw-48
URL:https://kalenderwoche.info/2295/kw-48
CATEGORIES:Kalenderwoche
TRANSP:TRANSPARENT
END:VEVENT
BEGIN:VEVENT
UID:kw-2295-49@kalenderwoche.info
DTSTAMP:20260423T055300Z
DTSTART;VALUE=DATE:22951202
DTEND;VALUE=DATE:22951209
SUMMARY:KW 49 (ungerade)
DESCRIPTION:Kalenderwoche 49 im Jahr 2295\nMontag: 02.12.2295\nSonntag: 08.12.2295\nTyp: ungerade Woche\nMehr unter: https://kalenderwoche.info/2295/kw-49
URL:https://kalenderwoche.info/2295/kw-49
CATEGORIES:Kalenderwoche
TRANSP:TRANSPARENT
END:VEVENT
BEGIN:VEVENT
UID:kw-2295-50@kalenderwoche.info
DTSTAMP:20260423T055300Z
DTSTART;VALUE=DATE:22951209
DTEND;VALUE=DATE:22951216
SUMMARY:KW 50 (gerade)
DESCRIPTION:Kalenderwoche 50 im Jahr 2295\nMontag: 09.12.2295\nSonntag: 15.12.2295\nTyp: gerade Woche\nMehr unter: https://kalenderwoche.info/2295/kw-50
URL:https://kalenderwoche.info/2295/kw-50
CATEGORIES:Kalenderwoche
TRANSP:TRANSPARENT
END:VEVENT
BEGIN:VEVENT
UID:kw-2295-51@kalenderwoche.info
DTSTAMP:20260423T055300Z
DTSTART;VALUE=DATE:22951216
DTEND;VALUE=DATE:22951223
SUMMARY:KW 51 (ungerade)
DESCRIPTION:Kalenderwoche 51 im Jahr 2295\nMontag: 16.12.2295\nSonntag: 22.12.2295\nTyp: ungerade Woche\nMehr unter: https://kalenderwoche.info/2295/kw-51
URL:https://kalenderwoche.info/2295/kw-51
CATEGORIES:Kalenderwoche
TRANSP:TRANSPARENT
END:VEVENT
BEGIN:VEVENT
UID:kw-2295-52@kalenderwoche.info
DTSTAMP:20260423T055300Z
DTSTART;VALUE=DATE:22951223
DTEND;VALUE=DATE:22951230
SUMMARY:KW 52 (gerade)
DESCRIPTION:Kalenderwoche 52 im Jahr 2295\nMontag: 23.12.2295\nSonntag: 29.12.2295\nTyp: gerade Woche\nMehr unter: https://kalenderwoche.info/2295/kw-52
URL:https://kalenderwoche.info/2295/kw-52
CATEGORIES:Kalenderwoche
TRANSP:TRANSPARENT
END:VEVENT
END:VCALENDAR
