BEGIN:VCALENDAR
VERSION:2.0
PRODID:-//kalenderwoche.info//Kalender//DE
CALSCALE:GREGORIAN
METHOD:PUBLISH
X-WR-CALNAME:Kalenderwochen 2297
X-WR-CALDESC:Alle Kalenderwochen für das Jahr 2297
X-WR-TIMEZONE:Europe/Berlin
BEGIN:VEVENT
UID:kw-2297-1@kalenderwoche.info
DTSTAMP:20260423T083642Z
DTSTART;VALUE=DATE:22970104
DTEND;VALUE=DATE:22970111
SUMMARY:KW 1 (ungerade)
DESCRIPTION:Kalenderwoche 1 im Jahr 2297\nMontag: 04.01.2297\nSonntag: 10.01.2297\nTyp: ungerade Woche\nMehr unter: https://kalenderwoche.info/2297/kw-1
URL:https://kalenderwoche.info/2297/kw-1
CATEGORIES:Kalenderwoche
TRANSP:TRANSPARENT
END:VEVENT
BEGIN:VEVENT
UID:kw-2297-2@kalenderwoche.info
DTSTAMP:20260423T083642Z
DTSTART;VALUE=DATE:22970111
DTEND;VALUE=DATE:22970118
SUMMARY:KW 2 (gerade)
DESCRIPTION:Kalenderwoche 2 im Jahr 2297\nMontag: 11.01.2297\nSonntag: 17.01.2297\nTyp: gerade Woche\nMehr unter: https://kalenderwoche.info/2297/kw-2
URL:https://kalenderwoche.info/2297/kw-2
CATEGORIES:Kalenderwoche
TRANSP:TRANSPARENT
END:VEVENT
BEGIN:VEVENT
UID:kw-2297-3@kalenderwoche.info
DTSTAMP:20260423T083642Z
DTSTART;VALUE=DATE:22970118
DTEND;VALUE=DATE:22970125
SUMMARY:KW 3 (ungerade)
DESCRIPTION:Kalenderwoche 3 im Jahr 2297\nMontag: 18.01.2297\nSonntag: 24.01.2297\nTyp: ungerade Woche\nMehr unter: https://kalenderwoche.info/2297/kw-3
URL:https://kalenderwoche.info/2297/kw-3
CATEGORIES:Kalenderwoche
TRANSP:TRANSPARENT
END:VEVENT
BEGIN:VEVENT
UID:kw-2297-4@kalenderwoche.info
DTSTAMP:20260423T083642Z
DTSTART;VALUE=DATE:22970125
DTEND;VALUE=DATE:22970201
SUMMARY:KW 4 (gerade)
DESCRIPTION:Kalenderwoche 4 im Jahr 2297\nMontag: 25.01.2297\nSonntag: 31.01.2297\nTyp: gerade Woche\nMehr unter: https://kalenderwoche.info/2297/kw-4
URL:https://kalenderwoche.info/2297/kw-4
CATEGORIES:Kalenderwoche
TRANSP:TRANSPARENT
END:VEVENT
BEGIN:VEVENT
UID:kw-2297-5@kalenderwoche.info
DTSTAMP:20260423T083642Z
DTSTART;VALUE=DATE:22970201
DTEND;VALUE=DATE:22970208
SUMMARY:KW 5 (ungerade)
DESCRIPTION:Kalenderwoche 5 im Jahr 2297\nMontag: 01.02.2297\nSonntag: 07.02.2297\nTyp: ungerade Woche\nMehr unter: https://kalenderwoche.info/2297/kw-5
URL:https://kalenderwoche.info/2297/kw-5
CATEGORIES:Kalenderwoche
TRANSP:TRANSPARENT
END:VEVENT
BEGIN:VEVENT
UID:kw-2297-6@kalenderwoche.info
DTSTAMP:20260423T083642Z
DTSTART;VALUE=DATE:22970208
DTEND;VALUE=DATE:22970215
SUMMARY:KW 6 (gerade)
DESCRIPTION:Kalenderwoche 6 im Jahr 2297\nMontag: 08.02.2297\nSonntag: 14.02.2297\nTyp: gerade Woche\nMehr unter: https://kalenderwoche.info/2297/kw-6
URL:https://kalenderwoche.info/2297/kw-6
CATEGORIES:Kalenderwoche
TRANSP:TRANSPARENT
END:VEVENT
BEGIN:VEVENT
UID:kw-2297-7@kalenderwoche.info
DTSTAMP:20260423T083642Z
DTSTART;VALUE=DATE:22970215
DTEND;VALUE=DATE:22970222
SUMMARY:KW 7 (ungerade)
DESCRIPTION:Kalenderwoche 7 im Jahr 2297\nMontag: 15.02.2297\nSonntag: 21.02.2297\nTyp: ungerade Woche\nMehr unter: https://kalenderwoche.info/2297/kw-7
URL:https://kalenderwoche.info/2297/kw-7
CATEGORIES:Kalenderwoche
TRANSP:TRANSPARENT
END:VEVENT
BEGIN:VEVENT
UID:kw-2297-8@kalenderwoche.info
DTSTAMP:20260423T083642Z
DTSTART;VALUE=DATE:22970222
DTEND;VALUE=DATE:22970301
SUMMARY:KW 8 (gerade)
DESCRIPTION:Kalenderwoche 8 im Jahr 2297\nMontag: 22.02.2297\nSonntag: 28.02.2297\nTyp: gerade Woche\nMehr unter: https://kalenderwoche.info/2297/kw-8
URL:https://kalenderwoche.info/2297/kw-8
CATEGORIES:Kalenderwoche
TRANSP:TRANSPARENT
END:VEVENT
BEGIN:VEVENT
UID:kw-2297-9@kalenderwoche.info
DTSTAMP:20260423T083642Z
DTSTART;VALUE=DATE:22970301
DTEND;VALUE=DATE:22970308
SUMMARY:KW 9 (ungerade)
DESCRIPTION:Kalenderwoche 9 im Jahr 2297\nMontag: 01.03.2297\nSonntag: 07.03.2297\nTyp: ungerade Woche\nMehr unter: https://kalenderwoche.info/2297/kw-9
URL:https://kalenderwoche.info/2297/kw-9
CATEGORIES:Kalenderwoche
TRANSP:TRANSPARENT
END:VEVENT
BEGIN:VEVENT
UID:kw-2297-10@kalenderwoche.info
DTSTAMP:20260423T083642Z
DTSTART;VALUE=DATE:22970308
DTEND;VALUE=DATE:22970315
SUMMARY:KW 10 (gerade)
DESCRIPTION:Kalenderwoche 10 im Jahr 2297\nMontag: 08.03.2297\nSonntag: 14.03.2297\nTyp: gerade Woche\nMehr unter: https://kalenderwoche.info/2297/kw-10
URL:https://kalenderwoche.info/2297/kw-10
CATEGORIES:Kalenderwoche
TRANSP:TRANSPARENT
END:VEVENT
BEGIN:VEVENT
UID:kw-2297-11@kalenderwoche.info
DTSTAMP:20260423T083642Z
DTSTART;VALUE=DATE:22970315
DTEND;VALUE=DATE:22970322
SUMMARY:KW 11 (ungerade)
DESCRIPTION:Kalenderwoche 11 im Jahr 2297\nMontag: 15.03.2297\nSonntag: 21.03.2297\nTyp: ungerade Woche\nMehr unter: https://kalenderwoche.info/2297/kw-11
URL:https://kalenderwoche.info/2297/kw-11
CATEGORIES:Kalenderwoche
TRANSP:TRANSPARENT
END:VEVENT
BEGIN:VEVENT
UID:kw-2297-12@kalenderwoche.info
DTSTAMP:20260423T083642Z
DTSTART;VALUE=DATE:22970322
DTEND;VALUE=DATE:22970329
SUMMARY:KW 12 (gerade)
DESCRIPTION:Kalenderwoche 12 im Jahr 2297\nMontag: 22.03.2297\nSonntag: 28.03.2297\nTyp: gerade Woche\nMehr unter: https://kalenderwoche.info/2297/kw-12
URL:https://kalenderwoche.info/2297/kw-12
CATEGORIES:Kalenderwoche
TRANSP:TRANSPARENT
END:VEVENT
BEGIN:VEVENT
UID:kw-2297-13@kalenderwoche.info
DTSTAMP:20260423T083642Z
DTSTART;VALUE=DATE:22970329
DTEND;VALUE=DATE:22970405
SUMMARY:KW 13 (ungerade)
DESCRIPTION:Kalenderwoche 13 im Jahr 2297\nMontag: 29.03.2297\nSonntag: 04.04.2297\nTyp: ungerade Woche\nMehr unter: https://kalenderwoche.info/2297/kw-13
URL:https://kalenderwoche.info/2297/kw-13
CATEGORIES:Kalenderwoche
TRANSP:TRANSPARENT
END:VEVENT
BEGIN:VEVENT
UID:kw-2297-14@kalenderwoche.info
DTSTAMP:20260423T083642Z
DTSTART;VALUE=DATE:22970405
DTEND;VALUE=DATE:22970412
SUMMARY:KW 14 (gerade)
DESCRIPTION:Kalenderwoche 14 im Jahr 2297\nMontag: 05.04.2297\nSonntag: 11.04.2297\nTyp: gerade Woche\nMehr unter: https://kalenderwoche.info/2297/kw-14
URL:https://kalenderwoche.info/2297/kw-14
CATEGORIES:Kalenderwoche
TRANSP:TRANSPARENT
END:VEVENT
BEGIN:VEVENT
UID:kw-2297-15@kalenderwoche.info
DTSTAMP:20260423T083642Z
DTSTART;VALUE=DATE:22970412
DTEND;VALUE=DATE:22970419
SUMMARY:KW 15 (ungerade)
DESCRIPTION:Kalenderwoche 15 im Jahr 2297\nMontag: 12.04.2297\nSonntag: 18.04.2297\nTyp: ungerade Woche\nMehr unter: https://kalenderwoche.info/2297/kw-15
URL:https://kalenderwoche.info/2297/kw-15
CATEGORIES:Kalenderwoche
TRANSP:TRANSPARENT
END:VEVENT
BEGIN:VEVENT
UID:kw-2297-16@kalenderwoche.info
DTSTAMP:20260423T083642Z
DTSTART;VALUE=DATE:22970419
DTEND;VALUE=DATE:22970426
SUMMARY:KW 16 (gerade)
DESCRIPTION:Kalenderwoche 16 im Jahr 2297\nMontag: 19.04.2297\nSonntag: 25.04.2297\nTyp: gerade Woche\nMehr unter: https://kalenderwoche.info/2297/kw-16
URL:https://kalenderwoche.info/2297/kw-16
CATEGORIES:Kalenderwoche
TRANSP:TRANSPARENT
END:VEVENT
BEGIN:VEVENT
UID:kw-2297-17@kalenderwoche.info
DTSTAMP:20260423T083642Z
DTSTART;VALUE=DATE:22970426
DTEND;VALUE=DATE:22970503
SUMMARY:KW 17 (ungerade)
DESCRIPTION:Kalenderwoche 17 im Jahr 2297\nMontag: 26.04.2297\nSonntag: 02.05.2297\nTyp: ungerade Woche\nMehr unter: https://kalenderwoche.info/2297/kw-17
URL:https://kalenderwoche.info/2297/kw-17
CATEGORIES:Kalenderwoche
TRANSP:TRANSPARENT
END:VEVENT
BEGIN:VEVENT
UID:kw-2297-18@kalenderwoche.info
DTSTAMP:20260423T083642Z
DTSTART;VALUE=DATE:22970503
DTEND;VALUE=DATE:22970510
SUMMARY:KW 18 (gerade)
DESCRIPTION:Kalenderwoche 18 im Jahr 2297\nMontag: 03.05.2297\nSonntag: 09.05.2297\nTyp: gerade Woche\nMehr unter: https://kalenderwoche.info/2297/kw-18
URL:https://kalenderwoche.info/2297/kw-18
CATEGORIES:Kalenderwoche
TRANSP:TRANSPARENT
END:VEVENT
BEGIN:VEVENT
UID:kw-2297-19@kalenderwoche.info
DTSTAMP:20260423T083642Z
DTSTART;VALUE=DATE:22970510
DTEND;VALUE=DATE:22970517
SUMMARY:KW 19 (ungerade)
DESCRIPTION:Kalenderwoche 19 im Jahr 2297\nMontag: 10.05.2297\nSonntag: 16.05.2297\nTyp: ungerade Woche\nMehr unter: https://kalenderwoche.info/2297/kw-19
URL:https://kalenderwoche.info/2297/kw-19
CATEGORIES:Kalenderwoche
TRANSP:TRANSPARENT
END:VEVENT
BEGIN:VEVENT
UID:kw-2297-20@kalenderwoche.info
DTSTAMP:20260423T083642Z
DTSTART;VALUE=DATE:22970517
DTEND;VALUE=DATE:22970524
SUMMARY:KW 20 (gerade)
DESCRIPTION:Kalenderwoche 20 im Jahr 2297\nMontag: 17.05.2297\nSonntag: 23.05.2297\nTyp: gerade Woche\nMehr unter: https://kalenderwoche.info/2297/kw-20
URL:https://kalenderwoche.info/2297/kw-20
CATEGORIES:Kalenderwoche
TRANSP:TRANSPARENT
END:VEVENT
BEGIN:VEVENT
UID:kw-2297-21@kalenderwoche.info
DTSTAMP:20260423T083642Z
DTSTART;VALUE=DATE:22970524
DTEND;VALUE=DATE:22970531
SUMMARY:KW 21 (ungerade)
DESCRIPTION:Kalenderwoche 21 im Jahr 2297\nMontag: 24.05.2297\nSonntag: 30.05.2297\nTyp: ungerade Woche\nMehr unter: https://kalenderwoche.info/2297/kw-21
URL:https://kalenderwoche.info/2297/kw-21
CATEGORIES:Kalenderwoche
TRANSP:TRANSPARENT
END:VEVENT
BEGIN:VEVENT
UID:kw-2297-22@kalenderwoche.info
DTSTAMP:20260423T083642Z
DTSTART;VALUE=DATE:22970531
DTEND;VALUE=DATE:22970607
SUMMARY:KW 22 (gerade)
DESCRIPTION:Kalenderwoche 22 im Jahr 2297\nMontag: 31.05.2297\nSonntag: 06.06.2297\nTyp: gerade Woche\nMehr unter: https://kalenderwoche.info/2297/kw-22
URL:https://kalenderwoche.info/2297/kw-22
CATEGORIES:Kalenderwoche
TRANSP:TRANSPARENT
END:VEVENT
BEGIN:VEVENT
UID:kw-2297-23@kalenderwoche.info
DTSTAMP:20260423T083642Z
DTSTART;VALUE=DATE:22970607
DTEND;VALUE=DATE:22970614
SUMMARY:KW 23 (ungerade)
DESCRIPTION:Kalenderwoche 23 im Jahr 2297\nMontag: 07.06.2297\nSonntag: 13.06.2297\nTyp: ungerade Woche\nMehr unter: https://kalenderwoche.info/2297/kw-23
URL:https://kalenderwoche.info/2297/kw-23
CATEGORIES:Kalenderwoche
TRANSP:TRANSPARENT
END:VEVENT
BEGIN:VEVENT
UID:kw-2297-24@kalenderwoche.info
DTSTAMP:20260423T083642Z
DTSTART;VALUE=DATE:22970614
DTEND;VALUE=DATE:22970621
SUMMARY:KW 24 (gerade)
DESCRIPTION:Kalenderwoche 24 im Jahr 2297\nMontag: 14.06.2297\nSonntag: 20.06.2297\nTyp: gerade Woche\nMehr unter: https://kalenderwoche.info/2297/kw-24
URL:https://kalenderwoche.info/2297/kw-24
CATEGORIES:Kalenderwoche
TRANSP:TRANSPARENT
END:VEVENT
BEGIN:VEVENT
UID:kw-2297-25@kalenderwoche.info
DTSTAMP:20260423T083642Z
DTSTART;VALUE=DATE:22970621
DTEND;VALUE=DATE:22970628
SUMMARY:KW 25 (ungerade)
DESCRIPTION:Kalenderwoche 25 im Jahr 2297\nMontag: 21.06.2297\nSonntag: 27.06.2297\nTyp: ungerade Woche\nMehr unter: https://kalenderwoche.info/2297/kw-25
URL:https://kalenderwoche.info/2297/kw-25
CATEGORIES:Kalenderwoche
TRANSP:TRANSPARENT
END:VEVENT
BEGIN:VEVENT
UID:kw-2297-26@kalenderwoche.info
DTSTAMP:20260423T083642Z
DTSTART;VALUE=DATE:22970628
DTEND;VALUE=DATE:22970705
SUMMARY:KW 26 (gerade)
DESCRIPTION:Kalenderwoche 26 im Jahr 2297\nMontag: 28.06.2297\nSonntag: 04.07.2297\nTyp: gerade Woche\nMehr unter: https://kalenderwoche.info/2297/kw-26
URL:https://kalenderwoche.info/2297/kw-26
CATEGORIES:Kalenderwoche
TRANSP:TRANSPARENT
END:VEVENT
BEGIN:VEVENT
UID:kw-2297-27@kalenderwoche.info
DTSTAMP:20260423T083642Z
DTSTART;VALUE=DATE:22970705
DTEND;VALUE=DATE:22970712
SUMMARY:KW 27 (ungerade)
DESCRIPTION:Kalenderwoche 27 im Jahr 2297\nMontag: 05.07.2297\nSonntag: 11.07.2297\nTyp: ungerade Woche\nMehr unter: https://kalenderwoche.info/2297/kw-27
URL:https://kalenderwoche.info/2297/kw-27
CATEGORIES:Kalenderwoche
TRANSP:TRANSPARENT
END:VEVENT
BEGIN:VEVENT
UID:kw-2297-28@kalenderwoche.info
DTSTAMP:20260423T083642Z
DTSTART;VALUE=DATE:22970712
DTEND;VALUE=DATE:22970719
SUMMARY:KW 28 (gerade)
DESCRIPTION:Kalenderwoche 28 im Jahr 2297\nMontag: 12.07.2297\nSonntag: 18.07.2297\nTyp: gerade Woche\nMehr unter: https://kalenderwoche.info/2297/kw-28
URL:https://kalenderwoche.info/2297/kw-28
CATEGORIES:Kalenderwoche
TRANSP:TRANSPARENT
END:VEVENT
BEGIN:VEVENT
UID:kw-2297-29@kalenderwoche.info
DTSTAMP:20260423T083642Z
DTSTART;VALUE=DATE:22970719
DTEND;VALUE=DATE:22970726
SUMMARY:KW 29 (ungerade)
DESCRIPTION:Kalenderwoche 29 im Jahr 2297\nMontag: 19.07.2297\nSonntag: 25.07.2297\nTyp: ungerade Woche\nMehr unter: https://kalenderwoche.info/2297/kw-29
URL:https://kalenderwoche.info/2297/kw-29
CATEGORIES:Kalenderwoche
TRANSP:TRANSPARENT
END:VEVENT
BEGIN:VEVENT
UID:kw-2297-30@kalenderwoche.info
DTSTAMP:20260423T083642Z
DTSTART;VALUE=DATE:22970726
DTEND;VALUE=DATE:22970802
SUMMARY:KW 30 (gerade)
DESCRIPTION:Kalenderwoche 30 im Jahr 2297\nMontag: 26.07.2297\nSonntag: 01.08.2297\nTyp: gerade Woche\nMehr unter: https://kalenderwoche.info/2297/kw-30
URL:https://kalenderwoche.info/2297/kw-30
CATEGORIES:Kalenderwoche
TRANSP:TRANSPARENT
END:VEVENT
BEGIN:VEVENT
UID:kw-2297-31@kalenderwoche.info
DTSTAMP:20260423T083642Z
DTSTART;VALUE=DATE:22970802
DTEND;VALUE=DATE:22970809
SUMMARY:KW 31 (ungerade)
DESCRIPTION:Kalenderwoche 31 im Jahr 2297\nMontag: 02.08.2297\nSonntag: 08.08.2297\nTyp: ungerade Woche\nMehr unter: https://kalenderwoche.info/2297/kw-31
URL:https://kalenderwoche.info/2297/kw-31
CATEGORIES:Kalenderwoche
TRANSP:TRANSPARENT
END:VEVENT
BEGIN:VEVENT
UID:kw-2297-32@kalenderwoche.info
DTSTAMP:20260423T083642Z
DTSTART;VALUE=DATE:22970809
DTEND;VALUE=DATE:22970816
SUMMARY:KW 32 (gerade)
DESCRIPTION:Kalenderwoche 32 im Jahr 2297\nMontag: 09.08.2297\nSonntag: 15.08.2297\nTyp: gerade Woche\nMehr unter: https://kalenderwoche.info/2297/kw-32
URL:https://kalenderwoche.info/2297/kw-32
CATEGORIES:Kalenderwoche
TRANSP:TRANSPARENT
END:VEVENT
BEGIN:VEVENT
UID:kw-2297-33@kalenderwoche.info
DTSTAMP:20260423T083642Z
DTSTART;VALUE=DATE:22970816
DTEND;VALUE=DATE:22970823
SUMMARY:KW 33 (ungerade)
DESCRIPTION:Kalenderwoche 33 im Jahr 2297\nMontag: 16.08.2297\nSonntag: 22.08.2297\nTyp: ungerade Woche\nMehr unter: https://kalenderwoche.info/2297/kw-33
URL:https://kalenderwoche.info/2297/kw-33
CATEGORIES:Kalenderwoche
TRANSP:TRANSPARENT
END:VEVENT
BEGIN:VEVENT
UID:kw-2297-34@kalenderwoche.info
DTSTAMP:20260423T083642Z
DTSTART;VALUE=DATE:22970823
DTEND;VALUE=DATE:22970830
SUMMARY:KW 34 (gerade)
DESCRIPTION:Kalenderwoche 34 im Jahr 2297\nMontag: 23.08.2297\nSonntag: 29.08.2297\nTyp: gerade Woche\nMehr unter: https://kalenderwoche.info/2297/kw-34
URL:https://kalenderwoche.info/2297/kw-34
CATEGORIES:Kalenderwoche
TRANSP:TRANSPARENT
END:VEVENT
BEGIN:VEVENT
UID:kw-2297-35@kalenderwoche.info
DTSTAMP:20260423T083642Z
DTSTART;VALUE=DATE:22970830
DTEND;VALUE=DATE:22970906
SUMMARY:KW 35 (ungerade)
DESCRIPTION:Kalenderwoche 35 im Jahr 2297\nMontag: 30.08.2297\nSonntag: 05.09.2297\nTyp: ungerade Woche\nMehr unter: https://kalenderwoche.info/2297/kw-35
URL:https://kalenderwoche.info/2297/kw-35
CATEGORIES:Kalenderwoche
TRANSP:TRANSPARENT
END:VEVENT
BEGIN:VEVENT
UID:kw-2297-36@kalenderwoche.info
DTSTAMP:20260423T083642Z
DTSTART;VALUE=DATE:22970906
DTEND;VALUE=DATE:22970913
SUMMARY:KW 36 (gerade)
DESCRIPTION:Kalenderwoche 36 im Jahr 2297\nMontag: 06.09.2297\nSonntag: 12.09.2297\nTyp: gerade Woche\nMehr unter: https://kalenderwoche.info/2297/kw-36
URL:https://kalenderwoche.info/2297/kw-36
CATEGORIES:Kalenderwoche
TRANSP:TRANSPARENT
END:VEVENT
BEGIN:VEVENT
UID:kw-2297-37@kalenderwoche.info
DTSTAMP:20260423T083642Z
DTSTART;VALUE=DATE:22970913
DTEND;VALUE=DATE:22970920
SUMMARY:KW 37 (ungerade)
DESCRIPTION:Kalenderwoche 37 im Jahr 2297\nMontag: 13.09.2297\nSonntag: 19.09.2297\nTyp: ungerade Woche\nMehr unter: https://kalenderwoche.info/2297/kw-37
URL:https://kalenderwoche.info/2297/kw-37
CATEGORIES:Kalenderwoche
TRANSP:TRANSPARENT
END:VEVENT
BEGIN:VEVENT
UID:kw-2297-38@kalenderwoche.info
DTSTAMP:20260423T083642Z
DTSTART;VALUE=DATE:22970920
DTEND;VALUE=DATE:22970927
SUMMARY:KW 38 (gerade)
DESCRIPTION:Kalenderwoche 38 im Jahr 2297\nMontag: 20.09.2297\nSonntag: 26.09.2297\nTyp: gerade Woche\nMehr unter: https://kalenderwoche.info/2297/kw-38
URL:https://kalenderwoche.info/2297/kw-38
CATEGORIES:Kalenderwoche
TRANSP:TRANSPARENT
END:VEVENT
BEGIN:VEVENT
UID:kw-2297-39@kalenderwoche.info
DTSTAMP:20260423T083642Z
DTSTART;VALUE=DATE:22970927
DTEND;VALUE=DATE:22971004
SUMMARY:KW 39 (ungerade)
DESCRIPTION:Kalenderwoche 39 im Jahr 2297\nMontag: 27.09.2297\nSonntag: 03.10.2297\nTyp: ungerade Woche\nMehr unter: https://kalenderwoche.info/2297/kw-39
URL:https://kalenderwoche.info/2297/kw-39
CATEGORIES:Kalenderwoche
TRANSP:TRANSPARENT
END:VEVENT
BEGIN:VEVENT
UID:kw-2297-40@kalenderwoche.info
DTSTAMP:20260423T083642Z
DTSTART;VALUE=DATE:22971004
DTEND;VALUE=DATE:22971011
SUMMARY:KW 40 (gerade)
DESCRIPTION:Kalenderwoche 40 im Jahr 2297\nMontag: 04.10.2297\nSonntag: 10.10.2297\nTyp: gerade Woche\nMehr unter: https://kalenderwoche.info/2297/kw-40
URL:https://kalenderwoche.info/2297/kw-40
CATEGORIES:Kalenderwoche
TRANSP:TRANSPARENT
END:VEVENT
BEGIN:VEVENT
UID:kw-2297-41@kalenderwoche.info
DTSTAMP:20260423T083642Z
DTSTART;VALUE=DATE:22971011
DTEND;VALUE=DATE:22971018
SUMMARY:KW 41 (ungerade)
DESCRIPTION:Kalenderwoche 41 im Jahr 2297\nMontag: 11.10.2297\nSonntag: 17.10.2297\nTyp: ungerade Woche\nMehr unter: https://kalenderwoche.info/2297/kw-41
URL:https://kalenderwoche.info/2297/kw-41
CATEGORIES:Kalenderwoche
TRANSP:TRANSPARENT
END:VEVENT
BEGIN:VEVENT
UID:kw-2297-42@kalenderwoche.info
DTSTAMP:20260423T083642Z
DTSTART;VALUE=DATE:22971018
DTEND;VALUE=DATE:22971025
SUMMARY:KW 42 (gerade)
DESCRIPTION:Kalenderwoche 42 im Jahr 2297\nMontag: 18.10.2297\nSonntag: 24.10.2297\nTyp: gerade Woche\nMehr unter: https://kalenderwoche.info/2297/kw-42
URL:https://kalenderwoche.info/2297/kw-42
CATEGORIES:Kalenderwoche
TRANSP:TRANSPARENT
END:VEVENT
BEGIN:VEVENT
UID:kw-2297-43@kalenderwoche.info
DTSTAMP:20260423T083642Z
DTSTART;VALUE=DATE:22971025
DTEND;VALUE=DATE:22971101
SUMMARY:KW 43 (ungerade)
DESCRIPTION:Kalenderwoche 43 im Jahr 2297\nMontag: 25.10.2297\nSonntag: 31.10.2297\nTyp: ungerade Woche\nMehr unter: https://kalenderwoche.info/2297/kw-43
URL:https://kalenderwoche.info/2297/kw-43
CATEGORIES:Kalenderwoche
TRANSP:TRANSPARENT
END:VEVENT
BEGIN:VEVENT
UID:kw-2297-44@kalenderwoche.info
DTSTAMP:20260423T083642Z
DTSTART;VALUE=DATE:22971101
DTEND;VALUE=DATE:22971108
SUMMARY:KW 44 (gerade)
DESCRIPTION:Kalenderwoche 44 im Jahr 2297\nMontag: 01.11.2297\nSonntag: 07.11.2297\nTyp: gerade Woche\nMehr unter: https://kalenderwoche.info/2297/kw-44
URL:https://kalenderwoche.info/2297/kw-44
CATEGORIES:Kalenderwoche
TRANSP:TRANSPARENT
END:VEVENT
BEGIN:VEVENT
UID:kw-2297-45@kalenderwoche.info
DTSTAMP:20260423T083642Z
DTSTART;VALUE=DATE:22971108
DTEND;VALUE=DATE:22971115
SUMMARY:KW 45 (ungerade)
DESCRIPTION:Kalenderwoche 45 im Jahr 2297\nMontag: 08.11.2297\nSonntag: 14.11.2297\nTyp: ungerade Woche\nMehr unter: https://kalenderwoche.info/2297/kw-45
URL:https://kalenderwoche.info/2297/kw-45
CATEGORIES:Kalenderwoche
TRANSP:TRANSPARENT
END:VEVENT
BEGIN:VEVENT
UID:kw-2297-46@kalenderwoche.info
DTSTAMP:20260423T083642Z
DTSTART;VALUE=DATE:22971115
DTEND;VALUE=DATE:22971122
SUMMARY:KW 46 (gerade)
DESCRIPTION:Kalenderwoche 46 im Jahr 2297\nMontag: 15.11.2297\nSonntag: 21.11.2297\nTyp: gerade Woche\nMehr unter: https://kalenderwoche.info/2297/kw-46
URL:https://kalenderwoche.info/2297/kw-46
CATEGORIES:Kalenderwoche
TRANSP:TRANSPARENT
END:VEVENT
BEGIN:VEVENT
UID:kw-2297-47@kalenderwoche.info
DTSTAMP:20260423T083642Z
DTSTART;VALUE=DATE:22971122
DTEND;VALUE=DATE:22971129
SUMMARY:KW 47 (ungerade)
DESCRIPTION:Kalenderwoche 47 im Jahr 2297\nMontag: 22.11.2297\nSonntag: 28.11.2297\nTyp: ungerade Woche\nMehr unter: https://kalenderwoche.info/2297/kw-47
URL:https://kalenderwoche.info/2297/kw-47
CATEGORIES:Kalenderwoche
TRANSP:TRANSPARENT
END:VEVENT
BEGIN:VEVENT
UID:kw-2297-48@kalenderwoche.info
DTSTAMP:20260423T083642Z
DTSTART;VALUE=DATE:22971129
DTEND;VALUE=DATE:22971206
SUMMARY:KW 48 (gerade)
DESCRIPTION:Kalenderwoche 48 im Jahr 2297\nMontag: 29.11.2297\nSonntag: 05.12.2297\nTyp: gerade Woche\nMehr unter: https://kalenderwoche.info/2297/kw-48
URL:https://kalenderwoche.info/2297/kw-48
CATEGORIES:Kalenderwoche
TRANSP:TRANSPARENT
END:VEVENT
BEGIN:VEVENT
UID:kw-2297-49@kalenderwoche.info
DTSTAMP:20260423T083642Z
DTSTART;VALUE=DATE:22971206
DTEND;VALUE=DATE:22971213
SUMMARY:KW 49 (ungerade)
DESCRIPTION:Kalenderwoche 49 im Jahr 2297\nMontag: 06.12.2297\nSonntag: 12.12.2297\nTyp: ungerade Woche\nMehr unter: https://kalenderwoche.info/2297/kw-49
URL:https://kalenderwoche.info/2297/kw-49
CATEGORIES:Kalenderwoche
TRANSP:TRANSPARENT
END:VEVENT
BEGIN:VEVENT
UID:kw-2297-50@kalenderwoche.info
DTSTAMP:20260423T083642Z
DTSTART;VALUE=DATE:22971213
DTEND;VALUE=DATE:22971220
SUMMARY:KW 50 (gerade)
DESCRIPTION:Kalenderwoche 50 im Jahr 2297\nMontag: 13.12.2297\nSonntag: 19.12.2297\nTyp: gerade Woche\nMehr unter: https://kalenderwoche.info/2297/kw-50
URL:https://kalenderwoche.info/2297/kw-50
CATEGORIES:Kalenderwoche
TRANSP:TRANSPARENT
END:VEVENT
BEGIN:VEVENT
UID:kw-2297-51@kalenderwoche.info
DTSTAMP:20260423T083642Z
DTSTART;VALUE=DATE:22971220
DTEND;VALUE=DATE:22971227
SUMMARY:KW 51 (ungerade)
DESCRIPTION:Kalenderwoche 51 im Jahr 2297\nMontag: 20.12.2297\nSonntag: 26.12.2297\nTyp: ungerade Woche\nMehr unter: https://kalenderwoche.info/2297/kw-51
URL:https://kalenderwoche.info/2297/kw-51
CATEGORIES:Kalenderwoche
TRANSP:TRANSPARENT
END:VEVENT
BEGIN:VEVENT
UID:kw-2297-52@kalenderwoche.info
DTSTAMP:20260423T083642Z
DTSTART;VALUE=DATE:22971227
DTEND;VALUE=DATE:22980103
SUMMARY:KW 52 (gerade)
DESCRIPTION:Kalenderwoche 52 im Jahr 2297\nMontag: 27.12.2297\nSonntag: 02.01.2298\nTyp: gerade Woche\nMehr unter: https://kalenderwoche.info/2297/kw-52
URL:https://kalenderwoche.info/2297/kw-52
CATEGORIES:Kalenderwoche
TRANSP:TRANSPARENT
END:VEVENT
END:VCALENDAR
