BEGIN:VCALENDAR
VERSION:2.0
PRODID:-//kalenderwoche.info//Kalender//DE
CALSCALE:GREGORIAN
METHOD:PUBLISH
X-WR-CALNAME:Kalenderwochen 2301
X-WR-CALDESC:Alle Kalenderwochen für das Jahr 2301
X-WR-TIMEZONE:Europe/Berlin
BEGIN:VEVENT
UID:kw-2301-1@kalenderwoche.info
DTSTAMP:20260423T142106Z
DTSTART;VALUE=DATE:23001231
DTEND;VALUE=DATE:23010107
SUMMARY:KW 1 (ungerade)
DESCRIPTION:Kalenderwoche 1 im Jahr 2301\nMontag: 31.12.2300\nSonntag: 06.01.2301\nTyp: ungerade Woche\nMehr unter: https://kalenderwoche.info/2301/kw-1
URL:https://kalenderwoche.info/2301/kw-1
CATEGORIES:Kalenderwoche
TRANSP:TRANSPARENT
END:VEVENT
BEGIN:VEVENT
UID:kw-2301-2@kalenderwoche.info
DTSTAMP:20260423T142106Z
DTSTART;VALUE=DATE:23010107
DTEND;VALUE=DATE:23010114
SUMMARY:KW 2 (gerade)
DESCRIPTION:Kalenderwoche 2 im Jahr 2301\nMontag: 07.01.2301\nSonntag: 13.01.2301\nTyp: gerade Woche\nMehr unter: https://kalenderwoche.info/2301/kw-2
URL:https://kalenderwoche.info/2301/kw-2
CATEGORIES:Kalenderwoche
TRANSP:TRANSPARENT
END:VEVENT
BEGIN:VEVENT
UID:kw-2301-3@kalenderwoche.info
DTSTAMP:20260423T142106Z
DTSTART;VALUE=DATE:23010114
DTEND;VALUE=DATE:23010121
SUMMARY:KW 3 (ungerade)
DESCRIPTION:Kalenderwoche 3 im Jahr 2301\nMontag: 14.01.2301\nSonntag: 20.01.2301\nTyp: ungerade Woche\nMehr unter: https://kalenderwoche.info/2301/kw-3
URL:https://kalenderwoche.info/2301/kw-3
CATEGORIES:Kalenderwoche
TRANSP:TRANSPARENT
END:VEVENT
BEGIN:VEVENT
UID:kw-2301-4@kalenderwoche.info
DTSTAMP:20260423T142106Z
DTSTART;VALUE=DATE:23010121
DTEND;VALUE=DATE:23010128
SUMMARY:KW 4 (gerade)
DESCRIPTION:Kalenderwoche 4 im Jahr 2301\nMontag: 21.01.2301\nSonntag: 27.01.2301\nTyp: gerade Woche\nMehr unter: https://kalenderwoche.info/2301/kw-4
URL:https://kalenderwoche.info/2301/kw-4
CATEGORIES:Kalenderwoche
TRANSP:TRANSPARENT
END:VEVENT
BEGIN:VEVENT
UID:kw-2301-5@kalenderwoche.info
DTSTAMP:20260423T142106Z
DTSTART;VALUE=DATE:23010128
DTEND;VALUE=DATE:23010204
SUMMARY:KW 5 (ungerade)
DESCRIPTION:Kalenderwoche 5 im Jahr 2301\nMontag: 28.01.2301\nSonntag: 03.02.2301\nTyp: ungerade Woche\nMehr unter: https://kalenderwoche.info/2301/kw-5
URL:https://kalenderwoche.info/2301/kw-5
CATEGORIES:Kalenderwoche
TRANSP:TRANSPARENT
END:VEVENT
BEGIN:VEVENT
UID:kw-2301-6@kalenderwoche.info
DTSTAMP:20260423T142106Z
DTSTART;VALUE=DATE:23010204
DTEND;VALUE=DATE:23010211
SUMMARY:KW 6 (gerade)
DESCRIPTION:Kalenderwoche 6 im Jahr 2301\nMontag: 04.02.2301\nSonntag: 10.02.2301\nTyp: gerade Woche\nMehr unter: https://kalenderwoche.info/2301/kw-6
URL:https://kalenderwoche.info/2301/kw-6
CATEGORIES:Kalenderwoche
TRANSP:TRANSPARENT
END:VEVENT
BEGIN:VEVENT
UID:kw-2301-7@kalenderwoche.info
DTSTAMP:20260423T142106Z
DTSTART;VALUE=DATE:23010211
DTEND;VALUE=DATE:23010218
SUMMARY:KW 7 (ungerade)
DESCRIPTION:Kalenderwoche 7 im Jahr 2301\nMontag: 11.02.2301\nSonntag: 17.02.2301\nTyp: ungerade Woche\nMehr unter: https://kalenderwoche.info/2301/kw-7
URL:https://kalenderwoche.info/2301/kw-7
CATEGORIES:Kalenderwoche
TRANSP:TRANSPARENT
END:VEVENT
BEGIN:VEVENT
UID:kw-2301-8@kalenderwoche.info
DTSTAMP:20260423T142106Z
DTSTART;VALUE=DATE:23010218
DTEND;VALUE=DATE:23010225
SUMMARY:KW 8 (gerade)
DESCRIPTION:Kalenderwoche 8 im Jahr 2301\nMontag: 18.02.2301\nSonntag: 24.02.2301\nTyp: gerade Woche\nMehr unter: https://kalenderwoche.info/2301/kw-8
URL:https://kalenderwoche.info/2301/kw-8
CATEGORIES:Kalenderwoche
TRANSP:TRANSPARENT
END:VEVENT
BEGIN:VEVENT
UID:kw-2301-9@kalenderwoche.info
DTSTAMP:20260423T142106Z
DTSTART;VALUE=DATE:23010225
DTEND;VALUE=DATE:23010304
SUMMARY:KW 9 (ungerade)
DESCRIPTION:Kalenderwoche 9 im Jahr 2301\nMontag: 25.02.2301\nSonntag: 03.03.2301\nTyp: ungerade Woche\nMehr unter: https://kalenderwoche.info/2301/kw-9
URL:https://kalenderwoche.info/2301/kw-9
CATEGORIES:Kalenderwoche
TRANSP:TRANSPARENT
END:VEVENT
BEGIN:VEVENT
UID:kw-2301-10@kalenderwoche.info
DTSTAMP:20260423T142106Z
DTSTART;VALUE=DATE:23010304
DTEND;VALUE=DATE:23010311
SUMMARY:KW 10 (gerade)
DESCRIPTION:Kalenderwoche 10 im Jahr 2301\nMontag: 04.03.2301\nSonntag: 10.03.2301\nTyp: gerade Woche\nMehr unter: https://kalenderwoche.info/2301/kw-10
URL:https://kalenderwoche.info/2301/kw-10
CATEGORIES:Kalenderwoche
TRANSP:TRANSPARENT
END:VEVENT
BEGIN:VEVENT
UID:kw-2301-11@kalenderwoche.info
DTSTAMP:20260423T142106Z
DTSTART;VALUE=DATE:23010311
DTEND;VALUE=DATE:23010318
SUMMARY:KW 11 (ungerade)
DESCRIPTION:Kalenderwoche 11 im Jahr 2301\nMontag: 11.03.2301\nSonntag: 17.03.2301\nTyp: ungerade Woche\nMehr unter: https://kalenderwoche.info/2301/kw-11
URL:https://kalenderwoche.info/2301/kw-11
CATEGORIES:Kalenderwoche
TRANSP:TRANSPARENT
END:VEVENT
BEGIN:VEVENT
UID:kw-2301-12@kalenderwoche.info
DTSTAMP:20260423T142106Z
DTSTART;VALUE=DATE:23010318
DTEND;VALUE=DATE:23010325
SUMMARY:KW 12 (gerade)
DESCRIPTION:Kalenderwoche 12 im Jahr 2301\nMontag: 18.03.2301\nSonntag: 24.03.2301\nTyp: gerade Woche\nMehr unter: https://kalenderwoche.info/2301/kw-12
URL:https://kalenderwoche.info/2301/kw-12
CATEGORIES:Kalenderwoche
TRANSP:TRANSPARENT
END:VEVENT
BEGIN:VEVENT
UID:kw-2301-13@kalenderwoche.info
DTSTAMP:20260423T142106Z
DTSTART;VALUE=DATE:23010325
DTEND;VALUE=DATE:23010401
SUMMARY:KW 13 (ungerade)
DESCRIPTION:Kalenderwoche 13 im Jahr 2301\nMontag: 25.03.2301\nSonntag: 31.03.2301\nTyp: ungerade Woche\nMehr unter: https://kalenderwoche.info/2301/kw-13
URL:https://kalenderwoche.info/2301/kw-13
CATEGORIES:Kalenderwoche
TRANSP:TRANSPARENT
END:VEVENT
BEGIN:VEVENT
UID:kw-2301-14@kalenderwoche.info
DTSTAMP:20260423T142106Z
DTSTART;VALUE=DATE:23010401
DTEND;VALUE=DATE:23010408
SUMMARY:KW 14 (gerade)
DESCRIPTION:Kalenderwoche 14 im Jahr 2301\nMontag: 01.04.2301\nSonntag: 07.04.2301\nTyp: gerade Woche\nMehr unter: https://kalenderwoche.info/2301/kw-14
URL:https://kalenderwoche.info/2301/kw-14
CATEGORIES:Kalenderwoche
TRANSP:TRANSPARENT
END:VEVENT
BEGIN:VEVENT
UID:kw-2301-15@kalenderwoche.info
DTSTAMP:20260423T142106Z
DTSTART;VALUE=DATE:23010408
DTEND;VALUE=DATE:23010415
SUMMARY:KW 15 (ungerade)
DESCRIPTION:Kalenderwoche 15 im Jahr 2301\nMontag: 08.04.2301\nSonntag: 14.04.2301\nTyp: ungerade Woche\nMehr unter: https://kalenderwoche.info/2301/kw-15
URL:https://kalenderwoche.info/2301/kw-15
CATEGORIES:Kalenderwoche
TRANSP:TRANSPARENT
END:VEVENT
BEGIN:VEVENT
UID:kw-2301-16@kalenderwoche.info
DTSTAMP:20260423T142106Z
DTSTART;VALUE=DATE:23010415
DTEND;VALUE=DATE:23010422
SUMMARY:KW 16 (gerade)
DESCRIPTION:Kalenderwoche 16 im Jahr 2301\nMontag: 15.04.2301\nSonntag: 21.04.2301\nTyp: gerade Woche\nMehr unter: https://kalenderwoche.info/2301/kw-16
URL:https://kalenderwoche.info/2301/kw-16
CATEGORIES:Kalenderwoche
TRANSP:TRANSPARENT
END:VEVENT
BEGIN:VEVENT
UID:kw-2301-17@kalenderwoche.info
DTSTAMP:20260423T142106Z
DTSTART;VALUE=DATE:23010422
DTEND;VALUE=DATE:23010429
SUMMARY:KW 17 (ungerade)
DESCRIPTION:Kalenderwoche 17 im Jahr 2301\nMontag: 22.04.2301\nSonntag: 28.04.2301\nTyp: ungerade Woche\nMehr unter: https://kalenderwoche.info/2301/kw-17
URL:https://kalenderwoche.info/2301/kw-17
CATEGORIES:Kalenderwoche
TRANSP:TRANSPARENT
END:VEVENT
BEGIN:VEVENT
UID:kw-2301-18@kalenderwoche.info
DTSTAMP:20260423T142106Z
DTSTART;VALUE=DATE:23010429
DTEND;VALUE=DATE:23010506
SUMMARY:KW 18 (gerade)
DESCRIPTION:Kalenderwoche 18 im Jahr 2301\nMontag: 29.04.2301\nSonntag: 05.05.2301\nTyp: gerade Woche\nMehr unter: https://kalenderwoche.info/2301/kw-18
URL:https://kalenderwoche.info/2301/kw-18
CATEGORIES:Kalenderwoche
TRANSP:TRANSPARENT
END:VEVENT
BEGIN:VEVENT
UID:kw-2301-19@kalenderwoche.info
DTSTAMP:20260423T142106Z
DTSTART;VALUE=DATE:23010506
DTEND;VALUE=DATE:23010513
SUMMARY:KW 19 (ungerade)
DESCRIPTION:Kalenderwoche 19 im Jahr 2301\nMontag: 06.05.2301\nSonntag: 12.05.2301\nTyp: ungerade Woche\nMehr unter: https://kalenderwoche.info/2301/kw-19
URL:https://kalenderwoche.info/2301/kw-19
CATEGORIES:Kalenderwoche
TRANSP:TRANSPARENT
END:VEVENT
BEGIN:VEVENT
UID:kw-2301-20@kalenderwoche.info
DTSTAMP:20260423T142106Z
DTSTART;VALUE=DATE:23010513
DTEND;VALUE=DATE:23010520
SUMMARY:KW 20 (gerade)
DESCRIPTION:Kalenderwoche 20 im Jahr 2301\nMontag: 13.05.2301\nSonntag: 19.05.2301\nTyp: gerade Woche\nMehr unter: https://kalenderwoche.info/2301/kw-20
URL:https://kalenderwoche.info/2301/kw-20
CATEGORIES:Kalenderwoche
TRANSP:TRANSPARENT
END:VEVENT
BEGIN:VEVENT
UID:kw-2301-21@kalenderwoche.info
DTSTAMP:20260423T142106Z
DTSTART;VALUE=DATE:23010520
DTEND;VALUE=DATE:23010527
SUMMARY:KW 21 (ungerade)
DESCRIPTION:Kalenderwoche 21 im Jahr 2301\nMontag: 20.05.2301\nSonntag: 26.05.2301\nTyp: ungerade Woche\nMehr unter: https://kalenderwoche.info/2301/kw-21
URL:https://kalenderwoche.info/2301/kw-21
CATEGORIES:Kalenderwoche
TRANSP:TRANSPARENT
END:VEVENT
BEGIN:VEVENT
UID:kw-2301-22@kalenderwoche.info
DTSTAMP:20260423T142106Z
DTSTART;VALUE=DATE:23010527
DTEND;VALUE=DATE:23010603
SUMMARY:KW 22 (gerade)
DESCRIPTION:Kalenderwoche 22 im Jahr 2301\nMontag: 27.05.2301\nSonntag: 02.06.2301\nTyp: gerade Woche\nMehr unter: https://kalenderwoche.info/2301/kw-22
URL:https://kalenderwoche.info/2301/kw-22
CATEGORIES:Kalenderwoche
TRANSP:TRANSPARENT
END:VEVENT
BEGIN:VEVENT
UID:kw-2301-23@kalenderwoche.info
DTSTAMP:20260423T142106Z
DTSTART;VALUE=DATE:23010603
DTEND;VALUE=DATE:23010610
SUMMARY:KW 23 (ungerade)
DESCRIPTION:Kalenderwoche 23 im Jahr 2301\nMontag: 03.06.2301\nSonntag: 09.06.2301\nTyp: ungerade Woche\nMehr unter: https://kalenderwoche.info/2301/kw-23
URL:https://kalenderwoche.info/2301/kw-23
CATEGORIES:Kalenderwoche
TRANSP:TRANSPARENT
END:VEVENT
BEGIN:VEVENT
UID:kw-2301-24@kalenderwoche.info
DTSTAMP:20260423T142106Z
DTSTART;VALUE=DATE:23010610
DTEND;VALUE=DATE:23010617
SUMMARY:KW 24 (gerade)
DESCRIPTION:Kalenderwoche 24 im Jahr 2301\nMontag: 10.06.2301\nSonntag: 16.06.2301\nTyp: gerade Woche\nMehr unter: https://kalenderwoche.info/2301/kw-24
URL:https://kalenderwoche.info/2301/kw-24
CATEGORIES:Kalenderwoche
TRANSP:TRANSPARENT
END:VEVENT
BEGIN:VEVENT
UID:kw-2301-25@kalenderwoche.info
DTSTAMP:20260423T142106Z
DTSTART;VALUE=DATE:23010617
DTEND;VALUE=DATE:23010624
SUMMARY:KW 25 (ungerade)
DESCRIPTION:Kalenderwoche 25 im Jahr 2301\nMontag: 17.06.2301\nSonntag: 23.06.2301\nTyp: ungerade Woche\nMehr unter: https://kalenderwoche.info/2301/kw-25
URL:https://kalenderwoche.info/2301/kw-25
CATEGORIES:Kalenderwoche
TRANSP:TRANSPARENT
END:VEVENT
BEGIN:VEVENT
UID:kw-2301-26@kalenderwoche.info
DTSTAMP:20260423T142106Z
DTSTART;VALUE=DATE:23010624
DTEND;VALUE=DATE:23010701
SUMMARY:KW 26 (gerade)
DESCRIPTION:Kalenderwoche 26 im Jahr 2301\nMontag: 24.06.2301\nSonntag: 30.06.2301\nTyp: gerade Woche\nMehr unter: https://kalenderwoche.info/2301/kw-26
URL:https://kalenderwoche.info/2301/kw-26
CATEGORIES:Kalenderwoche
TRANSP:TRANSPARENT
END:VEVENT
BEGIN:VEVENT
UID:kw-2301-27@kalenderwoche.info
DTSTAMP:20260423T142106Z
DTSTART;VALUE=DATE:23010701
DTEND;VALUE=DATE:23010708
SUMMARY:KW 27 (ungerade)
DESCRIPTION:Kalenderwoche 27 im Jahr 2301\nMontag: 01.07.2301\nSonntag: 07.07.2301\nTyp: ungerade Woche\nMehr unter: https://kalenderwoche.info/2301/kw-27
URL:https://kalenderwoche.info/2301/kw-27
CATEGORIES:Kalenderwoche
TRANSP:TRANSPARENT
END:VEVENT
BEGIN:VEVENT
UID:kw-2301-28@kalenderwoche.info
DTSTAMP:20260423T142106Z
DTSTART;VALUE=DATE:23010708
DTEND;VALUE=DATE:23010715
SUMMARY:KW 28 (gerade)
DESCRIPTION:Kalenderwoche 28 im Jahr 2301\nMontag: 08.07.2301\nSonntag: 14.07.2301\nTyp: gerade Woche\nMehr unter: https://kalenderwoche.info/2301/kw-28
URL:https://kalenderwoche.info/2301/kw-28
CATEGORIES:Kalenderwoche
TRANSP:TRANSPARENT
END:VEVENT
BEGIN:VEVENT
UID:kw-2301-29@kalenderwoche.info
DTSTAMP:20260423T142106Z
DTSTART;VALUE=DATE:23010715
DTEND;VALUE=DATE:23010722
SUMMARY:KW 29 (ungerade)
DESCRIPTION:Kalenderwoche 29 im Jahr 2301\nMontag: 15.07.2301\nSonntag: 21.07.2301\nTyp: ungerade Woche\nMehr unter: https://kalenderwoche.info/2301/kw-29
URL:https://kalenderwoche.info/2301/kw-29
CATEGORIES:Kalenderwoche
TRANSP:TRANSPARENT
END:VEVENT
BEGIN:VEVENT
UID:kw-2301-30@kalenderwoche.info
DTSTAMP:20260423T142106Z
DTSTART;VALUE=DATE:23010722
DTEND;VALUE=DATE:23010729
SUMMARY:KW 30 (gerade)
DESCRIPTION:Kalenderwoche 30 im Jahr 2301\nMontag: 22.07.2301\nSonntag: 28.07.2301\nTyp: gerade Woche\nMehr unter: https://kalenderwoche.info/2301/kw-30
URL:https://kalenderwoche.info/2301/kw-30
CATEGORIES:Kalenderwoche
TRANSP:TRANSPARENT
END:VEVENT
BEGIN:VEVENT
UID:kw-2301-31@kalenderwoche.info
DTSTAMP:20260423T142106Z
DTSTART;VALUE=DATE:23010729
DTEND;VALUE=DATE:23010805
SUMMARY:KW 31 (ungerade)
DESCRIPTION:Kalenderwoche 31 im Jahr 2301\nMontag: 29.07.2301\nSonntag: 04.08.2301\nTyp: ungerade Woche\nMehr unter: https://kalenderwoche.info/2301/kw-31
URL:https://kalenderwoche.info/2301/kw-31
CATEGORIES:Kalenderwoche
TRANSP:TRANSPARENT
END:VEVENT
BEGIN:VEVENT
UID:kw-2301-32@kalenderwoche.info
DTSTAMP:20260423T142106Z
DTSTART;VALUE=DATE:23010805
DTEND;VALUE=DATE:23010812
SUMMARY:KW 32 (gerade)
DESCRIPTION:Kalenderwoche 32 im Jahr 2301\nMontag: 05.08.2301\nSonntag: 11.08.2301\nTyp: gerade Woche\nMehr unter: https://kalenderwoche.info/2301/kw-32
URL:https://kalenderwoche.info/2301/kw-32
CATEGORIES:Kalenderwoche
TRANSP:TRANSPARENT
END:VEVENT
BEGIN:VEVENT
UID:kw-2301-33@kalenderwoche.info
DTSTAMP:20260423T142106Z
DTSTART;VALUE=DATE:23010812
DTEND;VALUE=DATE:23010819
SUMMARY:KW 33 (ungerade)
DESCRIPTION:Kalenderwoche 33 im Jahr 2301\nMontag: 12.08.2301\nSonntag: 18.08.2301\nTyp: ungerade Woche\nMehr unter: https://kalenderwoche.info/2301/kw-33
URL:https://kalenderwoche.info/2301/kw-33
CATEGORIES:Kalenderwoche
TRANSP:TRANSPARENT
END:VEVENT
BEGIN:VEVENT
UID:kw-2301-34@kalenderwoche.info
DTSTAMP:20260423T142106Z
DTSTART;VALUE=DATE:23010819
DTEND;VALUE=DATE:23010826
SUMMARY:KW 34 (gerade)
DESCRIPTION:Kalenderwoche 34 im Jahr 2301\nMontag: 19.08.2301\nSonntag: 25.08.2301\nTyp: gerade Woche\nMehr unter: https://kalenderwoche.info/2301/kw-34
URL:https://kalenderwoche.info/2301/kw-34
CATEGORIES:Kalenderwoche
TRANSP:TRANSPARENT
END:VEVENT
BEGIN:VEVENT
UID:kw-2301-35@kalenderwoche.info
DTSTAMP:20260423T142106Z
DTSTART;VALUE=DATE:23010826
DTEND;VALUE=DATE:23010902
SUMMARY:KW 35 (ungerade)
DESCRIPTION:Kalenderwoche 35 im Jahr 2301\nMontag: 26.08.2301\nSonntag: 01.09.2301\nTyp: ungerade Woche\nMehr unter: https://kalenderwoche.info/2301/kw-35
URL:https://kalenderwoche.info/2301/kw-35
CATEGORIES:Kalenderwoche
TRANSP:TRANSPARENT
END:VEVENT
BEGIN:VEVENT
UID:kw-2301-36@kalenderwoche.info
DTSTAMP:20260423T142106Z
DTSTART;VALUE=DATE:23010902
DTEND;VALUE=DATE:23010909
SUMMARY:KW 36 (gerade)
DESCRIPTION:Kalenderwoche 36 im Jahr 2301\nMontag: 02.09.2301\nSonntag: 08.09.2301\nTyp: gerade Woche\nMehr unter: https://kalenderwoche.info/2301/kw-36
URL:https://kalenderwoche.info/2301/kw-36
CATEGORIES:Kalenderwoche
TRANSP:TRANSPARENT
END:VEVENT
BEGIN:VEVENT
UID:kw-2301-37@kalenderwoche.info
DTSTAMP:20260423T142106Z
DTSTART;VALUE=DATE:23010909
DTEND;VALUE=DATE:23010916
SUMMARY:KW 37 (ungerade)
DESCRIPTION:Kalenderwoche 37 im Jahr 2301\nMontag: 09.09.2301\nSonntag: 15.09.2301\nTyp: ungerade Woche\nMehr unter: https://kalenderwoche.info/2301/kw-37
URL:https://kalenderwoche.info/2301/kw-37
CATEGORIES:Kalenderwoche
TRANSP:TRANSPARENT
END:VEVENT
BEGIN:VEVENT
UID:kw-2301-38@kalenderwoche.info
DTSTAMP:20260423T142106Z
DTSTART;VALUE=DATE:23010916
DTEND;VALUE=DATE:23010923
SUMMARY:KW 38 (gerade)
DESCRIPTION:Kalenderwoche 38 im Jahr 2301\nMontag: 16.09.2301\nSonntag: 22.09.2301\nTyp: gerade Woche\nMehr unter: https://kalenderwoche.info/2301/kw-38
URL:https://kalenderwoche.info/2301/kw-38
CATEGORIES:Kalenderwoche
TRANSP:TRANSPARENT
END:VEVENT
BEGIN:VEVENT
UID:kw-2301-39@kalenderwoche.info
DTSTAMP:20260423T142106Z
DTSTART;VALUE=DATE:23010923
DTEND;VALUE=DATE:23010930
SUMMARY:KW 39 (ungerade)
DESCRIPTION:Kalenderwoche 39 im Jahr 2301\nMontag: 23.09.2301\nSonntag: 29.09.2301\nTyp: ungerade Woche\nMehr unter: https://kalenderwoche.info/2301/kw-39
URL:https://kalenderwoche.info/2301/kw-39
CATEGORIES:Kalenderwoche
TRANSP:TRANSPARENT
END:VEVENT
BEGIN:VEVENT
UID:kw-2301-40@kalenderwoche.info
DTSTAMP:20260423T142106Z
DTSTART;VALUE=DATE:23010930
DTEND;VALUE=DATE:23011007
SUMMARY:KW 40 (gerade)
DESCRIPTION:Kalenderwoche 40 im Jahr 2301\nMontag: 30.09.2301\nSonntag: 06.10.2301\nTyp: gerade Woche\nMehr unter: https://kalenderwoche.info/2301/kw-40
URL:https://kalenderwoche.info/2301/kw-40
CATEGORIES:Kalenderwoche
TRANSP:TRANSPARENT
END:VEVENT
BEGIN:VEVENT
UID:kw-2301-41@kalenderwoche.info
DTSTAMP:20260423T142106Z
DTSTART;VALUE=DATE:23011007
DTEND;VALUE=DATE:23011014
SUMMARY:KW 41 (ungerade)
DESCRIPTION:Kalenderwoche 41 im Jahr 2301\nMontag: 07.10.2301\nSonntag: 13.10.2301\nTyp: ungerade Woche\nMehr unter: https://kalenderwoche.info/2301/kw-41
URL:https://kalenderwoche.info/2301/kw-41
CATEGORIES:Kalenderwoche
TRANSP:TRANSPARENT
END:VEVENT
BEGIN:VEVENT
UID:kw-2301-42@kalenderwoche.info
DTSTAMP:20260423T142106Z
DTSTART;VALUE=DATE:23011014
DTEND;VALUE=DATE:23011021
SUMMARY:KW 42 (gerade)
DESCRIPTION:Kalenderwoche 42 im Jahr 2301\nMontag: 14.10.2301\nSonntag: 20.10.2301\nTyp: gerade Woche\nMehr unter: https://kalenderwoche.info/2301/kw-42
URL:https://kalenderwoche.info/2301/kw-42
CATEGORIES:Kalenderwoche
TRANSP:TRANSPARENT
END:VEVENT
BEGIN:VEVENT
UID:kw-2301-43@kalenderwoche.info
DTSTAMP:20260423T142106Z
DTSTART;VALUE=DATE:23011021
DTEND;VALUE=DATE:23011028
SUMMARY:KW 43 (ungerade)
DESCRIPTION:Kalenderwoche 43 im Jahr 2301\nMontag: 21.10.2301\nSonntag: 27.10.2301\nTyp: ungerade Woche\nMehr unter: https://kalenderwoche.info/2301/kw-43
URL:https://kalenderwoche.info/2301/kw-43
CATEGORIES:Kalenderwoche
TRANSP:TRANSPARENT
END:VEVENT
BEGIN:VEVENT
UID:kw-2301-44@kalenderwoche.info
DTSTAMP:20260423T142106Z
DTSTART;VALUE=DATE:23011028
DTEND;VALUE=DATE:23011104
SUMMARY:KW 44 (gerade)
DESCRIPTION:Kalenderwoche 44 im Jahr 2301\nMontag: 28.10.2301\nSonntag: 03.11.2301\nTyp: gerade Woche\nMehr unter: https://kalenderwoche.info/2301/kw-44
URL:https://kalenderwoche.info/2301/kw-44
CATEGORIES:Kalenderwoche
TRANSP:TRANSPARENT
END:VEVENT
BEGIN:VEVENT
UID:kw-2301-45@kalenderwoche.info
DTSTAMP:20260423T142106Z
DTSTART;VALUE=DATE:23011104
DTEND;VALUE=DATE:23011111
SUMMARY:KW 45 (ungerade)
DESCRIPTION:Kalenderwoche 45 im Jahr 2301\nMontag: 04.11.2301\nSonntag: 10.11.2301\nTyp: ungerade Woche\nMehr unter: https://kalenderwoche.info/2301/kw-45
URL:https://kalenderwoche.info/2301/kw-45
CATEGORIES:Kalenderwoche
TRANSP:TRANSPARENT
END:VEVENT
BEGIN:VEVENT
UID:kw-2301-46@kalenderwoche.info
DTSTAMP:20260423T142106Z
DTSTART;VALUE=DATE:23011111
DTEND;VALUE=DATE:23011118
SUMMARY:KW 46 (gerade)
DESCRIPTION:Kalenderwoche 46 im Jahr 2301\nMontag: 11.11.2301\nSonntag: 17.11.2301\nTyp: gerade Woche\nMehr unter: https://kalenderwoche.info/2301/kw-46
URL:https://kalenderwoche.info/2301/kw-46
CATEGORIES:Kalenderwoche
TRANSP:TRANSPARENT
END:VEVENT
BEGIN:VEVENT
UID:kw-2301-47@kalenderwoche.info
DTSTAMP:20260423T142106Z
DTSTART;VALUE=DATE:23011118
DTEND;VALUE=DATE:23011125
SUMMARY:KW 47 (ungerade)
DESCRIPTION:Kalenderwoche 47 im Jahr 2301\nMontag: 18.11.2301\nSonntag: 24.11.2301\nTyp: ungerade Woche\nMehr unter: https://kalenderwoche.info/2301/kw-47
URL:https://kalenderwoche.info/2301/kw-47
CATEGORIES:Kalenderwoche
TRANSP:TRANSPARENT
END:VEVENT
BEGIN:VEVENT
UID:kw-2301-48@kalenderwoche.info
DTSTAMP:20260423T142106Z
DTSTART;VALUE=DATE:23011125
DTEND;VALUE=DATE:23011202
SUMMARY:KW 48 (gerade)
DESCRIPTION:Kalenderwoche 48 im Jahr 2301\nMontag: 25.11.2301\nSonntag: 01.12.2301\nTyp: gerade Woche\nMehr unter: https://kalenderwoche.info/2301/kw-48
URL:https://kalenderwoche.info/2301/kw-48
CATEGORIES:Kalenderwoche
TRANSP:TRANSPARENT
END:VEVENT
BEGIN:VEVENT
UID:kw-2301-49@kalenderwoche.info
DTSTAMP:20260423T142106Z
DTSTART;VALUE=DATE:23011202
DTEND;VALUE=DATE:23011209
SUMMARY:KW 49 (ungerade)
DESCRIPTION:Kalenderwoche 49 im Jahr 2301\nMontag: 02.12.2301\nSonntag: 08.12.2301\nTyp: ungerade Woche\nMehr unter: https://kalenderwoche.info/2301/kw-49
URL:https://kalenderwoche.info/2301/kw-49
CATEGORIES:Kalenderwoche
TRANSP:TRANSPARENT
END:VEVENT
BEGIN:VEVENT
UID:kw-2301-50@kalenderwoche.info
DTSTAMP:20260423T142106Z
DTSTART;VALUE=DATE:23011209
DTEND;VALUE=DATE:23011216
SUMMARY:KW 50 (gerade)
DESCRIPTION:Kalenderwoche 50 im Jahr 2301\nMontag: 09.12.2301\nSonntag: 15.12.2301\nTyp: gerade Woche\nMehr unter: https://kalenderwoche.info/2301/kw-50
URL:https://kalenderwoche.info/2301/kw-50
CATEGORIES:Kalenderwoche
TRANSP:TRANSPARENT
END:VEVENT
BEGIN:VEVENT
UID:kw-2301-51@kalenderwoche.info
DTSTAMP:20260423T142106Z
DTSTART;VALUE=DATE:23011216
DTEND;VALUE=DATE:23011223
SUMMARY:KW 51 (ungerade)
DESCRIPTION:Kalenderwoche 51 im Jahr 2301\nMontag: 16.12.2301\nSonntag: 22.12.2301\nTyp: ungerade Woche\nMehr unter: https://kalenderwoche.info/2301/kw-51
URL:https://kalenderwoche.info/2301/kw-51
CATEGORIES:Kalenderwoche
TRANSP:TRANSPARENT
END:VEVENT
BEGIN:VEVENT
UID:kw-2301-52@kalenderwoche.info
DTSTAMP:20260423T142106Z
DTSTART;VALUE=DATE:23011223
DTEND;VALUE=DATE:23011230
SUMMARY:KW 52 (gerade)
DESCRIPTION:Kalenderwoche 52 im Jahr 2301\nMontag: 23.12.2301\nSonntag: 29.12.2301\nTyp: gerade Woche\nMehr unter: https://kalenderwoche.info/2301/kw-52
URL:https://kalenderwoche.info/2301/kw-52
CATEGORIES:Kalenderwoche
TRANSP:TRANSPARENT
END:VEVENT
END:VCALENDAR
