BEGIN:VCALENDAR
VERSION:2.0
PRODID:-//kalenderwoche.info//Kalender//DE
CALSCALE:GREGORIAN
METHOD:PUBLISH
X-WR-CALNAME:Kalenderwochen 2302
X-WR-CALDESC:Alle Kalenderwochen für das Jahr 2302
X-WR-TIMEZONE:Europe/Berlin
BEGIN:VEVENT
UID:kw-2302-1@kalenderwoche.info
DTSTAMP:20260423T154638Z
DTSTART;VALUE=DATE:23011230
DTEND;VALUE=DATE:23020106
SUMMARY:KW 1 (ungerade)
DESCRIPTION:Kalenderwoche 1 im Jahr 2302\nMontag: 30.12.2301\nSonntag: 05.01.2302\nTyp: ungerade Woche\nMehr unter: https://kalenderwoche.info/2302/kw-1
URL:https://kalenderwoche.info/2302/kw-1
CATEGORIES:Kalenderwoche
TRANSP:TRANSPARENT
END:VEVENT
BEGIN:VEVENT
UID:kw-2302-2@kalenderwoche.info
DTSTAMP:20260423T154638Z
DTSTART;VALUE=DATE:23020106
DTEND;VALUE=DATE:23020113
SUMMARY:KW 2 (gerade)
DESCRIPTION:Kalenderwoche 2 im Jahr 2302\nMontag: 06.01.2302\nSonntag: 12.01.2302\nTyp: gerade Woche\nMehr unter: https://kalenderwoche.info/2302/kw-2
URL:https://kalenderwoche.info/2302/kw-2
CATEGORIES:Kalenderwoche
TRANSP:TRANSPARENT
END:VEVENT
BEGIN:VEVENT
UID:kw-2302-3@kalenderwoche.info
DTSTAMP:20260423T154638Z
DTSTART;VALUE=DATE:23020113
DTEND;VALUE=DATE:23020120
SUMMARY:KW 3 (ungerade)
DESCRIPTION:Kalenderwoche 3 im Jahr 2302\nMontag: 13.01.2302\nSonntag: 19.01.2302\nTyp: ungerade Woche\nMehr unter: https://kalenderwoche.info/2302/kw-3
URL:https://kalenderwoche.info/2302/kw-3
CATEGORIES:Kalenderwoche
TRANSP:TRANSPARENT
END:VEVENT
BEGIN:VEVENT
UID:kw-2302-4@kalenderwoche.info
DTSTAMP:20260423T154638Z
DTSTART;VALUE=DATE:23020120
DTEND;VALUE=DATE:23020127
SUMMARY:KW 4 (gerade)
DESCRIPTION:Kalenderwoche 4 im Jahr 2302\nMontag: 20.01.2302\nSonntag: 26.01.2302\nTyp: gerade Woche\nMehr unter: https://kalenderwoche.info/2302/kw-4
URL:https://kalenderwoche.info/2302/kw-4
CATEGORIES:Kalenderwoche
TRANSP:TRANSPARENT
END:VEVENT
BEGIN:VEVENT
UID:kw-2302-5@kalenderwoche.info
DTSTAMP:20260423T154638Z
DTSTART;VALUE=DATE:23020127
DTEND;VALUE=DATE:23020203
SUMMARY:KW 5 (ungerade)
DESCRIPTION:Kalenderwoche 5 im Jahr 2302\nMontag: 27.01.2302\nSonntag: 02.02.2302\nTyp: ungerade Woche\nMehr unter: https://kalenderwoche.info/2302/kw-5
URL:https://kalenderwoche.info/2302/kw-5
CATEGORIES:Kalenderwoche
TRANSP:TRANSPARENT
END:VEVENT
BEGIN:VEVENT
UID:kw-2302-6@kalenderwoche.info
DTSTAMP:20260423T154638Z
DTSTART;VALUE=DATE:23020203
DTEND;VALUE=DATE:23020210
SUMMARY:KW 6 (gerade)
DESCRIPTION:Kalenderwoche 6 im Jahr 2302\nMontag: 03.02.2302\nSonntag: 09.02.2302\nTyp: gerade Woche\nMehr unter: https://kalenderwoche.info/2302/kw-6
URL:https://kalenderwoche.info/2302/kw-6
CATEGORIES:Kalenderwoche
TRANSP:TRANSPARENT
END:VEVENT
BEGIN:VEVENT
UID:kw-2302-7@kalenderwoche.info
DTSTAMP:20260423T154638Z
DTSTART;VALUE=DATE:23020210
DTEND;VALUE=DATE:23020217
SUMMARY:KW 7 (ungerade)
DESCRIPTION:Kalenderwoche 7 im Jahr 2302\nMontag: 10.02.2302\nSonntag: 16.02.2302\nTyp: ungerade Woche\nMehr unter: https://kalenderwoche.info/2302/kw-7
URL:https://kalenderwoche.info/2302/kw-7
CATEGORIES:Kalenderwoche
TRANSP:TRANSPARENT
END:VEVENT
BEGIN:VEVENT
UID:kw-2302-8@kalenderwoche.info
DTSTAMP:20260423T154638Z
DTSTART;VALUE=DATE:23020217
DTEND;VALUE=DATE:23020224
SUMMARY:KW 8 (gerade)
DESCRIPTION:Kalenderwoche 8 im Jahr 2302\nMontag: 17.02.2302\nSonntag: 23.02.2302\nTyp: gerade Woche\nMehr unter: https://kalenderwoche.info/2302/kw-8
URL:https://kalenderwoche.info/2302/kw-8
CATEGORIES:Kalenderwoche
TRANSP:TRANSPARENT
END:VEVENT
BEGIN:VEVENT
UID:kw-2302-9@kalenderwoche.info
DTSTAMP:20260423T154638Z
DTSTART;VALUE=DATE:23020224
DTEND;VALUE=DATE:23020303
SUMMARY:KW 9 (ungerade)
DESCRIPTION:Kalenderwoche 9 im Jahr 2302\nMontag: 24.02.2302\nSonntag: 02.03.2302\nTyp: ungerade Woche\nMehr unter: https://kalenderwoche.info/2302/kw-9
URL:https://kalenderwoche.info/2302/kw-9
CATEGORIES:Kalenderwoche
TRANSP:TRANSPARENT
END:VEVENT
BEGIN:VEVENT
UID:kw-2302-10@kalenderwoche.info
DTSTAMP:20260423T154638Z
DTSTART;VALUE=DATE:23020303
DTEND;VALUE=DATE:23020310
SUMMARY:KW 10 (gerade)
DESCRIPTION:Kalenderwoche 10 im Jahr 2302\nMontag: 03.03.2302\nSonntag: 09.03.2302\nTyp: gerade Woche\nMehr unter: https://kalenderwoche.info/2302/kw-10
URL:https://kalenderwoche.info/2302/kw-10
CATEGORIES:Kalenderwoche
TRANSP:TRANSPARENT
END:VEVENT
BEGIN:VEVENT
UID:kw-2302-11@kalenderwoche.info
DTSTAMP:20260423T154638Z
DTSTART;VALUE=DATE:23020310
DTEND;VALUE=DATE:23020317
SUMMARY:KW 11 (ungerade)
DESCRIPTION:Kalenderwoche 11 im Jahr 2302\nMontag: 10.03.2302\nSonntag: 16.03.2302\nTyp: ungerade Woche\nMehr unter: https://kalenderwoche.info/2302/kw-11
URL:https://kalenderwoche.info/2302/kw-11
CATEGORIES:Kalenderwoche
TRANSP:TRANSPARENT
END:VEVENT
BEGIN:VEVENT
UID:kw-2302-12@kalenderwoche.info
DTSTAMP:20260423T154638Z
DTSTART;VALUE=DATE:23020317
DTEND;VALUE=DATE:23020324
SUMMARY:KW 12 (gerade)
DESCRIPTION:Kalenderwoche 12 im Jahr 2302\nMontag: 17.03.2302\nSonntag: 23.03.2302\nTyp: gerade Woche\nMehr unter: https://kalenderwoche.info/2302/kw-12
URL:https://kalenderwoche.info/2302/kw-12
CATEGORIES:Kalenderwoche
TRANSP:TRANSPARENT
END:VEVENT
BEGIN:VEVENT
UID:kw-2302-13@kalenderwoche.info
DTSTAMP:20260423T154638Z
DTSTART;VALUE=DATE:23020324
DTEND;VALUE=DATE:23020331
SUMMARY:KW 13 (ungerade)
DESCRIPTION:Kalenderwoche 13 im Jahr 2302\nMontag: 24.03.2302\nSonntag: 30.03.2302\nTyp: ungerade Woche\nMehr unter: https://kalenderwoche.info/2302/kw-13
URL:https://kalenderwoche.info/2302/kw-13
CATEGORIES:Kalenderwoche
TRANSP:TRANSPARENT
END:VEVENT
BEGIN:VEVENT
UID:kw-2302-14@kalenderwoche.info
DTSTAMP:20260423T154638Z
DTSTART;VALUE=DATE:23020331
DTEND;VALUE=DATE:23020407
SUMMARY:KW 14 (gerade)
DESCRIPTION:Kalenderwoche 14 im Jahr 2302\nMontag: 31.03.2302\nSonntag: 06.04.2302\nTyp: gerade Woche\nMehr unter: https://kalenderwoche.info/2302/kw-14
URL:https://kalenderwoche.info/2302/kw-14
CATEGORIES:Kalenderwoche
TRANSP:TRANSPARENT
END:VEVENT
BEGIN:VEVENT
UID:kw-2302-15@kalenderwoche.info
DTSTAMP:20260423T154638Z
DTSTART;VALUE=DATE:23020407
DTEND;VALUE=DATE:23020414
SUMMARY:KW 15 (ungerade)
DESCRIPTION:Kalenderwoche 15 im Jahr 2302\nMontag: 07.04.2302\nSonntag: 13.04.2302\nTyp: ungerade Woche\nMehr unter: https://kalenderwoche.info/2302/kw-15
URL:https://kalenderwoche.info/2302/kw-15
CATEGORIES:Kalenderwoche
TRANSP:TRANSPARENT
END:VEVENT
BEGIN:VEVENT
UID:kw-2302-16@kalenderwoche.info
DTSTAMP:20260423T154638Z
DTSTART;VALUE=DATE:23020414
DTEND;VALUE=DATE:23020421
SUMMARY:KW 16 (gerade)
DESCRIPTION:Kalenderwoche 16 im Jahr 2302\nMontag: 14.04.2302\nSonntag: 20.04.2302\nTyp: gerade Woche\nMehr unter: https://kalenderwoche.info/2302/kw-16
URL:https://kalenderwoche.info/2302/kw-16
CATEGORIES:Kalenderwoche
TRANSP:TRANSPARENT
END:VEVENT
BEGIN:VEVENT
UID:kw-2302-17@kalenderwoche.info
DTSTAMP:20260423T154638Z
DTSTART;VALUE=DATE:23020421
DTEND;VALUE=DATE:23020428
SUMMARY:KW 17 (ungerade)
DESCRIPTION:Kalenderwoche 17 im Jahr 2302\nMontag: 21.04.2302\nSonntag: 27.04.2302\nTyp: ungerade Woche\nMehr unter: https://kalenderwoche.info/2302/kw-17
URL:https://kalenderwoche.info/2302/kw-17
CATEGORIES:Kalenderwoche
TRANSP:TRANSPARENT
END:VEVENT
BEGIN:VEVENT
UID:kw-2302-18@kalenderwoche.info
DTSTAMP:20260423T154638Z
DTSTART;VALUE=DATE:23020428
DTEND;VALUE=DATE:23020505
SUMMARY:KW 18 (gerade)
DESCRIPTION:Kalenderwoche 18 im Jahr 2302\nMontag: 28.04.2302\nSonntag: 04.05.2302\nTyp: gerade Woche\nMehr unter: https://kalenderwoche.info/2302/kw-18
URL:https://kalenderwoche.info/2302/kw-18
CATEGORIES:Kalenderwoche
TRANSP:TRANSPARENT
END:VEVENT
BEGIN:VEVENT
UID:kw-2302-19@kalenderwoche.info
DTSTAMP:20260423T154638Z
DTSTART;VALUE=DATE:23020505
DTEND;VALUE=DATE:23020512
SUMMARY:KW 19 (ungerade)
DESCRIPTION:Kalenderwoche 19 im Jahr 2302\nMontag: 05.05.2302\nSonntag: 11.05.2302\nTyp: ungerade Woche\nMehr unter: https://kalenderwoche.info/2302/kw-19
URL:https://kalenderwoche.info/2302/kw-19
CATEGORIES:Kalenderwoche
TRANSP:TRANSPARENT
END:VEVENT
BEGIN:VEVENT
UID:kw-2302-20@kalenderwoche.info
DTSTAMP:20260423T154638Z
DTSTART;VALUE=DATE:23020512
DTEND;VALUE=DATE:23020519
SUMMARY:KW 20 (gerade)
DESCRIPTION:Kalenderwoche 20 im Jahr 2302\nMontag: 12.05.2302\nSonntag: 18.05.2302\nTyp: gerade Woche\nMehr unter: https://kalenderwoche.info/2302/kw-20
URL:https://kalenderwoche.info/2302/kw-20
CATEGORIES:Kalenderwoche
TRANSP:TRANSPARENT
END:VEVENT
BEGIN:VEVENT
UID:kw-2302-21@kalenderwoche.info
DTSTAMP:20260423T154638Z
DTSTART;VALUE=DATE:23020519
DTEND;VALUE=DATE:23020526
SUMMARY:KW 21 (ungerade)
DESCRIPTION:Kalenderwoche 21 im Jahr 2302\nMontag: 19.05.2302\nSonntag: 25.05.2302\nTyp: ungerade Woche\nMehr unter: https://kalenderwoche.info/2302/kw-21
URL:https://kalenderwoche.info/2302/kw-21
CATEGORIES:Kalenderwoche
TRANSP:TRANSPARENT
END:VEVENT
BEGIN:VEVENT
UID:kw-2302-22@kalenderwoche.info
DTSTAMP:20260423T154638Z
DTSTART;VALUE=DATE:23020526
DTEND;VALUE=DATE:23020602
SUMMARY:KW 22 (gerade)
DESCRIPTION:Kalenderwoche 22 im Jahr 2302\nMontag: 26.05.2302\nSonntag: 01.06.2302\nTyp: gerade Woche\nMehr unter: https://kalenderwoche.info/2302/kw-22
URL:https://kalenderwoche.info/2302/kw-22
CATEGORIES:Kalenderwoche
TRANSP:TRANSPARENT
END:VEVENT
BEGIN:VEVENT
UID:kw-2302-23@kalenderwoche.info
DTSTAMP:20260423T154638Z
DTSTART;VALUE=DATE:23020602
DTEND;VALUE=DATE:23020609
SUMMARY:KW 23 (ungerade)
DESCRIPTION:Kalenderwoche 23 im Jahr 2302\nMontag: 02.06.2302\nSonntag: 08.06.2302\nTyp: ungerade Woche\nMehr unter: https://kalenderwoche.info/2302/kw-23
URL:https://kalenderwoche.info/2302/kw-23
CATEGORIES:Kalenderwoche
TRANSP:TRANSPARENT
END:VEVENT
BEGIN:VEVENT
UID:kw-2302-24@kalenderwoche.info
DTSTAMP:20260423T154638Z
DTSTART;VALUE=DATE:23020609
DTEND;VALUE=DATE:23020616
SUMMARY:KW 24 (gerade)
DESCRIPTION:Kalenderwoche 24 im Jahr 2302\nMontag: 09.06.2302\nSonntag: 15.06.2302\nTyp: gerade Woche\nMehr unter: https://kalenderwoche.info/2302/kw-24
URL:https://kalenderwoche.info/2302/kw-24
CATEGORIES:Kalenderwoche
TRANSP:TRANSPARENT
END:VEVENT
BEGIN:VEVENT
UID:kw-2302-25@kalenderwoche.info
DTSTAMP:20260423T154638Z
DTSTART;VALUE=DATE:23020616
DTEND;VALUE=DATE:23020623
SUMMARY:KW 25 (ungerade)
DESCRIPTION:Kalenderwoche 25 im Jahr 2302\nMontag: 16.06.2302\nSonntag: 22.06.2302\nTyp: ungerade Woche\nMehr unter: https://kalenderwoche.info/2302/kw-25
URL:https://kalenderwoche.info/2302/kw-25
CATEGORIES:Kalenderwoche
TRANSP:TRANSPARENT
END:VEVENT
BEGIN:VEVENT
UID:kw-2302-26@kalenderwoche.info
DTSTAMP:20260423T154638Z
DTSTART;VALUE=DATE:23020623
DTEND;VALUE=DATE:23020630
SUMMARY:KW 26 (gerade)
DESCRIPTION:Kalenderwoche 26 im Jahr 2302\nMontag: 23.06.2302\nSonntag: 29.06.2302\nTyp: gerade Woche\nMehr unter: https://kalenderwoche.info/2302/kw-26
URL:https://kalenderwoche.info/2302/kw-26
CATEGORIES:Kalenderwoche
TRANSP:TRANSPARENT
END:VEVENT
BEGIN:VEVENT
UID:kw-2302-27@kalenderwoche.info
DTSTAMP:20260423T154638Z
DTSTART;VALUE=DATE:23020630
DTEND;VALUE=DATE:23020707
SUMMARY:KW 27 (ungerade)
DESCRIPTION:Kalenderwoche 27 im Jahr 2302\nMontag: 30.06.2302\nSonntag: 06.07.2302\nTyp: ungerade Woche\nMehr unter: https://kalenderwoche.info/2302/kw-27
URL:https://kalenderwoche.info/2302/kw-27
CATEGORIES:Kalenderwoche
TRANSP:TRANSPARENT
END:VEVENT
BEGIN:VEVENT
UID:kw-2302-28@kalenderwoche.info
DTSTAMP:20260423T154638Z
DTSTART;VALUE=DATE:23020707
DTEND;VALUE=DATE:23020714
SUMMARY:KW 28 (gerade)
DESCRIPTION:Kalenderwoche 28 im Jahr 2302\nMontag: 07.07.2302\nSonntag: 13.07.2302\nTyp: gerade Woche\nMehr unter: https://kalenderwoche.info/2302/kw-28
URL:https://kalenderwoche.info/2302/kw-28
CATEGORIES:Kalenderwoche
TRANSP:TRANSPARENT
END:VEVENT
BEGIN:VEVENT
UID:kw-2302-29@kalenderwoche.info
DTSTAMP:20260423T154638Z
DTSTART;VALUE=DATE:23020714
DTEND;VALUE=DATE:23020721
SUMMARY:KW 29 (ungerade)
DESCRIPTION:Kalenderwoche 29 im Jahr 2302\nMontag: 14.07.2302\nSonntag: 20.07.2302\nTyp: ungerade Woche\nMehr unter: https://kalenderwoche.info/2302/kw-29
URL:https://kalenderwoche.info/2302/kw-29
CATEGORIES:Kalenderwoche
TRANSP:TRANSPARENT
END:VEVENT
BEGIN:VEVENT
UID:kw-2302-30@kalenderwoche.info
DTSTAMP:20260423T154638Z
DTSTART;VALUE=DATE:23020721
DTEND;VALUE=DATE:23020728
SUMMARY:KW 30 (gerade)
DESCRIPTION:Kalenderwoche 30 im Jahr 2302\nMontag: 21.07.2302\nSonntag: 27.07.2302\nTyp: gerade Woche\nMehr unter: https://kalenderwoche.info/2302/kw-30
URL:https://kalenderwoche.info/2302/kw-30
CATEGORIES:Kalenderwoche
TRANSP:TRANSPARENT
END:VEVENT
BEGIN:VEVENT
UID:kw-2302-31@kalenderwoche.info
DTSTAMP:20260423T154638Z
DTSTART;VALUE=DATE:23020728
DTEND;VALUE=DATE:23020804
SUMMARY:KW 31 (ungerade)
DESCRIPTION:Kalenderwoche 31 im Jahr 2302\nMontag: 28.07.2302\nSonntag: 03.08.2302\nTyp: ungerade Woche\nMehr unter: https://kalenderwoche.info/2302/kw-31
URL:https://kalenderwoche.info/2302/kw-31
CATEGORIES:Kalenderwoche
TRANSP:TRANSPARENT
END:VEVENT
BEGIN:VEVENT
UID:kw-2302-32@kalenderwoche.info
DTSTAMP:20260423T154638Z
DTSTART;VALUE=DATE:23020804
DTEND;VALUE=DATE:23020811
SUMMARY:KW 32 (gerade)
DESCRIPTION:Kalenderwoche 32 im Jahr 2302\nMontag: 04.08.2302\nSonntag: 10.08.2302\nTyp: gerade Woche\nMehr unter: https://kalenderwoche.info/2302/kw-32
URL:https://kalenderwoche.info/2302/kw-32
CATEGORIES:Kalenderwoche
TRANSP:TRANSPARENT
END:VEVENT
BEGIN:VEVENT
UID:kw-2302-33@kalenderwoche.info
DTSTAMP:20260423T154638Z
DTSTART;VALUE=DATE:23020811
DTEND;VALUE=DATE:23020818
SUMMARY:KW 33 (ungerade)
DESCRIPTION:Kalenderwoche 33 im Jahr 2302\nMontag: 11.08.2302\nSonntag: 17.08.2302\nTyp: ungerade Woche\nMehr unter: https://kalenderwoche.info/2302/kw-33
URL:https://kalenderwoche.info/2302/kw-33
CATEGORIES:Kalenderwoche
TRANSP:TRANSPARENT
END:VEVENT
BEGIN:VEVENT
UID:kw-2302-34@kalenderwoche.info
DTSTAMP:20260423T154638Z
DTSTART;VALUE=DATE:23020818
DTEND;VALUE=DATE:23020825
SUMMARY:KW 34 (gerade)
DESCRIPTION:Kalenderwoche 34 im Jahr 2302\nMontag: 18.08.2302\nSonntag: 24.08.2302\nTyp: gerade Woche\nMehr unter: https://kalenderwoche.info/2302/kw-34
URL:https://kalenderwoche.info/2302/kw-34
CATEGORIES:Kalenderwoche
TRANSP:TRANSPARENT
END:VEVENT
BEGIN:VEVENT
UID:kw-2302-35@kalenderwoche.info
DTSTAMP:20260423T154638Z
DTSTART;VALUE=DATE:23020825
DTEND;VALUE=DATE:23020901
SUMMARY:KW 35 (ungerade)
DESCRIPTION:Kalenderwoche 35 im Jahr 2302\nMontag: 25.08.2302\nSonntag: 31.08.2302\nTyp: ungerade Woche\nMehr unter: https://kalenderwoche.info/2302/kw-35
URL:https://kalenderwoche.info/2302/kw-35
CATEGORIES:Kalenderwoche
TRANSP:TRANSPARENT
END:VEVENT
BEGIN:VEVENT
UID:kw-2302-36@kalenderwoche.info
DTSTAMP:20260423T154638Z
DTSTART;VALUE=DATE:23020901
DTEND;VALUE=DATE:23020908
SUMMARY:KW 36 (gerade)
DESCRIPTION:Kalenderwoche 36 im Jahr 2302\nMontag: 01.09.2302\nSonntag: 07.09.2302\nTyp: gerade Woche\nMehr unter: https://kalenderwoche.info/2302/kw-36
URL:https://kalenderwoche.info/2302/kw-36
CATEGORIES:Kalenderwoche
TRANSP:TRANSPARENT
END:VEVENT
BEGIN:VEVENT
UID:kw-2302-37@kalenderwoche.info
DTSTAMP:20260423T154638Z
DTSTART;VALUE=DATE:23020908
DTEND;VALUE=DATE:23020915
SUMMARY:KW 37 (ungerade)
DESCRIPTION:Kalenderwoche 37 im Jahr 2302\nMontag: 08.09.2302\nSonntag: 14.09.2302\nTyp: ungerade Woche\nMehr unter: https://kalenderwoche.info/2302/kw-37
URL:https://kalenderwoche.info/2302/kw-37
CATEGORIES:Kalenderwoche
TRANSP:TRANSPARENT
END:VEVENT
BEGIN:VEVENT
UID:kw-2302-38@kalenderwoche.info
DTSTAMP:20260423T154638Z
DTSTART;VALUE=DATE:23020915
DTEND;VALUE=DATE:23020922
SUMMARY:KW 38 (gerade)
DESCRIPTION:Kalenderwoche 38 im Jahr 2302\nMontag: 15.09.2302\nSonntag: 21.09.2302\nTyp: gerade Woche\nMehr unter: https://kalenderwoche.info/2302/kw-38
URL:https://kalenderwoche.info/2302/kw-38
CATEGORIES:Kalenderwoche
TRANSP:TRANSPARENT
END:VEVENT
BEGIN:VEVENT
UID:kw-2302-39@kalenderwoche.info
DTSTAMP:20260423T154638Z
DTSTART;VALUE=DATE:23020922
DTEND;VALUE=DATE:23020929
SUMMARY:KW 39 (ungerade)
DESCRIPTION:Kalenderwoche 39 im Jahr 2302\nMontag: 22.09.2302\nSonntag: 28.09.2302\nTyp: ungerade Woche\nMehr unter: https://kalenderwoche.info/2302/kw-39
URL:https://kalenderwoche.info/2302/kw-39
CATEGORIES:Kalenderwoche
TRANSP:TRANSPARENT
END:VEVENT
BEGIN:VEVENT
UID:kw-2302-40@kalenderwoche.info
DTSTAMP:20260423T154638Z
DTSTART;VALUE=DATE:23020929
DTEND;VALUE=DATE:23021006
SUMMARY:KW 40 (gerade)
DESCRIPTION:Kalenderwoche 40 im Jahr 2302\nMontag: 29.09.2302\nSonntag: 05.10.2302\nTyp: gerade Woche\nMehr unter: https://kalenderwoche.info/2302/kw-40
URL:https://kalenderwoche.info/2302/kw-40
CATEGORIES:Kalenderwoche
TRANSP:TRANSPARENT
END:VEVENT
BEGIN:VEVENT
UID:kw-2302-41@kalenderwoche.info
DTSTAMP:20260423T154638Z
DTSTART;VALUE=DATE:23021006
DTEND;VALUE=DATE:23021013
SUMMARY:KW 41 (ungerade)
DESCRIPTION:Kalenderwoche 41 im Jahr 2302\nMontag: 06.10.2302\nSonntag: 12.10.2302\nTyp: ungerade Woche\nMehr unter: https://kalenderwoche.info/2302/kw-41
URL:https://kalenderwoche.info/2302/kw-41
CATEGORIES:Kalenderwoche
TRANSP:TRANSPARENT
END:VEVENT
BEGIN:VEVENT
UID:kw-2302-42@kalenderwoche.info
DTSTAMP:20260423T154638Z
DTSTART;VALUE=DATE:23021013
DTEND;VALUE=DATE:23021020
SUMMARY:KW 42 (gerade)
DESCRIPTION:Kalenderwoche 42 im Jahr 2302\nMontag: 13.10.2302\nSonntag: 19.10.2302\nTyp: gerade Woche\nMehr unter: https://kalenderwoche.info/2302/kw-42
URL:https://kalenderwoche.info/2302/kw-42
CATEGORIES:Kalenderwoche
TRANSP:TRANSPARENT
END:VEVENT
BEGIN:VEVENT
UID:kw-2302-43@kalenderwoche.info
DTSTAMP:20260423T154638Z
DTSTART;VALUE=DATE:23021020
DTEND;VALUE=DATE:23021027
SUMMARY:KW 43 (ungerade)
DESCRIPTION:Kalenderwoche 43 im Jahr 2302\nMontag: 20.10.2302\nSonntag: 26.10.2302\nTyp: ungerade Woche\nMehr unter: https://kalenderwoche.info/2302/kw-43
URL:https://kalenderwoche.info/2302/kw-43
CATEGORIES:Kalenderwoche
TRANSP:TRANSPARENT
END:VEVENT
BEGIN:VEVENT
UID:kw-2302-44@kalenderwoche.info
DTSTAMP:20260423T154638Z
DTSTART;VALUE=DATE:23021027
DTEND;VALUE=DATE:23021103
SUMMARY:KW 44 (gerade)
DESCRIPTION:Kalenderwoche 44 im Jahr 2302\nMontag: 27.10.2302\nSonntag: 02.11.2302\nTyp: gerade Woche\nMehr unter: https://kalenderwoche.info/2302/kw-44
URL:https://kalenderwoche.info/2302/kw-44
CATEGORIES:Kalenderwoche
TRANSP:TRANSPARENT
END:VEVENT
BEGIN:VEVENT
UID:kw-2302-45@kalenderwoche.info
DTSTAMP:20260423T154638Z
DTSTART;VALUE=DATE:23021103
DTEND;VALUE=DATE:23021110
SUMMARY:KW 45 (ungerade)
DESCRIPTION:Kalenderwoche 45 im Jahr 2302\nMontag: 03.11.2302\nSonntag: 09.11.2302\nTyp: ungerade Woche\nMehr unter: https://kalenderwoche.info/2302/kw-45
URL:https://kalenderwoche.info/2302/kw-45
CATEGORIES:Kalenderwoche
TRANSP:TRANSPARENT
END:VEVENT
BEGIN:VEVENT
UID:kw-2302-46@kalenderwoche.info
DTSTAMP:20260423T154638Z
DTSTART;VALUE=DATE:23021110
DTEND;VALUE=DATE:23021117
SUMMARY:KW 46 (gerade)
DESCRIPTION:Kalenderwoche 46 im Jahr 2302\nMontag: 10.11.2302\nSonntag: 16.11.2302\nTyp: gerade Woche\nMehr unter: https://kalenderwoche.info/2302/kw-46
URL:https://kalenderwoche.info/2302/kw-46
CATEGORIES:Kalenderwoche
TRANSP:TRANSPARENT
END:VEVENT
BEGIN:VEVENT
UID:kw-2302-47@kalenderwoche.info
DTSTAMP:20260423T154638Z
DTSTART;VALUE=DATE:23021117
DTEND;VALUE=DATE:23021124
SUMMARY:KW 47 (ungerade)
DESCRIPTION:Kalenderwoche 47 im Jahr 2302\nMontag: 17.11.2302\nSonntag: 23.11.2302\nTyp: ungerade Woche\nMehr unter: https://kalenderwoche.info/2302/kw-47
URL:https://kalenderwoche.info/2302/kw-47
CATEGORIES:Kalenderwoche
TRANSP:TRANSPARENT
END:VEVENT
BEGIN:VEVENT
UID:kw-2302-48@kalenderwoche.info
DTSTAMP:20260423T154638Z
DTSTART;VALUE=DATE:23021124
DTEND;VALUE=DATE:23021201
SUMMARY:KW 48 (gerade)
DESCRIPTION:Kalenderwoche 48 im Jahr 2302\nMontag: 24.11.2302\nSonntag: 30.11.2302\nTyp: gerade Woche\nMehr unter: https://kalenderwoche.info/2302/kw-48
URL:https://kalenderwoche.info/2302/kw-48
CATEGORIES:Kalenderwoche
TRANSP:TRANSPARENT
END:VEVENT
BEGIN:VEVENT
UID:kw-2302-49@kalenderwoche.info
DTSTAMP:20260423T154638Z
DTSTART;VALUE=DATE:23021201
DTEND;VALUE=DATE:23021208
SUMMARY:KW 49 (ungerade)
DESCRIPTION:Kalenderwoche 49 im Jahr 2302\nMontag: 01.12.2302\nSonntag: 07.12.2302\nTyp: ungerade Woche\nMehr unter: https://kalenderwoche.info/2302/kw-49
URL:https://kalenderwoche.info/2302/kw-49
CATEGORIES:Kalenderwoche
TRANSP:TRANSPARENT
END:VEVENT
BEGIN:VEVENT
UID:kw-2302-50@kalenderwoche.info
DTSTAMP:20260423T154638Z
DTSTART;VALUE=DATE:23021208
DTEND;VALUE=DATE:23021215
SUMMARY:KW 50 (gerade)
DESCRIPTION:Kalenderwoche 50 im Jahr 2302\nMontag: 08.12.2302\nSonntag: 14.12.2302\nTyp: gerade Woche\nMehr unter: https://kalenderwoche.info/2302/kw-50
URL:https://kalenderwoche.info/2302/kw-50
CATEGORIES:Kalenderwoche
TRANSP:TRANSPARENT
END:VEVENT
BEGIN:VEVENT
UID:kw-2302-51@kalenderwoche.info
DTSTAMP:20260423T154638Z
DTSTART;VALUE=DATE:23021215
DTEND;VALUE=DATE:23021222
SUMMARY:KW 51 (ungerade)
DESCRIPTION:Kalenderwoche 51 im Jahr 2302\nMontag: 15.12.2302\nSonntag: 21.12.2302\nTyp: ungerade Woche\nMehr unter: https://kalenderwoche.info/2302/kw-51
URL:https://kalenderwoche.info/2302/kw-51
CATEGORIES:Kalenderwoche
TRANSP:TRANSPARENT
END:VEVENT
BEGIN:VEVENT
UID:kw-2302-52@kalenderwoche.info
DTSTAMP:20260423T154638Z
DTSTART;VALUE=DATE:23021222
DTEND;VALUE=DATE:23021229
SUMMARY:KW 52 (gerade)
DESCRIPTION:Kalenderwoche 52 im Jahr 2302\nMontag: 22.12.2302\nSonntag: 28.12.2302\nTyp: gerade Woche\nMehr unter: https://kalenderwoche.info/2302/kw-52
URL:https://kalenderwoche.info/2302/kw-52
CATEGORIES:Kalenderwoche
TRANSP:TRANSPARENT
END:VEVENT
END:VCALENDAR
