BEGIN:VCALENDAR
VERSION:2.0
PRODID:-//kalenderwoche.info//Kalender//DE
CALSCALE:GREGORIAN
METHOD:PUBLISH
X-WR-CALNAME:Kalenderwochen 2312
X-WR-CALDESC:Alle Kalenderwochen für das Jahr 2312
X-WR-TIMEZONE:Europe/Berlin
BEGIN:VEVENT
UID:kw-2312-1@kalenderwoche.info
DTSTAMP:20260424T053635Z
DTSTART;VALUE=DATE:23120101
DTEND;VALUE=DATE:23120108
SUMMARY:KW 1 (ungerade)
DESCRIPTION:Kalenderwoche 1 im Jahr 2312\nMontag: 01.01.2312\nSonntag: 07.01.2312\nTyp: ungerade Woche\nMehr unter: https://kalenderwoche.info/2312/kw-1
URL:https://kalenderwoche.info/2312/kw-1
CATEGORIES:Kalenderwoche
TRANSP:TRANSPARENT
END:VEVENT
BEGIN:VEVENT
UID:kw-2312-2@kalenderwoche.info
DTSTAMP:20260424T053635Z
DTSTART;VALUE=DATE:23120108
DTEND;VALUE=DATE:23120115
SUMMARY:KW 2 (gerade)
DESCRIPTION:Kalenderwoche 2 im Jahr 2312\nMontag: 08.01.2312\nSonntag: 14.01.2312\nTyp: gerade Woche\nMehr unter: https://kalenderwoche.info/2312/kw-2
URL:https://kalenderwoche.info/2312/kw-2
CATEGORIES:Kalenderwoche
TRANSP:TRANSPARENT
END:VEVENT
BEGIN:VEVENT
UID:kw-2312-3@kalenderwoche.info
DTSTAMP:20260424T053635Z
DTSTART;VALUE=DATE:23120115
DTEND;VALUE=DATE:23120122
SUMMARY:KW 3 (ungerade)
DESCRIPTION:Kalenderwoche 3 im Jahr 2312\nMontag: 15.01.2312\nSonntag: 21.01.2312\nTyp: ungerade Woche\nMehr unter: https://kalenderwoche.info/2312/kw-3
URL:https://kalenderwoche.info/2312/kw-3
CATEGORIES:Kalenderwoche
TRANSP:TRANSPARENT
END:VEVENT
BEGIN:VEVENT
UID:kw-2312-4@kalenderwoche.info
DTSTAMP:20260424T053635Z
DTSTART;VALUE=DATE:23120122
DTEND;VALUE=DATE:23120129
SUMMARY:KW 4 (gerade)
DESCRIPTION:Kalenderwoche 4 im Jahr 2312\nMontag: 22.01.2312\nSonntag: 28.01.2312\nTyp: gerade Woche\nMehr unter: https://kalenderwoche.info/2312/kw-4
URL:https://kalenderwoche.info/2312/kw-4
CATEGORIES:Kalenderwoche
TRANSP:TRANSPARENT
END:VEVENT
BEGIN:VEVENT
UID:kw-2312-5@kalenderwoche.info
DTSTAMP:20260424T053635Z
DTSTART;VALUE=DATE:23120129
DTEND;VALUE=DATE:23120205
SUMMARY:KW 5 (ungerade)
DESCRIPTION:Kalenderwoche 5 im Jahr 2312\nMontag: 29.01.2312\nSonntag: 04.02.2312\nTyp: ungerade Woche\nMehr unter: https://kalenderwoche.info/2312/kw-5
URL:https://kalenderwoche.info/2312/kw-5
CATEGORIES:Kalenderwoche
TRANSP:TRANSPARENT
END:VEVENT
BEGIN:VEVENT
UID:kw-2312-6@kalenderwoche.info
DTSTAMP:20260424T053635Z
DTSTART;VALUE=DATE:23120205
DTEND;VALUE=DATE:23120212
SUMMARY:KW 6 (gerade)
DESCRIPTION:Kalenderwoche 6 im Jahr 2312\nMontag: 05.02.2312\nSonntag: 11.02.2312\nTyp: gerade Woche\nMehr unter: https://kalenderwoche.info/2312/kw-6
URL:https://kalenderwoche.info/2312/kw-6
CATEGORIES:Kalenderwoche
TRANSP:TRANSPARENT
END:VEVENT
BEGIN:VEVENT
UID:kw-2312-7@kalenderwoche.info
DTSTAMP:20260424T053635Z
DTSTART;VALUE=DATE:23120212
DTEND;VALUE=DATE:23120219
SUMMARY:KW 7 (ungerade)
DESCRIPTION:Kalenderwoche 7 im Jahr 2312\nMontag: 12.02.2312\nSonntag: 18.02.2312\nTyp: ungerade Woche\nMehr unter: https://kalenderwoche.info/2312/kw-7
URL:https://kalenderwoche.info/2312/kw-7
CATEGORIES:Kalenderwoche
TRANSP:TRANSPARENT
END:VEVENT
BEGIN:VEVENT
UID:kw-2312-8@kalenderwoche.info
DTSTAMP:20260424T053635Z
DTSTART;VALUE=DATE:23120219
DTEND;VALUE=DATE:23120226
SUMMARY:KW 8 (gerade)
DESCRIPTION:Kalenderwoche 8 im Jahr 2312\nMontag: 19.02.2312\nSonntag: 25.02.2312\nTyp: gerade Woche\nMehr unter: https://kalenderwoche.info/2312/kw-8
URL:https://kalenderwoche.info/2312/kw-8
CATEGORIES:Kalenderwoche
TRANSP:TRANSPARENT
END:VEVENT
BEGIN:VEVENT
UID:kw-2312-9@kalenderwoche.info
DTSTAMP:20260424T053635Z
DTSTART;VALUE=DATE:23120226
DTEND;VALUE=DATE:23120304
SUMMARY:KW 9 (ungerade)
DESCRIPTION:Kalenderwoche 9 im Jahr 2312\nMontag: 26.02.2312\nSonntag: 03.03.2312\nTyp: ungerade Woche\nMehr unter: https://kalenderwoche.info/2312/kw-9
URL:https://kalenderwoche.info/2312/kw-9
CATEGORIES:Kalenderwoche
TRANSP:TRANSPARENT
END:VEVENT
BEGIN:VEVENT
UID:kw-2312-10@kalenderwoche.info
DTSTAMP:20260424T053635Z
DTSTART;VALUE=DATE:23120304
DTEND;VALUE=DATE:23120311
SUMMARY:KW 10 (gerade)
DESCRIPTION:Kalenderwoche 10 im Jahr 2312\nMontag: 04.03.2312\nSonntag: 10.03.2312\nTyp: gerade Woche\nMehr unter: https://kalenderwoche.info/2312/kw-10
URL:https://kalenderwoche.info/2312/kw-10
CATEGORIES:Kalenderwoche
TRANSP:TRANSPARENT
END:VEVENT
BEGIN:VEVENT
UID:kw-2312-11@kalenderwoche.info
DTSTAMP:20260424T053635Z
DTSTART;VALUE=DATE:23120311
DTEND;VALUE=DATE:23120318
SUMMARY:KW 11 (ungerade)
DESCRIPTION:Kalenderwoche 11 im Jahr 2312\nMontag: 11.03.2312\nSonntag: 17.03.2312\nTyp: ungerade Woche\nMehr unter: https://kalenderwoche.info/2312/kw-11
URL:https://kalenderwoche.info/2312/kw-11
CATEGORIES:Kalenderwoche
TRANSP:TRANSPARENT
END:VEVENT
BEGIN:VEVENT
UID:kw-2312-12@kalenderwoche.info
DTSTAMP:20260424T053635Z
DTSTART;VALUE=DATE:23120318
DTEND;VALUE=DATE:23120325
SUMMARY:KW 12 (gerade)
DESCRIPTION:Kalenderwoche 12 im Jahr 2312\nMontag: 18.03.2312\nSonntag: 24.03.2312\nTyp: gerade Woche\nMehr unter: https://kalenderwoche.info/2312/kw-12
URL:https://kalenderwoche.info/2312/kw-12
CATEGORIES:Kalenderwoche
TRANSP:TRANSPARENT
END:VEVENT
BEGIN:VEVENT
UID:kw-2312-13@kalenderwoche.info
DTSTAMP:20260424T053635Z
DTSTART;VALUE=DATE:23120325
DTEND;VALUE=DATE:23120401
SUMMARY:KW 13 (ungerade)
DESCRIPTION:Kalenderwoche 13 im Jahr 2312\nMontag: 25.03.2312\nSonntag: 31.03.2312\nTyp: ungerade Woche\nMehr unter: https://kalenderwoche.info/2312/kw-13
URL:https://kalenderwoche.info/2312/kw-13
CATEGORIES:Kalenderwoche
TRANSP:TRANSPARENT
END:VEVENT
BEGIN:VEVENT
UID:kw-2312-14@kalenderwoche.info
DTSTAMP:20260424T053635Z
DTSTART;VALUE=DATE:23120401
DTEND;VALUE=DATE:23120408
SUMMARY:KW 14 (gerade)
DESCRIPTION:Kalenderwoche 14 im Jahr 2312\nMontag: 01.04.2312\nSonntag: 07.04.2312\nTyp: gerade Woche\nMehr unter: https://kalenderwoche.info/2312/kw-14
URL:https://kalenderwoche.info/2312/kw-14
CATEGORIES:Kalenderwoche
TRANSP:TRANSPARENT
END:VEVENT
BEGIN:VEVENT
UID:kw-2312-15@kalenderwoche.info
DTSTAMP:20260424T053635Z
DTSTART;VALUE=DATE:23120408
DTEND;VALUE=DATE:23120415
SUMMARY:KW 15 (ungerade)
DESCRIPTION:Kalenderwoche 15 im Jahr 2312\nMontag: 08.04.2312\nSonntag: 14.04.2312\nTyp: ungerade Woche\nMehr unter: https://kalenderwoche.info/2312/kw-15
URL:https://kalenderwoche.info/2312/kw-15
CATEGORIES:Kalenderwoche
TRANSP:TRANSPARENT
END:VEVENT
BEGIN:VEVENT
UID:kw-2312-16@kalenderwoche.info
DTSTAMP:20260424T053635Z
DTSTART;VALUE=DATE:23120415
DTEND;VALUE=DATE:23120422
SUMMARY:KW 16 (gerade)
DESCRIPTION:Kalenderwoche 16 im Jahr 2312\nMontag: 15.04.2312\nSonntag: 21.04.2312\nTyp: gerade Woche\nMehr unter: https://kalenderwoche.info/2312/kw-16
URL:https://kalenderwoche.info/2312/kw-16
CATEGORIES:Kalenderwoche
TRANSP:TRANSPARENT
END:VEVENT
BEGIN:VEVENT
UID:kw-2312-17@kalenderwoche.info
DTSTAMP:20260424T053635Z
DTSTART;VALUE=DATE:23120422
DTEND;VALUE=DATE:23120429
SUMMARY:KW 17 (ungerade)
DESCRIPTION:Kalenderwoche 17 im Jahr 2312\nMontag: 22.04.2312\nSonntag: 28.04.2312\nTyp: ungerade Woche\nMehr unter: https://kalenderwoche.info/2312/kw-17
URL:https://kalenderwoche.info/2312/kw-17
CATEGORIES:Kalenderwoche
TRANSP:TRANSPARENT
END:VEVENT
BEGIN:VEVENT
UID:kw-2312-18@kalenderwoche.info
DTSTAMP:20260424T053635Z
DTSTART;VALUE=DATE:23120429
DTEND;VALUE=DATE:23120506
SUMMARY:KW 18 (gerade)
DESCRIPTION:Kalenderwoche 18 im Jahr 2312\nMontag: 29.04.2312\nSonntag: 05.05.2312\nTyp: gerade Woche\nMehr unter: https://kalenderwoche.info/2312/kw-18
URL:https://kalenderwoche.info/2312/kw-18
CATEGORIES:Kalenderwoche
TRANSP:TRANSPARENT
END:VEVENT
BEGIN:VEVENT
UID:kw-2312-19@kalenderwoche.info
DTSTAMP:20260424T053635Z
DTSTART;VALUE=DATE:23120506
DTEND;VALUE=DATE:23120513
SUMMARY:KW 19 (ungerade)
DESCRIPTION:Kalenderwoche 19 im Jahr 2312\nMontag: 06.05.2312\nSonntag: 12.05.2312\nTyp: ungerade Woche\nMehr unter: https://kalenderwoche.info/2312/kw-19
URL:https://kalenderwoche.info/2312/kw-19
CATEGORIES:Kalenderwoche
TRANSP:TRANSPARENT
END:VEVENT
BEGIN:VEVENT
UID:kw-2312-20@kalenderwoche.info
DTSTAMP:20260424T053635Z
DTSTART;VALUE=DATE:23120513
DTEND;VALUE=DATE:23120520
SUMMARY:KW 20 (gerade)
DESCRIPTION:Kalenderwoche 20 im Jahr 2312\nMontag: 13.05.2312\nSonntag: 19.05.2312\nTyp: gerade Woche\nMehr unter: https://kalenderwoche.info/2312/kw-20
URL:https://kalenderwoche.info/2312/kw-20
CATEGORIES:Kalenderwoche
TRANSP:TRANSPARENT
END:VEVENT
BEGIN:VEVENT
UID:kw-2312-21@kalenderwoche.info
DTSTAMP:20260424T053635Z
DTSTART;VALUE=DATE:23120520
DTEND;VALUE=DATE:23120527
SUMMARY:KW 21 (ungerade)
DESCRIPTION:Kalenderwoche 21 im Jahr 2312\nMontag: 20.05.2312\nSonntag: 26.05.2312\nTyp: ungerade Woche\nMehr unter: https://kalenderwoche.info/2312/kw-21
URL:https://kalenderwoche.info/2312/kw-21
CATEGORIES:Kalenderwoche
TRANSP:TRANSPARENT
END:VEVENT
BEGIN:VEVENT
UID:kw-2312-22@kalenderwoche.info
DTSTAMP:20260424T053635Z
DTSTART;VALUE=DATE:23120527
DTEND;VALUE=DATE:23120603
SUMMARY:KW 22 (gerade)
DESCRIPTION:Kalenderwoche 22 im Jahr 2312\nMontag: 27.05.2312\nSonntag: 02.06.2312\nTyp: gerade Woche\nMehr unter: https://kalenderwoche.info/2312/kw-22
URL:https://kalenderwoche.info/2312/kw-22
CATEGORIES:Kalenderwoche
TRANSP:TRANSPARENT
END:VEVENT
BEGIN:VEVENT
UID:kw-2312-23@kalenderwoche.info
DTSTAMP:20260424T053635Z
DTSTART;VALUE=DATE:23120603
DTEND;VALUE=DATE:23120610
SUMMARY:KW 23 (ungerade)
DESCRIPTION:Kalenderwoche 23 im Jahr 2312\nMontag: 03.06.2312\nSonntag: 09.06.2312\nTyp: ungerade Woche\nMehr unter: https://kalenderwoche.info/2312/kw-23
URL:https://kalenderwoche.info/2312/kw-23
CATEGORIES:Kalenderwoche
TRANSP:TRANSPARENT
END:VEVENT
BEGIN:VEVENT
UID:kw-2312-24@kalenderwoche.info
DTSTAMP:20260424T053635Z
DTSTART;VALUE=DATE:23120610
DTEND;VALUE=DATE:23120617
SUMMARY:KW 24 (gerade)
DESCRIPTION:Kalenderwoche 24 im Jahr 2312\nMontag: 10.06.2312\nSonntag: 16.06.2312\nTyp: gerade Woche\nMehr unter: https://kalenderwoche.info/2312/kw-24
URL:https://kalenderwoche.info/2312/kw-24
CATEGORIES:Kalenderwoche
TRANSP:TRANSPARENT
END:VEVENT
BEGIN:VEVENT
UID:kw-2312-25@kalenderwoche.info
DTSTAMP:20260424T053635Z
DTSTART;VALUE=DATE:23120617
DTEND;VALUE=DATE:23120624
SUMMARY:KW 25 (ungerade)
DESCRIPTION:Kalenderwoche 25 im Jahr 2312\nMontag: 17.06.2312\nSonntag: 23.06.2312\nTyp: ungerade Woche\nMehr unter: https://kalenderwoche.info/2312/kw-25
URL:https://kalenderwoche.info/2312/kw-25
CATEGORIES:Kalenderwoche
TRANSP:TRANSPARENT
END:VEVENT
BEGIN:VEVENT
UID:kw-2312-26@kalenderwoche.info
DTSTAMP:20260424T053635Z
DTSTART;VALUE=DATE:23120624
DTEND;VALUE=DATE:23120701
SUMMARY:KW 26 (gerade)
DESCRIPTION:Kalenderwoche 26 im Jahr 2312\nMontag: 24.06.2312\nSonntag: 30.06.2312\nTyp: gerade Woche\nMehr unter: https://kalenderwoche.info/2312/kw-26
URL:https://kalenderwoche.info/2312/kw-26
CATEGORIES:Kalenderwoche
TRANSP:TRANSPARENT
END:VEVENT
BEGIN:VEVENT
UID:kw-2312-27@kalenderwoche.info
DTSTAMP:20260424T053635Z
DTSTART;VALUE=DATE:23120701
DTEND;VALUE=DATE:23120708
SUMMARY:KW 27 (ungerade)
DESCRIPTION:Kalenderwoche 27 im Jahr 2312\nMontag: 01.07.2312\nSonntag: 07.07.2312\nTyp: ungerade Woche\nMehr unter: https://kalenderwoche.info/2312/kw-27
URL:https://kalenderwoche.info/2312/kw-27
CATEGORIES:Kalenderwoche
TRANSP:TRANSPARENT
END:VEVENT
BEGIN:VEVENT
UID:kw-2312-28@kalenderwoche.info
DTSTAMP:20260424T053635Z
DTSTART;VALUE=DATE:23120708
DTEND;VALUE=DATE:23120715
SUMMARY:KW 28 (gerade)
DESCRIPTION:Kalenderwoche 28 im Jahr 2312\nMontag: 08.07.2312\nSonntag: 14.07.2312\nTyp: gerade Woche\nMehr unter: https://kalenderwoche.info/2312/kw-28
URL:https://kalenderwoche.info/2312/kw-28
CATEGORIES:Kalenderwoche
TRANSP:TRANSPARENT
END:VEVENT
BEGIN:VEVENT
UID:kw-2312-29@kalenderwoche.info
DTSTAMP:20260424T053635Z
DTSTART;VALUE=DATE:23120715
DTEND;VALUE=DATE:23120722
SUMMARY:KW 29 (ungerade)
DESCRIPTION:Kalenderwoche 29 im Jahr 2312\nMontag: 15.07.2312\nSonntag: 21.07.2312\nTyp: ungerade Woche\nMehr unter: https://kalenderwoche.info/2312/kw-29
URL:https://kalenderwoche.info/2312/kw-29
CATEGORIES:Kalenderwoche
TRANSP:TRANSPARENT
END:VEVENT
BEGIN:VEVENT
UID:kw-2312-30@kalenderwoche.info
DTSTAMP:20260424T053635Z
DTSTART;VALUE=DATE:23120722
DTEND;VALUE=DATE:23120729
SUMMARY:KW 30 (gerade)
DESCRIPTION:Kalenderwoche 30 im Jahr 2312\nMontag: 22.07.2312\nSonntag: 28.07.2312\nTyp: gerade Woche\nMehr unter: https://kalenderwoche.info/2312/kw-30
URL:https://kalenderwoche.info/2312/kw-30
CATEGORIES:Kalenderwoche
TRANSP:TRANSPARENT
END:VEVENT
BEGIN:VEVENT
UID:kw-2312-31@kalenderwoche.info
DTSTAMP:20260424T053635Z
DTSTART;VALUE=DATE:23120729
DTEND;VALUE=DATE:23120805
SUMMARY:KW 31 (ungerade)
DESCRIPTION:Kalenderwoche 31 im Jahr 2312\nMontag: 29.07.2312\nSonntag: 04.08.2312\nTyp: ungerade Woche\nMehr unter: https://kalenderwoche.info/2312/kw-31
URL:https://kalenderwoche.info/2312/kw-31
CATEGORIES:Kalenderwoche
TRANSP:TRANSPARENT
END:VEVENT
BEGIN:VEVENT
UID:kw-2312-32@kalenderwoche.info
DTSTAMP:20260424T053635Z
DTSTART;VALUE=DATE:23120805
DTEND;VALUE=DATE:23120812
SUMMARY:KW 32 (gerade)
DESCRIPTION:Kalenderwoche 32 im Jahr 2312\nMontag: 05.08.2312\nSonntag: 11.08.2312\nTyp: gerade Woche\nMehr unter: https://kalenderwoche.info/2312/kw-32
URL:https://kalenderwoche.info/2312/kw-32
CATEGORIES:Kalenderwoche
TRANSP:TRANSPARENT
END:VEVENT
BEGIN:VEVENT
UID:kw-2312-33@kalenderwoche.info
DTSTAMP:20260424T053635Z
DTSTART;VALUE=DATE:23120812
DTEND;VALUE=DATE:23120819
SUMMARY:KW 33 (ungerade)
DESCRIPTION:Kalenderwoche 33 im Jahr 2312\nMontag: 12.08.2312\nSonntag: 18.08.2312\nTyp: ungerade Woche\nMehr unter: https://kalenderwoche.info/2312/kw-33
URL:https://kalenderwoche.info/2312/kw-33
CATEGORIES:Kalenderwoche
TRANSP:TRANSPARENT
END:VEVENT
BEGIN:VEVENT
UID:kw-2312-34@kalenderwoche.info
DTSTAMP:20260424T053635Z
DTSTART;VALUE=DATE:23120819
DTEND;VALUE=DATE:23120826
SUMMARY:KW 34 (gerade)
DESCRIPTION:Kalenderwoche 34 im Jahr 2312\nMontag: 19.08.2312\nSonntag: 25.08.2312\nTyp: gerade Woche\nMehr unter: https://kalenderwoche.info/2312/kw-34
URL:https://kalenderwoche.info/2312/kw-34
CATEGORIES:Kalenderwoche
TRANSP:TRANSPARENT
END:VEVENT
BEGIN:VEVENT
UID:kw-2312-35@kalenderwoche.info
DTSTAMP:20260424T053635Z
DTSTART;VALUE=DATE:23120826
DTEND;VALUE=DATE:23120902
SUMMARY:KW 35 (ungerade)
DESCRIPTION:Kalenderwoche 35 im Jahr 2312\nMontag: 26.08.2312\nSonntag: 01.09.2312\nTyp: ungerade Woche\nMehr unter: https://kalenderwoche.info/2312/kw-35
URL:https://kalenderwoche.info/2312/kw-35
CATEGORIES:Kalenderwoche
TRANSP:TRANSPARENT
END:VEVENT
BEGIN:VEVENT
UID:kw-2312-36@kalenderwoche.info
DTSTAMP:20260424T053635Z
DTSTART;VALUE=DATE:23120902
DTEND;VALUE=DATE:23120909
SUMMARY:KW 36 (gerade)
DESCRIPTION:Kalenderwoche 36 im Jahr 2312\nMontag: 02.09.2312\nSonntag: 08.09.2312\nTyp: gerade Woche\nMehr unter: https://kalenderwoche.info/2312/kw-36
URL:https://kalenderwoche.info/2312/kw-36
CATEGORIES:Kalenderwoche
TRANSP:TRANSPARENT
END:VEVENT
BEGIN:VEVENT
UID:kw-2312-37@kalenderwoche.info
DTSTAMP:20260424T053635Z
DTSTART;VALUE=DATE:23120909
DTEND;VALUE=DATE:23120916
SUMMARY:KW 37 (ungerade)
DESCRIPTION:Kalenderwoche 37 im Jahr 2312\nMontag: 09.09.2312\nSonntag: 15.09.2312\nTyp: ungerade Woche\nMehr unter: https://kalenderwoche.info/2312/kw-37
URL:https://kalenderwoche.info/2312/kw-37
CATEGORIES:Kalenderwoche
TRANSP:TRANSPARENT
END:VEVENT
BEGIN:VEVENT
UID:kw-2312-38@kalenderwoche.info
DTSTAMP:20260424T053635Z
DTSTART;VALUE=DATE:23120916
DTEND;VALUE=DATE:23120923
SUMMARY:KW 38 (gerade)
DESCRIPTION:Kalenderwoche 38 im Jahr 2312\nMontag: 16.09.2312\nSonntag: 22.09.2312\nTyp: gerade Woche\nMehr unter: https://kalenderwoche.info/2312/kw-38
URL:https://kalenderwoche.info/2312/kw-38
CATEGORIES:Kalenderwoche
TRANSP:TRANSPARENT
END:VEVENT
BEGIN:VEVENT
UID:kw-2312-39@kalenderwoche.info
DTSTAMP:20260424T053635Z
DTSTART;VALUE=DATE:23120923
DTEND;VALUE=DATE:23120930
SUMMARY:KW 39 (ungerade)
DESCRIPTION:Kalenderwoche 39 im Jahr 2312\nMontag: 23.09.2312\nSonntag: 29.09.2312\nTyp: ungerade Woche\nMehr unter: https://kalenderwoche.info/2312/kw-39
URL:https://kalenderwoche.info/2312/kw-39
CATEGORIES:Kalenderwoche
TRANSP:TRANSPARENT
END:VEVENT
BEGIN:VEVENT
UID:kw-2312-40@kalenderwoche.info
DTSTAMP:20260424T053635Z
DTSTART;VALUE=DATE:23120930
DTEND;VALUE=DATE:23121007
SUMMARY:KW 40 (gerade)
DESCRIPTION:Kalenderwoche 40 im Jahr 2312\nMontag: 30.09.2312\nSonntag: 06.10.2312\nTyp: gerade Woche\nMehr unter: https://kalenderwoche.info/2312/kw-40
URL:https://kalenderwoche.info/2312/kw-40
CATEGORIES:Kalenderwoche
TRANSP:TRANSPARENT
END:VEVENT
BEGIN:VEVENT
UID:kw-2312-41@kalenderwoche.info
DTSTAMP:20260424T053635Z
DTSTART;VALUE=DATE:23121007
DTEND;VALUE=DATE:23121014
SUMMARY:KW 41 (ungerade)
DESCRIPTION:Kalenderwoche 41 im Jahr 2312\nMontag: 07.10.2312\nSonntag: 13.10.2312\nTyp: ungerade Woche\nMehr unter: https://kalenderwoche.info/2312/kw-41
URL:https://kalenderwoche.info/2312/kw-41
CATEGORIES:Kalenderwoche
TRANSP:TRANSPARENT
END:VEVENT
BEGIN:VEVENT
UID:kw-2312-42@kalenderwoche.info
DTSTAMP:20260424T053635Z
DTSTART;VALUE=DATE:23121014
DTEND;VALUE=DATE:23121021
SUMMARY:KW 42 (gerade)
DESCRIPTION:Kalenderwoche 42 im Jahr 2312\nMontag: 14.10.2312\nSonntag: 20.10.2312\nTyp: gerade Woche\nMehr unter: https://kalenderwoche.info/2312/kw-42
URL:https://kalenderwoche.info/2312/kw-42
CATEGORIES:Kalenderwoche
TRANSP:TRANSPARENT
END:VEVENT
BEGIN:VEVENT
UID:kw-2312-43@kalenderwoche.info
DTSTAMP:20260424T053635Z
DTSTART;VALUE=DATE:23121021
DTEND;VALUE=DATE:23121028
SUMMARY:KW 43 (ungerade)
DESCRIPTION:Kalenderwoche 43 im Jahr 2312\nMontag: 21.10.2312\nSonntag: 27.10.2312\nTyp: ungerade Woche\nMehr unter: https://kalenderwoche.info/2312/kw-43
URL:https://kalenderwoche.info/2312/kw-43
CATEGORIES:Kalenderwoche
TRANSP:TRANSPARENT
END:VEVENT
BEGIN:VEVENT
UID:kw-2312-44@kalenderwoche.info
DTSTAMP:20260424T053635Z
DTSTART;VALUE=DATE:23121028
DTEND;VALUE=DATE:23121104
SUMMARY:KW 44 (gerade)
DESCRIPTION:Kalenderwoche 44 im Jahr 2312\nMontag: 28.10.2312\nSonntag: 03.11.2312\nTyp: gerade Woche\nMehr unter: https://kalenderwoche.info/2312/kw-44
URL:https://kalenderwoche.info/2312/kw-44
CATEGORIES:Kalenderwoche
TRANSP:TRANSPARENT
END:VEVENT
BEGIN:VEVENT
UID:kw-2312-45@kalenderwoche.info
DTSTAMP:20260424T053635Z
DTSTART;VALUE=DATE:23121104
DTEND;VALUE=DATE:23121111
SUMMARY:KW 45 (ungerade)
DESCRIPTION:Kalenderwoche 45 im Jahr 2312\nMontag: 04.11.2312\nSonntag: 10.11.2312\nTyp: ungerade Woche\nMehr unter: https://kalenderwoche.info/2312/kw-45
URL:https://kalenderwoche.info/2312/kw-45
CATEGORIES:Kalenderwoche
TRANSP:TRANSPARENT
END:VEVENT
BEGIN:VEVENT
UID:kw-2312-46@kalenderwoche.info
DTSTAMP:20260424T053635Z
DTSTART;VALUE=DATE:23121111
DTEND;VALUE=DATE:23121118
SUMMARY:KW 46 (gerade)
DESCRIPTION:Kalenderwoche 46 im Jahr 2312\nMontag: 11.11.2312\nSonntag: 17.11.2312\nTyp: gerade Woche\nMehr unter: https://kalenderwoche.info/2312/kw-46
URL:https://kalenderwoche.info/2312/kw-46
CATEGORIES:Kalenderwoche
TRANSP:TRANSPARENT
END:VEVENT
BEGIN:VEVENT
UID:kw-2312-47@kalenderwoche.info
DTSTAMP:20260424T053635Z
DTSTART;VALUE=DATE:23121118
DTEND;VALUE=DATE:23121125
SUMMARY:KW 47 (ungerade)
DESCRIPTION:Kalenderwoche 47 im Jahr 2312\nMontag: 18.11.2312\nSonntag: 24.11.2312\nTyp: ungerade Woche\nMehr unter: https://kalenderwoche.info/2312/kw-47
URL:https://kalenderwoche.info/2312/kw-47
CATEGORIES:Kalenderwoche
TRANSP:TRANSPARENT
END:VEVENT
BEGIN:VEVENT
UID:kw-2312-48@kalenderwoche.info
DTSTAMP:20260424T053635Z
DTSTART;VALUE=DATE:23121125
DTEND;VALUE=DATE:23121202
SUMMARY:KW 48 (gerade)
DESCRIPTION:Kalenderwoche 48 im Jahr 2312\nMontag: 25.11.2312\nSonntag: 01.12.2312\nTyp: gerade Woche\nMehr unter: https://kalenderwoche.info/2312/kw-48
URL:https://kalenderwoche.info/2312/kw-48
CATEGORIES:Kalenderwoche
TRANSP:TRANSPARENT
END:VEVENT
BEGIN:VEVENT
UID:kw-2312-49@kalenderwoche.info
DTSTAMP:20260424T053635Z
DTSTART;VALUE=DATE:23121202
DTEND;VALUE=DATE:23121209
SUMMARY:KW 49 (ungerade)
DESCRIPTION:Kalenderwoche 49 im Jahr 2312\nMontag: 02.12.2312\nSonntag: 08.12.2312\nTyp: ungerade Woche\nMehr unter: https://kalenderwoche.info/2312/kw-49
URL:https://kalenderwoche.info/2312/kw-49
CATEGORIES:Kalenderwoche
TRANSP:TRANSPARENT
END:VEVENT
BEGIN:VEVENT
UID:kw-2312-50@kalenderwoche.info
DTSTAMP:20260424T053635Z
DTSTART;VALUE=DATE:23121209
DTEND;VALUE=DATE:23121216
SUMMARY:KW 50 (gerade)
DESCRIPTION:Kalenderwoche 50 im Jahr 2312\nMontag: 09.12.2312\nSonntag: 15.12.2312\nTyp: gerade Woche\nMehr unter: https://kalenderwoche.info/2312/kw-50
URL:https://kalenderwoche.info/2312/kw-50
CATEGORIES:Kalenderwoche
TRANSP:TRANSPARENT
END:VEVENT
BEGIN:VEVENT
UID:kw-2312-51@kalenderwoche.info
DTSTAMP:20260424T053635Z
DTSTART;VALUE=DATE:23121216
DTEND;VALUE=DATE:23121223
SUMMARY:KW 51 (ungerade)
DESCRIPTION:Kalenderwoche 51 im Jahr 2312\nMontag: 16.12.2312\nSonntag: 22.12.2312\nTyp: ungerade Woche\nMehr unter: https://kalenderwoche.info/2312/kw-51
URL:https://kalenderwoche.info/2312/kw-51
CATEGORIES:Kalenderwoche
TRANSP:TRANSPARENT
END:VEVENT
BEGIN:VEVENT
UID:kw-2312-52@kalenderwoche.info
DTSTAMP:20260424T053635Z
DTSTART;VALUE=DATE:23121223
DTEND;VALUE=DATE:23121230
SUMMARY:KW 52 (gerade)
DESCRIPTION:Kalenderwoche 52 im Jahr 2312\nMontag: 23.12.2312\nSonntag: 29.12.2312\nTyp: gerade Woche\nMehr unter: https://kalenderwoche.info/2312/kw-52
URL:https://kalenderwoche.info/2312/kw-52
CATEGORIES:Kalenderwoche
TRANSP:TRANSPARENT
END:VEVENT
END:VCALENDAR
