BEGIN:VCALENDAR
VERSION:2.0
PRODID:-//kalenderwoche.info//Kalender//DE
CALSCALE:GREGORIAN
METHOD:PUBLISH
X-WR-CALNAME:Kalenderwochen 2316
X-WR-CALDESC:Alle Kalenderwochen für das Jahr 2316
X-WR-TIMEZONE:Europe/Berlin
BEGIN:VEVENT
UID:kw-2316-1@kalenderwoche.info
DTSTAMP:20260424T103151Z
DTSTART;VALUE=DATE:23160103
DTEND;VALUE=DATE:23160110
SUMMARY:KW 1 (ungerade)
DESCRIPTION:Kalenderwoche 1 im Jahr 2316\nMontag: 03.01.2316\nSonntag: 09.01.2316\nTyp: ungerade Woche\nMehr unter: https://kalenderwoche.info/2316/kw-1
URL:https://kalenderwoche.info/2316/kw-1
CATEGORIES:Kalenderwoche
TRANSP:TRANSPARENT
END:VEVENT
BEGIN:VEVENT
UID:kw-2316-2@kalenderwoche.info
DTSTAMP:20260424T103151Z
DTSTART;VALUE=DATE:23160110
DTEND;VALUE=DATE:23160117
SUMMARY:KW 2 (gerade)
DESCRIPTION:Kalenderwoche 2 im Jahr 2316\nMontag: 10.01.2316\nSonntag: 16.01.2316\nTyp: gerade Woche\nMehr unter: https://kalenderwoche.info/2316/kw-2
URL:https://kalenderwoche.info/2316/kw-2
CATEGORIES:Kalenderwoche
TRANSP:TRANSPARENT
END:VEVENT
BEGIN:VEVENT
UID:kw-2316-3@kalenderwoche.info
DTSTAMP:20260424T103151Z
DTSTART;VALUE=DATE:23160117
DTEND;VALUE=DATE:23160124
SUMMARY:KW 3 (ungerade)
DESCRIPTION:Kalenderwoche 3 im Jahr 2316\nMontag: 17.01.2316\nSonntag: 23.01.2316\nTyp: ungerade Woche\nMehr unter: https://kalenderwoche.info/2316/kw-3
URL:https://kalenderwoche.info/2316/kw-3
CATEGORIES:Kalenderwoche
TRANSP:TRANSPARENT
END:VEVENT
BEGIN:VEVENT
UID:kw-2316-4@kalenderwoche.info
DTSTAMP:20260424T103151Z
DTSTART;VALUE=DATE:23160124
DTEND;VALUE=DATE:23160131
SUMMARY:KW 4 (gerade)
DESCRIPTION:Kalenderwoche 4 im Jahr 2316\nMontag: 24.01.2316\nSonntag: 30.01.2316\nTyp: gerade Woche\nMehr unter: https://kalenderwoche.info/2316/kw-4
URL:https://kalenderwoche.info/2316/kw-4
CATEGORIES:Kalenderwoche
TRANSP:TRANSPARENT
END:VEVENT
BEGIN:VEVENT
UID:kw-2316-5@kalenderwoche.info
DTSTAMP:20260424T103151Z
DTSTART;VALUE=DATE:23160131
DTEND;VALUE=DATE:23160207
SUMMARY:KW 5 (ungerade)
DESCRIPTION:Kalenderwoche 5 im Jahr 2316\nMontag: 31.01.2316\nSonntag: 06.02.2316\nTyp: ungerade Woche\nMehr unter: https://kalenderwoche.info/2316/kw-5
URL:https://kalenderwoche.info/2316/kw-5
CATEGORIES:Kalenderwoche
TRANSP:TRANSPARENT
END:VEVENT
BEGIN:VEVENT
UID:kw-2316-6@kalenderwoche.info
DTSTAMP:20260424T103151Z
DTSTART;VALUE=DATE:23160207
DTEND;VALUE=DATE:23160214
SUMMARY:KW 6 (gerade)
DESCRIPTION:Kalenderwoche 6 im Jahr 2316\nMontag: 07.02.2316\nSonntag: 13.02.2316\nTyp: gerade Woche\nMehr unter: https://kalenderwoche.info/2316/kw-6
URL:https://kalenderwoche.info/2316/kw-6
CATEGORIES:Kalenderwoche
TRANSP:TRANSPARENT
END:VEVENT
BEGIN:VEVENT
UID:kw-2316-7@kalenderwoche.info
DTSTAMP:20260424T103151Z
DTSTART;VALUE=DATE:23160214
DTEND;VALUE=DATE:23160221
SUMMARY:KW 7 (ungerade)
DESCRIPTION:Kalenderwoche 7 im Jahr 2316\nMontag: 14.02.2316\nSonntag: 20.02.2316\nTyp: ungerade Woche\nMehr unter: https://kalenderwoche.info/2316/kw-7
URL:https://kalenderwoche.info/2316/kw-7
CATEGORIES:Kalenderwoche
TRANSP:TRANSPARENT
END:VEVENT
BEGIN:VEVENT
UID:kw-2316-8@kalenderwoche.info
DTSTAMP:20260424T103151Z
DTSTART;VALUE=DATE:23160221
DTEND;VALUE=DATE:23160228
SUMMARY:KW 8 (gerade)
DESCRIPTION:Kalenderwoche 8 im Jahr 2316\nMontag: 21.02.2316\nSonntag: 27.02.2316\nTyp: gerade Woche\nMehr unter: https://kalenderwoche.info/2316/kw-8
URL:https://kalenderwoche.info/2316/kw-8
CATEGORIES:Kalenderwoche
TRANSP:TRANSPARENT
END:VEVENT
BEGIN:VEVENT
UID:kw-2316-9@kalenderwoche.info
DTSTAMP:20260424T103151Z
DTSTART;VALUE=DATE:23160228
DTEND;VALUE=DATE:23160306
SUMMARY:KW 9 (ungerade)
DESCRIPTION:Kalenderwoche 9 im Jahr 2316\nMontag: 28.02.2316\nSonntag: 05.03.2316\nTyp: ungerade Woche\nMehr unter: https://kalenderwoche.info/2316/kw-9
URL:https://kalenderwoche.info/2316/kw-9
CATEGORIES:Kalenderwoche
TRANSP:TRANSPARENT
END:VEVENT
BEGIN:VEVENT
UID:kw-2316-10@kalenderwoche.info
DTSTAMP:20260424T103151Z
DTSTART;VALUE=DATE:23160306
DTEND;VALUE=DATE:23160313
SUMMARY:KW 10 (gerade)
DESCRIPTION:Kalenderwoche 10 im Jahr 2316\nMontag: 06.03.2316\nSonntag: 12.03.2316\nTyp: gerade Woche\nMehr unter: https://kalenderwoche.info/2316/kw-10
URL:https://kalenderwoche.info/2316/kw-10
CATEGORIES:Kalenderwoche
TRANSP:TRANSPARENT
END:VEVENT
BEGIN:VEVENT
UID:kw-2316-11@kalenderwoche.info
DTSTAMP:20260424T103151Z
DTSTART;VALUE=DATE:23160313
DTEND;VALUE=DATE:23160320
SUMMARY:KW 11 (ungerade)
DESCRIPTION:Kalenderwoche 11 im Jahr 2316\nMontag: 13.03.2316\nSonntag: 19.03.2316\nTyp: ungerade Woche\nMehr unter: https://kalenderwoche.info/2316/kw-11
URL:https://kalenderwoche.info/2316/kw-11
CATEGORIES:Kalenderwoche
TRANSP:TRANSPARENT
END:VEVENT
BEGIN:VEVENT
UID:kw-2316-12@kalenderwoche.info
DTSTAMP:20260424T103151Z
DTSTART;VALUE=DATE:23160320
DTEND;VALUE=DATE:23160327
SUMMARY:KW 12 (gerade)
DESCRIPTION:Kalenderwoche 12 im Jahr 2316\nMontag: 20.03.2316\nSonntag: 26.03.2316\nTyp: gerade Woche\nMehr unter: https://kalenderwoche.info/2316/kw-12
URL:https://kalenderwoche.info/2316/kw-12
CATEGORIES:Kalenderwoche
TRANSP:TRANSPARENT
END:VEVENT
BEGIN:VEVENT
UID:kw-2316-13@kalenderwoche.info
DTSTAMP:20260424T103151Z
DTSTART;VALUE=DATE:23160327
DTEND;VALUE=DATE:23160403
SUMMARY:KW 13 (ungerade)
DESCRIPTION:Kalenderwoche 13 im Jahr 2316\nMontag: 27.03.2316\nSonntag: 02.04.2316\nTyp: ungerade Woche\nMehr unter: https://kalenderwoche.info/2316/kw-13
URL:https://kalenderwoche.info/2316/kw-13
CATEGORIES:Kalenderwoche
TRANSP:TRANSPARENT
END:VEVENT
BEGIN:VEVENT
UID:kw-2316-14@kalenderwoche.info
DTSTAMP:20260424T103151Z
DTSTART;VALUE=DATE:23160403
DTEND;VALUE=DATE:23160410
SUMMARY:KW 14 (gerade)
DESCRIPTION:Kalenderwoche 14 im Jahr 2316\nMontag: 03.04.2316\nSonntag: 09.04.2316\nTyp: gerade Woche\nMehr unter: https://kalenderwoche.info/2316/kw-14
URL:https://kalenderwoche.info/2316/kw-14
CATEGORIES:Kalenderwoche
TRANSP:TRANSPARENT
END:VEVENT
BEGIN:VEVENT
UID:kw-2316-15@kalenderwoche.info
DTSTAMP:20260424T103151Z
DTSTART;VALUE=DATE:23160410
DTEND;VALUE=DATE:23160417
SUMMARY:KW 15 (ungerade)
DESCRIPTION:Kalenderwoche 15 im Jahr 2316\nMontag: 10.04.2316\nSonntag: 16.04.2316\nTyp: ungerade Woche\nMehr unter: https://kalenderwoche.info/2316/kw-15
URL:https://kalenderwoche.info/2316/kw-15
CATEGORIES:Kalenderwoche
TRANSP:TRANSPARENT
END:VEVENT
BEGIN:VEVENT
UID:kw-2316-16@kalenderwoche.info
DTSTAMP:20260424T103151Z
DTSTART;VALUE=DATE:23160417
DTEND;VALUE=DATE:23160424
SUMMARY:KW 16 (gerade)
DESCRIPTION:Kalenderwoche 16 im Jahr 2316\nMontag: 17.04.2316\nSonntag: 23.04.2316\nTyp: gerade Woche\nMehr unter: https://kalenderwoche.info/2316/kw-16
URL:https://kalenderwoche.info/2316/kw-16
CATEGORIES:Kalenderwoche
TRANSP:TRANSPARENT
END:VEVENT
BEGIN:VEVENT
UID:kw-2316-17@kalenderwoche.info
DTSTAMP:20260424T103151Z
DTSTART;VALUE=DATE:23160424
DTEND;VALUE=DATE:23160501
SUMMARY:KW 17 (ungerade)
DESCRIPTION:Kalenderwoche 17 im Jahr 2316\nMontag: 24.04.2316\nSonntag: 30.04.2316\nTyp: ungerade Woche\nMehr unter: https://kalenderwoche.info/2316/kw-17
URL:https://kalenderwoche.info/2316/kw-17
CATEGORIES:Kalenderwoche
TRANSP:TRANSPARENT
END:VEVENT
BEGIN:VEVENT
UID:kw-2316-18@kalenderwoche.info
DTSTAMP:20260424T103151Z
DTSTART;VALUE=DATE:23160501
DTEND;VALUE=DATE:23160508
SUMMARY:KW 18 (gerade)
DESCRIPTION:Kalenderwoche 18 im Jahr 2316\nMontag: 01.05.2316\nSonntag: 07.05.2316\nTyp: gerade Woche\nMehr unter: https://kalenderwoche.info/2316/kw-18
URL:https://kalenderwoche.info/2316/kw-18
CATEGORIES:Kalenderwoche
TRANSP:TRANSPARENT
END:VEVENT
BEGIN:VEVENT
UID:kw-2316-19@kalenderwoche.info
DTSTAMP:20260424T103151Z
DTSTART;VALUE=DATE:23160508
DTEND;VALUE=DATE:23160515
SUMMARY:KW 19 (ungerade)
DESCRIPTION:Kalenderwoche 19 im Jahr 2316\nMontag: 08.05.2316\nSonntag: 14.05.2316\nTyp: ungerade Woche\nMehr unter: https://kalenderwoche.info/2316/kw-19
URL:https://kalenderwoche.info/2316/kw-19
CATEGORIES:Kalenderwoche
TRANSP:TRANSPARENT
END:VEVENT
BEGIN:VEVENT
UID:kw-2316-20@kalenderwoche.info
DTSTAMP:20260424T103151Z
DTSTART;VALUE=DATE:23160515
DTEND;VALUE=DATE:23160522
SUMMARY:KW 20 (gerade)
DESCRIPTION:Kalenderwoche 20 im Jahr 2316\nMontag: 15.05.2316\nSonntag: 21.05.2316\nTyp: gerade Woche\nMehr unter: https://kalenderwoche.info/2316/kw-20
URL:https://kalenderwoche.info/2316/kw-20
CATEGORIES:Kalenderwoche
TRANSP:TRANSPARENT
END:VEVENT
BEGIN:VEVENT
UID:kw-2316-21@kalenderwoche.info
DTSTAMP:20260424T103151Z
DTSTART;VALUE=DATE:23160522
DTEND;VALUE=DATE:23160529
SUMMARY:KW 21 (ungerade)
DESCRIPTION:Kalenderwoche 21 im Jahr 2316\nMontag: 22.05.2316\nSonntag: 28.05.2316\nTyp: ungerade Woche\nMehr unter: https://kalenderwoche.info/2316/kw-21
URL:https://kalenderwoche.info/2316/kw-21
CATEGORIES:Kalenderwoche
TRANSP:TRANSPARENT
END:VEVENT
BEGIN:VEVENT
UID:kw-2316-22@kalenderwoche.info
DTSTAMP:20260424T103151Z
DTSTART;VALUE=DATE:23160529
DTEND;VALUE=DATE:23160605
SUMMARY:KW 22 (gerade)
DESCRIPTION:Kalenderwoche 22 im Jahr 2316\nMontag: 29.05.2316\nSonntag: 04.06.2316\nTyp: gerade Woche\nMehr unter: https://kalenderwoche.info/2316/kw-22
URL:https://kalenderwoche.info/2316/kw-22
CATEGORIES:Kalenderwoche
TRANSP:TRANSPARENT
END:VEVENT
BEGIN:VEVENT
UID:kw-2316-23@kalenderwoche.info
DTSTAMP:20260424T103151Z
DTSTART;VALUE=DATE:23160605
DTEND;VALUE=DATE:23160612
SUMMARY:KW 23 (ungerade)
DESCRIPTION:Kalenderwoche 23 im Jahr 2316\nMontag: 05.06.2316\nSonntag: 11.06.2316\nTyp: ungerade Woche\nMehr unter: https://kalenderwoche.info/2316/kw-23
URL:https://kalenderwoche.info/2316/kw-23
CATEGORIES:Kalenderwoche
TRANSP:TRANSPARENT
END:VEVENT
BEGIN:VEVENT
UID:kw-2316-24@kalenderwoche.info
DTSTAMP:20260424T103151Z
DTSTART;VALUE=DATE:23160612
DTEND;VALUE=DATE:23160619
SUMMARY:KW 24 (gerade)
DESCRIPTION:Kalenderwoche 24 im Jahr 2316\nMontag: 12.06.2316\nSonntag: 18.06.2316\nTyp: gerade Woche\nMehr unter: https://kalenderwoche.info/2316/kw-24
URL:https://kalenderwoche.info/2316/kw-24
CATEGORIES:Kalenderwoche
TRANSP:TRANSPARENT
END:VEVENT
BEGIN:VEVENT
UID:kw-2316-25@kalenderwoche.info
DTSTAMP:20260424T103151Z
DTSTART;VALUE=DATE:23160619
DTEND;VALUE=DATE:23160626
SUMMARY:KW 25 (ungerade)
DESCRIPTION:Kalenderwoche 25 im Jahr 2316\nMontag: 19.06.2316\nSonntag: 25.06.2316\nTyp: ungerade Woche\nMehr unter: https://kalenderwoche.info/2316/kw-25
URL:https://kalenderwoche.info/2316/kw-25
CATEGORIES:Kalenderwoche
TRANSP:TRANSPARENT
END:VEVENT
BEGIN:VEVENT
UID:kw-2316-26@kalenderwoche.info
DTSTAMP:20260424T103151Z
DTSTART;VALUE=DATE:23160626
DTEND;VALUE=DATE:23160703
SUMMARY:KW 26 (gerade)
DESCRIPTION:Kalenderwoche 26 im Jahr 2316\nMontag: 26.06.2316\nSonntag: 02.07.2316\nTyp: gerade Woche\nMehr unter: https://kalenderwoche.info/2316/kw-26
URL:https://kalenderwoche.info/2316/kw-26
CATEGORIES:Kalenderwoche
TRANSP:TRANSPARENT
END:VEVENT
BEGIN:VEVENT
UID:kw-2316-27@kalenderwoche.info
DTSTAMP:20260424T103151Z
DTSTART;VALUE=DATE:23160703
DTEND;VALUE=DATE:23160710
SUMMARY:KW 27 (ungerade)
DESCRIPTION:Kalenderwoche 27 im Jahr 2316\nMontag: 03.07.2316\nSonntag: 09.07.2316\nTyp: ungerade Woche\nMehr unter: https://kalenderwoche.info/2316/kw-27
URL:https://kalenderwoche.info/2316/kw-27
CATEGORIES:Kalenderwoche
TRANSP:TRANSPARENT
END:VEVENT
BEGIN:VEVENT
UID:kw-2316-28@kalenderwoche.info
DTSTAMP:20260424T103151Z
DTSTART;VALUE=DATE:23160710
DTEND;VALUE=DATE:23160717
SUMMARY:KW 28 (gerade)
DESCRIPTION:Kalenderwoche 28 im Jahr 2316\nMontag: 10.07.2316\nSonntag: 16.07.2316\nTyp: gerade Woche\nMehr unter: https://kalenderwoche.info/2316/kw-28
URL:https://kalenderwoche.info/2316/kw-28
CATEGORIES:Kalenderwoche
TRANSP:TRANSPARENT
END:VEVENT
BEGIN:VEVENT
UID:kw-2316-29@kalenderwoche.info
DTSTAMP:20260424T103151Z
DTSTART;VALUE=DATE:23160717
DTEND;VALUE=DATE:23160724
SUMMARY:KW 29 (ungerade)
DESCRIPTION:Kalenderwoche 29 im Jahr 2316\nMontag: 17.07.2316\nSonntag: 23.07.2316\nTyp: ungerade Woche\nMehr unter: https://kalenderwoche.info/2316/kw-29
URL:https://kalenderwoche.info/2316/kw-29
CATEGORIES:Kalenderwoche
TRANSP:TRANSPARENT
END:VEVENT
BEGIN:VEVENT
UID:kw-2316-30@kalenderwoche.info
DTSTAMP:20260424T103151Z
DTSTART;VALUE=DATE:23160724
DTEND;VALUE=DATE:23160731
SUMMARY:KW 30 (gerade)
DESCRIPTION:Kalenderwoche 30 im Jahr 2316\nMontag: 24.07.2316\nSonntag: 30.07.2316\nTyp: gerade Woche\nMehr unter: https://kalenderwoche.info/2316/kw-30
URL:https://kalenderwoche.info/2316/kw-30
CATEGORIES:Kalenderwoche
TRANSP:TRANSPARENT
END:VEVENT
BEGIN:VEVENT
UID:kw-2316-31@kalenderwoche.info
DTSTAMP:20260424T103151Z
DTSTART;VALUE=DATE:23160731
DTEND;VALUE=DATE:23160807
SUMMARY:KW 31 (ungerade)
DESCRIPTION:Kalenderwoche 31 im Jahr 2316\nMontag: 31.07.2316\nSonntag: 06.08.2316\nTyp: ungerade Woche\nMehr unter: https://kalenderwoche.info/2316/kw-31
URL:https://kalenderwoche.info/2316/kw-31
CATEGORIES:Kalenderwoche
TRANSP:TRANSPARENT
END:VEVENT
BEGIN:VEVENT
UID:kw-2316-32@kalenderwoche.info
DTSTAMP:20260424T103151Z
DTSTART;VALUE=DATE:23160807
DTEND;VALUE=DATE:23160814
SUMMARY:KW 32 (gerade)
DESCRIPTION:Kalenderwoche 32 im Jahr 2316\nMontag: 07.08.2316\nSonntag: 13.08.2316\nTyp: gerade Woche\nMehr unter: https://kalenderwoche.info/2316/kw-32
URL:https://kalenderwoche.info/2316/kw-32
CATEGORIES:Kalenderwoche
TRANSP:TRANSPARENT
END:VEVENT
BEGIN:VEVENT
UID:kw-2316-33@kalenderwoche.info
DTSTAMP:20260424T103151Z
DTSTART;VALUE=DATE:23160814
DTEND;VALUE=DATE:23160821
SUMMARY:KW 33 (ungerade)
DESCRIPTION:Kalenderwoche 33 im Jahr 2316\nMontag: 14.08.2316\nSonntag: 20.08.2316\nTyp: ungerade Woche\nMehr unter: https://kalenderwoche.info/2316/kw-33
URL:https://kalenderwoche.info/2316/kw-33
CATEGORIES:Kalenderwoche
TRANSP:TRANSPARENT
END:VEVENT
BEGIN:VEVENT
UID:kw-2316-34@kalenderwoche.info
DTSTAMP:20260424T103151Z
DTSTART;VALUE=DATE:23160821
DTEND;VALUE=DATE:23160828
SUMMARY:KW 34 (gerade)
DESCRIPTION:Kalenderwoche 34 im Jahr 2316\nMontag: 21.08.2316\nSonntag: 27.08.2316\nTyp: gerade Woche\nMehr unter: https://kalenderwoche.info/2316/kw-34
URL:https://kalenderwoche.info/2316/kw-34
CATEGORIES:Kalenderwoche
TRANSP:TRANSPARENT
END:VEVENT
BEGIN:VEVENT
UID:kw-2316-35@kalenderwoche.info
DTSTAMP:20260424T103151Z
DTSTART;VALUE=DATE:23160828
DTEND;VALUE=DATE:23160904
SUMMARY:KW 35 (ungerade)
DESCRIPTION:Kalenderwoche 35 im Jahr 2316\nMontag: 28.08.2316\nSonntag: 03.09.2316\nTyp: ungerade Woche\nMehr unter: https://kalenderwoche.info/2316/kw-35
URL:https://kalenderwoche.info/2316/kw-35
CATEGORIES:Kalenderwoche
TRANSP:TRANSPARENT
END:VEVENT
BEGIN:VEVENT
UID:kw-2316-36@kalenderwoche.info
DTSTAMP:20260424T103151Z
DTSTART;VALUE=DATE:23160904
DTEND;VALUE=DATE:23160911
SUMMARY:KW 36 (gerade)
DESCRIPTION:Kalenderwoche 36 im Jahr 2316\nMontag: 04.09.2316\nSonntag: 10.09.2316\nTyp: gerade Woche\nMehr unter: https://kalenderwoche.info/2316/kw-36
URL:https://kalenderwoche.info/2316/kw-36
CATEGORIES:Kalenderwoche
TRANSP:TRANSPARENT
END:VEVENT
BEGIN:VEVENT
UID:kw-2316-37@kalenderwoche.info
DTSTAMP:20260424T103151Z
DTSTART;VALUE=DATE:23160911
DTEND;VALUE=DATE:23160918
SUMMARY:KW 37 (ungerade)
DESCRIPTION:Kalenderwoche 37 im Jahr 2316\nMontag: 11.09.2316\nSonntag: 17.09.2316\nTyp: ungerade Woche\nMehr unter: https://kalenderwoche.info/2316/kw-37
URL:https://kalenderwoche.info/2316/kw-37
CATEGORIES:Kalenderwoche
TRANSP:TRANSPARENT
END:VEVENT
BEGIN:VEVENT
UID:kw-2316-38@kalenderwoche.info
DTSTAMP:20260424T103151Z
DTSTART;VALUE=DATE:23160918
DTEND;VALUE=DATE:23160925
SUMMARY:KW 38 (gerade)
DESCRIPTION:Kalenderwoche 38 im Jahr 2316\nMontag: 18.09.2316\nSonntag: 24.09.2316\nTyp: gerade Woche\nMehr unter: https://kalenderwoche.info/2316/kw-38
URL:https://kalenderwoche.info/2316/kw-38
CATEGORIES:Kalenderwoche
TRANSP:TRANSPARENT
END:VEVENT
BEGIN:VEVENT
UID:kw-2316-39@kalenderwoche.info
DTSTAMP:20260424T103151Z
DTSTART;VALUE=DATE:23160925
DTEND;VALUE=DATE:23161002
SUMMARY:KW 39 (ungerade)
DESCRIPTION:Kalenderwoche 39 im Jahr 2316\nMontag: 25.09.2316\nSonntag: 01.10.2316\nTyp: ungerade Woche\nMehr unter: https://kalenderwoche.info/2316/kw-39
URL:https://kalenderwoche.info/2316/kw-39
CATEGORIES:Kalenderwoche
TRANSP:TRANSPARENT
END:VEVENT
BEGIN:VEVENT
UID:kw-2316-40@kalenderwoche.info
DTSTAMP:20260424T103151Z
DTSTART;VALUE=DATE:23161002
DTEND;VALUE=DATE:23161009
SUMMARY:KW 40 (gerade)
DESCRIPTION:Kalenderwoche 40 im Jahr 2316\nMontag: 02.10.2316\nSonntag: 08.10.2316\nTyp: gerade Woche\nMehr unter: https://kalenderwoche.info/2316/kw-40
URL:https://kalenderwoche.info/2316/kw-40
CATEGORIES:Kalenderwoche
TRANSP:TRANSPARENT
END:VEVENT
BEGIN:VEVENT
UID:kw-2316-41@kalenderwoche.info
DTSTAMP:20260424T103151Z
DTSTART;VALUE=DATE:23161009
DTEND;VALUE=DATE:23161016
SUMMARY:KW 41 (ungerade)
DESCRIPTION:Kalenderwoche 41 im Jahr 2316\nMontag: 09.10.2316\nSonntag: 15.10.2316\nTyp: ungerade Woche\nMehr unter: https://kalenderwoche.info/2316/kw-41
URL:https://kalenderwoche.info/2316/kw-41
CATEGORIES:Kalenderwoche
TRANSP:TRANSPARENT
END:VEVENT
BEGIN:VEVENT
UID:kw-2316-42@kalenderwoche.info
DTSTAMP:20260424T103151Z
DTSTART;VALUE=DATE:23161016
DTEND;VALUE=DATE:23161023
SUMMARY:KW 42 (gerade)
DESCRIPTION:Kalenderwoche 42 im Jahr 2316\nMontag: 16.10.2316\nSonntag: 22.10.2316\nTyp: gerade Woche\nMehr unter: https://kalenderwoche.info/2316/kw-42
URL:https://kalenderwoche.info/2316/kw-42
CATEGORIES:Kalenderwoche
TRANSP:TRANSPARENT
END:VEVENT
BEGIN:VEVENT
UID:kw-2316-43@kalenderwoche.info
DTSTAMP:20260424T103151Z
DTSTART;VALUE=DATE:23161023
DTEND;VALUE=DATE:23161030
SUMMARY:KW 43 (ungerade)
DESCRIPTION:Kalenderwoche 43 im Jahr 2316\nMontag: 23.10.2316\nSonntag: 29.10.2316\nTyp: ungerade Woche\nMehr unter: https://kalenderwoche.info/2316/kw-43
URL:https://kalenderwoche.info/2316/kw-43
CATEGORIES:Kalenderwoche
TRANSP:TRANSPARENT
END:VEVENT
BEGIN:VEVENT
UID:kw-2316-44@kalenderwoche.info
DTSTAMP:20260424T103151Z
DTSTART;VALUE=DATE:23161030
DTEND;VALUE=DATE:23161106
SUMMARY:KW 44 (gerade)
DESCRIPTION:Kalenderwoche 44 im Jahr 2316\nMontag: 30.10.2316\nSonntag: 05.11.2316\nTyp: gerade Woche\nMehr unter: https://kalenderwoche.info/2316/kw-44
URL:https://kalenderwoche.info/2316/kw-44
CATEGORIES:Kalenderwoche
TRANSP:TRANSPARENT
END:VEVENT
BEGIN:VEVENT
UID:kw-2316-45@kalenderwoche.info
DTSTAMP:20260424T103151Z
DTSTART;VALUE=DATE:23161106
DTEND;VALUE=DATE:23161113
SUMMARY:KW 45 (ungerade)
DESCRIPTION:Kalenderwoche 45 im Jahr 2316\nMontag: 06.11.2316\nSonntag: 12.11.2316\nTyp: ungerade Woche\nMehr unter: https://kalenderwoche.info/2316/kw-45
URL:https://kalenderwoche.info/2316/kw-45
CATEGORIES:Kalenderwoche
TRANSP:TRANSPARENT
END:VEVENT
BEGIN:VEVENT
UID:kw-2316-46@kalenderwoche.info
DTSTAMP:20260424T103151Z
DTSTART;VALUE=DATE:23161113
DTEND;VALUE=DATE:23161120
SUMMARY:KW 46 (gerade)
DESCRIPTION:Kalenderwoche 46 im Jahr 2316\nMontag: 13.11.2316\nSonntag: 19.11.2316\nTyp: gerade Woche\nMehr unter: https://kalenderwoche.info/2316/kw-46
URL:https://kalenderwoche.info/2316/kw-46
CATEGORIES:Kalenderwoche
TRANSP:TRANSPARENT
END:VEVENT
BEGIN:VEVENT
UID:kw-2316-47@kalenderwoche.info
DTSTAMP:20260424T103151Z
DTSTART;VALUE=DATE:23161120
DTEND;VALUE=DATE:23161127
SUMMARY:KW 47 (ungerade)
DESCRIPTION:Kalenderwoche 47 im Jahr 2316\nMontag: 20.11.2316\nSonntag: 26.11.2316\nTyp: ungerade Woche\nMehr unter: https://kalenderwoche.info/2316/kw-47
URL:https://kalenderwoche.info/2316/kw-47
CATEGORIES:Kalenderwoche
TRANSP:TRANSPARENT
END:VEVENT
BEGIN:VEVENT
UID:kw-2316-48@kalenderwoche.info
DTSTAMP:20260424T103151Z
DTSTART;VALUE=DATE:23161127
DTEND;VALUE=DATE:23161204
SUMMARY:KW 48 (gerade)
DESCRIPTION:Kalenderwoche 48 im Jahr 2316\nMontag: 27.11.2316\nSonntag: 03.12.2316\nTyp: gerade Woche\nMehr unter: https://kalenderwoche.info/2316/kw-48
URL:https://kalenderwoche.info/2316/kw-48
CATEGORIES:Kalenderwoche
TRANSP:TRANSPARENT
END:VEVENT
BEGIN:VEVENT
UID:kw-2316-49@kalenderwoche.info
DTSTAMP:20260424T103151Z
DTSTART;VALUE=DATE:23161204
DTEND;VALUE=DATE:23161211
SUMMARY:KW 49 (ungerade)
DESCRIPTION:Kalenderwoche 49 im Jahr 2316\nMontag: 04.12.2316\nSonntag: 10.12.2316\nTyp: ungerade Woche\nMehr unter: https://kalenderwoche.info/2316/kw-49
URL:https://kalenderwoche.info/2316/kw-49
CATEGORIES:Kalenderwoche
TRANSP:TRANSPARENT
END:VEVENT
BEGIN:VEVENT
UID:kw-2316-50@kalenderwoche.info
DTSTAMP:20260424T103151Z
DTSTART;VALUE=DATE:23161211
DTEND;VALUE=DATE:23161218
SUMMARY:KW 50 (gerade)
DESCRIPTION:Kalenderwoche 50 im Jahr 2316\nMontag: 11.12.2316\nSonntag: 17.12.2316\nTyp: gerade Woche\nMehr unter: https://kalenderwoche.info/2316/kw-50
URL:https://kalenderwoche.info/2316/kw-50
CATEGORIES:Kalenderwoche
TRANSP:TRANSPARENT
END:VEVENT
BEGIN:VEVENT
UID:kw-2316-51@kalenderwoche.info
DTSTAMP:20260424T103151Z
DTSTART;VALUE=DATE:23161218
DTEND;VALUE=DATE:23161225
SUMMARY:KW 51 (ungerade)
DESCRIPTION:Kalenderwoche 51 im Jahr 2316\nMontag: 18.12.2316\nSonntag: 24.12.2316\nTyp: ungerade Woche\nMehr unter: https://kalenderwoche.info/2316/kw-51
URL:https://kalenderwoche.info/2316/kw-51
CATEGORIES:Kalenderwoche
TRANSP:TRANSPARENT
END:VEVENT
BEGIN:VEVENT
UID:kw-2316-52@kalenderwoche.info
DTSTAMP:20260424T103151Z
DTSTART;VALUE=DATE:23161225
DTEND;VALUE=DATE:23170101
SUMMARY:KW 52 (gerade)
DESCRIPTION:Kalenderwoche 52 im Jahr 2316\nMontag: 25.12.2316\nSonntag: 31.12.2316\nTyp: gerade Woche\nMehr unter: https://kalenderwoche.info/2316/kw-52
URL:https://kalenderwoche.info/2316/kw-52
CATEGORIES:Kalenderwoche
TRANSP:TRANSPARENT
END:VEVENT
END:VCALENDAR
