BEGIN:VCALENDAR
VERSION:2.0
PRODID:-//kalenderwoche.info//Kalender//DE
CALSCALE:GREGORIAN
METHOD:PUBLISH
X-WR-CALNAME:Kalenderwochen 2317
X-WR-CALDESC:Alle Kalenderwochen für das Jahr 2317
X-WR-TIMEZONE:Europe/Berlin
BEGIN:VEVENT
UID:kw-2317-1@kalenderwoche.info
DTSTAMP:20260424T114041Z
DTSTART;VALUE=DATE:23170101
DTEND;VALUE=DATE:23170108
SUMMARY:KW 1 (ungerade)
DESCRIPTION:Kalenderwoche 1 im Jahr 2317\nMontag: 01.01.2317\nSonntag: 07.01.2317\nTyp: ungerade Woche\nMehr unter: https://kalenderwoche.info/2317/kw-1
URL:https://kalenderwoche.info/2317/kw-1
CATEGORIES:Kalenderwoche
TRANSP:TRANSPARENT
END:VEVENT
BEGIN:VEVENT
UID:kw-2317-2@kalenderwoche.info
DTSTAMP:20260424T114041Z
DTSTART;VALUE=DATE:23170108
DTEND;VALUE=DATE:23170115
SUMMARY:KW 2 (gerade)
DESCRIPTION:Kalenderwoche 2 im Jahr 2317\nMontag: 08.01.2317\nSonntag: 14.01.2317\nTyp: gerade Woche\nMehr unter: https://kalenderwoche.info/2317/kw-2
URL:https://kalenderwoche.info/2317/kw-2
CATEGORIES:Kalenderwoche
TRANSP:TRANSPARENT
END:VEVENT
BEGIN:VEVENT
UID:kw-2317-3@kalenderwoche.info
DTSTAMP:20260424T114041Z
DTSTART;VALUE=DATE:23170115
DTEND;VALUE=DATE:23170122
SUMMARY:KW 3 (ungerade)
DESCRIPTION:Kalenderwoche 3 im Jahr 2317\nMontag: 15.01.2317\nSonntag: 21.01.2317\nTyp: ungerade Woche\nMehr unter: https://kalenderwoche.info/2317/kw-3
URL:https://kalenderwoche.info/2317/kw-3
CATEGORIES:Kalenderwoche
TRANSP:TRANSPARENT
END:VEVENT
BEGIN:VEVENT
UID:kw-2317-4@kalenderwoche.info
DTSTAMP:20260424T114041Z
DTSTART;VALUE=DATE:23170122
DTEND;VALUE=DATE:23170129
SUMMARY:KW 4 (gerade)
DESCRIPTION:Kalenderwoche 4 im Jahr 2317\nMontag: 22.01.2317\nSonntag: 28.01.2317\nTyp: gerade Woche\nMehr unter: https://kalenderwoche.info/2317/kw-4
URL:https://kalenderwoche.info/2317/kw-4
CATEGORIES:Kalenderwoche
TRANSP:TRANSPARENT
END:VEVENT
BEGIN:VEVENT
UID:kw-2317-5@kalenderwoche.info
DTSTAMP:20260424T114041Z
DTSTART;VALUE=DATE:23170129
DTEND;VALUE=DATE:23170205
SUMMARY:KW 5 (ungerade)
DESCRIPTION:Kalenderwoche 5 im Jahr 2317\nMontag: 29.01.2317\nSonntag: 04.02.2317\nTyp: ungerade Woche\nMehr unter: https://kalenderwoche.info/2317/kw-5
URL:https://kalenderwoche.info/2317/kw-5
CATEGORIES:Kalenderwoche
TRANSP:TRANSPARENT
END:VEVENT
BEGIN:VEVENT
UID:kw-2317-6@kalenderwoche.info
DTSTAMP:20260424T114041Z
DTSTART;VALUE=DATE:23170205
DTEND;VALUE=DATE:23170212
SUMMARY:KW 6 (gerade)
DESCRIPTION:Kalenderwoche 6 im Jahr 2317\nMontag: 05.02.2317\nSonntag: 11.02.2317\nTyp: gerade Woche\nMehr unter: https://kalenderwoche.info/2317/kw-6
URL:https://kalenderwoche.info/2317/kw-6
CATEGORIES:Kalenderwoche
TRANSP:TRANSPARENT
END:VEVENT
BEGIN:VEVENT
UID:kw-2317-7@kalenderwoche.info
DTSTAMP:20260424T114041Z
DTSTART;VALUE=DATE:23170212
DTEND;VALUE=DATE:23170219
SUMMARY:KW 7 (ungerade)
DESCRIPTION:Kalenderwoche 7 im Jahr 2317\nMontag: 12.02.2317\nSonntag: 18.02.2317\nTyp: ungerade Woche\nMehr unter: https://kalenderwoche.info/2317/kw-7
URL:https://kalenderwoche.info/2317/kw-7
CATEGORIES:Kalenderwoche
TRANSP:TRANSPARENT
END:VEVENT
BEGIN:VEVENT
UID:kw-2317-8@kalenderwoche.info
DTSTAMP:20260424T114041Z
DTSTART;VALUE=DATE:23170219
DTEND;VALUE=DATE:23170226
SUMMARY:KW 8 (gerade)
DESCRIPTION:Kalenderwoche 8 im Jahr 2317\nMontag: 19.02.2317\nSonntag: 25.02.2317\nTyp: gerade Woche\nMehr unter: https://kalenderwoche.info/2317/kw-8
URL:https://kalenderwoche.info/2317/kw-8
CATEGORIES:Kalenderwoche
TRANSP:TRANSPARENT
END:VEVENT
BEGIN:VEVENT
UID:kw-2317-9@kalenderwoche.info
DTSTAMP:20260424T114041Z
DTSTART;VALUE=DATE:23170226
DTEND;VALUE=DATE:23170305
SUMMARY:KW 9 (ungerade)
DESCRIPTION:Kalenderwoche 9 im Jahr 2317\nMontag: 26.02.2317\nSonntag: 04.03.2317\nTyp: ungerade Woche\nMehr unter: https://kalenderwoche.info/2317/kw-9
URL:https://kalenderwoche.info/2317/kw-9
CATEGORIES:Kalenderwoche
TRANSP:TRANSPARENT
END:VEVENT
BEGIN:VEVENT
UID:kw-2317-10@kalenderwoche.info
DTSTAMP:20260424T114041Z
DTSTART;VALUE=DATE:23170305
DTEND;VALUE=DATE:23170312
SUMMARY:KW 10 (gerade)
DESCRIPTION:Kalenderwoche 10 im Jahr 2317\nMontag: 05.03.2317\nSonntag: 11.03.2317\nTyp: gerade Woche\nMehr unter: https://kalenderwoche.info/2317/kw-10
URL:https://kalenderwoche.info/2317/kw-10
CATEGORIES:Kalenderwoche
TRANSP:TRANSPARENT
END:VEVENT
BEGIN:VEVENT
UID:kw-2317-11@kalenderwoche.info
DTSTAMP:20260424T114041Z
DTSTART;VALUE=DATE:23170312
DTEND;VALUE=DATE:23170319
SUMMARY:KW 11 (ungerade)
DESCRIPTION:Kalenderwoche 11 im Jahr 2317\nMontag: 12.03.2317\nSonntag: 18.03.2317\nTyp: ungerade Woche\nMehr unter: https://kalenderwoche.info/2317/kw-11
URL:https://kalenderwoche.info/2317/kw-11
CATEGORIES:Kalenderwoche
TRANSP:TRANSPARENT
END:VEVENT
BEGIN:VEVENT
UID:kw-2317-12@kalenderwoche.info
DTSTAMP:20260424T114041Z
DTSTART;VALUE=DATE:23170319
DTEND;VALUE=DATE:23170326
SUMMARY:KW 12 (gerade)
DESCRIPTION:Kalenderwoche 12 im Jahr 2317\nMontag: 19.03.2317\nSonntag: 25.03.2317\nTyp: gerade Woche\nMehr unter: https://kalenderwoche.info/2317/kw-12
URL:https://kalenderwoche.info/2317/kw-12
CATEGORIES:Kalenderwoche
TRANSP:TRANSPARENT
END:VEVENT
BEGIN:VEVENT
UID:kw-2317-13@kalenderwoche.info
DTSTAMP:20260424T114041Z
DTSTART;VALUE=DATE:23170326
DTEND;VALUE=DATE:23170402
SUMMARY:KW 13 (ungerade)
DESCRIPTION:Kalenderwoche 13 im Jahr 2317\nMontag: 26.03.2317\nSonntag: 01.04.2317\nTyp: ungerade Woche\nMehr unter: https://kalenderwoche.info/2317/kw-13
URL:https://kalenderwoche.info/2317/kw-13
CATEGORIES:Kalenderwoche
TRANSP:TRANSPARENT
END:VEVENT
BEGIN:VEVENT
UID:kw-2317-14@kalenderwoche.info
DTSTAMP:20260424T114041Z
DTSTART;VALUE=DATE:23170402
DTEND;VALUE=DATE:23170409
SUMMARY:KW 14 (gerade)
DESCRIPTION:Kalenderwoche 14 im Jahr 2317\nMontag: 02.04.2317\nSonntag: 08.04.2317\nTyp: gerade Woche\nMehr unter: https://kalenderwoche.info/2317/kw-14
URL:https://kalenderwoche.info/2317/kw-14
CATEGORIES:Kalenderwoche
TRANSP:TRANSPARENT
END:VEVENT
BEGIN:VEVENT
UID:kw-2317-15@kalenderwoche.info
DTSTAMP:20260424T114041Z
DTSTART;VALUE=DATE:23170409
DTEND;VALUE=DATE:23170416
SUMMARY:KW 15 (ungerade)
DESCRIPTION:Kalenderwoche 15 im Jahr 2317\nMontag: 09.04.2317\nSonntag: 15.04.2317\nTyp: ungerade Woche\nMehr unter: https://kalenderwoche.info/2317/kw-15
URL:https://kalenderwoche.info/2317/kw-15
CATEGORIES:Kalenderwoche
TRANSP:TRANSPARENT
END:VEVENT
BEGIN:VEVENT
UID:kw-2317-16@kalenderwoche.info
DTSTAMP:20260424T114041Z
DTSTART;VALUE=DATE:23170416
DTEND;VALUE=DATE:23170423
SUMMARY:KW 16 (gerade)
DESCRIPTION:Kalenderwoche 16 im Jahr 2317\nMontag: 16.04.2317\nSonntag: 22.04.2317\nTyp: gerade Woche\nMehr unter: https://kalenderwoche.info/2317/kw-16
URL:https://kalenderwoche.info/2317/kw-16
CATEGORIES:Kalenderwoche
TRANSP:TRANSPARENT
END:VEVENT
BEGIN:VEVENT
UID:kw-2317-17@kalenderwoche.info
DTSTAMP:20260424T114041Z
DTSTART;VALUE=DATE:23170423
DTEND;VALUE=DATE:23170430
SUMMARY:KW 17 (ungerade)
DESCRIPTION:Kalenderwoche 17 im Jahr 2317\nMontag: 23.04.2317\nSonntag: 29.04.2317\nTyp: ungerade Woche\nMehr unter: https://kalenderwoche.info/2317/kw-17
URL:https://kalenderwoche.info/2317/kw-17
CATEGORIES:Kalenderwoche
TRANSP:TRANSPARENT
END:VEVENT
BEGIN:VEVENT
UID:kw-2317-18@kalenderwoche.info
DTSTAMP:20260424T114041Z
DTSTART;VALUE=DATE:23170430
DTEND;VALUE=DATE:23170507
SUMMARY:KW 18 (gerade)
DESCRIPTION:Kalenderwoche 18 im Jahr 2317\nMontag: 30.04.2317\nSonntag: 06.05.2317\nTyp: gerade Woche\nMehr unter: https://kalenderwoche.info/2317/kw-18
URL:https://kalenderwoche.info/2317/kw-18
CATEGORIES:Kalenderwoche
TRANSP:TRANSPARENT
END:VEVENT
BEGIN:VEVENT
UID:kw-2317-19@kalenderwoche.info
DTSTAMP:20260424T114041Z
DTSTART;VALUE=DATE:23170507
DTEND;VALUE=DATE:23170514
SUMMARY:KW 19 (ungerade)
DESCRIPTION:Kalenderwoche 19 im Jahr 2317\nMontag: 07.05.2317\nSonntag: 13.05.2317\nTyp: ungerade Woche\nMehr unter: https://kalenderwoche.info/2317/kw-19
URL:https://kalenderwoche.info/2317/kw-19
CATEGORIES:Kalenderwoche
TRANSP:TRANSPARENT
END:VEVENT
BEGIN:VEVENT
UID:kw-2317-20@kalenderwoche.info
DTSTAMP:20260424T114041Z
DTSTART;VALUE=DATE:23170514
DTEND;VALUE=DATE:23170521
SUMMARY:KW 20 (gerade)
DESCRIPTION:Kalenderwoche 20 im Jahr 2317\nMontag: 14.05.2317\nSonntag: 20.05.2317\nTyp: gerade Woche\nMehr unter: https://kalenderwoche.info/2317/kw-20
URL:https://kalenderwoche.info/2317/kw-20
CATEGORIES:Kalenderwoche
TRANSP:TRANSPARENT
END:VEVENT
BEGIN:VEVENT
UID:kw-2317-21@kalenderwoche.info
DTSTAMP:20260424T114041Z
DTSTART;VALUE=DATE:23170521
DTEND;VALUE=DATE:23170528
SUMMARY:KW 21 (ungerade)
DESCRIPTION:Kalenderwoche 21 im Jahr 2317\nMontag: 21.05.2317\nSonntag: 27.05.2317\nTyp: ungerade Woche\nMehr unter: https://kalenderwoche.info/2317/kw-21
URL:https://kalenderwoche.info/2317/kw-21
CATEGORIES:Kalenderwoche
TRANSP:TRANSPARENT
END:VEVENT
BEGIN:VEVENT
UID:kw-2317-22@kalenderwoche.info
DTSTAMP:20260424T114041Z
DTSTART;VALUE=DATE:23170528
DTEND;VALUE=DATE:23170604
SUMMARY:KW 22 (gerade)
DESCRIPTION:Kalenderwoche 22 im Jahr 2317\nMontag: 28.05.2317\nSonntag: 03.06.2317\nTyp: gerade Woche\nMehr unter: https://kalenderwoche.info/2317/kw-22
URL:https://kalenderwoche.info/2317/kw-22
CATEGORIES:Kalenderwoche
TRANSP:TRANSPARENT
END:VEVENT
BEGIN:VEVENT
UID:kw-2317-23@kalenderwoche.info
DTSTAMP:20260424T114041Z
DTSTART;VALUE=DATE:23170604
DTEND;VALUE=DATE:23170611
SUMMARY:KW 23 (ungerade)
DESCRIPTION:Kalenderwoche 23 im Jahr 2317\nMontag: 04.06.2317\nSonntag: 10.06.2317\nTyp: ungerade Woche\nMehr unter: https://kalenderwoche.info/2317/kw-23
URL:https://kalenderwoche.info/2317/kw-23
CATEGORIES:Kalenderwoche
TRANSP:TRANSPARENT
END:VEVENT
BEGIN:VEVENT
UID:kw-2317-24@kalenderwoche.info
DTSTAMP:20260424T114041Z
DTSTART;VALUE=DATE:23170611
DTEND;VALUE=DATE:23170618
SUMMARY:KW 24 (gerade)
DESCRIPTION:Kalenderwoche 24 im Jahr 2317\nMontag: 11.06.2317\nSonntag: 17.06.2317\nTyp: gerade Woche\nMehr unter: https://kalenderwoche.info/2317/kw-24
URL:https://kalenderwoche.info/2317/kw-24
CATEGORIES:Kalenderwoche
TRANSP:TRANSPARENT
END:VEVENT
BEGIN:VEVENT
UID:kw-2317-25@kalenderwoche.info
DTSTAMP:20260424T114041Z
DTSTART;VALUE=DATE:23170618
DTEND;VALUE=DATE:23170625
SUMMARY:KW 25 (ungerade)
DESCRIPTION:Kalenderwoche 25 im Jahr 2317\nMontag: 18.06.2317\nSonntag: 24.06.2317\nTyp: ungerade Woche\nMehr unter: https://kalenderwoche.info/2317/kw-25
URL:https://kalenderwoche.info/2317/kw-25
CATEGORIES:Kalenderwoche
TRANSP:TRANSPARENT
END:VEVENT
BEGIN:VEVENT
UID:kw-2317-26@kalenderwoche.info
DTSTAMP:20260424T114041Z
DTSTART;VALUE=DATE:23170625
DTEND;VALUE=DATE:23170702
SUMMARY:KW 26 (gerade)
DESCRIPTION:Kalenderwoche 26 im Jahr 2317\nMontag: 25.06.2317\nSonntag: 01.07.2317\nTyp: gerade Woche\nMehr unter: https://kalenderwoche.info/2317/kw-26
URL:https://kalenderwoche.info/2317/kw-26
CATEGORIES:Kalenderwoche
TRANSP:TRANSPARENT
END:VEVENT
BEGIN:VEVENT
UID:kw-2317-27@kalenderwoche.info
DTSTAMP:20260424T114041Z
DTSTART;VALUE=DATE:23170702
DTEND;VALUE=DATE:23170709
SUMMARY:KW 27 (ungerade)
DESCRIPTION:Kalenderwoche 27 im Jahr 2317\nMontag: 02.07.2317\nSonntag: 08.07.2317\nTyp: ungerade Woche\nMehr unter: https://kalenderwoche.info/2317/kw-27
URL:https://kalenderwoche.info/2317/kw-27
CATEGORIES:Kalenderwoche
TRANSP:TRANSPARENT
END:VEVENT
BEGIN:VEVENT
UID:kw-2317-28@kalenderwoche.info
DTSTAMP:20260424T114041Z
DTSTART;VALUE=DATE:23170709
DTEND;VALUE=DATE:23170716
SUMMARY:KW 28 (gerade)
DESCRIPTION:Kalenderwoche 28 im Jahr 2317\nMontag: 09.07.2317\nSonntag: 15.07.2317\nTyp: gerade Woche\nMehr unter: https://kalenderwoche.info/2317/kw-28
URL:https://kalenderwoche.info/2317/kw-28
CATEGORIES:Kalenderwoche
TRANSP:TRANSPARENT
END:VEVENT
BEGIN:VEVENT
UID:kw-2317-29@kalenderwoche.info
DTSTAMP:20260424T114041Z
DTSTART;VALUE=DATE:23170716
DTEND;VALUE=DATE:23170723
SUMMARY:KW 29 (ungerade)
DESCRIPTION:Kalenderwoche 29 im Jahr 2317\nMontag: 16.07.2317\nSonntag: 22.07.2317\nTyp: ungerade Woche\nMehr unter: https://kalenderwoche.info/2317/kw-29
URL:https://kalenderwoche.info/2317/kw-29
CATEGORIES:Kalenderwoche
TRANSP:TRANSPARENT
END:VEVENT
BEGIN:VEVENT
UID:kw-2317-30@kalenderwoche.info
DTSTAMP:20260424T114041Z
DTSTART;VALUE=DATE:23170723
DTEND;VALUE=DATE:23170730
SUMMARY:KW 30 (gerade)
DESCRIPTION:Kalenderwoche 30 im Jahr 2317\nMontag: 23.07.2317\nSonntag: 29.07.2317\nTyp: gerade Woche\nMehr unter: https://kalenderwoche.info/2317/kw-30
URL:https://kalenderwoche.info/2317/kw-30
CATEGORIES:Kalenderwoche
TRANSP:TRANSPARENT
END:VEVENT
BEGIN:VEVENT
UID:kw-2317-31@kalenderwoche.info
DTSTAMP:20260424T114041Z
DTSTART;VALUE=DATE:23170730
DTEND;VALUE=DATE:23170806
SUMMARY:KW 31 (ungerade)
DESCRIPTION:Kalenderwoche 31 im Jahr 2317\nMontag: 30.07.2317\nSonntag: 05.08.2317\nTyp: ungerade Woche\nMehr unter: https://kalenderwoche.info/2317/kw-31
URL:https://kalenderwoche.info/2317/kw-31
CATEGORIES:Kalenderwoche
TRANSP:TRANSPARENT
END:VEVENT
BEGIN:VEVENT
UID:kw-2317-32@kalenderwoche.info
DTSTAMP:20260424T114041Z
DTSTART;VALUE=DATE:23170806
DTEND;VALUE=DATE:23170813
SUMMARY:KW 32 (gerade)
DESCRIPTION:Kalenderwoche 32 im Jahr 2317\nMontag: 06.08.2317\nSonntag: 12.08.2317\nTyp: gerade Woche\nMehr unter: https://kalenderwoche.info/2317/kw-32
URL:https://kalenderwoche.info/2317/kw-32
CATEGORIES:Kalenderwoche
TRANSP:TRANSPARENT
END:VEVENT
BEGIN:VEVENT
UID:kw-2317-33@kalenderwoche.info
DTSTAMP:20260424T114041Z
DTSTART;VALUE=DATE:23170813
DTEND;VALUE=DATE:23170820
SUMMARY:KW 33 (ungerade)
DESCRIPTION:Kalenderwoche 33 im Jahr 2317\nMontag: 13.08.2317\nSonntag: 19.08.2317\nTyp: ungerade Woche\nMehr unter: https://kalenderwoche.info/2317/kw-33
URL:https://kalenderwoche.info/2317/kw-33
CATEGORIES:Kalenderwoche
TRANSP:TRANSPARENT
END:VEVENT
BEGIN:VEVENT
UID:kw-2317-34@kalenderwoche.info
DTSTAMP:20260424T114041Z
DTSTART;VALUE=DATE:23170820
DTEND;VALUE=DATE:23170827
SUMMARY:KW 34 (gerade)
DESCRIPTION:Kalenderwoche 34 im Jahr 2317\nMontag: 20.08.2317\nSonntag: 26.08.2317\nTyp: gerade Woche\nMehr unter: https://kalenderwoche.info/2317/kw-34
URL:https://kalenderwoche.info/2317/kw-34
CATEGORIES:Kalenderwoche
TRANSP:TRANSPARENT
END:VEVENT
BEGIN:VEVENT
UID:kw-2317-35@kalenderwoche.info
DTSTAMP:20260424T114041Z
DTSTART;VALUE=DATE:23170827
DTEND;VALUE=DATE:23170903
SUMMARY:KW 35 (ungerade)
DESCRIPTION:Kalenderwoche 35 im Jahr 2317\nMontag: 27.08.2317\nSonntag: 02.09.2317\nTyp: ungerade Woche\nMehr unter: https://kalenderwoche.info/2317/kw-35
URL:https://kalenderwoche.info/2317/kw-35
CATEGORIES:Kalenderwoche
TRANSP:TRANSPARENT
END:VEVENT
BEGIN:VEVENT
UID:kw-2317-36@kalenderwoche.info
DTSTAMP:20260424T114041Z
DTSTART;VALUE=DATE:23170903
DTEND;VALUE=DATE:23170910
SUMMARY:KW 36 (gerade)
DESCRIPTION:Kalenderwoche 36 im Jahr 2317\nMontag: 03.09.2317\nSonntag: 09.09.2317\nTyp: gerade Woche\nMehr unter: https://kalenderwoche.info/2317/kw-36
URL:https://kalenderwoche.info/2317/kw-36
CATEGORIES:Kalenderwoche
TRANSP:TRANSPARENT
END:VEVENT
BEGIN:VEVENT
UID:kw-2317-37@kalenderwoche.info
DTSTAMP:20260424T114041Z
DTSTART;VALUE=DATE:23170910
DTEND;VALUE=DATE:23170917
SUMMARY:KW 37 (ungerade)
DESCRIPTION:Kalenderwoche 37 im Jahr 2317\nMontag: 10.09.2317\nSonntag: 16.09.2317\nTyp: ungerade Woche\nMehr unter: https://kalenderwoche.info/2317/kw-37
URL:https://kalenderwoche.info/2317/kw-37
CATEGORIES:Kalenderwoche
TRANSP:TRANSPARENT
END:VEVENT
BEGIN:VEVENT
UID:kw-2317-38@kalenderwoche.info
DTSTAMP:20260424T114041Z
DTSTART;VALUE=DATE:23170917
DTEND;VALUE=DATE:23170924
SUMMARY:KW 38 (gerade)
DESCRIPTION:Kalenderwoche 38 im Jahr 2317\nMontag: 17.09.2317\nSonntag: 23.09.2317\nTyp: gerade Woche\nMehr unter: https://kalenderwoche.info/2317/kw-38
URL:https://kalenderwoche.info/2317/kw-38
CATEGORIES:Kalenderwoche
TRANSP:TRANSPARENT
END:VEVENT
BEGIN:VEVENT
UID:kw-2317-39@kalenderwoche.info
DTSTAMP:20260424T114041Z
DTSTART;VALUE=DATE:23170924
DTEND;VALUE=DATE:23171001
SUMMARY:KW 39 (ungerade)
DESCRIPTION:Kalenderwoche 39 im Jahr 2317\nMontag: 24.09.2317\nSonntag: 30.09.2317\nTyp: ungerade Woche\nMehr unter: https://kalenderwoche.info/2317/kw-39
URL:https://kalenderwoche.info/2317/kw-39
CATEGORIES:Kalenderwoche
TRANSP:TRANSPARENT
END:VEVENT
BEGIN:VEVENT
UID:kw-2317-40@kalenderwoche.info
DTSTAMP:20260424T114041Z
DTSTART;VALUE=DATE:23171001
DTEND;VALUE=DATE:23171008
SUMMARY:KW 40 (gerade)
DESCRIPTION:Kalenderwoche 40 im Jahr 2317\nMontag: 01.10.2317\nSonntag: 07.10.2317\nTyp: gerade Woche\nMehr unter: https://kalenderwoche.info/2317/kw-40
URL:https://kalenderwoche.info/2317/kw-40
CATEGORIES:Kalenderwoche
TRANSP:TRANSPARENT
END:VEVENT
BEGIN:VEVENT
UID:kw-2317-41@kalenderwoche.info
DTSTAMP:20260424T114041Z
DTSTART;VALUE=DATE:23171008
DTEND;VALUE=DATE:23171015
SUMMARY:KW 41 (ungerade)
DESCRIPTION:Kalenderwoche 41 im Jahr 2317\nMontag: 08.10.2317\nSonntag: 14.10.2317\nTyp: ungerade Woche\nMehr unter: https://kalenderwoche.info/2317/kw-41
URL:https://kalenderwoche.info/2317/kw-41
CATEGORIES:Kalenderwoche
TRANSP:TRANSPARENT
END:VEVENT
BEGIN:VEVENT
UID:kw-2317-42@kalenderwoche.info
DTSTAMP:20260424T114041Z
DTSTART;VALUE=DATE:23171015
DTEND;VALUE=DATE:23171022
SUMMARY:KW 42 (gerade)
DESCRIPTION:Kalenderwoche 42 im Jahr 2317\nMontag: 15.10.2317\nSonntag: 21.10.2317\nTyp: gerade Woche\nMehr unter: https://kalenderwoche.info/2317/kw-42
URL:https://kalenderwoche.info/2317/kw-42
CATEGORIES:Kalenderwoche
TRANSP:TRANSPARENT
END:VEVENT
BEGIN:VEVENT
UID:kw-2317-43@kalenderwoche.info
DTSTAMP:20260424T114041Z
DTSTART;VALUE=DATE:23171022
DTEND;VALUE=DATE:23171029
SUMMARY:KW 43 (ungerade)
DESCRIPTION:Kalenderwoche 43 im Jahr 2317\nMontag: 22.10.2317\nSonntag: 28.10.2317\nTyp: ungerade Woche\nMehr unter: https://kalenderwoche.info/2317/kw-43
URL:https://kalenderwoche.info/2317/kw-43
CATEGORIES:Kalenderwoche
TRANSP:TRANSPARENT
END:VEVENT
BEGIN:VEVENT
UID:kw-2317-44@kalenderwoche.info
DTSTAMP:20260424T114041Z
DTSTART;VALUE=DATE:23171029
DTEND;VALUE=DATE:23171105
SUMMARY:KW 44 (gerade)
DESCRIPTION:Kalenderwoche 44 im Jahr 2317\nMontag: 29.10.2317\nSonntag: 04.11.2317\nTyp: gerade Woche\nMehr unter: https://kalenderwoche.info/2317/kw-44
URL:https://kalenderwoche.info/2317/kw-44
CATEGORIES:Kalenderwoche
TRANSP:TRANSPARENT
END:VEVENT
BEGIN:VEVENT
UID:kw-2317-45@kalenderwoche.info
DTSTAMP:20260424T114041Z
DTSTART;VALUE=DATE:23171105
DTEND;VALUE=DATE:23171112
SUMMARY:KW 45 (ungerade)
DESCRIPTION:Kalenderwoche 45 im Jahr 2317\nMontag: 05.11.2317\nSonntag: 11.11.2317\nTyp: ungerade Woche\nMehr unter: https://kalenderwoche.info/2317/kw-45
URL:https://kalenderwoche.info/2317/kw-45
CATEGORIES:Kalenderwoche
TRANSP:TRANSPARENT
END:VEVENT
BEGIN:VEVENT
UID:kw-2317-46@kalenderwoche.info
DTSTAMP:20260424T114041Z
DTSTART;VALUE=DATE:23171112
DTEND;VALUE=DATE:23171119
SUMMARY:KW 46 (gerade)
DESCRIPTION:Kalenderwoche 46 im Jahr 2317\nMontag: 12.11.2317\nSonntag: 18.11.2317\nTyp: gerade Woche\nMehr unter: https://kalenderwoche.info/2317/kw-46
URL:https://kalenderwoche.info/2317/kw-46
CATEGORIES:Kalenderwoche
TRANSP:TRANSPARENT
END:VEVENT
BEGIN:VEVENT
UID:kw-2317-47@kalenderwoche.info
DTSTAMP:20260424T114041Z
DTSTART;VALUE=DATE:23171119
DTEND;VALUE=DATE:23171126
SUMMARY:KW 47 (ungerade)
DESCRIPTION:Kalenderwoche 47 im Jahr 2317\nMontag: 19.11.2317\nSonntag: 25.11.2317\nTyp: ungerade Woche\nMehr unter: https://kalenderwoche.info/2317/kw-47
URL:https://kalenderwoche.info/2317/kw-47
CATEGORIES:Kalenderwoche
TRANSP:TRANSPARENT
END:VEVENT
BEGIN:VEVENT
UID:kw-2317-48@kalenderwoche.info
DTSTAMP:20260424T114041Z
DTSTART;VALUE=DATE:23171126
DTEND;VALUE=DATE:23171203
SUMMARY:KW 48 (gerade)
DESCRIPTION:Kalenderwoche 48 im Jahr 2317\nMontag: 26.11.2317\nSonntag: 02.12.2317\nTyp: gerade Woche\nMehr unter: https://kalenderwoche.info/2317/kw-48
URL:https://kalenderwoche.info/2317/kw-48
CATEGORIES:Kalenderwoche
TRANSP:TRANSPARENT
END:VEVENT
BEGIN:VEVENT
UID:kw-2317-49@kalenderwoche.info
DTSTAMP:20260424T114041Z
DTSTART;VALUE=DATE:23171203
DTEND;VALUE=DATE:23171210
SUMMARY:KW 49 (ungerade)
DESCRIPTION:Kalenderwoche 49 im Jahr 2317\nMontag: 03.12.2317\nSonntag: 09.12.2317\nTyp: ungerade Woche\nMehr unter: https://kalenderwoche.info/2317/kw-49
URL:https://kalenderwoche.info/2317/kw-49
CATEGORIES:Kalenderwoche
TRANSP:TRANSPARENT
END:VEVENT
BEGIN:VEVENT
UID:kw-2317-50@kalenderwoche.info
DTSTAMP:20260424T114041Z
DTSTART;VALUE=DATE:23171210
DTEND;VALUE=DATE:23171217
SUMMARY:KW 50 (gerade)
DESCRIPTION:Kalenderwoche 50 im Jahr 2317\nMontag: 10.12.2317\nSonntag: 16.12.2317\nTyp: gerade Woche\nMehr unter: https://kalenderwoche.info/2317/kw-50
URL:https://kalenderwoche.info/2317/kw-50
CATEGORIES:Kalenderwoche
TRANSP:TRANSPARENT
END:VEVENT
BEGIN:VEVENT
UID:kw-2317-51@kalenderwoche.info
DTSTAMP:20260424T114041Z
DTSTART;VALUE=DATE:23171217
DTEND;VALUE=DATE:23171224
SUMMARY:KW 51 (ungerade)
DESCRIPTION:Kalenderwoche 51 im Jahr 2317\nMontag: 17.12.2317\nSonntag: 23.12.2317\nTyp: ungerade Woche\nMehr unter: https://kalenderwoche.info/2317/kw-51
URL:https://kalenderwoche.info/2317/kw-51
CATEGORIES:Kalenderwoche
TRANSP:TRANSPARENT
END:VEVENT
BEGIN:VEVENT
UID:kw-2317-52@kalenderwoche.info
DTSTAMP:20260424T114041Z
DTSTART;VALUE=DATE:23171224
DTEND;VALUE=DATE:23171231
SUMMARY:KW 52 (gerade)
DESCRIPTION:Kalenderwoche 52 im Jahr 2317\nMontag: 24.12.2317\nSonntag: 30.12.2317\nTyp: gerade Woche\nMehr unter: https://kalenderwoche.info/2317/kw-52
URL:https://kalenderwoche.info/2317/kw-52
CATEGORIES:Kalenderwoche
TRANSP:TRANSPARENT
END:VEVENT
END:VCALENDAR
