BEGIN:VCALENDAR
VERSION:2.0
PRODID:-//kalenderwoche.info//Kalender//DE
CALSCALE:GREGORIAN
METHOD:PUBLISH
X-WR-CALNAME:Kalenderwochen 2320
X-WR-CALDESC:Alle Kalenderwochen für das Jahr 2320
X-WR-TIMEZONE:Europe/Berlin
BEGIN:VEVENT
UID:kw-2320-1@kalenderwoche.info
DTSTAMP:20260424T153539Z
DTSTART;VALUE=DATE:23191229
DTEND;VALUE=DATE:23200105
SUMMARY:KW 1 (ungerade)
DESCRIPTION:Kalenderwoche 1 im Jahr 2320\nMontag: 29.12.2319\nSonntag: 04.01.2320\nTyp: ungerade Woche\nMehr unter: https://kalenderwoche.info/2320/kw-1
URL:https://kalenderwoche.info/2320/kw-1
CATEGORIES:Kalenderwoche
TRANSP:TRANSPARENT
END:VEVENT
BEGIN:VEVENT
UID:kw-2320-2@kalenderwoche.info
DTSTAMP:20260424T153539Z
DTSTART;VALUE=DATE:23200105
DTEND;VALUE=DATE:23200112
SUMMARY:KW 2 (gerade)
DESCRIPTION:Kalenderwoche 2 im Jahr 2320\nMontag: 05.01.2320\nSonntag: 11.01.2320\nTyp: gerade Woche\nMehr unter: https://kalenderwoche.info/2320/kw-2
URL:https://kalenderwoche.info/2320/kw-2
CATEGORIES:Kalenderwoche
TRANSP:TRANSPARENT
END:VEVENT
BEGIN:VEVENT
UID:kw-2320-3@kalenderwoche.info
DTSTAMP:20260424T153539Z
DTSTART;VALUE=DATE:23200112
DTEND;VALUE=DATE:23200119
SUMMARY:KW 3 (ungerade)
DESCRIPTION:Kalenderwoche 3 im Jahr 2320\nMontag: 12.01.2320\nSonntag: 18.01.2320\nTyp: ungerade Woche\nMehr unter: https://kalenderwoche.info/2320/kw-3
URL:https://kalenderwoche.info/2320/kw-3
CATEGORIES:Kalenderwoche
TRANSP:TRANSPARENT
END:VEVENT
BEGIN:VEVENT
UID:kw-2320-4@kalenderwoche.info
DTSTAMP:20260424T153539Z
DTSTART;VALUE=DATE:23200119
DTEND;VALUE=DATE:23200126
SUMMARY:KW 4 (gerade)
DESCRIPTION:Kalenderwoche 4 im Jahr 2320\nMontag: 19.01.2320\nSonntag: 25.01.2320\nTyp: gerade Woche\nMehr unter: https://kalenderwoche.info/2320/kw-4
URL:https://kalenderwoche.info/2320/kw-4
CATEGORIES:Kalenderwoche
TRANSP:TRANSPARENT
END:VEVENT
BEGIN:VEVENT
UID:kw-2320-5@kalenderwoche.info
DTSTAMP:20260424T153539Z
DTSTART;VALUE=DATE:23200126
DTEND;VALUE=DATE:23200202
SUMMARY:KW 5 (ungerade)
DESCRIPTION:Kalenderwoche 5 im Jahr 2320\nMontag: 26.01.2320\nSonntag: 01.02.2320\nTyp: ungerade Woche\nMehr unter: https://kalenderwoche.info/2320/kw-5
URL:https://kalenderwoche.info/2320/kw-5
CATEGORIES:Kalenderwoche
TRANSP:TRANSPARENT
END:VEVENT
BEGIN:VEVENT
UID:kw-2320-6@kalenderwoche.info
DTSTAMP:20260424T153539Z
DTSTART;VALUE=DATE:23200202
DTEND;VALUE=DATE:23200209
SUMMARY:KW 6 (gerade)
DESCRIPTION:Kalenderwoche 6 im Jahr 2320\nMontag: 02.02.2320\nSonntag: 08.02.2320\nTyp: gerade Woche\nMehr unter: https://kalenderwoche.info/2320/kw-6
URL:https://kalenderwoche.info/2320/kw-6
CATEGORIES:Kalenderwoche
TRANSP:TRANSPARENT
END:VEVENT
BEGIN:VEVENT
UID:kw-2320-7@kalenderwoche.info
DTSTAMP:20260424T153539Z
DTSTART;VALUE=DATE:23200209
DTEND;VALUE=DATE:23200216
SUMMARY:KW 7 (ungerade)
DESCRIPTION:Kalenderwoche 7 im Jahr 2320\nMontag: 09.02.2320\nSonntag: 15.02.2320\nTyp: ungerade Woche\nMehr unter: https://kalenderwoche.info/2320/kw-7
URL:https://kalenderwoche.info/2320/kw-7
CATEGORIES:Kalenderwoche
TRANSP:TRANSPARENT
END:VEVENT
BEGIN:VEVENT
UID:kw-2320-8@kalenderwoche.info
DTSTAMP:20260424T153539Z
DTSTART;VALUE=DATE:23200216
DTEND;VALUE=DATE:23200223
SUMMARY:KW 8 (gerade)
DESCRIPTION:Kalenderwoche 8 im Jahr 2320\nMontag: 16.02.2320\nSonntag: 22.02.2320\nTyp: gerade Woche\nMehr unter: https://kalenderwoche.info/2320/kw-8
URL:https://kalenderwoche.info/2320/kw-8
CATEGORIES:Kalenderwoche
TRANSP:TRANSPARENT
END:VEVENT
BEGIN:VEVENT
UID:kw-2320-9@kalenderwoche.info
DTSTAMP:20260424T153539Z
DTSTART;VALUE=DATE:23200223
DTEND;VALUE=DATE:23200301
SUMMARY:KW 9 (ungerade)
DESCRIPTION:Kalenderwoche 9 im Jahr 2320\nMontag: 23.02.2320\nSonntag: 29.02.2320\nTyp: ungerade Woche\nMehr unter: https://kalenderwoche.info/2320/kw-9
URL:https://kalenderwoche.info/2320/kw-9
CATEGORIES:Kalenderwoche
TRANSP:TRANSPARENT
END:VEVENT
BEGIN:VEVENT
UID:kw-2320-10@kalenderwoche.info
DTSTAMP:20260424T153539Z
DTSTART;VALUE=DATE:23200301
DTEND;VALUE=DATE:23200308
SUMMARY:KW 10 (gerade)
DESCRIPTION:Kalenderwoche 10 im Jahr 2320\nMontag: 01.03.2320\nSonntag: 07.03.2320\nTyp: gerade Woche\nMehr unter: https://kalenderwoche.info/2320/kw-10
URL:https://kalenderwoche.info/2320/kw-10
CATEGORIES:Kalenderwoche
TRANSP:TRANSPARENT
END:VEVENT
BEGIN:VEVENT
UID:kw-2320-11@kalenderwoche.info
DTSTAMP:20260424T153539Z
DTSTART;VALUE=DATE:23200308
DTEND;VALUE=DATE:23200315
SUMMARY:KW 11 (ungerade)
DESCRIPTION:Kalenderwoche 11 im Jahr 2320\nMontag: 08.03.2320\nSonntag: 14.03.2320\nTyp: ungerade Woche\nMehr unter: https://kalenderwoche.info/2320/kw-11
URL:https://kalenderwoche.info/2320/kw-11
CATEGORIES:Kalenderwoche
TRANSP:TRANSPARENT
END:VEVENT
BEGIN:VEVENT
UID:kw-2320-12@kalenderwoche.info
DTSTAMP:20260424T153539Z
DTSTART;VALUE=DATE:23200315
DTEND;VALUE=DATE:23200322
SUMMARY:KW 12 (gerade)
DESCRIPTION:Kalenderwoche 12 im Jahr 2320\nMontag: 15.03.2320\nSonntag: 21.03.2320\nTyp: gerade Woche\nMehr unter: https://kalenderwoche.info/2320/kw-12
URL:https://kalenderwoche.info/2320/kw-12
CATEGORIES:Kalenderwoche
TRANSP:TRANSPARENT
END:VEVENT
BEGIN:VEVENT
UID:kw-2320-13@kalenderwoche.info
DTSTAMP:20260424T153539Z
DTSTART;VALUE=DATE:23200322
DTEND;VALUE=DATE:23200329
SUMMARY:KW 13 (ungerade)
DESCRIPTION:Kalenderwoche 13 im Jahr 2320\nMontag: 22.03.2320\nSonntag: 28.03.2320\nTyp: ungerade Woche\nMehr unter: https://kalenderwoche.info/2320/kw-13
URL:https://kalenderwoche.info/2320/kw-13
CATEGORIES:Kalenderwoche
TRANSP:TRANSPARENT
END:VEVENT
BEGIN:VEVENT
UID:kw-2320-14@kalenderwoche.info
DTSTAMP:20260424T153539Z
DTSTART;VALUE=DATE:23200329
DTEND;VALUE=DATE:23200405
SUMMARY:KW 14 (gerade)
DESCRIPTION:Kalenderwoche 14 im Jahr 2320\nMontag: 29.03.2320\nSonntag: 04.04.2320\nTyp: gerade Woche\nMehr unter: https://kalenderwoche.info/2320/kw-14
URL:https://kalenderwoche.info/2320/kw-14
CATEGORIES:Kalenderwoche
TRANSP:TRANSPARENT
END:VEVENT
BEGIN:VEVENT
UID:kw-2320-15@kalenderwoche.info
DTSTAMP:20260424T153539Z
DTSTART;VALUE=DATE:23200405
DTEND;VALUE=DATE:23200412
SUMMARY:KW 15 (ungerade)
DESCRIPTION:Kalenderwoche 15 im Jahr 2320\nMontag: 05.04.2320\nSonntag: 11.04.2320\nTyp: ungerade Woche\nMehr unter: https://kalenderwoche.info/2320/kw-15
URL:https://kalenderwoche.info/2320/kw-15
CATEGORIES:Kalenderwoche
TRANSP:TRANSPARENT
END:VEVENT
BEGIN:VEVENT
UID:kw-2320-16@kalenderwoche.info
DTSTAMP:20260424T153539Z
DTSTART;VALUE=DATE:23200412
DTEND;VALUE=DATE:23200419
SUMMARY:KW 16 (gerade)
DESCRIPTION:Kalenderwoche 16 im Jahr 2320\nMontag: 12.04.2320\nSonntag: 18.04.2320\nTyp: gerade Woche\nMehr unter: https://kalenderwoche.info/2320/kw-16
URL:https://kalenderwoche.info/2320/kw-16
CATEGORIES:Kalenderwoche
TRANSP:TRANSPARENT
END:VEVENT
BEGIN:VEVENT
UID:kw-2320-17@kalenderwoche.info
DTSTAMP:20260424T153539Z
DTSTART;VALUE=DATE:23200419
DTEND;VALUE=DATE:23200426
SUMMARY:KW 17 (ungerade)
DESCRIPTION:Kalenderwoche 17 im Jahr 2320\nMontag: 19.04.2320\nSonntag: 25.04.2320\nTyp: ungerade Woche\nMehr unter: https://kalenderwoche.info/2320/kw-17
URL:https://kalenderwoche.info/2320/kw-17
CATEGORIES:Kalenderwoche
TRANSP:TRANSPARENT
END:VEVENT
BEGIN:VEVENT
UID:kw-2320-18@kalenderwoche.info
DTSTAMP:20260424T153539Z
DTSTART;VALUE=DATE:23200426
DTEND;VALUE=DATE:23200503
SUMMARY:KW 18 (gerade)
DESCRIPTION:Kalenderwoche 18 im Jahr 2320\nMontag: 26.04.2320\nSonntag: 02.05.2320\nTyp: gerade Woche\nMehr unter: https://kalenderwoche.info/2320/kw-18
URL:https://kalenderwoche.info/2320/kw-18
CATEGORIES:Kalenderwoche
TRANSP:TRANSPARENT
END:VEVENT
BEGIN:VEVENT
UID:kw-2320-19@kalenderwoche.info
DTSTAMP:20260424T153539Z
DTSTART;VALUE=DATE:23200503
DTEND;VALUE=DATE:23200510
SUMMARY:KW 19 (ungerade)
DESCRIPTION:Kalenderwoche 19 im Jahr 2320\nMontag: 03.05.2320\nSonntag: 09.05.2320\nTyp: ungerade Woche\nMehr unter: https://kalenderwoche.info/2320/kw-19
URL:https://kalenderwoche.info/2320/kw-19
CATEGORIES:Kalenderwoche
TRANSP:TRANSPARENT
END:VEVENT
BEGIN:VEVENT
UID:kw-2320-20@kalenderwoche.info
DTSTAMP:20260424T153539Z
DTSTART;VALUE=DATE:23200510
DTEND;VALUE=DATE:23200517
SUMMARY:KW 20 (gerade)
DESCRIPTION:Kalenderwoche 20 im Jahr 2320\nMontag: 10.05.2320\nSonntag: 16.05.2320\nTyp: gerade Woche\nMehr unter: https://kalenderwoche.info/2320/kw-20
URL:https://kalenderwoche.info/2320/kw-20
CATEGORIES:Kalenderwoche
TRANSP:TRANSPARENT
END:VEVENT
BEGIN:VEVENT
UID:kw-2320-21@kalenderwoche.info
DTSTAMP:20260424T153539Z
DTSTART;VALUE=DATE:23200517
DTEND;VALUE=DATE:23200524
SUMMARY:KW 21 (ungerade)
DESCRIPTION:Kalenderwoche 21 im Jahr 2320\nMontag: 17.05.2320\nSonntag: 23.05.2320\nTyp: ungerade Woche\nMehr unter: https://kalenderwoche.info/2320/kw-21
URL:https://kalenderwoche.info/2320/kw-21
CATEGORIES:Kalenderwoche
TRANSP:TRANSPARENT
END:VEVENT
BEGIN:VEVENT
UID:kw-2320-22@kalenderwoche.info
DTSTAMP:20260424T153539Z
DTSTART;VALUE=DATE:23200524
DTEND;VALUE=DATE:23200531
SUMMARY:KW 22 (gerade)
DESCRIPTION:Kalenderwoche 22 im Jahr 2320\nMontag: 24.05.2320\nSonntag: 30.05.2320\nTyp: gerade Woche\nMehr unter: https://kalenderwoche.info/2320/kw-22
URL:https://kalenderwoche.info/2320/kw-22
CATEGORIES:Kalenderwoche
TRANSP:TRANSPARENT
END:VEVENT
BEGIN:VEVENT
UID:kw-2320-23@kalenderwoche.info
DTSTAMP:20260424T153539Z
DTSTART;VALUE=DATE:23200531
DTEND;VALUE=DATE:23200607
SUMMARY:KW 23 (ungerade)
DESCRIPTION:Kalenderwoche 23 im Jahr 2320\nMontag: 31.05.2320\nSonntag: 06.06.2320\nTyp: ungerade Woche\nMehr unter: https://kalenderwoche.info/2320/kw-23
URL:https://kalenderwoche.info/2320/kw-23
CATEGORIES:Kalenderwoche
TRANSP:TRANSPARENT
END:VEVENT
BEGIN:VEVENT
UID:kw-2320-24@kalenderwoche.info
DTSTAMP:20260424T153539Z
DTSTART;VALUE=DATE:23200607
DTEND;VALUE=DATE:23200614
SUMMARY:KW 24 (gerade)
DESCRIPTION:Kalenderwoche 24 im Jahr 2320\nMontag: 07.06.2320\nSonntag: 13.06.2320\nTyp: gerade Woche\nMehr unter: https://kalenderwoche.info/2320/kw-24
URL:https://kalenderwoche.info/2320/kw-24
CATEGORIES:Kalenderwoche
TRANSP:TRANSPARENT
END:VEVENT
BEGIN:VEVENT
UID:kw-2320-25@kalenderwoche.info
DTSTAMP:20260424T153539Z
DTSTART;VALUE=DATE:23200614
DTEND;VALUE=DATE:23200621
SUMMARY:KW 25 (ungerade)
DESCRIPTION:Kalenderwoche 25 im Jahr 2320\nMontag: 14.06.2320\nSonntag: 20.06.2320\nTyp: ungerade Woche\nMehr unter: https://kalenderwoche.info/2320/kw-25
URL:https://kalenderwoche.info/2320/kw-25
CATEGORIES:Kalenderwoche
TRANSP:TRANSPARENT
END:VEVENT
BEGIN:VEVENT
UID:kw-2320-26@kalenderwoche.info
DTSTAMP:20260424T153539Z
DTSTART;VALUE=DATE:23200621
DTEND;VALUE=DATE:23200628
SUMMARY:KW 26 (gerade)
DESCRIPTION:Kalenderwoche 26 im Jahr 2320\nMontag: 21.06.2320\nSonntag: 27.06.2320\nTyp: gerade Woche\nMehr unter: https://kalenderwoche.info/2320/kw-26
URL:https://kalenderwoche.info/2320/kw-26
CATEGORIES:Kalenderwoche
TRANSP:TRANSPARENT
END:VEVENT
BEGIN:VEVENT
UID:kw-2320-27@kalenderwoche.info
DTSTAMP:20260424T153539Z
DTSTART;VALUE=DATE:23200628
DTEND;VALUE=DATE:23200705
SUMMARY:KW 27 (ungerade)
DESCRIPTION:Kalenderwoche 27 im Jahr 2320\nMontag: 28.06.2320\nSonntag: 04.07.2320\nTyp: ungerade Woche\nMehr unter: https://kalenderwoche.info/2320/kw-27
URL:https://kalenderwoche.info/2320/kw-27
CATEGORIES:Kalenderwoche
TRANSP:TRANSPARENT
END:VEVENT
BEGIN:VEVENT
UID:kw-2320-28@kalenderwoche.info
DTSTAMP:20260424T153539Z
DTSTART;VALUE=DATE:23200705
DTEND;VALUE=DATE:23200712
SUMMARY:KW 28 (gerade)
DESCRIPTION:Kalenderwoche 28 im Jahr 2320\nMontag: 05.07.2320\nSonntag: 11.07.2320\nTyp: gerade Woche\nMehr unter: https://kalenderwoche.info/2320/kw-28
URL:https://kalenderwoche.info/2320/kw-28
CATEGORIES:Kalenderwoche
TRANSP:TRANSPARENT
END:VEVENT
BEGIN:VEVENT
UID:kw-2320-29@kalenderwoche.info
DTSTAMP:20260424T153539Z
DTSTART;VALUE=DATE:23200712
DTEND;VALUE=DATE:23200719
SUMMARY:KW 29 (ungerade)
DESCRIPTION:Kalenderwoche 29 im Jahr 2320\nMontag: 12.07.2320\nSonntag: 18.07.2320\nTyp: ungerade Woche\nMehr unter: https://kalenderwoche.info/2320/kw-29
URL:https://kalenderwoche.info/2320/kw-29
CATEGORIES:Kalenderwoche
TRANSP:TRANSPARENT
END:VEVENT
BEGIN:VEVENT
UID:kw-2320-30@kalenderwoche.info
DTSTAMP:20260424T153539Z
DTSTART;VALUE=DATE:23200719
DTEND;VALUE=DATE:23200726
SUMMARY:KW 30 (gerade)
DESCRIPTION:Kalenderwoche 30 im Jahr 2320\nMontag: 19.07.2320\nSonntag: 25.07.2320\nTyp: gerade Woche\nMehr unter: https://kalenderwoche.info/2320/kw-30
URL:https://kalenderwoche.info/2320/kw-30
CATEGORIES:Kalenderwoche
TRANSP:TRANSPARENT
END:VEVENT
BEGIN:VEVENT
UID:kw-2320-31@kalenderwoche.info
DTSTAMP:20260424T153539Z
DTSTART;VALUE=DATE:23200726
DTEND;VALUE=DATE:23200802
SUMMARY:KW 31 (ungerade)
DESCRIPTION:Kalenderwoche 31 im Jahr 2320\nMontag: 26.07.2320\nSonntag: 01.08.2320\nTyp: ungerade Woche\nMehr unter: https://kalenderwoche.info/2320/kw-31
URL:https://kalenderwoche.info/2320/kw-31
CATEGORIES:Kalenderwoche
TRANSP:TRANSPARENT
END:VEVENT
BEGIN:VEVENT
UID:kw-2320-32@kalenderwoche.info
DTSTAMP:20260424T153539Z
DTSTART;VALUE=DATE:23200802
DTEND;VALUE=DATE:23200809
SUMMARY:KW 32 (gerade)
DESCRIPTION:Kalenderwoche 32 im Jahr 2320\nMontag: 02.08.2320\nSonntag: 08.08.2320\nTyp: gerade Woche\nMehr unter: https://kalenderwoche.info/2320/kw-32
URL:https://kalenderwoche.info/2320/kw-32
CATEGORIES:Kalenderwoche
TRANSP:TRANSPARENT
END:VEVENT
BEGIN:VEVENT
UID:kw-2320-33@kalenderwoche.info
DTSTAMP:20260424T153539Z
DTSTART;VALUE=DATE:23200809
DTEND;VALUE=DATE:23200816
SUMMARY:KW 33 (ungerade)
DESCRIPTION:Kalenderwoche 33 im Jahr 2320\nMontag: 09.08.2320\nSonntag: 15.08.2320\nTyp: ungerade Woche\nMehr unter: https://kalenderwoche.info/2320/kw-33
URL:https://kalenderwoche.info/2320/kw-33
CATEGORIES:Kalenderwoche
TRANSP:TRANSPARENT
END:VEVENT
BEGIN:VEVENT
UID:kw-2320-34@kalenderwoche.info
DTSTAMP:20260424T153539Z
DTSTART;VALUE=DATE:23200816
DTEND;VALUE=DATE:23200823
SUMMARY:KW 34 (gerade)
DESCRIPTION:Kalenderwoche 34 im Jahr 2320\nMontag: 16.08.2320\nSonntag: 22.08.2320\nTyp: gerade Woche\nMehr unter: https://kalenderwoche.info/2320/kw-34
URL:https://kalenderwoche.info/2320/kw-34
CATEGORIES:Kalenderwoche
TRANSP:TRANSPARENT
END:VEVENT
BEGIN:VEVENT
UID:kw-2320-35@kalenderwoche.info
DTSTAMP:20260424T153539Z
DTSTART;VALUE=DATE:23200823
DTEND;VALUE=DATE:23200830
SUMMARY:KW 35 (ungerade)
DESCRIPTION:Kalenderwoche 35 im Jahr 2320\nMontag: 23.08.2320\nSonntag: 29.08.2320\nTyp: ungerade Woche\nMehr unter: https://kalenderwoche.info/2320/kw-35
URL:https://kalenderwoche.info/2320/kw-35
CATEGORIES:Kalenderwoche
TRANSP:TRANSPARENT
END:VEVENT
BEGIN:VEVENT
UID:kw-2320-36@kalenderwoche.info
DTSTAMP:20260424T153539Z
DTSTART;VALUE=DATE:23200830
DTEND;VALUE=DATE:23200906
SUMMARY:KW 36 (gerade)
DESCRIPTION:Kalenderwoche 36 im Jahr 2320\nMontag: 30.08.2320\nSonntag: 05.09.2320\nTyp: gerade Woche\nMehr unter: https://kalenderwoche.info/2320/kw-36
URL:https://kalenderwoche.info/2320/kw-36
CATEGORIES:Kalenderwoche
TRANSP:TRANSPARENT
END:VEVENT
BEGIN:VEVENT
UID:kw-2320-37@kalenderwoche.info
DTSTAMP:20260424T153539Z
DTSTART;VALUE=DATE:23200906
DTEND;VALUE=DATE:23200913
SUMMARY:KW 37 (ungerade)
DESCRIPTION:Kalenderwoche 37 im Jahr 2320\nMontag: 06.09.2320\nSonntag: 12.09.2320\nTyp: ungerade Woche\nMehr unter: https://kalenderwoche.info/2320/kw-37
URL:https://kalenderwoche.info/2320/kw-37
CATEGORIES:Kalenderwoche
TRANSP:TRANSPARENT
END:VEVENT
BEGIN:VEVENT
UID:kw-2320-38@kalenderwoche.info
DTSTAMP:20260424T153539Z
DTSTART;VALUE=DATE:23200913
DTEND;VALUE=DATE:23200920
SUMMARY:KW 38 (gerade)
DESCRIPTION:Kalenderwoche 38 im Jahr 2320\nMontag: 13.09.2320\nSonntag: 19.09.2320\nTyp: gerade Woche\nMehr unter: https://kalenderwoche.info/2320/kw-38
URL:https://kalenderwoche.info/2320/kw-38
CATEGORIES:Kalenderwoche
TRANSP:TRANSPARENT
END:VEVENT
BEGIN:VEVENT
UID:kw-2320-39@kalenderwoche.info
DTSTAMP:20260424T153539Z
DTSTART;VALUE=DATE:23200920
DTEND;VALUE=DATE:23200927
SUMMARY:KW 39 (ungerade)
DESCRIPTION:Kalenderwoche 39 im Jahr 2320\nMontag: 20.09.2320\nSonntag: 26.09.2320\nTyp: ungerade Woche\nMehr unter: https://kalenderwoche.info/2320/kw-39
URL:https://kalenderwoche.info/2320/kw-39
CATEGORIES:Kalenderwoche
TRANSP:TRANSPARENT
END:VEVENT
BEGIN:VEVENT
UID:kw-2320-40@kalenderwoche.info
DTSTAMP:20260424T153539Z
DTSTART;VALUE=DATE:23200927
DTEND;VALUE=DATE:23201004
SUMMARY:KW 40 (gerade)
DESCRIPTION:Kalenderwoche 40 im Jahr 2320\nMontag: 27.09.2320\nSonntag: 03.10.2320\nTyp: gerade Woche\nMehr unter: https://kalenderwoche.info/2320/kw-40
URL:https://kalenderwoche.info/2320/kw-40
CATEGORIES:Kalenderwoche
TRANSP:TRANSPARENT
END:VEVENT
BEGIN:VEVENT
UID:kw-2320-41@kalenderwoche.info
DTSTAMP:20260424T153539Z
DTSTART;VALUE=DATE:23201004
DTEND;VALUE=DATE:23201011
SUMMARY:KW 41 (ungerade)
DESCRIPTION:Kalenderwoche 41 im Jahr 2320\nMontag: 04.10.2320\nSonntag: 10.10.2320\nTyp: ungerade Woche\nMehr unter: https://kalenderwoche.info/2320/kw-41
URL:https://kalenderwoche.info/2320/kw-41
CATEGORIES:Kalenderwoche
TRANSP:TRANSPARENT
END:VEVENT
BEGIN:VEVENT
UID:kw-2320-42@kalenderwoche.info
DTSTAMP:20260424T153539Z
DTSTART;VALUE=DATE:23201011
DTEND;VALUE=DATE:23201018
SUMMARY:KW 42 (gerade)
DESCRIPTION:Kalenderwoche 42 im Jahr 2320\nMontag: 11.10.2320\nSonntag: 17.10.2320\nTyp: gerade Woche\nMehr unter: https://kalenderwoche.info/2320/kw-42
URL:https://kalenderwoche.info/2320/kw-42
CATEGORIES:Kalenderwoche
TRANSP:TRANSPARENT
END:VEVENT
BEGIN:VEVENT
UID:kw-2320-43@kalenderwoche.info
DTSTAMP:20260424T153539Z
DTSTART;VALUE=DATE:23201018
DTEND;VALUE=DATE:23201025
SUMMARY:KW 43 (ungerade)
DESCRIPTION:Kalenderwoche 43 im Jahr 2320\nMontag: 18.10.2320\nSonntag: 24.10.2320\nTyp: ungerade Woche\nMehr unter: https://kalenderwoche.info/2320/kw-43
URL:https://kalenderwoche.info/2320/kw-43
CATEGORIES:Kalenderwoche
TRANSP:TRANSPARENT
END:VEVENT
BEGIN:VEVENT
UID:kw-2320-44@kalenderwoche.info
DTSTAMP:20260424T153539Z
DTSTART;VALUE=DATE:23201025
DTEND;VALUE=DATE:23201101
SUMMARY:KW 44 (gerade)
DESCRIPTION:Kalenderwoche 44 im Jahr 2320\nMontag: 25.10.2320\nSonntag: 31.10.2320\nTyp: gerade Woche\nMehr unter: https://kalenderwoche.info/2320/kw-44
URL:https://kalenderwoche.info/2320/kw-44
CATEGORIES:Kalenderwoche
TRANSP:TRANSPARENT
END:VEVENT
BEGIN:VEVENT
UID:kw-2320-45@kalenderwoche.info
DTSTAMP:20260424T153539Z
DTSTART;VALUE=DATE:23201101
DTEND;VALUE=DATE:23201108
SUMMARY:KW 45 (ungerade)
DESCRIPTION:Kalenderwoche 45 im Jahr 2320\nMontag: 01.11.2320\nSonntag: 07.11.2320\nTyp: ungerade Woche\nMehr unter: https://kalenderwoche.info/2320/kw-45
URL:https://kalenderwoche.info/2320/kw-45
CATEGORIES:Kalenderwoche
TRANSP:TRANSPARENT
END:VEVENT
BEGIN:VEVENT
UID:kw-2320-46@kalenderwoche.info
DTSTAMP:20260424T153539Z
DTSTART;VALUE=DATE:23201108
DTEND;VALUE=DATE:23201115
SUMMARY:KW 46 (gerade)
DESCRIPTION:Kalenderwoche 46 im Jahr 2320\nMontag: 08.11.2320\nSonntag: 14.11.2320\nTyp: gerade Woche\nMehr unter: https://kalenderwoche.info/2320/kw-46
URL:https://kalenderwoche.info/2320/kw-46
CATEGORIES:Kalenderwoche
TRANSP:TRANSPARENT
END:VEVENT
BEGIN:VEVENT
UID:kw-2320-47@kalenderwoche.info
DTSTAMP:20260424T153539Z
DTSTART;VALUE=DATE:23201115
DTEND;VALUE=DATE:23201122
SUMMARY:KW 47 (ungerade)
DESCRIPTION:Kalenderwoche 47 im Jahr 2320\nMontag: 15.11.2320\nSonntag: 21.11.2320\nTyp: ungerade Woche\nMehr unter: https://kalenderwoche.info/2320/kw-47
URL:https://kalenderwoche.info/2320/kw-47
CATEGORIES:Kalenderwoche
TRANSP:TRANSPARENT
END:VEVENT
BEGIN:VEVENT
UID:kw-2320-48@kalenderwoche.info
DTSTAMP:20260424T153539Z
DTSTART;VALUE=DATE:23201122
DTEND;VALUE=DATE:23201129
SUMMARY:KW 48 (gerade)
DESCRIPTION:Kalenderwoche 48 im Jahr 2320\nMontag: 22.11.2320\nSonntag: 28.11.2320\nTyp: gerade Woche\nMehr unter: https://kalenderwoche.info/2320/kw-48
URL:https://kalenderwoche.info/2320/kw-48
CATEGORIES:Kalenderwoche
TRANSP:TRANSPARENT
END:VEVENT
BEGIN:VEVENT
UID:kw-2320-49@kalenderwoche.info
DTSTAMP:20260424T153539Z
DTSTART;VALUE=DATE:23201129
DTEND;VALUE=DATE:23201206
SUMMARY:KW 49 (ungerade)
DESCRIPTION:Kalenderwoche 49 im Jahr 2320\nMontag: 29.11.2320\nSonntag: 05.12.2320\nTyp: ungerade Woche\nMehr unter: https://kalenderwoche.info/2320/kw-49
URL:https://kalenderwoche.info/2320/kw-49
CATEGORIES:Kalenderwoche
TRANSP:TRANSPARENT
END:VEVENT
BEGIN:VEVENT
UID:kw-2320-50@kalenderwoche.info
DTSTAMP:20260424T153539Z
DTSTART;VALUE=DATE:23201206
DTEND;VALUE=DATE:23201213
SUMMARY:KW 50 (gerade)
DESCRIPTION:Kalenderwoche 50 im Jahr 2320\nMontag: 06.12.2320\nSonntag: 12.12.2320\nTyp: gerade Woche\nMehr unter: https://kalenderwoche.info/2320/kw-50
URL:https://kalenderwoche.info/2320/kw-50
CATEGORIES:Kalenderwoche
TRANSP:TRANSPARENT
END:VEVENT
BEGIN:VEVENT
UID:kw-2320-51@kalenderwoche.info
DTSTAMP:20260424T153539Z
DTSTART;VALUE=DATE:23201213
DTEND;VALUE=DATE:23201220
SUMMARY:KW 51 (ungerade)
DESCRIPTION:Kalenderwoche 51 im Jahr 2320\nMontag: 13.12.2320\nSonntag: 19.12.2320\nTyp: ungerade Woche\nMehr unter: https://kalenderwoche.info/2320/kw-51
URL:https://kalenderwoche.info/2320/kw-51
CATEGORIES:Kalenderwoche
TRANSP:TRANSPARENT
END:VEVENT
BEGIN:VEVENT
UID:kw-2320-52@kalenderwoche.info
DTSTAMP:20260424T153539Z
DTSTART;VALUE=DATE:23201220
DTEND;VALUE=DATE:23201227
SUMMARY:KW 52 (gerade)
DESCRIPTION:Kalenderwoche 52 im Jahr 2320\nMontag: 20.12.2320\nSonntag: 26.12.2320\nTyp: gerade Woche\nMehr unter: https://kalenderwoche.info/2320/kw-52
URL:https://kalenderwoche.info/2320/kw-52
CATEGORIES:Kalenderwoche
TRANSP:TRANSPARENT
END:VEVENT
BEGIN:VEVENT
UID:kw-2320-53@kalenderwoche.info
DTSTAMP:20260424T153539Z
DTSTART;VALUE=DATE:23201227
DTEND;VALUE=DATE:23210103
SUMMARY:KW 53 (ungerade)
DESCRIPTION:Kalenderwoche 53 im Jahr 2320\nMontag: 27.12.2320\nSonntag: 02.01.2321\nTyp: ungerade Woche\nMehr unter: https://kalenderwoche.info/2320/kw-53
URL:https://kalenderwoche.info/2320/kw-53
CATEGORIES:Kalenderwoche
TRANSP:TRANSPARENT
END:VEVENT
END:VCALENDAR
