BEGIN:VCALENDAR
VERSION:2.0
PRODID:-//kalenderwoche.info//Kalender//DE
CALSCALE:GREGORIAN
METHOD:PUBLISH
X-WR-CALNAME:Kalenderwochen 2321
X-WR-CALDESC:Alle Kalenderwochen für das Jahr 2321
X-WR-TIMEZONE:Europe/Berlin
BEGIN:VEVENT
UID:kw-2321-1@kalenderwoche.info
DTSTAMP:20260424T164742Z
DTSTART;VALUE=DATE:23210103
DTEND;VALUE=DATE:23210110
SUMMARY:KW 1 (ungerade)
DESCRIPTION:Kalenderwoche 1 im Jahr 2321\nMontag: 03.01.2321\nSonntag: 09.01.2321\nTyp: ungerade Woche\nMehr unter: https://kalenderwoche.info/2321/kw-1
URL:https://kalenderwoche.info/2321/kw-1
CATEGORIES:Kalenderwoche
TRANSP:TRANSPARENT
END:VEVENT
BEGIN:VEVENT
UID:kw-2321-2@kalenderwoche.info
DTSTAMP:20260424T164742Z
DTSTART;VALUE=DATE:23210110
DTEND;VALUE=DATE:23210117
SUMMARY:KW 2 (gerade)
DESCRIPTION:Kalenderwoche 2 im Jahr 2321\nMontag: 10.01.2321\nSonntag: 16.01.2321\nTyp: gerade Woche\nMehr unter: https://kalenderwoche.info/2321/kw-2
URL:https://kalenderwoche.info/2321/kw-2
CATEGORIES:Kalenderwoche
TRANSP:TRANSPARENT
END:VEVENT
BEGIN:VEVENT
UID:kw-2321-3@kalenderwoche.info
DTSTAMP:20260424T164742Z
DTSTART;VALUE=DATE:23210117
DTEND;VALUE=DATE:23210124
SUMMARY:KW 3 (ungerade)
DESCRIPTION:Kalenderwoche 3 im Jahr 2321\nMontag: 17.01.2321\nSonntag: 23.01.2321\nTyp: ungerade Woche\nMehr unter: https://kalenderwoche.info/2321/kw-3
URL:https://kalenderwoche.info/2321/kw-3
CATEGORIES:Kalenderwoche
TRANSP:TRANSPARENT
END:VEVENT
BEGIN:VEVENT
UID:kw-2321-4@kalenderwoche.info
DTSTAMP:20260424T164742Z
DTSTART;VALUE=DATE:23210124
DTEND;VALUE=DATE:23210131
SUMMARY:KW 4 (gerade)
DESCRIPTION:Kalenderwoche 4 im Jahr 2321\nMontag: 24.01.2321\nSonntag: 30.01.2321\nTyp: gerade Woche\nMehr unter: https://kalenderwoche.info/2321/kw-4
URL:https://kalenderwoche.info/2321/kw-4
CATEGORIES:Kalenderwoche
TRANSP:TRANSPARENT
END:VEVENT
BEGIN:VEVENT
UID:kw-2321-5@kalenderwoche.info
DTSTAMP:20260424T164742Z
DTSTART;VALUE=DATE:23210131
DTEND;VALUE=DATE:23210207
SUMMARY:KW 5 (ungerade)
DESCRIPTION:Kalenderwoche 5 im Jahr 2321\nMontag: 31.01.2321\nSonntag: 06.02.2321\nTyp: ungerade Woche\nMehr unter: https://kalenderwoche.info/2321/kw-5
URL:https://kalenderwoche.info/2321/kw-5
CATEGORIES:Kalenderwoche
TRANSP:TRANSPARENT
END:VEVENT
BEGIN:VEVENT
UID:kw-2321-6@kalenderwoche.info
DTSTAMP:20260424T164742Z
DTSTART;VALUE=DATE:23210207
DTEND;VALUE=DATE:23210214
SUMMARY:KW 6 (gerade)
DESCRIPTION:Kalenderwoche 6 im Jahr 2321\nMontag: 07.02.2321\nSonntag: 13.02.2321\nTyp: gerade Woche\nMehr unter: https://kalenderwoche.info/2321/kw-6
URL:https://kalenderwoche.info/2321/kw-6
CATEGORIES:Kalenderwoche
TRANSP:TRANSPARENT
END:VEVENT
BEGIN:VEVENT
UID:kw-2321-7@kalenderwoche.info
DTSTAMP:20260424T164742Z
DTSTART;VALUE=DATE:23210214
DTEND;VALUE=DATE:23210221
SUMMARY:KW 7 (ungerade)
DESCRIPTION:Kalenderwoche 7 im Jahr 2321\nMontag: 14.02.2321\nSonntag: 20.02.2321\nTyp: ungerade Woche\nMehr unter: https://kalenderwoche.info/2321/kw-7
URL:https://kalenderwoche.info/2321/kw-7
CATEGORIES:Kalenderwoche
TRANSP:TRANSPARENT
END:VEVENT
BEGIN:VEVENT
UID:kw-2321-8@kalenderwoche.info
DTSTAMP:20260424T164742Z
DTSTART;VALUE=DATE:23210221
DTEND;VALUE=DATE:23210228
SUMMARY:KW 8 (gerade)
DESCRIPTION:Kalenderwoche 8 im Jahr 2321\nMontag: 21.02.2321\nSonntag: 27.02.2321\nTyp: gerade Woche\nMehr unter: https://kalenderwoche.info/2321/kw-8
URL:https://kalenderwoche.info/2321/kw-8
CATEGORIES:Kalenderwoche
TRANSP:TRANSPARENT
END:VEVENT
BEGIN:VEVENT
UID:kw-2321-9@kalenderwoche.info
DTSTAMP:20260424T164742Z
DTSTART;VALUE=DATE:23210228
DTEND;VALUE=DATE:23210307
SUMMARY:KW 9 (ungerade)
DESCRIPTION:Kalenderwoche 9 im Jahr 2321\nMontag: 28.02.2321\nSonntag: 06.03.2321\nTyp: ungerade Woche\nMehr unter: https://kalenderwoche.info/2321/kw-9
URL:https://kalenderwoche.info/2321/kw-9
CATEGORIES:Kalenderwoche
TRANSP:TRANSPARENT
END:VEVENT
BEGIN:VEVENT
UID:kw-2321-10@kalenderwoche.info
DTSTAMP:20260424T164742Z
DTSTART;VALUE=DATE:23210307
DTEND;VALUE=DATE:23210314
SUMMARY:KW 10 (gerade)
DESCRIPTION:Kalenderwoche 10 im Jahr 2321\nMontag: 07.03.2321\nSonntag: 13.03.2321\nTyp: gerade Woche\nMehr unter: https://kalenderwoche.info/2321/kw-10
URL:https://kalenderwoche.info/2321/kw-10
CATEGORIES:Kalenderwoche
TRANSP:TRANSPARENT
END:VEVENT
BEGIN:VEVENT
UID:kw-2321-11@kalenderwoche.info
DTSTAMP:20260424T164742Z
DTSTART;VALUE=DATE:23210314
DTEND;VALUE=DATE:23210321
SUMMARY:KW 11 (ungerade)
DESCRIPTION:Kalenderwoche 11 im Jahr 2321\nMontag: 14.03.2321\nSonntag: 20.03.2321\nTyp: ungerade Woche\nMehr unter: https://kalenderwoche.info/2321/kw-11
URL:https://kalenderwoche.info/2321/kw-11
CATEGORIES:Kalenderwoche
TRANSP:TRANSPARENT
END:VEVENT
BEGIN:VEVENT
UID:kw-2321-12@kalenderwoche.info
DTSTAMP:20260424T164742Z
DTSTART;VALUE=DATE:23210321
DTEND;VALUE=DATE:23210328
SUMMARY:KW 12 (gerade)
DESCRIPTION:Kalenderwoche 12 im Jahr 2321\nMontag: 21.03.2321\nSonntag: 27.03.2321\nTyp: gerade Woche\nMehr unter: https://kalenderwoche.info/2321/kw-12
URL:https://kalenderwoche.info/2321/kw-12
CATEGORIES:Kalenderwoche
TRANSP:TRANSPARENT
END:VEVENT
BEGIN:VEVENT
UID:kw-2321-13@kalenderwoche.info
DTSTAMP:20260424T164742Z
DTSTART;VALUE=DATE:23210328
DTEND;VALUE=DATE:23210404
SUMMARY:KW 13 (ungerade)
DESCRIPTION:Kalenderwoche 13 im Jahr 2321\nMontag: 28.03.2321\nSonntag: 03.04.2321\nTyp: ungerade Woche\nMehr unter: https://kalenderwoche.info/2321/kw-13
URL:https://kalenderwoche.info/2321/kw-13
CATEGORIES:Kalenderwoche
TRANSP:TRANSPARENT
END:VEVENT
BEGIN:VEVENT
UID:kw-2321-14@kalenderwoche.info
DTSTAMP:20260424T164742Z
DTSTART;VALUE=DATE:23210404
DTEND;VALUE=DATE:23210411
SUMMARY:KW 14 (gerade)
DESCRIPTION:Kalenderwoche 14 im Jahr 2321\nMontag: 04.04.2321\nSonntag: 10.04.2321\nTyp: gerade Woche\nMehr unter: https://kalenderwoche.info/2321/kw-14
URL:https://kalenderwoche.info/2321/kw-14
CATEGORIES:Kalenderwoche
TRANSP:TRANSPARENT
END:VEVENT
BEGIN:VEVENT
UID:kw-2321-15@kalenderwoche.info
DTSTAMP:20260424T164742Z
DTSTART;VALUE=DATE:23210411
DTEND;VALUE=DATE:23210418
SUMMARY:KW 15 (ungerade)
DESCRIPTION:Kalenderwoche 15 im Jahr 2321\nMontag: 11.04.2321\nSonntag: 17.04.2321\nTyp: ungerade Woche\nMehr unter: https://kalenderwoche.info/2321/kw-15
URL:https://kalenderwoche.info/2321/kw-15
CATEGORIES:Kalenderwoche
TRANSP:TRANSPARENT
END:VEVENT
BEGIN:VEVENT
UID:kw-2321-16@kalenderwoche.info
DTSTAMP:20260424T164742Z
DTSTART;VALUE=DATE:23210418
DTEND;VALUE=DATE:23210425
SUMMARY:KW 16 (gerade)
DESCRIPTION:Kalenderwoche 16 im Jahr 2321\nMontag: 18.04.2321\nSonntag: 24.04.2321\nTyp: gerade Woche\nMehr unter: https://kalenderwoche.info/2321/kw-16
URL:https://kalenderwoche.info/2321/kw-16
CATEGORIES:Kalenderwoche
TRANSP:TRANSPARENT
END:VEVENT
BEGIN:VEVENT
UID:kw-2321-17@kalenderwoche.info
DTSTAMP:20260424T164742Z
DTSTART;VALUE=DATE:23210425
DTEND;VALUE=DATE:23210502
SUMMARY:KW 17 (ungerade)
DESCRIPTION:Kalenderwoche 17 im Jahr 2321\nMontag: 25.04.2321\nSonntag: 01.05.2321\nTyp: ungerade Woche\nMehr unter: https://kalenderwoche.info/2321/kw-17
URL:https://kalenderwoche.info/2321/kw-17
CATEGORIES:Kalenderwoche
TRANSP:TRANSPARENT
END:VEVENT
BEGIN:VEVENT
UID:kw-2321-18@kalenderwoche.info
DTSTAMP:20260424T164742Z
DTSTART;VALUE=DATE:23210502
DTEND;VALUE=DATE:23210509
SUMMARY:KW 18 (gerade)
DESCRIPTION:Kalenderwoche 18 im Jahr 2321\nMontag: 02.05.2321\nSonntag: 08.05.2321\nTyp: gerade Woche\nMehr unter: https://kalenderwoche.info/2321/kw-18
URL:https://kalenderwoche.info/2321/kw-18
CATEGORIES:Kalenderwoche
TRANSP:TRANSPARENT
END:VEVENT
BEGIN:VEVENT
UID:kw-2321-19@kalenderwoche.info
DTSTAMP:20260424T164742Z
DTSTART;VALUE=DATE:23210509
DTEND;VALUE=DATE:23210516
SUMMARY:KW 19 (ungerade)
DESCRIPTION:Kalenderwoche 19 im Jahr 2321\nMontag: 09.05.2321\nSonntag: 15.05.2321\nTyp: ungerade Woche\nMehr unter: https://kalenderwoche.info/2321/kw-19
URL:https://kalenderwoche.info/2321/kw-19
CATEGORIES:Kalenderwoche
TRANSP:TRANSPARENT
END:VEVENT
BEGIN:VEVENT
UID:kw-2321-20@kalenderwoche.info
DTSTAMP:20260424T164742Z
DTSTART;VALUE=DATE:23210516
DTEND;VALUE=DATE:23210523
SUMMARY:KW 20 (gerade)
DESCRIPTION:Kalenderwoche 20 im Jahr 2321\nMontag: 16.05.2321\nSonntag: 22.05.2321\nTyp: gerade Woche\nMehr unter: https://kalenderwoche.info/2321/kw-20
URL:https://kalenderwoche.info/2321/kw-20
CATEGORIES:Kalenderwoche
TRANSP:TRANSPARENT
END:VEVENT
BEGIN:VEVENT
UID:kw-2321-21@kalenderwoche.info
DTSTAMP:20260424T164742Z
DTSTART;VALUE=DATE:23210523
DTEND;VALUE=DATE:23210530
SUMMARY:KW 21 (ungerade)
DESCRIPTION:Kalenderwoche 21 im Jahr 2321\nMontag: 23.05.2321\nSonntag: 29.05.2321\nTyp: ungerade Woche\nMehr unter: https://kalenderwoche.info/2321/kw-21
URL:https://kalenderwoche.info/2321/kw-21
CATEGORIES:Kalenderwoche
TRANSP:TRANSPARENT
END:VEVENT
BEGIN:VEVENT
UID:kw-2321-22@kalenderwoche.info
DTSTAMP:20260424T164742Z
DTSTART;VALUE=DATE:23210530
DTEND;VALUE=DATE:23210606
SUMMARY:KW 22 (gerade)
DESCRIPTION:Kalenderwoche 22 im Jahr 2321\nMontag: 30.05.2321\nSonntag: 05.06.2321\nTyp: gerade Woche\nMehr unter: https://kalenderwoche.info/2321/kw-22
URL:https://kalenderwoche.info/2321/kw-22
CATEGORIES:Kalenderwoche
TRANSP:TRANSPARENT
END:VEVENT
BEGIN:VEVENT
UID:kw-2321-23@kalenderwoche.info
DTSTAMP:20260424T164742Z
DTSTART;VALUE=DATE:23210606
DTEND;VALUE=DATE:23210613
SUMMARY:KW 23 (ungerade)
DESCRIPTION:Kalenderwoche 23 im Jahr 2321\nMontag: 06.06.2321\nSonntag: 12.06.2321\nTyp: ungerade Woche\nMehr unter: https://kalenderwoche.info/2321/kw-23
URL:https://kalenderwoche.info/2321/kw-23
CATEGORIES:Kalenderwoche
TRANSP:TRANSPARENT
END:VEVENT
BEGIN:VEVENT
UID:kw-2321-24@kalenderwoche.info
DTSTAMP:20260424T164742Z
DTSTART;VALUE=DATE:23210613
DTEND;VALUE=DATE:23210620
SUMMARY:KW 24 (gerade)
DESCRIPTION:Kalenderwoche 24 im Jahr 2321\nMontag: 13.06.2321\nSonntag: 19.06.2321\nTyp: gerade Woche\nMehr unter: https://kalenderwoche.info/2321/kw-24
URL:https://kalenderwoche.info/2321/kw-24
CATEGORIES:Kalenderwoche
TRANSP:TRANSPARENT
END:VEVENT
BEGIN:VEVENT
UID:kw-2321-25@kalenderwoche.info
DTSTAMP:20260424T164742Z
DTSTART;VALUE=DATE:23210620
DTEND;VALUE=DATE:23210627
SUMMARY:KW 25 (ungerade)
DESCRIPTION:Kalenderwoche 25 im Jahr 2321\nMontag: 20.06.2321\nSonntag: 26.06.2321\nTyp: ungerade Woche\nMehr unter: https://kalenderwoche.info/2321/kw-25
URL:https://kalenderwoche.info/2321/kw-25
CATEGORIES:Kalenderwoche
TRANSP:TRANSPARENT
END:VEVENT
BEGIN:VEVENT
UID:kw-2321-26@kalenderwoche.info
DTSTAMP:20260424T164742Z
DTSTART;VALUE=DATE:23210627
DTEND;VALUE=DATE:23210704
SUMMARY:KW 26 (gerade)
DESCRIPTION:Kalenderwoche 26 im Jahr 2321\nMontag: 27.06.2321\nSonntag: 03.07.2321\nTyp: gerade Woche\nMehr unter: https://kalenderwoche.info/2321/kw-26
URL:https://kalenderwoche.info/2321/kw-26
CATEGORIES:Kalenderwoche
TRANSP:TRANSPARENT
END:VEVENT
BEGIN:VEVENT
UID:kw-2321-27@kalenderwoche.info
DTSTAMP:20260424T164742Z
DTSTART;VALUE=DATE:23210704
DTEND;VALUE=DATE:23210711
SUMMARY:KW 27 (ungerade)
DESCRIPTION:Kalenderwoche 27 im Jahr 2321\nMontag: 04.07.2321\nSonntag: 10.07.2321\nTyp: ungerade Woche\nMehr unter: https://kalenderwoche.info/2321/kw-27
URL:https://kalenderwoche.info/2321/kw-27
CATEGORIES:Kalenderwoche
TRANSP:TRANSPARENT
END:VEVENT
BEGIN:VEVENT
UID:kw-2321-28@kalenderwoche.info
DTSTAMP:20260424T164742Z
DTSTART;VALUE=DATE:23210711
DTEND;VALUE=DATE:23210718
SUMMARY:KW 28 (gerade)
DESCRIPTION:Kalenderwoche 28 im Jahr 2321\nMontag: 11.07.2321\nSonntag: 17.07.2321\nTyp: gerade Woche\nMehr unter: https://kalenderwoche.info/2321/kw-28
URL:https://kalenderwoche.info/2321/kw-28
CATEGORIES:Kalenderwoche
TRANSP:TRANSPARENT
END:VEVENT
BEGIN:VEVENT
UID:kw-2321-29@kalenderwoche.info
DTSTAMP:20260424T164742Z
DTSTART;VALUE=DATE:23210718
DTEND;VALUE=DATE:23210725
SUMMARY:KW 29 (ungerade)
DESCRIPTION:Kalenderwoche 29 im Jahr 2321\nMontag: 18.07.2321\nSonntag: 24.07.2321\nTyp: ungerade Woche\nMehr unter: https://kalenderwoche.info/2321/kw-29
URL:https://kalenderwoche.info/2321/kw-29
CATEGORIES:Kalenderwoche
TRANSP:TRANSPARENT
END:VEVENT
BEGIN:VEVENT
UID:kw-2321-30@kalenderwoche.info
DTSTAMP:20260424T164742Z
DTSTART;VALUE=DATE:23210725
DTEND;VALUE=DATE:23210801
SUMMARY:KW 30 (gerade)
DESCRIPTION:Kalenderwoche 30 im Jahr 2321\nMontag: 25.07.2321\nSonntag: 31.07.2321\nTyp: gerade Woche\nMehr unter: https://kalenderwoche.info/2321/kw-30
URL:https://kalenderwoche.info/2321/kw-30
CATEGORIES:Kalenderwoche
TRANSP:TRANSPARENT
END:VEVENT
BEGIN:VEVENT
UID:kw-2321-31@kalenderwoche.info
DTSTAMP:20260424T164742Z
DTSTART;VALUE=DATE:23210801
DTEND;VALUE=DATE:23210808
SUMMARY:KW 31 (ungerade)
DESCRIPTION:Kalenderwoche 31 im Jahr 2321\nMontag: 01.08.2321\nSonntag: 07.08.2321\nTyp: ungerade Woche\nMehr unter: https://kalenderwoche.info/2321/kw-31
URL:https://kalenderwoche.info/2321/kw-31
CATEGORIES:Kalenderwoche
TRANSP:TRANSPARENT
END:VEVENT
BEGIN:VEVENT
UID:kw-2321-32@kalenderwoche.info
DTSTAMP:20260424T164742Z
DTSTART;VALUE=DATE:23210808
DTEND;VALUE=DATE:23210815
SUMMARY:KW 32 (gerade)
DESCRIPTION:Kalenderwoche 32 im Jahr 2321\nMontag: 08.08.2321\nSonntag: 14.08.2321\nTyp: gerade Woche\nMehr unter: https://kalenderwoche.info/2321/kw-32
URL:https://kalenderwoche.info/2321/kw-32
CATEGORIES:Kalenderwoche
TRANSP:TRANSPARENT
END:VEVENT
BEGIN:VEVENT
UID:kw-2321-33@kalenderwoche.info
DTSTAMP:20260424T164742Z
DTSTART;VALUE=DATE:23210815
DTEND;VALUE=DATE:23210822
SUMMARY:KW 33 (ungerade)
DESCRIPTION:Kalenderwoche 33 im Jahr 2321\nMontag: 15.08.2321\nSonntag: 21.08.2321\nTyp: ungerade Woche\nMehr unter: https://kalenderwoche.info/2321/kw-33
URL:https://kalenderwoche.info/2321/kw-33
CATEGORIES:Kalenderwoche
TRANSP:TRANSPARENT
END:VEVENT
BEGIN:VEVENT
UID:kw-2321-34@kalenderwoche.info
DTSTAMP:20260424T164742Z
DTSTART;VALUE=DATE:23210822
DTEND;VALUE=DATE:23210829
SUMMARY:KW 34 (gerade)
DESCRIPTION:Kalenderwoche 34 im Jahr 2321\nMontag: 22.08.2321\nSonntag: 28.08.2321\nTyp: gerade Woche\nMehr unter: https://kalenderwoche.info/2321/kw-34
URL:https://kalenderwoche.info/2321/kw-34
CATEGORIES:Kalenderwoche
TRANSP:TRANSPARENT
END:VEVENT
BEGIN:VEVENT
UID:kw-2321-35@kalenderwoche.info
DTSTAMP:20260424T164742Z
DTSTART;VALUE=DATE:23210829
DTEND;VALUE=DATE:23210905
SUMMARY:KW 35 (ungerade)
DESCRIPTION:Kalenderwoche 35 im Jahr 2321\nMontag: 29.08.2321\nSonntag: 04.09.2321\nTyp: ungerade Woche\nMehr unter: https://kalenderwoche.info/2321/kw-35
URL:https://kalenderwoche.info/2321/kw-35
CATEGORIES:Kalenderwoche
TRANSP:TRANSPARENT
END:VEVENT
BEGIN:VEVENT
UID:kw-2321-36@kalenderwoche.info
DTSTAMP:20260424T164742Z
DTSTART;VALUE=DATE:23210905
DTEND;VALUE=DATE:23210912
SUMMARY:KW 36 (gerade)
DESCRIPTION:Kalenderwoche 36 im Jahr 2321\nMontag: 05.09.2321\nSonntag: 11.09.2321\nTyp: gerade Woche\nMehr unter: https://kalenderwoche.info/2321/kw-36
URL:https://kalenderwoche.info/2321/kw-36
CATEGORIES:Kalenderwoche
TRANSP:TRANSPARENT
END:VEVENT
BEGIN:VEVENT
UID:kw-2321-37@kalenderwoche.info
DTSTAMP:20260424T164742Z
DTSTART;VALUE=DATE:23210912
DTEND;VALUE=DATE:23210919
SUMMARY:KW 37 (ungerade)
DESCRIPTION:Kalenderwoche 37 im Jahr 2321\nMontag: 12.09.2321\nSonntag: 18.09.2321\nTyp: ungerade Woche\nMehr unter: https://kalenderwoche.info/2321/kw-37
URL:https://kalenderwoche.info/2321/kw-37
CATEGORIES:Kalenderwoche
TRANSP:TRANSPARENT
END:VEVENT
BEGIN:VEVENT
UID:kw-2321-38@kalenderwoche.info
DTSTAMP:20260424T164742Z
DTSTART;VALUE=DATE:23210919
DTEND;VALUE=DATE:23210926
SUMMARY:KW 38 (gerade)
DESCRIPTION:Kalenderwoche 38 im Jahr 2321\nMontag: 19.09.2321\nSonntag: 25.09.2321\nTyp: gerade Woche\nMehr unter: https://kalenderwoche.info/2321/kw-38
URL:https://kalenderwoche.info/2321/kw-38
CATEGORIES:Kalenderwoche
TRANSP:TRANSPARENT
END:VEVENT
BEGIN:VEVENT
UID:kw-2321-39@kalenderwoche.info
DTSTAMP:20260424T164742Z
DTSTART;VALUE=DATE:23210926
DTEND;VALUE=DATE:23211003
SUMMARY:KW 39 (ungerade)
DESCRIPTION:Kalenderwoche 39 im Jahr 2321\nMontag: 26.09.2321\nSonntag: 02.10.2321\nTyp: ungerade Woche\nMehr unter: https://kalenderwoche.info/2321/kw-39
URL:https://kalenderwoche.info/2321/kw-39
CATEGORIES:Kalenderwoche
TRANSP:TRANSPARENT
END:VEVENT
BEGIN:VEVENT
UID:kw-2321-40@kalenderwoche.info
DTSTAMP:20260424T164742Z
DTSTART;VALUE=DATE:23211003
DTEND;VALUE=DATE:23211010
SUMMARY:KW 40 (gerade)
DESCRIPTION:Kalenderwoche 40 im Jahr 2321\nMontag: 03.10.2321\nSonntag: 09.10.2321\nTyp: gerade Woche\nMehr unter: https://kalenderwoche.info/2321/kw-40
URL:https://kalenderwoche.info/2321/kw-40
CATEGORIES:Kalenderwoche
TRANSP:TRANSPARENT
END:VEVENT
BEGIN:VEVENT
UID:kw-2321-41@kalenderwoche.info
DTSTAMP:20260424T164742Z
DTSTART;VALUE=DATE:23211010
DTEND;VALUE=DATE:23211017
SUMMARY:KW 41 (ungerade)
DESCRIPTION:Kalenderwoche 41 im Jahr 2321\nMontag: 10.10.2321\nSonntag: 16.10.2321\nTyp: ungerade Woche\nMehr unter: https://kalenderwoche.info/2321/kw-41
URL:https://kalenderwoche.info/2321/kw-41
CATEGORIES:Kalenderwoche
TRANSP:TRANSPARENT
END:VEVENT
BEGIN:VEVENT
UID:kw-2321-42@kalenderwoche.info
DTSTAMP:20260424T164742Z
DTSTART;VALUE=DATE:23211017
DTEND;VALUE=DATE:23211024
SUMMARY:KW 42 (gerade)
DESCRIPTION:Kalenderwoche 42 im Jahr 2321\nMontag: 17.10.2321\nSonntag: 23.10.2321\nTyp: gerade Woche\nMehr unter: https://kalenderwoche.info/2321/kw-42
URL:https://kalenderwoche.info/2321/kw-42
CATEGORIES:Kalenderwoche
TRANSP:TRANSPARENT
END:VEVENT
BEGIN:VEVENT
UID:kw-2321-43@kalenderwoche.info
DTSTAMP:20260424T164742Z
DTSTART;VALUE=DATE:23211024
DTEND;VALUE=DATE:23211031
SUMMARY:KW 43 (ungerade)
DESCRIPTION:Kalenderwoche 43 im Jahr 2321\nMontag: 24.10.2321\nSonntag: 30.10.2321\nTyp: ungerade Woche\nMehr unter: https://kalenderwoche.info/2321/kw-43
URL:https://kalenderwoche.info/2321/kw-43
CATEGORIES:Kalenderwoche
TRANSP:TRANSPARENT
END:VEVENT
BEGIN:VEVENT
UID:kw-2321-44@kalenderwoche.info
DTSTAMP:20260424T164742Z
DTSTART;VALUE=DATE:23211031
DTEND;VALUE=DATE:23211107
SUMMARY:KW 44 (gerade)
DESCRIPTION:Kalenderwoche 44 im Jahr 2321\nMontag: 31.10.2321\nSonntag: 06.11.2321\nTyp: gerade Woche\nMehr unter: https://kalenderwoche.info/2321/kw-44
URL:https://kalenderwoche.info/2321/kw-44
CATEGORIES:Kalenderwoche
TRANSP:TRANSPARENT
END:VEVENT
BEGIN:VEVENT
UID:kw-2321-45@kalenderwoche.info
DTSTAMP:20260424T164742Z
DTSTART;VALUE=DATE:23211107
DTEND;VALUE=DATE:23211114
SUMMARY:KW 45 (ungerade)
DESCRIPTION:Kalenderwoche 45 im Jahr 2321\nMontag: 07.11.2321\nSonntag: 13.11.2321\nTyp: ungerade Woche\nMehr unter: https://kalenderwoche.info/2321/kw-45
URL:https://kalenderwoche.info/2321/kw-45
CATEGORIES:Kalenderwoche
TRANSP:TRANSPARENT
END:VEVENT
BEGIN:VEVENT
UID:kw-2321-46@kalenderwoche.info
DTSTAMP:20260424T164742Z
DTSTART;VALUE=DATE:23211114
DTEND;VALUE=DATE:23211121
SUMMARY:KW 46 (gerade)
DESCRIPTION:Kalenderwoche 46 im Jahr 2321\nMontag: 14.11.2321\nSonntag: 20.11.2321\nTyp: gerade Woche\nMehr unter: https://kalenderwoche.info/2321/kw-46
URL:https://kalenderwoche.info/2321/kw-46
CATEGORIES:Kalenderwoche
TRANSP:TRANSPARENT
END:VEVENT
BEGIN:VEVENT
UID:kw-2321-47@kalenderwoche.info
DTSTAMP:20260424T164742Z
DTSTART;VALUE=DATE:23211121
DTEND;VALUE=DATE:23211128
SUMMARY:KW 47 (ungerade)
DESCRIPTION:Kalenderwoche 47 im Jahr 2321\nMontag: 21.11.2321\nSonntag: 27.11.2321\nTyp: ungerade Woche\nMehr unter: https://kalenderwoche.info/2321/kw-47
URL:https://kalenderwoche.info/2321/kw-47
CATEGORIES:Kalenderwoche
TRANSP:TRANSPARENT
END:VEVENT
BEGIN:VEVENT
UID:kw-2321-48@kalenderwoche.info
DTSTAMP:20260424T164742Z
DTSTART;VALUE=DATE:23211128
DTEND;VALUE=DATE:23211205
SUMMARY:KW 48 (gerade)
DESCRIPTION:Kalenderwoche 48 im Jahr 2321\nMontag: 28.11.2321\nSonntag: 04.12.2321\nTyp: gerade Woche\nMehr unter: https://kalenderwoche.info/2321/kw-48
URL:https://kalenderwoche.info/2321/kw-48
CATEGORIES:Kalenderwoche
TRANSP:TRANSPARENT
END:VEVENT
BEGIN:VEVENT
UID:kw-2321-49@kalenderwoche.info
DTSTAMP:20260424T164742Z
DTSTART;VALUE=DATE:23211205
DTEND;VALUE=DATE:23211212
SUMMARY:KW 49 (ungerade)
DESCRIPTION:Kalenderwoche 49 im Jahr 2321\nMontag: 05.12.2321\nSonntag: 11.12.2321\nTyp: ungerade Woche\nMehr unter: https://kalenderwoche.info/2321/kw-49
URL:https://kalenderwoche.info/2321/kw-49
CATEGORIES:Kalenderwoche
TRANSP:TRANSPARENT
END:VEVENT
BEGIN:VEVENT
UID:kw-2321-50@kalenderwoche.info
DTSTAMP:20260424T164742Z
DTSTART;VALUE=DATE:23211212
DTEND;VALUE=DATE:23211219
SUMMARY:KW 50 (gerade)
DESCRIPTION:Kalenderwoche 50 im Jahr 2321\nMontag: 12.12.2321\nSonntag: 18.12.2321\nTyp: gerade Woche\nMehr unter: https://kalenderwoche.info/2321/kw-50
URL:https://kalenderwoche.info/2321/kw-50
CATEGORIES:Kalenderwoche
TRANSP:TRANSPARENT
END:VEVENT
BEGIN:VEVENT
UID:kw-2321-51@kalenderwoche.info
DTSTAMP:20260424T164742Z
DTSTART;VALUE=DATE:23211219
DTEND;VALUE=DATE:23211226
SUMMARY:KW 51 (ungerade)
DESCRIPTION:Kalenderwoche 51 im Jahr 2321\nMontag: 19.12.2321\nSonntag: 25.12.2321\nTyp: ungerade Woche\nMehr unter: https://kalenderwoche.info/2321/kw-51
URL:https://kalenderwoche.info/2321/kw-51
CATEGORIES:Kalenderwoche
TRANSP:TRANSPARENT
END:VEVENT
BEGIN:VEVENT
UID:kw-2321-52@kalenderwoche.info
DTSTAMP:20260424T164742Z
DTSTART;VALUE=DATE:23211226
DTEND;VALUE=DATE:23220102
SUMMARY:KW 52 (gerade)
DESCRIPTION:Kalenderwoche 52 im Jahr 2321\nMontag: 26.12.2321\nSonntag: 01.01.2322\nTyp: gerade Woche\nMehr unter: https://kalenderwoche.info/2321/kw-52
URL:https://kalenderwoche.info/2321/kw-52
CATEGORIES:Kalenderwoche
TRANSP:TRANSPARENT
END:VEVENT
END:VCALENDAR
