BEGIN:VCALENDAR
VERSION:2.0
PRODID:-//kalenderwoche.info//Kalender//DE
CALSCALE:GREGORIAN
METHOD:PUBLISH
X-WR-CALNAME:Kalenderwochen 2327
X-WR-CALDESC:Alle Kalenderwochen für das Jahr 2327
X-WR-TIMEZONE:Europe/Berlin
BEGIN:VEVENT
UID:kw-2327-1@kalenderwoche.info
DTSTAMP:20260425T011601Z
DTSTART;VALUE=DATE:23270103
DTEND;VALUE=DATE:23270110
SUMMARY:KW 1 (ungerade)
DESCRIPTION:Kalenderwoche 1 im Jahr 2327\nMontag: 03.01.2327\nSonntag: 09.01.2327\nTyp: ungerade Woche\nMehr unter: https://kalenderwoche.info/2327/kw-1
URL:https://kalenderwoche.info/2327/kw-1
CATEGORIES:Kalenderwoche
TRANSP:TRANSPARENT
END:VEVENT
BEGIN:VEVENT
UID:kw-2327-2@kalenderwoche.info
DTSTAMP:20260425T011601Z
DTSTART;VALUE=DATE:23270110
DTEND;VALUE=DATE:23270117
SUMMARY:KW 2 (gerade)
DESCRIPTION:Kalenderwoche 2 im Jahr 2327\nMontag: 10.01.2327\nSonntag: 16.01.2327\nTyp: gerade Woche\nMehr unter: https://kalenderwoche.info/2327/kw-2
URL:https://kalenderwoche.info/2327/kw-2
CATEGORIES:Kalenderwoche
TRANSP:TRANSPARENT
END:VEVENT
BEGIN:VEVENT
UID:kw-2327-3@kalenderwoche.info
DTSTAMP:20260425T011601Z
DTSTART;VALUE=DATE:23270117
DTEND;VALUE=DATE:23270124
SUMMARY:KW 3 (ungerade)
DESCRIPTION:Kalenderwoche 3 im Jahr 2327\nMontag: 17.01.2327\nSonntag: 23.01.2327\nTyp: ungerade Woche\nMehr unter: https://kalenderwoche.info/2327/kw-3
URL:https://kalenderwoche.info/2327/kw-3
CATEGORIES:Kalenderwoche
TRANSP:TRANSPARENT
END:VEVENT
BEGIN:VEVENT
UID:kw-2327-4@kalenderwoche.info
DTSTAMP:20260425T011601Z
DTSTART;VALUE=DATE:23270124
DTEND;VALUE=DATE:23270131
SUMMARY:KW 4 (gerade)
DESCRIPTION:Kalenderwoche 4 im Jahr 2327\nMontag: 24.01.2327\nSonntag: 30.01.2327\nTyp: gerade Woche\nMehr unter: https://kalenderwoche.info/2327/kw-4
URL:https://kalenderwoche.info/2327/kw-4
CATEGORIES:Kalenderwoche
TRANSP:TRANSPARENT
END:VEVENT
BEGIN:VEVENT
UID:kw-2327-5@kalenderwoche.info
DTSTAMP:20260425T011601Z
DTSTART;VALUE=DATE:23270131
DTEND;VALUE=DATE:23270207
SUMMARY:KW 5 (ungerade)
DESCRIPTION:Kalenderwoche 5 im Jahr 2327\nMontag: 31.01.2327\nSonntag: 06.02.2327\nTyp: ungerade Woche\nMehr unter: https://kalenderwoche.info/2327/kw-5
URL:https://kalenderwoche.info/2327/kw-5
CATEGORIES:Kalenderwoche
TRANSP:TRANSPARENT
END:VEVENT
BEGIN:VEVENT
UID:kw-2327-6@kalenderwoche.info
DTSTAMP:20260425T011601Z
DTSTART;VALUE=DATE:23270207
DTEND;VALUE=DATE:23270214
SUMMARY:KW 6 (gerade)
DESCRIPTION:Kalenderwoche 6 im Jahr 2327\nMontag: 07.02.2327\nSonntag: 13.02.2327\nTyp: gerade Woche\nMehr unter: https://kalenderwoche.info/2327/kw-6
URL:https://kalenderwoche.info/2327/kw-6
CATEGORIES:Kalenderwoche
TRANSP:TRANSPARENT
END:VEVENT
BEGIN:VEVENT
UID:kw-2327-7@kalenderwoche.info
DTSTAMP:20260425T011601Z
DTSTART;VALUE=DATE:23270214
DTEND;VALUE=DATE:23270221
SUMMARY:KW 7 (ungerade)
DESCRIPTION:Kalenderwoche 7 im Jahr 2327\nMontag: 14.02.2327\nSonntag: 20.02.2327\nTyp: ungerade Woche\nMehr unter: https://kalenderwoche.info/2327/kw-7
URL:https://kalenderwoche.info/2327/kw-7
CATEGORIES:Kalenderwoche
TRANSP:TRANSPARENT
END:VEVENT
BEGIN:VEVENT
UID:kw-2327-8@kalenderwoche.info
DTSTAMP:20260425T011601Z
DTSTART;VALUE=DATE:23270221
DTEND;VALUE=DATE:23270228
SUMMARY:KW 8 (gerade)
DESCRIPTION:Kalenderwoche 8 im Jahr 2327\nMontag: 21.02.2327\nSonntag: 27.02.2327\nTyp: gerade Woche\nMehr unter: https://kalenderwoche.info/2327/kw-8
URL:https://kalenderwoche.info/2327/kw-8
CATEGORIES:Kalenderwoche
TRANSP:TRANSPARENT
END:VEVENT
BEGIN:VEVENT
UID:kw-2327-9@kalenderwoche.info
DTSTAMP:20260425T011601Z
DTSTART;VALUE=DATE:23270228
DTEND;VALUE=DATE:23270307
SUMMARY:KW 9 (ungerade)
DESCRIPTION:Kalenderwoche 9 im Jahr 2327\nMontag: 28.02.2327\nSonntag: 06.03.2327\nTyp: ungerade Woche\nMehr unter: https://kalenderwoche.info/2327/kw-9
URL:https://kalenderwoche.info/2327/kw-9
CATEGORIES:Kalenderwoche
TRANSP:TRANSPARENT
END:VEVENT
BEGIN:VEVENT
UID:kw-2327-10@kalenderwoche.info
DTSTAMP:20260425T011601Z
DTSTART;VALUE=DATE:23270307
DTEND;VALUE=DATE:23270314
SUMMARY:KW 10 (gerade)
DESCRIPTION:Kalenderwoche 10 im Jahr 2327\nMontag: 07.03.2327\nSonntag: 13.03.2327\nTyp: gerade Woche\nMehr unter: https://kalenderwoche.info/2327/kw-10
URL:https://kalenderwoche.info/2327/kw-10
CATEGORIES:Kalenderwoche
TRANSP:TRANSPARENT
END:VEVENT
BEGIN:VEVENT
UID:kw-2327-11@kalenderwoche.info
DTSTAMP:20260425T011601Z
DTSTART;VALUE=DATE:23270314
DTEND;VALUE=DATE:23270321
SUMMARY:KW 11 (ungerade)
DESCRIPTION:Kalenderwoche 11 im Jahr 2327\nMontag: 14.03.2327\nSonntag: 20.03.2327\nTyp: ungerade Woche\nMehr unter: https://kalenderwoche.info/2327/kw-11
URL:https://kalenderwoche.info/2327/kw-11
CATEGORIES:Kalenderwoche
TRANSP:TRANSPARENT
END:VEVENT
BEGIN:VEVENT
UID:kw-2327-12@kalenderwoche.info
DTSTAMP:20260425T011601Z
DTSTART;VALUE=DATE:23270321
DTEND;VALUE=DATE:23270328
SUMMARY:KW 12 (gerade)
DESCRIPTION:Kalenderwoche 12 im Jahr 2327\nMontag: 21.03.2327\nSonntag: 27.03.2327\nTyp: gerade Woche\nMehr unter: https://kalenderwoche.info/2327/kw-12
URL:https://kalenderwoche.info/2327/kw-12
CATEGORIES:Kalenderwoche
TRANSP:TRANSPARENT
END:VEVENT
BEGIN:VEVENT
UID:kw-2327-13@kalenderwoche.info
DTSTAMP:20260425T011601Z
DTSTART;VALUE=DATE:23270328
DTEND;VALUE=DATE:23270404
SUMMARY:KW 13 (ungerade)
DESCRIPTION:Kalenderwoche 13 im Jahr 2327\nMontag: 28.03.2327\nSonntag: 03.04.2327\nTyp: ungerade Woche\nMehr unter: https://kalenderwoche.info/2327/kw-13
URL:https://kalenderwoche.info/2327/kw-13
CATEGORIES:Kalenderwoche
TRANSP:TRANSPARENT
END:VEVENT
BEGIN:VEVENT
UID:kw-2327-14@kalenderwoche.info
DTSTAMP:20260425T011601Z
DTSTART;VALUE=DATE:23270404
DTEND;VALUE=DATE:23270411
SUMMARY:KW 14 (gerade)
DESCRIPTION:Kalenderwoche 14 im Jahr 2327\nMontag: 04.04.2327\nSonntag: 10.04.2327\nTyp: gerade Woche\nMehr unter: https://kalenderwoche.info/2327/kw-14
URL:https://kalenderwoche.info/2327/kw-14
CATEGORIES:Kalenderwoche
TRANSP:TRANSPARENT
END:VEVENT
BEGIN:VEVENT
UID:kw-2327-15@kalenderwoche.info
DTSTAMP:20260425T011601Z
DTSTART;VALUE=DATE:23270411
DTEND;VALUE=DATE:23270418
SUMMARY:KW 15 (ungerade)
DESCRIPTION:Kalenderwoche 15 im Jahr 2327\nMontag: 11.04.2327\nSonntag: 17.04.2327\nTyp: ungerade Woche\nMehr unter: https://kalenderwoche.info/2327/kw-15
URL:https://kalenderwoche.info/2327/kw-15
CATEGORIES:Kalenderwoche
TRANSP:TRANSPARENT
END:VEVENT
BEGIN:VEVENT
UID:kw-2327-16@kalenderwoche.info
DTSTAMP:20260425T011601Z
DTSTART;VALUE=DATE:23270418
DTEND;VALUE=DATE:23270425
SUMMARY:KW 16 (gerade)
DESCRIPTION:Kalenderwoche 16 im Jahr 2327\nMontag: 18.04.2327\nSonntag: 24.04.2327\nTyp: gerade Woche\nMehr unter: https://kalenderwoche.info/2327/kw-16
URL:https://kalenderwoche.info/2327/kw-16
CATEGORIES:Kalenderwoche
TRANSP:TRANSPARENT
END:VEVENT
BEGIN:VEVENT
UID:kw-2327-17@kalenderwoche.info
DTSTAMP:20260425T011601Z
DTSTART;VALUE=DATE:23270425
DTEND;VALUE=DATE:23270502
SUMMARY:KW 17 (ungerade)
DESCRIPTION:Kalenderwoche 17 im Jahr 2327\nMontag: 25.04.2327\nSonntag: 01.05.2327\nTyp: ungerade Woche\nMehr unter: https://kalenderwoche.info/2327/kw-17
URL:https://kalenderwoche.info/2327/kw-17
CATEGORIES:Kalenderwoche
TRANSP:TRANSPARENT
END:VEVENT
BEGIN:VEVENT
UID:kw-2327-18@kalenderwoche.info
DTSTAMP:20260425T011601Z
DTSTART;VALUE=DATE:23270502
DTEND;VALUE=DATE:23270509
SUMMARY:KW 18 (gerade)
DESCRIPTION:Kalenderwoche 18 im Jahr 2327\nMontag: 02.05.2327\nSonntag: 08.05.2327\nTyp: gerade Woche\nMehr unter: https://kalenderwoche.info/2327/kw-18
URL:https://kalenderwoche.info/2327/kw-18
CATEGORIES:Kalenderwoche
TRANSP:TRANSPARENT
END:VEVENT
BEGIN:VEVENT
UID:kw-2327-19@kalenderwoche.info
DTSTAMP:20260425T011601Z
DTSTART;VALUE=DATE:23270509
DTEND;VALUE=DATE:23270516
SUMMARY:KW 19 (ungerade)
DESCRIPTION:Kalenderwoche 19 im Jahr 2327\nMontag: 09.05.2327\nSonntag: 15.05.2327\nTyp: ungerade Woche\nMehr unter: https://kalenderwoche.info/2327/kw-19
URL:https://kalenderwoche.info/2327/kw-19
CATEGORIES:Kalenderwoche
TRANSP:TRANSPARENT
END:VEVENT
BEGIN:VEVENT
UID:kw-2327-20@kalenderwoche.info
DTSTAMP:20260425T011601Z
DTSTART;VALUE=DATE:23270516
DTEND;VALUE=DATE:23270523
SUMMARY:KW 20 (gerade)
DESCRIPTION:Kalenderwoche 20 im Jahr 2327\nMontag: 16.05.2327\nSonntag: 22.05.2327\nTyp: gerade Woche\nMehr unter: https://kalenderwoche.info/2327/kw-20
URL:https://kalenderwoche.info/2327/kw-20
CATEGORIES:Kalenderwoche
TRANSP:TRANSPARENT
END:VEVENT
BEGIN:VEVENT
UID:kw-2327-21@kalenderwoche.info
DTSTAMP:20260425T011601Z
DTSTART;VALUE=DATE:23270523
DTEND;VALUE=DATE:23270530
SUMMARY:KW 21 (ungerade)
DESCRIPTION:Kalenderwoche 21 im Jahr 2327\nMontag: 23.05.2327\nSonntag: 29.05.2327\nTyp: ungerade Woche\nMehr unter: https://kalenderwoche.info/2327/kw-21
URL:https://kalenderwoche.info/2327/kw-21
CATEGORIES:Kalenderwoche
TRANSP:TRANSPARENT
END:VEVENT
BEGIN:VEVENT
UID:kw-2327-22@kalenderwoche.info
DTSTAMP:20260425T011601Z
DTSTART;VALUE=DATE:23270530
DTEND;VALUE=DATE:23270606
SUMMARY:KW 22 (gerade)
DESCRIPTION:Kalenderwoche 22 im Jahr 2327\nMontag: 30.05.2327\nSonntag: 05.06.2327\nTyp: gerade Woche\nMehr unter: https://kalenderwoche.info/2327/kw-22
URL:https://kalenderwoche.info/2327/kw-22
CATEGORIES:Kalenderwoche
TRANSP:TRANSPARENT
END:VEVENT
BEGIN:VEVENT
UID:kw-2327-23@kalenderwoche.info
DTSTAMP:20260425T011601Z
DTSTART;VALUE=DATE:23270606
DTEND;VALUE=DATE:23270613
SUMMARY:KW 23 (ungerade)
DESCRIPTION:Kalenderwoche 23 im Jahr 2327\nMontag: 06.06.2327\nSonntag: 12.06.2327\nTyp: ungerade Woche\nMehr unter: https://kalenderwoche.info/2327/kw-23
URL:https://kalenderwoche.info/2327/kw-23
CATEGORIES:Kalenderwoche
TRANSP:TRANSPARENT
END:VEVENT
BEGIN:VEVENT
UID:kw-2327-24@kalenderwoche.info
DTSTAMP:20260425T011601Z
DTSTART;VALUE=DATE:23270613
DTEND;VALUE=DATE:23270620
SUMMARY:KW 24 (gerade)
DESCRIPTION:Kalenderwoche 24 im Jahr 2327\nMontag: 13.06.2327\nSonntag: 19.06.2327\nTyp: gerade Woche\nMehr unter: https://kalenderwoche.info/2327/kw-24
URL:https://kalenderwoche.info/2327/kw-24
CATEGORIES:Kalenderwoche
TRANSP:TRANSPARENT
END:VEVENT
BEGIN:VEVENT
UID:kw-2327-25@kalenderwoche.info
DTSTAMP:20260425T011601Z
DTSTART;VALUE=DATE:23270620
DTEND;VALUE=DATE:23270627
SUMMARY:KW 25 (ungerade)
DESCRIPTION:Kalenderwoche 25 im Jahr 2327\nMontag: 20.06.2327\nSonntag: 26.06.2327\nTyp: ungerade Woche\nMehr unter: https://kalenderwoche.info/2327/kw-25
URL:https://kalenderwoche.info/2327/kw-25
CATEGORIES:Kalenderwoche
TRANSP:TRANSPARENT
END:VEVENT
BEGIN:VEVENT
UID:kw-2327-26@kalenderwoche.info
DTSTAMP:20260425T011601Z
DTSTART;VALUE=DATE:23270627
DTEND;VALUE=DATE:23270704
SUMMARY:KW 26 (gerade)
DESCRIPTION:Kalenderwoche 26 im Jahr 2327\nMontag: 27.06.2327\nSonntag: 03.07.2327\nTyp: gerade Woche\nMehr unter: https://kalenderwoche.info/2327/kw-26
URL:https://kalenderwoche.info/2327/kw-26
CATEGORIES:Kalenderwoche
TRANSP:TRANSPARENT
END:VEVENT
BEGIN:VEVENT
UID:kw-2327-27@kalenderwoche.info
DTSTAMP:20260425T011601Z
DTSTART;VALUE=DATE:23270704
DTEND;VALUE=DATE:23270711
SUMMARY:KW 27 (ungerade)
DESCRIPTION:Kalenderwoche 27 im Jahr 2327\nMontag: 04.07.2327\nSonntag: 10.07.2327\nTyp: ungerade Woche\nMehr unter: https://kalenderwoche.info/2327/kw-27
URL:https://kalenderwoche.info/2327/kw-27
CATEGORIES:Kalenderwoche
TRANSP:TRANSPARENT
END:VEVENT
BEGIN:VEVENT
UID:kw-2327-28@kalenderwoche.info
DTSTAMP:20260425T011601Z
DTSTART;VALUE=DATE:23270711
DTEND;VALUE=DATE:23270718
SUMMARY:KW 28 (gerade)
DESCRIPTION:Kalenderwoche 28 im Jahr 2327\nMontag: 11.07.2327\nSonntag: 17.07.2327\nTyp: gerade Woche\nMehr unter: https://kalenderwoche.info/2327/kw-28
URL:https://kalenderwoche.info/2327/kw-28
CATEGORIES:Kalenderwoche
TRANSP:TRANSPARENT
END:VEVENT
BEGIN:VEVENT
UID:kw-2327-29@kalenderwoche.info
DTSTAMP:20260425T011601Z
DTSTART;VALUE=DATE:23270718
DTEND;VALUE=DATE:23270725
SUMMARY:KW 29 (ungerade)
DESCRIPTION:Kalenderwoche 29 im Jahr 2327\nMontag: 18.07.2327\nSonntag: 24.07.2327\nTyp: ungerade Woche\nMehr unter: https://kalenderwoche.info/2327/kw-29
URL:https://kalenderwoche.info/2327/kw-29
CATEGORIES:Kalenderwoche
TRANSP:TRANSPARENT
END:VEVENT
BEGIN:VEVENT
UID:kw-2327-30@kalenderwoche.info
DTSTAMP:20260425T011601Z
DTSTART;VALUE=DATE:23270725
DTEND;VALUE=DATE:23270801
SUMMARY:KW 30 (gerade)
DESCRIPTION:Kalenderwoche 30 im Jahr 2327\nMontag: 25.07.2327\nSonntag: 31.07.2327\nTyp: gerade Woche\nMehr unter: https://kalenderwoche.info/2327/kw-30
URL:https://kalenderwoche.info/2327/kw-30
CATEGORIES:Kalenderwoche
TRANSP:TRANSPARENT
END:VEVENT
BEGIN:VEVENT
UID:kw-2327-31@kalenderwoche.info
DTSTAMP:20260425T011601Z
DTSTART;VALUE=DATE:23270801
DTEND;VALUE=DATE:23270808
SUMMARY:KW 31 (ungerade)
DESCRIPTION:Kalenderwoche 31 im Jahr 2327\nMontag: 01.08.2327\nSonntag: 07.08.2327\nTyp: ungerade Woche\nMehr unter: https://kalenderwoche.info/2327/kw-31
URL:https://kalenderwoche.info/2327/kw-31
CATEGORIES:Kalenderwoche
TRANSP:TRANSPARENT
END:VEVENT
BEGIN:VEVENT
UID:kw-2327-32@kalenderwoche.info
DTSTAMP:20260425T011601Z
DTSTART;VALUE=DATE:23270808
DTEND;VALUE=DATE:23270815
SUMMARY:KW 32 (gerade)
DESCRIPTION:Kalenderwoche 32 im Jahr 2327\nMontag: 08.08.2327\nSonntag: 14.08.2327\nTyp: gerade Woche\nMehr unter: https://kalenderwoche.info/2327/kw-32
URL:https://kalenderwoche.info/2327/kw-32
CATEGORIES:Kalenderwoche
TRANSP:TRANSPARENT
END:VEVENT
BEGIN:VEVENT
UID:kw-2327-33@kalenderwoche.info
DTSTAMP:20260425T011601Z
DTSTART;VALUE=DATE:23270815
DTEND;VALUE=DATE:23270822
SUMMARY:KW 33 (ungerade)
DESCRIPTION:Kalenderwoche 33 im Jahr 2327\nMontag: 15.08.2327\nSonntag: 21.08.2327\nTyp: ungerade Woche\nMehr unter: https://kalenderwoche.info/2327/kw-33
URL:https://kalenderwoche.info/2327/kw-33
CATEGORIES:Kalenderwoche
TRANSP:TRANSPARENT
END:VEVENT
BEGIN:VEVENT
UID:kw-2327-34@kalenderwoche.info
DTSTAMP:20260425T011601Z
DTSTART;VALUE=DATE:23270822
DTEND;VALUE=DATE:23270829
SUMMARY:KW 34 (gerade)
DESCRIPTION:Kalenderwoche 34 im Jahr 2327\nMontag: 22.08.2327\nSonntag: 28.08.2327\nTyp: gerade Woche\nMehr unter: https://kalenderwoche.info/2327/kw-34
URL:https://kalenderwoche.info/2327/kw-34
CATEGORIES:Kalenderwoche
TRANSP:TRANSPARENT
END:VEVENT
BEGIN:VEVENT
UID:kw-2327-35@kalenderwoche.info
DTSTAMP:20260425T011601Z
DTSTART;VALUE=DATE:23270829
DTEND;VALUE=DATE:23270905
SUMMARY:KW 35 (ungerade)
DESCRIPTION:Kalenderwoche 35 im Jahr 2327\nMontag: 29.08.2327\nSonntag: 04.09.2327\nTyp: ungerade Woche\nMehr unter: https://kalenderwoche.info/2327/kw-35
URL:https://kalenderwoche.info/2327/kw-35
CATEGORIES:Kalenderwoche
TRANSP:TRANSPARENT
END:VEVENT
BEGIN:VEVENT
UID:kw-2327-36@kalenderwoche.info
DTSTAMP:20260425T011601Z
DTSTART;VALUE=DATE:23270905
DTEND;VALUE=DATE:23270912
SUMMARY:KW 36 (gerade)
DESCRIPTION:Kalenderwoche 36 im Jahr 2327\nMontag: 05.09.2327\nSonntag: 11.09.2327\nTyp: gerade Woche\nMehr unter: https://kalenderwoche.info/2327/kw-36
URL:https://kalenderwoche.info/2327/kw-36
CATEGORIES:Kalenderwoche
TRANSP:TRANSPARENT
END:VEVENT
BEGIN:VEVENT
UID:kw-2327-37@kalenderwoche.info
DTSTAMP:20260425T011601Z
DTSTART;VALUE=DATE:23270912
DTEND;VALUE=DATE:23270919
SUMMARY:KW 37 (ungerade)
DESCRIPTION:Kalenderwoche 37 im Jahr 2327\nMontag: 12.09.2327\nSonntag: 18.09.2327\nTyp: ungerade Woche\nMehr unter: https://kalenderwoche.info/2327/kw-37
URL:https://kalenderwoche.info/2327/kw-37
CATEGORIES:Kalenderwoche
TRANSP:TRANSPARENT
END:VEVENT
BEGIN:VEVENT
UID:kw-2327-38@kalenderwoche.info
DTSTAMP:20260425T011601Z
DTSTART;VALUE=DATE:23270919
DTEND;VALUE=DATE:23270926
SUMMARY:KW 38 (gerade)
DESCRIPTION:Kalenderwoche 38 im Jahr 2327\nMontag: 19.09.2327\nSonntag: 25.09.2327\nTyp: gerade Woche\nMehr unter: https://kalenderwoche.info/2327/kw-38
URL:https://kalenderwoche.info/2327/kw-38
CATEGORIES:Kalenderwoche
TRANSP:TRANSPARENT
END:VEVENT
BEGIN:VEVENT
UID:kw-2327-39@kalenderwoche.info
DTSTAMP:20260425T011601Z
DTSTART;VALUE=DATE:23270926
DTEND;VALUE=DATE:23271003
SUMMARY:KW 39 (ungerade)
DESCRIPTION:Kalenderwoche 39 im Jahr 2327\nMontag: 26.09.2327\nSonntag: 02.10.2327\nTyp: ungerade Woche\nMehr unter: https://kalenderwoche.info/2327/kw-39
URL:https://kalenderwoche.info/2327/kw-39
CATEGORIES:Kalenderwoche
TRANSP:TRANSPARENT
END:VEVENT
BEGIN:VEVENT
UID:kw-2327-40@kalenderwoche.info
DTSTAMP:20260425T011601Z
DTSTART;VALUE=DATE:23271003
DTEND;VALUE=DATE:23271010
SUMMARY:KW 40 (gerade)
DESCRIPTION:Kalenderwoche 40 im Jahr 2327\nMontag: 03.10.2327\nSonntag: 09.10.2327\nTyp: gerade Woche\nMehr unter: https://kalenderwoche.info/2327/kw-40
URL:https://kalenderwoche.info/2327/kw-40
CATEGORIES:Kalenderwoche
TRANSP:TRANSPARENT
END:VEVENT
BEGIN:VEVENT
UID:kw-2327-41@kalenderwoche.info
DTSTAMP:20260425T011601Z
DTSTART;VALUE=DATE:23271010
DTEND;VALUE=DATE:23271017
SUMMARY:KW 41 (ungerade)
DESCRIPTION:Kalenderwoche 41 im Jahr 2327\nMontag: 10.10.2327\nSonntag: 16.10.2327\nTyp: ungerade Woche\nMehr unter: https://kalenderwoche.info/2327/kw-41
URL:https://kalenderwoche.info/2327/kw-41
CATEGORIES:Kalenderwoche
TRANSP:TRANSPARENT
END:VEVENT
BEGIN:VEVENT
UID:kw-2327-42@kalenderwoche.info
DTSTAMP:20260425T011601Z
DTSTART;VALUE=DATE:23271017
DTEND;VALUE=DATE:23271024
SUMMARY:KW 42 (gerade)
DESCRIPTION:Kalenderwoche 42 im Jahr 2327\nMontag: 17.10.2327\nSonntag: 23.10.2327\nTyp: gerade Woche\nMehr unter: https://kalenderwoche.info/2327/kw-42
URL:https://kalenderwoche.info/2327/kw-42
CATEGORIES:Kalenderwoche
TRANSP:TRANSPARENT
END:VEVENT
BEGIN:VEVENT
UID:kw-2327-43@kalenderwoche.info
DTSTAMP:20260425T011601Z
DTSTART;VALUE=DATE:23271024
DTEND;VALUE=DATE:23271031
SUMMARY:KW 43 (ungerade)
DESCRIPTION:Kalenderwoche 43 im Jahr 2327\nMontag: 24.10.2327\nSonntag: 30.10.2327\nTyp: ungerade Woche\nMehr unter: https://kalenderwoche.info/2327/kw-43
URL:https://kalenderwoche.info/2327/kw-43
CATEGORIES:Kalenderwoche
TRANSP:TRANSPARENT
END:VEVENT
BEGIN:VEVENT
UID:kw-2327-44@kalenderwoche.info
DTSTAMP:20260425T011601Z
DTSTART;VALUE=DATE:23271031
DTEND;VALUE=DATE:23271107
SUMMARY:KW 44 (gerade)
DESCRIPTION:Kalenderwoche 44 im Jahr 2327\nMontag: 31.10.2327\nSonntag: 06.11.2327\nTyp: gerade Woche\nMehr unter: https://kalenderwoche.info/2327/kw-44
URL:https://kalenderwoche.info/2327/kw-44
CATEGORIES:Kalenderwoche
TRANSP:TRANSPARENT
END:VEVENT
BEGIN:VEVENT
UID:kw-2327-45@kalenderwoche.info
DTSTAMP:20260425T011601Z
DTSTART;VALUE=DATE:23271107
DTEND;VALUE=DATE:23271114
SUMMARY:KW 45 (ungerade)
DESCRIPTION:Kalenderwoche 45 im Jahr 2327\nMontag: 07.11.2327\nSonntag: 13.11.2327\nTyp: ungerade Woche\nMehr unter: https://kalenderwoche.info/2327/kw-45
URL:https://kalenderwoche.info/2327/kw-45
CATEGORIES:Kalenderwoche
TRANSP:TRANSPARENT
END:VEVENT
BEGIN:VEVENT
UID:kw-2327-46@kalenderwoche.info
DTSTAMP:20260425T011601Z
DTSTART;VALUE=DATE:23271114
DTEND;VALUE=DATE:23271121
SUMMARY:KW 46 (gerade)
DESCRIPTION:Kalenderwoche 46 im Jahr 2327\nMontag: 14.11.2327\nSonntag: 20.11.2327\nTyp: gerade Woche\nMehr unter: https://kalenderwoche.info/2327/kw-46
URL:https://kalenderwoche.info/2327/kw-46
CATEGORIES:Kalenderwoche
TRANSP:TRANSPARENT
END:VEVENT
BEGIN:VEVENT
UID:kw-2327-47@kalenderwoche.info
DTSTAMP:20260425T011601Z
DTSTART;VALUE=DATE:23271121
DTEND;VALUE=DATE:23271128
SUMMARY:KW 47 (ungerade)
DESCRIPTION:Kalenderwoche 47 im Jahr 2327\nMontag: 21.11.2327\nSonntag: 27.11.2327\nTyp: ungerade Woche\nMehr unter: https://kalenderwoche.info/2327/kw-47
URL:https://kalenderwoche.info/2327/kw-47
CATEGORIES:Kalenderwoche
TRANSP:TRANSPARENT
END:VEVENT
BEGIN:VEVENT
UID:kw-2327-48@kalenderwoche.info
DTSTAMP:20260425T011601Z
DTSTART;VALUE=DATE:23271128
DTEND;VALUE=DATE:23271205
SUMMARY:KW 48 (gerade)
DESCRIPTION:Kalenderwoche 48 im Jahr 2327\nMontag: 28.11.2327\nSonntag: 04.12.2327\nTyp: gerade Woche\nMehr unter: https://kalenderwoche.info/2327/kw-48
URL:https://kalenderwoche.info/2327/kw-48
CATEGORIES:Kalenderwoche
TRANSP:TRANSPARENT
END:VEVENT
BEGIN:VEVENT
UID:kw-2327-49@kalenderwoche.info
DTSTAMP:20260425T011601Z
DTSTART;VALUE=DATE:23271205
DTEND;VALUE=DATE:23271212
SUMMARY:KW 49 (ungerade)
DESCRIPTION:Kalenderwoche 49 im Jahr 2327\nMontag: 05.12.2327\nSonntag: 11.12.2327\nTyp: ungerade Woche\nMehr unter: https://kalenderwoche.info/2327/kw-49
URL:https://kalenderwoche.info/2327/kw-49
CATEGORIES:Kalenderwoche
TRANSP:TRANSPARENT
END:VEVENT
BEGIN:VEVENT
UID:kw-2327-50@kalenderwoche.info
DTSTAMP:20260425T011601Z
DTSTART;VALUE=DATE:23271212
DTEND;VALUE=DATE:23271219
SUMMARY:KW 50 (gerade)
DESCRIPTION:Kalenderwoche 50 im Jahr 2327\nMontag: 12.12.2327\nSonntag: 18.12.2327\nTyp: gerade Woche\nMehr unter: https://kalenderwoche.info/2327/kw-50
URL:https://kalenderwoche.info/2327/kw-50
CATEGORIES:Kalenderwoche
TRANSP:TRANSPARENT
END:VEVENT
BEGIN:VEVENT
UID:kw-2327-51@kalenderwoche.info
DTSTAMP:20260425T011601Z
DTSTART;VALUE=DATE:23271219
DTEND;VALUE=DATE:23271226
SUMMARY:KW 51 (ungerade)
DESCRIPTION:Kalenderwoche 51 im Jahr 2327\nMontag: 19.12.2327\nSonntag: 25.12.2327\nTyp: ungerade Woche\nMehr unter: https://kalenderwoche.info/2327/kw-51
URL:https://kalenderwoche.info/2327/kw-51
CATEGORIES:Kalenderwoche
TRANSP:TRANSPARENT
END:VEVENT
BEGIN:VEVENT
UID:kw-2327-52@kalenderwoche.info
DTSTAMP:20260425T011601Z
DTSTART;VALUE=DATE:23271226
DTEND;VALUE=DATE:23280102
SUMMARY:KW 52 (gerade)
DESCRIPTION:Kalenderwoche 52 im Jahr 2327\nMontag: 26.12.2327\nSonntag: 01.01.2328\nTyp: gerade Woche\nMehr unter: https://kalenderwoche.info/2327/kw-52
URL:https://kalenderwoche.info/2327/kw-52
CATEGORIES:Kalenderwoche
TRANSP:TRANSPARENT
END:VEVENT
END:VCALENDAR
