BEGIN:VCALENDAR
VERSION:2.0
PRODID:-//kalenderwoche.info//Kalender//DE
CALSCALE:GREGORIAN
METHOD:PUBLISH
X-WR-CALNAME:Kalenderwochen 2338
X-WR-CALDESC:Alle Kalenderwochen für das Jahr 2338
X-WR-TIMEZONE:Europe/Berlin
BEGIN:VEVENT
UID:kw-2338-1@kalenderwoche.info
DTSTAMP:20260425T152409Z
DTSTART;VALUE=DATE:23380103
DTEND;VALUE=DATE:23380110
SUMMARY:KW 1 (ungerade)
DESCRIPTION:Kalenderwoche 1 im Jahr 2338\nMontag: 03.01.2338\nSonntag: 09.01.2338\nTyp: ungerade Woche\nMehr unter: https://kalenderwoche.info/2338/kw-1
URL:https://kalenderwoche.info/2338/kw-1
CATEGORIES:Kalenderwoche
TRANSP:TRANSPARENT
END:VEVENT
BEGIN:VEVENT
UID:kw-2338-2@kalenderwoche.info
DTSTAMP:20260425T152409Z
DTSTART;VALUE=DATE:23380110
DTEND;VALUE=DATE:23380117
SUMMARY:KW 2 (gerade)
DESCRIPTION:Kalenderwoche 2 im Jahr 2338\nMontag: 10.01.2338\nSonntag: 16.01.2338\nTyp: gerade Woche\nMehr unter: https://kalenderwoche.info/2338/kw-2
URL:https://kalenderwoche.info/2338/kw-2
CATEGORIES:Kalenderwoche
TRANSP:TRANSPARENT
END:VEVENT
BEGIN:VEVENT
UID:kw-2338-3@kalenderwoche.info
DTSTAMP:20260425T152409Z
DTSTART;VALUE=DATE:23380117
DTEND;VALUE=DATE:23380124
SUMMARY:KW 3 (ungerade)
DESCRIPTION:Kalenderwoche 3 im Jahr 2338\nMontag: 17.01.2338\nSonntag: 23.01.2338\nTyp: ungerade Woche\nMehr unter: https://kalenderwoche.info/2338/kw-3
URL:https://kalenderwoche.info/2338/kw-3
CATEGORIES:Kalenderwoche
TRANSP:TRANSPARENT
END:VEVENT
BEGIN:VEVENT
UID:kw-2338-4@kalenderwoche.info
DTSTAMP:20260425T152409Z
DTSTART;VALUE=DATE:23380124
DTEND;VALUE=DATE:23380131
SUMMARY:KW 4 (gerade)
DESCRIPTION:Kalenderwoche 4 im Jahr 2338\nMontag: 24.01.2338\nSonntag: 30.01.2338\nTyp: gerade Woche\nMehr unter: https://kalenderwoche.info/2338/kw-4
URL:https://kalenderwoche.info/2338/kw-4
CATEGORIES:Kalenderwoche
TRANSP:TRANSPARENT
END:VEVENT
BEGIN:VEVENT
UID:kw-2338-5@kalenderwoche.info
DTSTAMP:20260425T152409Z
DTSTART;VALUE=DATE:23380131
DTEND;VALUE=DATE:23380207
SUMMARY:KW 5 (ungerade)
DESCRIPTION:Kalenderwoche 5 im Jahr 2338\nMontag: 31.01.2338\nSonntag: 06.02.2338\nTyp: ungerade Woche\nMehr unter: https://kalenderwoche.info/2338/kw-5
URL:https://kalenderwoche.info/2338/kw-5
CATEGORIES:Kalenderwoche
TRANSP:TRANSPARENT
END:VEVENT
BEGIN:VEVENT
UID:kw-2338-6@kalenderwoche.info
DTSTAMP:20260425T152409Z
DTSTART;VALUE=DATE:23380207
DTEND;VALUE=DATE:23380214
SUMMARY:KW 6 (gerade)
DESCRIPTION:Kalenderwoche 6 im Jahr 2338\nMontag: 07.02.2338\nSonntag: 13.02.2338\nTyp: gerade Woche\nMehr unter: https://kalenderwoche.info/2338/kw-6
URL:https://kalenderwoche.info/2338/kw-6
CATEGORIES:Kalenderwoche
TRANSP:TRANSPARENT
END:VEVENT
BEGIN:VEVENT
UID:kw-2338-7@kalenderwoche.info
DTSTAMP:20260425T152409Z
DTSTART;VALUE=DATE:23380214
DTEND;VALUE=DATE:23380221
SUMMARY:KW 7 (ungerade)
DESCRIPTION:Kalenderwoche 7 im Jahr 2338\nMontag: 14.02.2338\nSonntag: 20.02.2338\nTyp: ungerade Woche\nMehr unter: https://kalenderwoche.info/2338/kw-7
URL:https://kalenderwoche.info/2338/kw-7
CATEGORIES:Kalenderwoche
TRANSP:TRANSPARENT
END:VEVENT
BEGIN:VEVENT
UID:kw-2338-8@kalenderwoche.info
DTSTAMP:20260425T152409Z
DTSTART;VALUE=DATE:23380221
DTEND;VALUE=DATE:23380228
SUMMARY:KW 8 (gerade)
DESCRIPTION:Kalenderwoche 8 im Jahr 2338\nMontag: 21.02.2338\nSonntag: 27.02.2338\nTyp: gerade Woche\nMehr unter: https://kalenderwoche.info/2338/kw-8
URL:https://kalenderwoche.info/2338/kw-8
CATEGORIES:Kalenderwoche
TRANSP:TRANSPARENT
END:VEVENT
BEGIN:VEVENT
UID:kw-2338-9@kalenderwoche.info
DTSTAMP:20260425T152409Z
DTSTART;VALUE=DATE:23380228
DTEND;VALUE=DATE:23380307
SUMMARY:KW 9 (ungerade)
DESCRIPTION:Kalenderwoche 9 im Jahr 2338\nMontag: 28.02.2338\nSonntag: 06.03.2338\nTyp: ungerade Woche\nMehr unter: https://kalenderwoche.info/2338/kw-9
URL:https://kalenderwoche.info/2338/kw-9
CATEGORIES:Kalenderwoche
TRANSP:TRANSPARENT
END:VEVENT
BEGIN:VEVENT
UID:kw-2338-10@kalenderwoche.info
DTSTAMP:20260425T152409Z
DTSTART;VALUE=DATE:23380307
DTEND;VALUE=DATE:23380314
SUMMARY:KW 10 (gerade)
DESCRIPTION:Kalenderwoche 10 im Jahr 2338\nMontag: 07.03.2338\nSonntag: 13.03.2338\nTyp: gerade Woche\nMehr unter: https://kalenderwoche.info/2338/kw-10
URL:https://kalenderwoche.info/2338/kw-10
CATEGORIES:Kalenderwoche
TRANSP:TRANSPARENT
END:VEVENT
BEGIN:VEVENT
UID:kw-2338-11@kalenderwoche.info
DTSTAMP:20260425T152409Z
DTSTART;VALUE=DATE:23380314
DTEND;VALUE=DATE:23380321
SUMMARY:KW 11 (ungerade)
DESCRIPTION:Kalenderwoche 11 im Jahr 2338\nMontag: 14.03.2338\nSonntag: 20.03.2338\nTyp: ungerade Woche\nMehr unter: https://kalenderwoche.info/2338/kw-11
URL:https://kalenderwoche.info/2338/kw-11
CATEGORIES:Kalenderwoche
TRANSP:TRANSPARENT
END:VEVENT
BEGIN:VEVENT
UID:kw-2338-12@kalenderwoche.info
DTSTAMP:20260425T152409Z
DTSTART;VALUE=DATE:23380321
DTEND;VALUE=DATE:23380328
SUMMARY:KW 12 (gerade)
DESCRIPTION:Kalenderwoche 12 im Jahr 2338\nMontag: 21.03.2338\nSonntag: 27.03.2338\nTyp: gerade Woche\nMehr unter: https://kalenderwoche.info/2338/kw-12
URL:https://kalenderwoche.info/2338/kw-12
CATEGORIES:Kalenderwoche
TRANSP:TRANSPARENT
END:VEVENT
BEGIN:VEVENT
UID:kw-2338-13@kalenderwoche.info
DTSTAMP:20260425T152409Z
DTSTART;VALUE=DATE:23380328
DTEND;VALUE=DATE:23380404
SUMMARY:KW 13 (ungerade)
DESCRIPTION:Kalenderwoche 13 im Jahr 2338\nMontag: 28.03.2338\nSonntag: 03.04.2338\nTyp: ungerade Woche\nMehr unter: https://kalenderwoche.info/2338/kw-13
URL:https://kalenderwoche.info/2338/kw-13
CATEGORIES:Kalenderwoche
TRANSP:TRANSPARENT
END:VEVENT
BEGIN:VEVENT
UID:kw-2338-14@kalenderwoche.info
DTSTAMP:20260425T152409Z
DTSTART;VALUE=DATE:23380404
DTEND;VALUE=DATE:23380411
SUMMARY:KW 14 (gerade)
DESCRIPTION:Kalenderwoche 14 im Jahr 2338\nMontag: 04.04.2338\nSonntag: 10.04.2338\nTyp: gerade Woche\nMehr unter: https://kalenderwoche.info/2338/kw-14
URL:https://kalenderwoche.info/2338/kw-14
CATEGORIES:Kalenderwoche
TRANSP:TRANSPARENT
END:VEVENT
BEGIN:VEVENT
UID:kw-2338-15@kalenderwoche.info
DTSTAMP:20260425T152409Z
DTSTART;VALUE=DATE:23380411
DTEND;VALUE=DATE:23380418
SUMMARY:KW 15 (ungerade)
DESCRIPTION:Kalenderwoche 15 im Jahr 2338\nMontag: 11.04.2338\nSonntag: 17.04.2338\nTyp: ungerade Woche\nMehr unter: https://kalenderwoche.info/2338/kw-15
URL:https://kalenderwoche.info/2338/kw-15
CATEGORIES:Kalenderwoche
TRANSP:TRANSPARENT
END:VEVENT
BEGIN:VEVENT
UID:kw-2338-16@kalenderwoche.info
DTSTAMP:20260425T152409Z
DTSTART;VALUE=DATE:23380418
DTEND;VALUE=DATE:23380425
SUMMARY:KW 16 (gerade)
DESCRIPTION:Kalenderwoche 16 im Jahr 2338\nMontag: 18.04.2338\nSonntag: 24.04.2338\nTyp: gerade Woche\nMehr unter: https://kalenderwoche.info/2338/kw-16
URL:https://kalenderwoche.info/2338/kw-16
CATEGORIES:Kalenderwoche
TRANSP:TRANSPARENT
END:VEVENT
BEGIN:VEVENT
UID:kw-2338-17@kalenderwoche.info
DTSTAMP:20260425T152409Z
DTSTART;VALUE=DATE:23380425
DTEND;VALUE=DATE:23380502
SUMMARY:KW 17 (ungerade)
DESCRIPTION:Kalenderwoche 17 im Jahr 2338\nMontag: 25.04.2338\nSonntag: 01.05.2338\nTyp: ungerade Woche\nMehr unter: https://kalenderwoche.info/2338/kw-17
URL:https://kalenderwoche.info/2338/kw-17
CATEGORIES:Kalenderwoche
TRANSP:TRANSPARENT
END:VEVENT
BEGIN:VEVENT
UID:kw-2338-18@kalenderwoche.info
DTSTAMP:20260425T152409Z
DTSTART;VALUE=DATE:23380502
DTEND;VALUE=DATE:23380509
SUMMARY:KW 18 (gerade)
DESCRIPTION:Kalenderwoche 18 im Jahr 2338\nMontag: 02.05.2338\nSonntag: 08.05.2338\nTyp: gerade Woche\nMehr unter: https://kalenderwoche.info/2338/kw-18
URL:https://kalenderwoche.info/2338/kw-18
CATEGORIES:Kalenderwoche
TRANSP:TRANSPARENT
END:VEVENT
BEGIN:VEVENT
UID:kw-2338-19@kalenderwoche.info
DTSTAMP:20260425T152409Z
DTSTART;VALUE=DATE:23380509
DTEND;VALUE=DATE:23380516
SUMMARY:KW 19 (ungerade)
DESCRIPTION:Kalenderwoche 19 im Jahr 2338\nMontag: 09.05.2338\nSonntag: 15.05.2338\nTyp: ungerade Woche\nMehr unter: https://kalenderwoche.info/2338/kw-19
URL:https://kalenderwoche.info/2338/kw-19
CATEGORIES:Kalenderwoche
TRANSP:TRANSPARENT
END:VEVENT
BEGIN:VEVENT
UID:kw-2338-20@kalenderwoche.info
DTSTAMP:20260425T152409Z
DTSTART;VALUE=DATE:23380516
DTEND;VALUE=DATE:23380523
SUMMARY:KW 20 (gerade)
DESCRIPTION:Kalenderwoche 20 im Jahr 2338\nMontag: 16.05.2338\nSonntag: 22.05.2338\nTyp: gerade Woche\nMehr unter: https://kalenderwoche.info/2338/kw-20
URL:https://kalenderwoche.info/2338/kw-20
CATEGORIES:Kalenderwoche
TRANSP:TRANSPARENT
END:VEVENT
BEGIN:VEVENT
UID:kw-2338-21@kalenderwoche.info
DTSTAMP:20260425T152409Z
DTSTART;VALUE=DATE:23380523
DTEND;VALUE=DATE:23380530
SUMMARY:KW 21 (ungerade)
DESCRIPTION:Kalenderwoche 21 im Jahr 2338\nMontag: 23.05.2338\nSonntag: 29.05.2338\nTyp: ungerade Woche\nMehr unter: https://kalenderwoche.info/2338/kw-21
URL:https://kalenderwoche.info/2338/kw-21
CATEGORIES:Kalenderwoche
TRANSP:TRANSPARENT
END:VEVENT
BEGIN:VEVENT
UID:kw-2338-22@kalenderwoche.info
DTSTAMP:20260425T152409Z
DTSTART;VALUE=DATE:23380530
DTEND;VALUE=DATE:23380606
SUMMARY:KW 22 (gerade)
DESCRIPTION:Kalenderwoche 22 im Jahr 2338\nMontag: 30.05.2338\nSonntag: 05.06.2338\nTyp: gerade Woche\nMehr unter: https://kalenderwoche.info/2338/kw-22
URL:https://kalenderwoche.info/2338/kw-22
CATEGORIES:Kalenderwoche
TRANSP:TRANSPARENT
END:VEVENT
BEGIN:VEVENT
UID:kw-2338-23@kalenderwoche.info
DTSTAMP:20260425T152409Z
DTSTART;VALUE=DATE:23380606
DTEND;VALUE=DATE:23380613
SUMMARY:KW 23 (ungerade)
DESCRIPTION:Kalenderwoche 23 im Jahr 2338\nMontag: 06.06.2338\nSonntag: 12.06.2338\nTyp: ungerade Woche\nMehr unter: https://kalenderwoche.info/2338/kw-23
URL:https://kalenderwoche.info/2338/kw-23
CATEGORIES:Kalenderwoche
TRANSP:TRANSPARENT
END:VEVENT
BEGIN:VEVENT
UID:kw-2338-24@kalenderwoche.info
DTSTAMP:20260425T152409Z
DTSTART;VALUE=DATE:23380613
DTEND;VALUE=DATE:23380620
SUMMARY:KW 24 (gerade)
DESCRIPTION:Kalenderwoche 24 im Jahr 2338\nMontag: 13.06.2338\nSonntag: 19.06.2338\nTyp: gerade Woche\nMehr unter: https://kalenderwoche.info/2338/kw-24
URL:https://kalenderwoche.info/2338/kw-24
CATEGORIES:Kalenderwoche
TRANSP:TRANSPARENT
END:VEVENT
BEGIN:VEVENT
UID:kw-2338-25@kalenderwoche.info
DTSTAMP:20260425T152409Z
DTSTART;VALUE=DATE:23380620
DTEND;VALUE=DATE:23380627
SUMMARY:KW 25 (ungerade)
DESCRIPTION:Kalenderwoche 25 im Jahr 2338\nMontag: 20.06.2338\nSonntag: 26.06.2338\nTyp: ungerade Woche\nMehr unter: https://kalenderwoche.info/2338/kw-25
URL:https://kalenderwoche.info/2338/kw-25
CATEGORIES:Kalenderwoche
TRANSP:TRANSPARENT
END:VEVENT
BEGIN:VEVENT
UID:kw-2338-26@kalenderwoche.info
DTSTAMP:20260425T152409Z
DTSTART;VALUE=DATE:23380627
DTEND;VALUE=DATE:23380704
SUMMARY:KW 26 (gerade)
DESCRIPTION:Kalenderwoche 26 im Jahr 2338\nMontag: 27.06.2338\nSonntag: 03.07.2338\nTyp: gerade Woche\nMehr unter: https://kalenderwoche.info/2338/kw-26
URL:https://kalenderwoche.info/2338/kw-26
CATEGORIES:Kalenderwoche
TRANSP:TRANSPARENT
END:VEVENT
BEGIN:VEVENT
UID:kw-2338-27@kalenderwoche.info
DTSTAMP:20260425T152409Z
DTSTART;VALUE=DATE:23380704
DTEND;VALUE=DATE:23380711
SUMMARY:KW 27 (ungerade)
DESCRIPTION:Kalenderwoche 27 im Jahr 2338\nMontag: 04.07.2338\nSonntag: 10.07.2338\nTyp: ungerade Woche\nMehr unter: https://kalenderwoche.info/2338/kw-27
URL:https://kalenderwoche.info/2338/kw-27
CATEGORIES:Kalenderwoche
TRANSP:TRANSPARENT
END:VEVENT
BEGIN:VEVENT
UID:kw-2338-28@kalenderwoche.info
DTSTAMP:20260425T152409Z
DTSTART;VALUE=DATE:23380711
DTEND;VALUE=DATE:23380718
SUMMARY:KW 28 (gerade)
DESCRIPTION:Kalenderwoche 28 im Jahr 2338\nMontag: 11.07.2338\nSonntag: 17.07.2338\nTyp: gerade Woche\nMehr unter: https://kalenderwoche.info/2338/kw-28
URL:https://kalenderwoche.info/2338/kw-28
CATEGORIES:Kalenderwoche
TRANSP:TRANSPARENT
END:VEVENT
BEGIN:VEVENT
UID:kw-2338-29@kalenderwoche.info
DTSTAMP:20260425T152409Z
DTSTART;VALUE=DATE:23380718
DTEND;VALUE=DATE:23380725
SUMMARY:KW 29 (ungerade)
DESCRIPTION:Kalenderwoche 29 im Jahr 2338\nMontag: 18.07.2338\nSonntag: 24.07.2338\nTyp: ungerade Woche\nMehr unter: https://kalenderwoche.info/2338/kw-29
URL:https://kalenderwoche.info/2338/kw-29
CATEGORIES:Kalenderwoche
TRANSP:TRANSPARENT
END:VEVENT
BEGIN:VEVENT
UID:kw-2338-30@kalenderwoche.info
DTSTAMP:20260425T152409Z
DTSTART;VALUE=DATE:23380725
DTEND;VALUE=DATE:23380801
SUMMARY:KW 30 (gerade)
DESCRIPTION:Kalenderwoche 30 im Jahr 2338\nMontag: 25.07.2338\nSonntag: 31.07.2338\nTyp: gerade Woche\nMehr unter: https://kalenderwoche.info/2338/kw-30
URL:https://kalenderwoche.info/2338/kw-30
CATEGORIES:Kalenderwoche
TRANSP:TRANSPARENT
END:VEVENT
BEGIN:VEVENT
UID:kw-2338-31@kalenderwoche.info
DTSTAMP:20260425T152409Z
DTSTART;VALUE=DATE:23380801
DTEND;VALUE=DATE:23380808
SUMMARY:KW 31 (ungerade)
DESCRIPTION:Kalenderwoche 31 im Jahr 2338\nMontag: 01.08.2338\nSonntag: 07.08.2338\nTyp: ungerade Woche\nMehr unter: https://kalenderwoche.info/2338/kw-31
URL:https://kalenderwoche.info/2338/kw-31
CATEGORIES:Kalenderwoche
TRANSP:TRANSPARENT
END:VEVENT
BEGIN:VEVENT
UID:kw-2338-32@kalenderwoche.info
DTSTAMP:20260425T152409Z
DTSTART;VALUE=DATE:23380808
DTEND;VALUE=DATE:23380815
SUMMARY:KW 32 (gerade)
DESCRIPTION:Kalenderwoche 32 im Jahr 2338\nMontag: 08.08.2338\nSonntag: 14.08.2338\nTyp: gerade Woche\nMehr unter: https://kalenderwoche.info/2338/kw-32
URL:https://kalenderwoche.info/2338/kw-32
CATEGORIES:Kalenderwoche
TRANSP:TRANSPARENT
END:VEVENT
BEGIN:VEVENT
UID:kw-2338-33@kalenderwoche.info
DTSTAMP:20260425T152409Z
DTSTART;VALUE=DATE:23380815
DTEND;VALUE=DATE:23380822
SUMMARY:KW 33 (ungerade)
DESCRIPTION:Kalenderwoche 33 im Jahr 2338\nMontag: 15.08.2338\nSonntag: 21.08.2338\nTyp: ungerade Woche\nMehr unter: https://kalenderwoche.info/2338/kw-33
URL:https://kalenderwoche.info/2338/kw-33
CATEGORIES:Kalenderwoche
TRANSP:TRANSPARENT
END:VEVENT
BEGIN:VEVENT
UID:kw-2338-34@kalenderwoche.info
DTSTAMP:20260425T152409Z
DTSTART;VALUE=DATE:23380822
DTEND;VALUE=DATE:23380829
SUMMARY:KW 34 (gerade)
DESCRIPTION:Kalenderwoche 34 im Jahr 2338\nMontag: 22.08.2338\nSonntag: 28.08.2338\nTyp: gerade Woche\nMehr unter: https://kalenderwoche.info/2338/kw-34
URL:https://kalenderwoche.info/2338/kw-34
CATEGORIES:Kalenderwoche
TRANSP:TRANSPARENT
END:VEVENT
BEGIN:VEVENT
UID:kw-2338-35@kalenderwoche.info
DTSTAMP:20260425T152409Z
DTSTART;VALUE=DATE:23380829
DTEND;VALUE=DATE:23380905
SUMMARY:KW 35 (ungerade)
DESCRIPTION:Kalenderwoche 35 im Jahr 2338\nMontag: 29.08.2338\nSonntag: 04.09.2338\nTyp: ungerade Woche\nMehr unter: https://kalenderwoche.info/2338/kw-35
URL:https://kalenderwoche.info/2338/kw-35
CATEGORIES:Kalenderwoche
TRANSP:TRANSPARENT
END:VEVENT
BEGIN:VEVENT
UID:kw-2338-36@kalenderwoche.info
DTSTAMP:20260425T152409Z
DTSTART;VALUE=DATE:23380905
DTEND;VALUE=DATE:23380912
SUMMARY:KW 36 (gerade)
DESCRIPTION:Kalenderwoche 36 im Jahr 2338\nMontag: 05.09.2338\nSonntag: 11.09.2338\nTyp: gerade Woche\nMehr unter: https://kalenderwoche.info/2338/kw-36
URL:https://kalenderwoche.info/2338/kw-36
CATEGORIES:Kalenderwoche
TRANSP:TRANSPARENT
END:VEVENT
BEGIN:VEVENT
UID:kw-2338-37@kalenderwoche.info
DTSTAMP:20260425T152409Z
DTSTART;VALUE=DATE:23380912
DTEND;VALUE=DATE:23380919
SUMMARY:KW 37 (ungerade)
DESCRIPTION:Kalenderwoche 37 im Jahr 2338\nMontag: 12.09.2338\nSonntag: 18.09.2338\nTyp: ungerade Woche\nMehr unter: https://kalenderwoche.info/2338/kw-37
URL:https://kalenderwoche.info/2338/kw-37
CATEGORIES:Kalenderwoche
TRANSP:TRANSPARENT
END:VEVENT
BEGIN:VEVENT
UID:kw-2338-38@kalenderwoche.info
DTSTAMP:20260425T152409Z
DTSTART;VALUE=DATE:23380919
DTEND;VALUE=DATE:23380926
SUMMARY:KW 38 (gerade)
DESCRIPTION:Kalenderwoche 38 im Jahr 2338\nMontag: 19.09.2338\nSonntag: 25.09.2338\nTyp: gerade Woche\nMehr unter: https://kalenderwoche.info/2338/kw-38
URL:https://kalenderwoche.info/2338/kw-38
CATEGORIES:Kalenderwoche
TRANSP:TRANSPARENT
END:VEVENT
BEGIN:VEVENT
UID:kw-2338-39@kalenderwoche.info
DTSTAMP:20260425T152409Z
DTSTART;VALUE=DATE:23380926
DTEND;VALUE=DATE:23381003
SUMMARY:KW 39 (ungerade)
DESCRIPTION:Kalenderwoche 39 im Jahr 2338\nMontag: 26.09.2338\nSonntag: 02.10.2338\nTyp: ungerade Woche\nMehr unter: https://kalenderwoche.info/2338/kw-39
URL:https://kalenderwoche.info/2338/kw-39
CATEGORIES:Kalenderwoche
TRANSP:TRANSPARENT
END:VEVENT
BEGIN:VEVENT
UID:kw-2338-40@kalenderwoche.info
DTSTAMP:20260425T152409Z
DTSTART;VALUE=DATE:23381003
DTEND;VALUE=DATE:23381010
SUMMARY:KW 40 (gerade)
DESCRIPTION:Kalenderwoche 40 im Jahr 2338\nMontag: 03.10.2338\nSonntag: 09.10.2338\nTyp: gerade Woche\nMehr unter: https://kalenderwoche.info/2338/kw-40
URL:https://kalenderwoche.info/2338/kw-40
CATEGORIES:Kalenderwoche
TRANSP:TRANSPARENT
END:VEVENT
BEGIN:VEVENT
UID:kw-2338-41@kalenderwoche.info
DTSTAMP:20260425T152409Z
DTSTART;VALUE=DATE:23381010
DTEND;VALUE=DATE:23381017
SUMMARY:KW 41 (ungerade)
DESCRIPTION:Kalenderwoche 41 im Jahr 2338\nMontag: 10.10.2338\nSonntag: 16.10.2338\nTyp: ungerade Woche\nMehr unter: https://kalenderwoche.info/2338/kw-41
URL:https://kalenderwoche.info/2338/kw-41
CATEGORIES:Kalenderwoche
TRANSP:TRANSPARENT
END:VEVENT
BEGIN:VEVENT
UID:kw-2338-42@kalenderwoche.info
DTSTAMP:20260425T152409Z
DTSTART;VALUE=DATE:23381017
DTEND;VALUE=DATE:23381024
SUMMARY:KW 42 (gerade)
DESCRIPTION:Kalenderwoche 42 im Jahr 2338\nMontag: 17.10.2338\nSonntag: 23.10.2338\nTyp: gerade Woche\nMehr unter: https://kalenderwoche.info/2338/kw-42
URL:https://kalenderwoche.info/2338/kw-42
CATEGORIES:Kalenderwoche
TRANSP:TRANSPARENT
END:VEVENT
BEGIN:VEVENT
UID:kw-2338-43@kalenderwoche.info
DTSTAMP:20260425T152409Z
DTSTART;VALUE=DATE:23381024
DTEND;VALUE=DATE:23381031
SUMMARY:KW 43 (ungerade)
DESCRIPTION:Kalenderwoche 43 im Jahr 2338\nMontag: 24.10.2338\nSonntag: 30.10.2338\nTyp: ungerade Woche\nMehr unter: https://kalenderwoche.info/2338/kw-43
URL:https://kalenderwoche.info/2338/kw-43
CATEGORIES:Kalenderwoche
TRANSP:TRANSPARENT
END:VEVENT
BEGIN:VEVENT
UID:kw-2338-44@kalenderwoche.info
DTSTAMP:20260425T152409Z
DTSTART;VALUE=DATE:23381031
DTEND;VALUE=DATE:23381107
SUMMARY:KW 44 (gerade)
DESCRIPTION:Kalenderwoche 44 im Jahr 2338\nMontag: 31.10.2338\nSonntag: 06.11.2338\nTyp: gerade Woche\nMehr unter: https://kalenderwoche.info/2338/kw-44
URL:https://kalenderwoche.info/2338/kw-44
CATEGORIES:Kalenderwoche
TRANSP:TRANSPARENT
END:VEVENT
BEGIN:VEVENT
UID:kw-2338-45@kalenderwoche.info
DTSTAMP:20260425T152409Z
DTSTART;VALUE=DATE:23381107
DTEND;VALUE=DATE:23381114
SUMMARY:KW 45 (ungerade)
DESCRIPTION:Kalenderwoche 45 im Jahr 2338\nMontag: 07.11.2338\nSonntag: 13.11.2338\nTyp: ungerade Woche\nMehr unter: https://kalenderwoche.info/2338/kw-45
URL:https://kalenderwoche.info/2338/kw-45
CATEGORIES:Kalenderwoche
TRANSP:TRANSPARENT
END:VEVENT
BEGIN:VEVENT
UID:kw-2338-46@kalenderwoche.info
DTSTAMP:20260425T152409Z
DTSTART;VALUE=DATE:23381114
DTEND;VALUE=DATE:23381121
SUMMARY:KW 46 (gerade)
DESCRIPTION:Kalenderwoche 46 im Jahr 2338\nMontag: 14.11.2338\nSonntag: 20.11.2338\nTyp: gerade Woche\nMehr unter: https://kalenderwoche.info/2338/kw-46
URL:https://kalenderwoche.info/2338/kw-46
CATEGORIES:Kalenderwoche
TRANSP:TRANSPARENT
END:VEVENT
BEGIN:VEVENT
UID:kw-2338-47@kalenderwoche.info
DTSTAMP:20260425T152409Z
DTSTART;VALUE=DATE:23381121
DTEND;VALUE=DATE:23381128
SUMMARY:KW 47 (ungerade)
DESCRIPTION:Kalenderwoche 47 im Jahr 2338\nMontag: 21.11.2338\nSonntag: 27.11.2338\nTyp: ungerade Woche\nMehr unter: https://kalenderwoche.info/2338/kw-47
URL:https://kalenderwoche.info/2338/kw-47
CATEGORIES:Kalenderwoche
TRANSP:TRANSPARENT
END:VEVENT
BEGIN:VEVENT
UID:kw-2338-48@kalenderwoche.info
DTSTAMP:20260425T152409Z
DTSTART;VALUE=DATE:23381128
DTEND;VALUE=DATE:23381205
SUMMARY:KW 48 (gerade)
DESCRIPTION:Kalenderwoche 48 im Jahr 2338\nMontag: 28.11.2338\nSonntag: 04.12.2338\nTyp: gerade Woche\nMehr unter: https://kalenderwoche.info/2338/kw-48
URL:https://kalenderwoche.info/2338/kw-48
CATEGORIES:Kalenderwoche
TRANSP:TRANSPARENT
END:VEVENT
BEGIN:VEVENT
UID:kw-2338-49@kalenderwoche.info
DTSTAMP:20260425T152409Z
DTSTART;VALUE=DATE:23381205
DTEND;VALUE=DATE:23381212
SUMMARY:KW 49 (ungerade)
DESCRIPTION:Kalenderwoche 49 im Jahr 2338\nMontag: 05.12.2338\nSonntag: 11.12.2338\nTyp: ungerade Woche\nMehr unter: https://kalenderwoche.info/2338/kw-49
URL:https://kalenderwoche.info/2338/kw-49
CATEGORIES:Kalenderwoche
TRANSP:TRANSPARENT
END:VEVENT
BEGIN:VEVENT
UID:kw-2338-50@kalenderwoche.info
DTSTAMP:20260425T152409Z
DTSTART;VALUE=DATE:23381212
DTEND;VALUE=DATE:23381219
SUMMARY:KW 50 (gerade)
DESCRIPTION:Kalenderwoche 50 im Jahr 2338\nMontag: 12.12.2338\nSonntag: 18.12.2338\nTyp: gerade Woche\nMehr unter: https://kalenderwoche.info/2338/kw-50
URL:https://kalenderwoche.info/2338/kw-50
CATEGORIES:Kalenderwoche
TRANSP:TRANSPARENT
END:VEVENT
BEGIN:VEVENT
UID:kw-2338-51@kalenderwoche.info
DTSTAMP:20260425T152409Z
DTSTART;VALUE=DATE:23381219
DTEND;VALUE=DATE:23381226
SUMMARY:KW 51 (ungerade)
DESCRIPTION:Kalenderwoche 51 im Jahr 2338\nMontag: 19.12.2338\nSonntag: 25.12.2338\nTyp: ungerade Woche\nMehr unter: https://kalenderwoche.info/2338/kw-51
URL:https://kalenderwoche.info/2338/kw-51
CATEGORIES:Kalenderwoche
TRANSP:TRANSPARENT
END:VEVENT
BEGIN:VEVENT
UID:kw-2338-52@kalenderwoche.info
DTSTAMP:20260425T152409Z
DTSTART;VALUE=DATE:23381226
DTEND;VALUE=DATE:23390102
SUMMARY:KW 52 (gerade)
DESCRIPTION:Kalenderwoche 52 im Jahr 2338\nMontag: 26.12.2338\nSonntag: 01.01.2339\nTyp: gerade Woche\nMehr unter: https://kalenderwoche.info/2338/kw-52
URL:https://kalenderwoche.info/2338/kw-52
CATEGORIES:Kalenderwoche
TRANSP:TRANSPARENT
END:VEVENT
END:VCALENDAR
