BEGIN:VCALENDAR
VERSION:2.0
PRODID:-//kalenderwoche.info//Kalender//DE
CALSCALE:GREGORIAN
METHOD:PUBLISH
X-WR-CALNAME:Kalenderwochen 2343
X-WR-CALDESC:Alle Kalenderwochen für das Jahr 2343
X-WR-TIMEZONE:Europe/Berlin
BEGIN:VEVENT
UID:kw-2343-1@kalenderwoche.info
DTSTAMP:20260425T213436Z
DTSTART;VALUE=DATE:23430104
DTEND;VALUE=DATE:23430111
SUMMARY:KW 1 (ungerade)
DESCRIPTION:Kalenderwoche 1 im Jahr 2343\nMontag: 04.01.2343\nSonntag: 10.01.2343\nTyp: ungerade Woche\nMehr unter: https://kalenderwoche.info/2343/kw-1
URL:https://kalenderwoche.info/2343/kw-1
CATEGORIES:Kalenderwoche
TRANSP:TRANSPARENT
END:VEVENT
BEGIN:VEVENT
UID:kw-2343-2@kalenderwoche.info
DTSTAMP:20260425T213436Z
DTSTART;VALUE=DATE:23430111
DTEND;VALUE=DATE:23430118
SUMMARY:KW 2 (gerade)
DESCRIPTION:Kalenderwoche 2 im Jahr 2343\nMontag: 11.01.2343\nSonntag: 17.01.2343\nTyp: gerade Woche\nMehr unter: https://kalenderwoche.info/2343/kw-2
URL:https://kalenderwoche.info/2343/kw-2
CATEGORIES:Kalenderwoche
TRANSP:TRANSPARENT
END:VEVENT
BEGIN:VEVENT
UID:kw-2343-3@kalenderwoche.info
DTSTAMP:20260425T213436Z
DTSTART;VALUE=DATE:23430118
DTEND;VALUE=DATE:23430125
SUMMARY:KW 3 (ungerade)
DESCRIPTION:Kalenderwoche 3 im Jahr 2343\nMontag: 18.01.2343\nSonntag: 24.01.2343\nTyp: ungerade Woche\nMehr unter: https://kalenderwoche.info/2343/kw-3
URL:https://kalenderwoche.info/2343/kw-3
CATEGORIES:Kalenderwoche
TRANSP:TRANSPARENT
END:VEVENT
BEGIN:VEVENT
UID:kw-2343-4@kalenderwoche.info
DTSTAMP:20260425T213436Z
DTSTART;VALUE=DATE:23430125
DTEND;VALUE=DATE:23430201
SUMMARY:KW 4 (gerade)
DESCRIPTION:Kalenderwoche 4 im Jahr 2343\nMontag: 25.01.2343\nSonntag: 31.01.2343\nTyp: gerade Woche\nMehr unter: https://kalenderwoche.info/2343/kw-4
URL:https://kalenderwoche.info/2343/kw-4
CATEGORIES:Kalenderwoche
TRANSP:TRANSPARENT
END:VEVENT
BEGIN:VEVENT
UID:kw-2343-5@kalenderwoche.info
DTSTAMP:20260425T213436Z
DTSTART;VALUE=DATE:23430201
DTEND;VALUE=DATE:23430208
SUMMARY:KW 5 (ungerade)
DESCRIPTION:Kalenderwoche 5 im Jahr 2343\nMontag: 01.02.2343\nSonntag: 07.02.2343\nTyp: ungerade Woche\nMehr unter: https://kalenderwoche.info/2343/kw-5
URL:https://kalenderwoche.info/2343/kw-5
CATEGORIES:Kalenderwoche
TRANSP:TRANSPARENT
END:VEVENT
BEGIN:VEVENT
UID:kw-2343-6@kalenderwoche.info
DTSTAMP:20260425T213436Z
DTSTART;VALUE=DATE:23430208
DTEND;VALUE=DATE:23430215
SUMMARY:KW 6 (gerade)
DESCRIPTION:Kalenderwoche 6 im Jahr 2343\nMontag: 08.02.2343\nSonntag: 14.02.2343\nTyp: gerade Woche\nMehr unter: https://kalenderwoche.info/2343/kw-6
URL:https://kalenderwoche.info/2343/kw-6
CATEGORIES:Kalenderwoche
TRANSP:TRANSPARENT
END:VEVENT
BEGIN:VEVENT
UID:kw-2343-7@kalenderwoche.info
DTSTAMP:20260425T213436Z
DTSTART;VALUE=DATE:23430215
DTEND;VALUE=DATE:23430222
SUMMARY:KW 7 (ungerade)
DESCRIPTION:Kalenderwoche 7 im Jahr 2343\nMontag: 15.02.2343\nSonntag: 21.02.2343\nTyp: ungerade Woche\nMehr unter: https://kalenderwoche.info/2343/kw-7
URL:https://kalenderwoche.info/2343/kw-7
CATEGORIES:Kalenderwoche
TRANSP:TRANSPARENT
END:VEVENT
BEGIN:VEVENT
UID:kw-2343-8@kalenderwoche.info
DTSTAMP:20260425T213436Z
DTSTART;VALUE=DATE:23430222
DTEND;VALUE=DATE:23430301
SUMMARY:KW 8 (gerade)
DESCRIPTION:Kalenderwoche 8 im Jahr 2343\nMontag: 22.02.2343\nSonntag: 28.02.2343\nTyp: gerade Woche\nMehr unter: https://kalenderwoche.info/2343/kw-8
URL:https://kalenderwoche.info/2343/kw-8
CATEGORIES:Kalenderwoche
TRANSP:TRANSPARENT
END:VEVENT
BEGIN:VEVENT
UID:kw-2343-9@kalenderwoche.info
DTSTAMP:20260425T213436Z
DTSTART;VALUE=DATE:23430301
DTEND;VALUE=DATE:23430308
SUMMARY:KW 9 (ungerade)
DESCRIPTION:Kalenderwoche 9 im Jahr 2343\nMontag: 01.03.2343\nSonntag: 07.03.2343\nTyp: ungerade Woche\nMehr unter: https://kalenderwoche.info/2343/kw-9
URL:https://kalenderwoche.info/2343/kw-9
CATEGORIES:Kalenderwoche
TRANSP:TRANSPARENT
END:VEVENT
BEGIN:VEVENT
UID:kw-2343-10@kalenderwoche.info
DTSTAMP:20260425T213436Z
DTSTART;VALUE=DATE:23430308
DTEND;VALUE=DATE:23430315
SUMMARY:KW 10 (gerade)
DESCRIPTION:Kalenderwoche 10 im Jahr 2343\nMontag: 08.03.2343\nSonntag: 14.03.2343\nTyp: gerade Woche\nMehr unter: https://kalenderwoche.info/2343/kw-10
URL:https://kalenderwoche.info/2343/kw-10
CATEGORIES:Kalenderwoche
TRANSP:TRANSPARENT
END:VEVENT
BEGIN:VEVENT
UID:kw-2343-11@kalenderwoche.info
DTSTAMP:20260425T213436Z
DTSTART;VALUE=DATE:23430315
DTEND;VALUE=DATE:23430322
SUMMARY:KW 11 (ungerade)
DESCRIPTION:Kalenderwoche 11 im Jahr 2343\nMontag: 15.03.2343\nSonntag: 21.03.2343\nTyp: ungerade Woche\nMehr unter: https://kalenderwoche.info/2343/kw-11
URL:https://kalenderwoche.info/2343/kw-11
CATEGORIES:Kalenderwoche
TRANSP:TRANSPARENT
END:VEVENT
BEGIN:VEVENT
UID:kw-2343-12@kalenderwoche.info
DTSTAMP:20260425T213436Z
DTSTART;VALUE=DATE:23430322
DTEND;VALUE=DATE:23430329
SUMMARY:KW 12 (gerade)
DESCRIPTION:Kalenderwoche 12 im Jahr 2343\nMontag: 22.03.2343\nSonntag: 28.03.2343\nTyp: gerade Woche\nMehr unter: https://kalenderwoche.info/2343/kw-12
URL:https://kalenderwoche.info/2343/kw-12
CATEGORIES:Kalenderwoche
TRANSP:TRANSPARENT
END:VEVENT
BEGIN:VEVENT
UID:kw-2343-13@kalenderwoche.info
DTSTAMP:20260425T213436Z
DTSTART;VALUE=DATE:23430329
DTEND;VALUE=DATE:23430405
SUMMARY:KW 13 (ungerade)
DESCRIPTION:Kalenderwoche 13 im Jahr 2343\nMontag: 29.03.2343\nSonntag: 04.04.2343\nTyp: ungerade Woche\nMehr unter: https://kalenderwoche.info/2343/kw-13
URL:https://kalenderwoche.info/2343/kw-13
CATEGORIES:Kalenderwoche
TRANSP:TRANSPARENT
END:VEVENT
BEGIN:VEVENT
UID:kw-2343-14@kalenderwoche.info
DTSTAMP:20260425T213436Z
DTSTART;VALUE=DATE:23430405
DTEND;VALUE=DATE:23430412
SUMMARY:KW 14 (gerade)
DESCRIPTION:Kalenderwoche 14 im Jahr 2343\nMontag: 05.04.2343\nSonntag: 11.04.2343\nTyp: gerade Woche\nMehr unter: https://kalenderwoche.info/2343/kw-14
URL:https://kalenderwoche.info/2343/kw-14
CATEGORIES:Kalenderwoche
TRANSP:TRANSPARENT
END:VEVENT
BEGIN:VEVENT
UID:kw-2343-15@kalenderwoche.info
DTSTAMP:20260425T213436Z
DTSTART;VALUE=DATE:23430412
DTEND;VALUE=DATE:23430419
SUMMARY:KW 15 (ungerade)
DESCRIPTION:Kalenderwoche 15 im Jahr 2343\nMontag: 12.04.2343\nSonntag: 18.04.2343\nTyp: ungerade Woche\nMehr unter: https://kalenderwoche.info/2343/kw-15
URL:https://kalenderwoche.info/2343/kw-15
CATEGORIES:Kalenderwoche
TRANSP:TRANSPARENT
END:VEVENT
BEGIN:VEVENT
UID:kw-2343-16@kalenderwoche.info
DTSTAMP:20260425T213436Z
DTSTART;VALUE=DATE:23430419
DTEND;VALUE=DATE:23430426
SUMMARY:KW 16 (gerade)
DESCRIPTION:Kalenderwoche 16 im Jahr 2343\nMontag: 19.04.2343\nSonntag: 25.04.2343\nTyp: gerade Woche\nMehr unter: https://kalenderwoche.info/2343/kw-16
URL:https://kalenderwoche.info/2343/kw-16
CATEGORIES:Kalenderwoche
TRANSP:TRANSPARENT
END:VEVENT
BEGIN:VEVENT
UID:kw-2343-17@kalenderwoche.info
DTSTAMP:20260425T213436Z
DTSTART;VALUE=DATE:23430426
DTEND;VALUE=DATE:23430503
SUMMARY:KW 17 (ungerade)
DESCRIPTION:Kalenderwoche 17 im Jahr 2343\nMontag: 26.04.2343\nSonntag: 02.05.2343\nTyp: ungerade Woche\nMehr unter: https://kalenderwoche.info/2343/kw-17
URL:https://kalenderwoche.info/2343/kw-17
CATEGORIES:Kalenderwoche
TRANSP:TRANSPARENT
END:VEVENT
BEGIN:VEVENT
UID:kw-2343-18@kalenderwoche.info
DTSTAMP:20260425T213436Z
DTSTART;VALUE=DATE:23430503
DTEND;VALUE=DATE:23430510
SUMMARY:KW 18 (gerade)
DESCRIPTION:Kalenderwoche 18 im Jahr 2343\nMontag: 03.05.2343\nSonntag: 09.05.2343\nTyp: gerade Woche\nMehr unter: https://kalenderwoche.info/2343/kw-18
URL:https://kalenderwoche.info/2343/kw-18
CATEGORIES:Kalenderwoche
TRANSP:TRANSPARENT
END:VEVENT
BEGIN:VEVENT
UID:kw-2343-19@kalenderwoche.info
DTSTAMP:20260425T213436Z
DTSTART;VALUE=DATE:23430510
DTEND;VALUE=DATE:23430517
SUMMARY:KW 19 (ungerade)
DESCRIPTION:Kalenderwoche 19 im Jahr 2343\nMontag: 10.05.2343\nSonntag: 16.05.2343\nTyp: ungerade Woche\nMehr unter: https://kalenderwoche.info/2343/kw-19
URL:https://kalenderwoche.info/2343/kw-19
CATEGORIES:Kalenderwoche
TRANSP:TRANSPARENT
END:VEVENT
BEGIN:VEVENT
UID:kw-2343-20@kalenderwoche.info
DTSTAMP:20260425T213436Z
DTSTART;VALUE=DATE:23430517
DTEND;VALUE=DATE:23430524
SUMMARY:KW 20 (gerade)
DESCRIPTION:Kalenderwoche 20 im Jahr 2343\nMontag: 17.05.2343\nSonntag: 23.05.2343\nTyp: gerade Woche\nMehr unter: https://kalenderwoche.info/2343/kw-20
URL:https://kalenderwoche.info/2343/kw-20
CATEGORIES:Kalenderwoche
TRANSP:TRANSPARENT
END:VEVENT
BEGIN:VEVENT
UID:kw-2343-21@kalenderwoche.info
DTSTAMP:20260425T213436Z
DTSTART;VALUE=DATE:23430524
DTEND;VALUE=DATE:23430531
SUMMARY:KW 21 (ungerade)
DESCRIPTION:Kalenderwoche 21 im Jahr 2343\nMontag: 24.05.2343\nSonntag: 30.05.2343\nTyp: ungerade Woche\nMehr unter: https://kalenderwoche.info/2343/kw-21
URL:https://kalenderwoche.info/2343/kw-21
CATEGORIES:Kalenderwoche
TRANSP:TRANSPARENT
END:VEVENT
BEGIN:VEVENT
UID:kw-2343-22@kalenderwoche.info
DTSTAMP:20260425T213436Z
DTSTART;VALUE=DATE:23430531
DTEND;VALUE=DATE:23430607
SUMMARY:KW 22 (gerade)
DESCRIPTION:Kalenderwoche 22 im Jahr 2343\nMontag: 31.05.2343\nSonntag: 06.06.2343\nTyp: gerade Woche\nMehr unter: https://kalenderwoche.info/2343/kw-22
URL:https://kalenderwoche.info/2343/kw-22
CATEGORIES:Kalenderwoche
TRANSP:TRANSPARENT
END:VEVENT
BEGIN:VEVENT
UID:kw-2343-23@kalenderwoche.info
DTSTAMP:20260425T213436Z
DTSTART;VALUE=DATE:23430607
DTEND;VALUE=DATE:23430614
SUMMARY:KW 23 (ungerade)
DESCRIPTION:Kalenderwoche 23 im Jahr 2343\nMontag: 07.06.2343\nSonntag: 13.06.2343\nTyp: ungerade Woche\nMehr unter: https://kalenderwoche.info/2343/kw-23
URL:https://kalenderwoche.info/2343/kw-23
CATEGORIES:Kalenderwoche
TRANSP:TRANSPARENT
END:VEVENT
BEGIN:VEVENT
UID:kw-2343-24@kalenderwoche.info
DTSTAMP:20260425T213436Z
DTSTART;VALUE=DATE:23430614
DTEND;VALUE=DATE:23430621
SUMMARY:KW 24 (gerade)
DESCRIPTION:Kalenderwoche 24 im Jahr 2343\nMontag: 14.06.2343\nSonntag: 20.06.2343\nTyp: gerade Woche\nMehr unter: https://kalenderwoche.info/2343/kw-24
URL:https://kalenderwoche.info/2343/kw-24
CATEGORIES:Kalenderwoche
TRANSP:TRANSPARENT
END:VEVENT
BEGIN:VEVENT
UID:kw-2343-25@kalenderwoche.info
DTSTAMP:20260425T213436Z
DTSTART;VALUE=DATE:23430621
DTEND;VALUE=DATE:23430628
SUMMARY:KW 25 (ungerade)
DESCRIPTION:Kalenderwoche 25 im Jahr 2343\nMontag: 21.06.2343\nSonntag: 27.06.2343\nTyp: ungerade Woche\nMehr unter: https://kalenderwoche.info/2343/kw-25
URL:https://kalenderwoche.info/2343/kw-25
CATEGORIES:Kalenderwoche
TRANSP:TRANSPARENT
END:VEVENT
BEGIN:VEVENT
UID:kw-2343-26@kalenderwoche.info
DTSTAMP:20260425T213436Z
DTSTART;VALUE=DATE:23430628
DTEND;VALUE=DATE:23430705
SUMMARY:KW 26 (gerade)
DESCRIPTION:Kalenderwoche 26 im Jahr 2343\nMontag: 28.06.2343\nSonntag: 04.07.2343\nTyp: gerade Woche\nMehr unter: https://kalenderwoche.info/2343/kw-26
URL:https://kalenderwoche.info/2343/kw-26
CATEGORIES:Kalenderwoche
TRANSP:TRANSPARENT
END:VEVENT
BEGIN:VEVENT
UID:kw-2343-27@kalenderwoche.info
DTSTAMP:20260425T213436Z
DTSTART;VALUE=DATE:23430705
DTEND;VALUE=DATE:23430712
SUMMARY:KW 27 (ungerade)
DESCRIPTION:Kalenderwoche 27 im Jahr 2343\nMontag: 05.07.2343\nSonntag: 11.07.2343\nTyp: ungerade Woche\nMehr unter: https://kalenderwoche.info/2343/kw-27
URL:https://kalenderwoche.info/2343/kw-27
CATEGORIES:Kalenderwoche
TRANSP:TRANSPARENT
END:VEVENT
BEGIN:VEVENT
UID:kw-2343-28@kalenderwoche.info
DTSTAMP:20260425T213436Z
DTSTART;VALUE=DATE:23430712
DTEND;VALUE=DATE:23430719
SUMMARY:KW 28 (gerade)
DESCRIPTION:Kalenderwoche 28 im Jahr 2343\nMontag: 12.07.2343\nSonntag: 18.07.2343\nTyp: gerade Woche\nMehr unter: https://kalenderwoche.info/2343/kw-28
URL:https://kalenderwoche.info/2343/kw-28
CATEGORIES:Kalenderwoche
TRANSP:TRANSPARENT
END:VEVENT
BEGIN:VEVENT
UID:kw-2343-29@kalenderwoche.info
DTSTAMP:20260425T213436Z
DTSTART;VALUE=DATE:23430719
DTEND;VALUE=DATE:23430726
SUMMARY:KW 29 (ungerade)
DESCRIPTION:Kalenderwoche 29 im Jahr 2343\nMontag: 19.07.2343\nSonntag: 25.07.2343\nTyp: ungerade Woche\nMehr unter: https://kalenderwoche.info/2343/kw-29
URL:https://kalenderwoche.info/2343/kw-29
CATEGORIES:Kalenderwoche
TRANSP:TRANSPARENT
END:VEVENT
BEGIN:VEVENT
UID:kw-2343-30@kalenderwoche.info
DTSTAMP:20260425T213436Z
DTSTART;VALUE=DATE:23430726
DTEND;VALUE=DATE:23430802
SUMMARY:KW 30 (gerade)
DESCRIPTION:Kalenderwoche 30 im Jahr 2343\nMontag: 26.07.2343\nSonntag: 01.08.2343\nTyp: gerade Woche\nMehr unter: https://kalenderwoche.info/2343/kw-30
URL:https://kalenderwoche.info/2343/kw-30
CATEGORIES:Kalenderwoche
TRANSP:TRANSPARENT
END:VEVENT
BEGIN:VEVENT
UID:kw-2343-31@kalenderwoche.info
DTSTAMP:20260425T213436Z
DTSTART;VALUE=DATE:23430802
DTEND;VALUE=DATE:23430809
SUMMARY:KW 31 (ungerade)
DESCRIPTION:Kalenderwoche 31 im Jahr 2343\nMontag: 02.08.2343\nSonntag: 08.08.2343\nTyp: ungerade Woche\nMehr unter: https://kalenderwoche.info/2343/kw-31
URL:https://kalenderwoche.info/2343/kw-31
CATEGORIES:Kalenderwoche
TRANSP:TRANSPARENT
END:VEVENT
BEGIN:VEVENT
UID:kw-2343-32@kalenderwoche.info
DTSTAMP:20260425T213436Z
DTSTART;VALUE=DATE:23430809
DTEND;VALUE=DATE:23430816
SUMMARY:KW 32 (gerade)
DESCRIPTION:Kalenderwoche 32 im Jahr 2343\nMontag: 09.08.2343\nSonntag: 15.08.2343\nTyp: gerade Woche\nMehr unter: https://kalenderwoche.info/2343/kw-32
URL:https://kalenderwoche.info/2343/kw-32
CATEGORIES:Kalenderwoche
TRANSP:TRANSPARENT
END:VEVENT
BEGIN:VEVENT
UID:kw-2343-33@kalenderwoche.info
DTSTAMP:20260425T213436Z
DTSTART;VALUE=DATE:23430816
DTEND;VALUE=DATE:23430823
SUMMARY:KW 33 (ungerade)
DESCRIPTION:Kalenderwoche 33 im Jahr 2343\nMontag: 16.08.2343\nSonntag: 22.08.2343\nTyp: ungerade Woche\nMehr unter: https://kalenderwoche.info/2343/kw-33
URL:https://kalenderwoche.info/2343/kw-33
CATEGORIES:Kalenderwoche
TRANSP:TRANSPARENT
END:VEVENT
BEGIN:VEVENT
UID:kw-2343-34@kalenderwoche.info
DTSTAMP:20260425T213436Z
DTSTART;VALUE=DATE:23430823
DTEND;VALUE=DATE:23430830
SUMMARY:KW 34 (gerade)
DESCRIPTION:Kalenderwoche 34 im Jahr 2343\nMontag: 23.08.2343\nSonntag: 29.08.2343\nTyp: gerade Woche\nMehr unter: https://kalenderwoche.info/2343/kw-34
URL:https://kalenderwoche.info/2343/kw-34
CATEGORIES:Kalenderwoche
TRANSP:TRANSPARENT
END:VEVENT
BEGIN:VEVENT
UID:kw-2343-35@kalenderwoche.info
DTSTAMP:20260425T213436Z
DTSTART;VALUE=DATE:23430830
DTEND;VALUE=DATE:23430906
SUMMARY:KW 35 (ungerade)
DESCRIPTION:Kalenderwoche 35 im Jahr 2343\nMontag: 30.08.2343\nSonntag: 05.09.2343\nTyp: ungerade Woche\nMehr unter: https://kalenderwoche.info/2343/kw-35
URL:https://kalenderwoche.info/2343/kw-35
CATEGORIES:Kalenderwoche
TRANSP:TRANSPARENT
END:VEVENT
BEGIN:VEVENT
UID:kw-2343-36@kalenderwoche.info
DTSTAMP:20260425T213436Z
DTSTART;VALUE=DATE:23430906
DTEND;VALUE=DATE:23430913
SUMMARY:KW 36 (gerade)
DESCRIPTION:Kalenderwoche 36 im Jahr 2343\nMontag: 06.09.2343\nSonntag: 12.09.2343\nTyp: gerade Woche\nMehr unter: https://kalenderwoche.info/2343/kw-36
URL:https://kalenderwoche.info/2343/kw-36
CATEGORIES:Kalenderwoche
TRANSP:TRANSPARENT
END:VEVENT
BEGIN:VEVENT
UID:kw-2343-37@kalenderwoche.info
DTSTAMP:20260425T213436Z
DTSTART;VALUE=DATE:23430913
DTEND;VALUE=DATE:23430920
SUMMARY:KW 37 (ungerade)
DESCRIPTION:Kalenderwoche 37 im Jahr 2343\nMontag: 13.09.2343\nSonntag: 19.09.2343\nTyp: ungerade Woche\nMehr unter: https://kalenderwoche.info/2343/kw-37
URL:https://kalenderwoche.info/2343/kw-37
CATEGORIES:Kalenderwoche
TRANSP:TRANSPARENT
END:VEVENT
BEGIN:VEVENT
UID:kw-2343-38@kalenderwoche.info
DTSTAMP:20260425T213436Z
DTSTART;VALUE=DATE:23430920
DTEND;VALUE=DATE:23430927
SUMMARY:KW 38 (gerade)
DESCRIPTION:Kalenderwoche 38 im Jahr 2343\nMontag: 20.09.2343\nSonntag: 26.09.2343\nTyp: gerade Woche\nMehr unter: https://kalenderwoche.info/2343/kw-38
URL:https://kalenderwoche.info/2343/kw-38
CATEGORIES:Kalenderwoche
TRANSP:TRANSPARENT
END:VEVENT
BEGIN:VEVENT
UID:kw-2343-39@kalenderwoche.info
DTSTAMP:20260425T213436Z
DTSTART;VALUE=DATE:23430927
DTEND;VALUE=DATE:23431004
SUMMARY:KW 39 (ungerade)
DESCRIPTION:Kalenderwoche 39 im Jahr 2343\nMontag: 27.09.2343\nSonntag: 03.10.2343\nTyp: ungerade Woche\nMehr unter: https://kalenderwoche.info/2343/kw-39
URL:https://kalenderwoche.info/2343/kw-39
CATEGORIES:Kalenderwoche
TRANSP:TRANSPARENT
END:VEVENT
BEGIN:VEVENT
UID:kw-2343-40@kalenderwoche.info
DTSTAMP:20260425T213436Z
DTSTART;VALUE=DATE:23431004
DTEND;VALUE=DATE:23431011
SUMMARY:KW 40 (gerade)
DESCRIPTION:Kalenderwoche 40 im Jahr 2343\nMontag: 04.10.2343\nSonntag: 10.10.2343\nTyp: gerade Woche\nMehr unter: https://kalenderwoche.info/2343/kw-40
URL:https://kalenderwoche.info/2343/kw-40
CATEGORIES:Kalenderwoche
TRANSP:TRANSPARENT
END:VEVENT
BEGIN:VEVENT
UID:kw-2343-41@kalenderwoche.info
DTSTAMP:20260425T213436Z
DTSTART;VALUE=DATE:23431011
DTEND;VALUE=DATE:23431018
SUMMARY:KW 41 (ungerade)
DESCRIPTION:Kalenderwoche 41 im Jahr 2343\nMontag: 11.10.2343\nSonntag: 17.10.2343\nTyp: ungerade Woche\nMehr unter: https://kalenderwoche.info/2343/kw-41
URL:https://kalenderwoche.info/2343/kw-41
CATEGORIES:Kalenderwoche
TRANSP:TRANSPARENT
END:VEVENT
BEGIN:VEVENT
UID:kw-2343-42@kalenderwoche.info
DTSTAMP:20260425T213436Z
DTSTART;VALUE=DATE:23431018
DTEND;VALUE=DATE:23431025
SUMMARY:KW 42 (gerade)
DESCRIPTION:Kalenderwoche 42 im Jahr 2343\nMontag: 18.10.2343\nSonntag: 24.10.2343\nTyp: gerade Woche\nMehr unter: https://kalenderwoche.info/2343/kw-42
URL:https://kalenderwoche.info/2343/kw-42
CATEGORIES:Kalenderwoche
TRANSP:TRANSPARENT
END:VEVENT
BEGIN:VEVENT
UID:kw-2343-43@kalenderwoche.info
DTSTAMP:20260425T213436Z
DTSTART;VALUE=DATE:23431025
DTEND;VALUE=DATE:23431101
SUMMARY:KW 43 (ungerade)
DESCRIPTION:Kalenderwoche 43 im Jahr 2343\nMontag: 25.10.2343\nSonntag: 31.10.2343\nTyp: ungerade Woche\nMehr unter: https://kalenderwoche.info/2343/kw-43
URL:https://kalenderwoche.info/2343/kw-43
CATEGORIES:Kalenderwoche
TRANSP:TRANSPARENT
END:VEVENT
BEGIN:VEVENT
UID:kw-2343-44@kalenderwoche.info
DTSTAMP:20260425T213436Z
DTSTART;VALUE=DATE:23431101
DTEND;VALUE=DATE:23431108
SUMMARY:KW 44 (gerade)
DESCRIPTION:Kalenderwoche 44 im Jahr 2343\nMontag: 01.11.2343\nSonntag: 07.11.2343\nTyp: gerade Woche\nMehr unter: https://kalenderwoche.info/2343/kw-44
URL:https://kalenderwoche.info/2343/kw-44
CATEGORIES:Kalenderwoche
TRANSP:TRANSPARENT
END:VEVENT
BEGIN:VEVENT
UID:kw-2343-45@kalenderwoche.info
DTSTAMP:20260425T213436Z
DTSTART;VALUE=DATE:23431108
DTEND;VALUE=DATE:23431115
SUMMARY:KW 45 (ungerade)
DESCRIPTION:Kalenderwoche 45 im Jahr 2343\nMontag: 08.11.2343\nSonntag: 14.11.2343\nTyp: ungerade Woche\nMehr unter: https://kalenderwoche.info/2343/kw-45
URL:https://kalenderwoche.info/2343/kw-45
CATEGORIES:Kalenderwoche
TRANSP:TRANSPARENT
END:VEVENT
BEGIN:VEVENT
UID:kw-2343-46@kalenderwoche.info
DTSTAMP:20260425T213436Z
DTSTART;VALUE=DATE:23431115
DTEND;VALUE=DATE:23431122
SUMMARY:KW 46 (gerade)
DESCRIPTION:Kalenderwoche 46 im Jahr 2343\nMontag: 15.11.2343\nSonntag: 21.11.2343\nTyp: gerade Woche\nMehr unter: https://kalenderwoche.info/2343/kw-46
URL:https://kalenderwoche.info/2343/kw-46
CATEGORIES:Kalenderwoche
TRANSP:TRANSPARENT
END:VEVENT
BEGIN:VEVENT
UID:kw-2343-47@kalenderwoche.info
DTSTAMP:20260425T213436Z
DTSTART;VALUE=DATE:23431122
DTEND;VALUE=DATE:23431129
SUMMARY:KW 47 (ungerade)
DESCRIPTION:Kalenderwoche 47 im Jahr 2343\nMontag: 22.11.2343\nSonntag: 28.11.2343\nTyp: ungerade Woche\nMehr unter: https://kalenderwoche.info/2343/kw-47
URL:https://kalenderwoche.info/2343/kw-47
CATEGORIES:Kalenderwoche
TRANSP:TRANSPARENT
END:VEVENT
BEGIN:VEVENT
UID:kw-2343-48@kalenderwoche.info
DTSTAMP:20260425T213436Z
DTSTART;VALUE=DATE:23431129
DTEND;VALUE=DATE:23431206
SUMMARY:KW 48 (gerade)
DESCRIPTION:Kalenderwoche 48 im Jahr 2343\nMontag: 29.11.2343\nSonntag: 05.12.2343\nTyp: gerade Woche\nMehr unter: https://kalenderwoche.info/2343/kw-48
URL:https://kalenderwoche.info/2343/kw-48
CATEGORIES:Kalenderwoche
TRANSP:TRANSPARENT
END:VEVENT
BEGIN:VEVENT
UID:kw-2343-49@kalenderwoche.info
DTSTAMP:20260425T213436Z
DTSTART;VALUE=DATE:23431206
DTEND;VALUE=DATE:23431213
SUMMARY:KW 49 (ungerade)
DESCRIPTION:Kalenderwoche 49 im Jahr 2343\nMontag: 06.12.2343\nSonntag: 12.12.2343\nTyp: ungerade Woche\nMehr unter: https://kalenderwoche.info/2343/kw-49
URL:https://kalenderwoche.info/2343/kw-49
CATEGORIES:Kalenderwoche
TRANSP:TRANSPARENT
END:VEVENT
BEGIN:VEVENT
UID:kw-2343-50@kalenderwoche.info
DTSTAMP:20260425T213436Z
DTSTART;VALUE=DATE:23431213
DTEND;VALUE=DATE:23431220
SUMMARY:KW 50 (gerade)
DESCRIPTION:Kalenderwoche 50 im Jahr 2343\nMontag: 13.12.2343\nSonntag: 19.12.2343\nTyp: gerade Woche\nMehr unter: https://kalenderwoche.info/2343/kw-50
URL:https://kalenderwoche.info/2343/kw-50
CATEGORIES:Kalenderwoche
TRANSP:TRANSPARENT
END:VEVENT
BEGIN:VEVENT
UID:kw-2343-51@kalenderwoche.info
DTSTAMP:20260425T213436Z
DTSTART;VALUE=DATE:23431220
DTEND;VALUE=DATE:23431227
SUMMARY:KW 51 (ungerade)
DESCRIPTION:Kalenderwoche 51 im Jahr 2343\nMontag: 20.12.2343\nSonntag: 26.12.2343\nTyp: ungerade Woche\nMehr unter: https://kalenderwoche.info/2343/kw-51
URL:https://kalenderwoche.info/2343/kw-51
CATEGORIES:Kalenderwoche
TRANSP:TRANSPARENT
END:VEVENT
BEGIN:VEVENT
UID:kw-2343-52@kalenderwoche.info
DTSTAMP:20260425T213436Z
DTSTART;VALUE=DATE:23431227
DTEND;VALUE=DATE:23440103
SUMMARY:KW 52 (gerade)
DESCRIPTION:Kalenderwoche 52 im Jahr 2343\nMontag: 27.12.2343\nSonntag: 02.01.2344\nTyp: gerade Woche\nMehr unter: https://kalenderwoche.info/2343/kw-52
URL:https://kalenderwoche.info/2343/kw-52
CATEGORIES:Kalenderwoche
TRANSP:TRANSPARENT
END:VEVENT
END:VCALENDAR
