BEGIN:VCALENDAR
VERSION:2.0
PRODID:-//kalenderwoche.info//Kalender//DE
CALSCALE:GREGORIAN
METHOD:PUBLISH
X-WR-CALNAME:Kalenderwochen 2348
X-WR-CALDESC:Alle Kalenderwochen für das Jahr 2348
X-WR-TIMEZONE:Europe/Berlin
BEGIN:VEVENT
UID:kw-2348-1@kalenderwoche.info
DTSTAMP:20260426T035712Z
DTSTART;VALUE=DATE:23471229
DTEND;VALUE=DATE:23480105
SUMMARY:KW 1 (ungerade)
DESCRIPTION:Kalenderwoche 1 im Jahr 2348\nMontag: 29.12.2347\nSonntag: 04.01.2348\nTyp: ungerade Woche\nMehr unter: https://kalenderwoche.info/2348/kw-1
URL:https://kalenderwoche.info/2348/kw-1
CATEGORIES:Kalenderwoche
TRANSP:TRANSPARENT
END:VEVENT
BEGIN:VEVENT
UID:kw-2348-2@kalenderwoche.info
DTSTAMP:20260426T035712Z
DTSTART;VALUE=DATE:23480105
DTEND;VALUE=DATE:23480112
SUMMARY:KW 2 (gerade)
DESCRIPTION:Kalenderwoche 2 im Jahr 2348\nMontag: 05.01.2348\nSonntag: 11.01.2348\nTyp: gerade Woche\nMehr unter: https://kalenderwoche.info/2348/kw-2
URL:https://kalenderwoche.info/2348/kw-2
CATEGORIES:Kalenderwoche
TRANSP:TRANSPARENT
END:VEVENT
BEGIN:VEVENT
UID:kw-2348-3@kalenderwoche.info
DTSTAMP:20260426T035712Z
DTSTART;VALUE=DATE:23480112
DTEND;VALUE=DATE:23480119
SUMMARY:KW 3 (ungerade)
DESCRIPTION:Kalenderwoche 3 im Jahr 2348\nMontag: 12.01.2348\nSonntag: 18.01.2348\nTyp: ungerade Woche\nMehr unter: https://kalenderwoche.info/2348/kw-3
URL:https://kalenderwoche.info/2348/kw-3
CATEGORIES:Kalenderwoche
TRANSP:TRANSPARENT
END:VEVENT
BEGIN:VEVENT
UID:kw-2348-4@kalenderwoche.info
DTSTAMP:20260426T035712Z
DTSTART;VALUE=DATE:23480119
DTEND;VALUE=DATE:23480126
SUMMARY:KW 4 (gerade)
DESCRIPTION:Kalenderwoche 4 im Jahr 2348\nMontag: 19.01.2348\nSonntag: 25.01.2348\nTyp: gerade Woche\nMehr unter: https://kalenderwoche.info/2348/kw-4
URL:https://kalenderwoche.info/2348/kw-4
CATEGORIES:Kalenderwoche
TRANSP:TRANSPARENT
END:VEVENT
BEGIN:VEVENT
UID:kw-2348-5@kalenderwoche.info
DTSTAMP:20260426T035712Z
DTSTART;VALUE=DATE:23480126
DTEND;VALUE=DATE:23480202
SUMMARY:KW 5 (ungerade)
DESCRIPTION:Kalenderwoche 5 im Jahr 2348\nMontag: 26.01.2348\nSonntag: 01.02.2348\nTyp: ungerade Woche\nMehr unter: https://kalenderwoche.info/2348/kw-5
URL:https://kalenderwoche.info/2348/kw-5
CATEGORIES:Kalenderwoche
TRANSP:TRANSPARENT
END:VEVENT
BEGIN:VEVENT
UID:kw-2348-6@kalenderwoche.info
DTSTAMP:20260426T035712Z
DTSTART;VALUE=DATE:23480202
DTEND;VALUE=DATE:23480209
SUMMARY:KW 6 (gerade)
DESCRIPTION:Kalenderwoche 6 im Jahr 2348\nMontag: 02.02.2348\nSonntag: 08.02.2348\nTyp: gerade Woche\nMehr unter: https://kalenderwoche.info/2348/kw-6
URL:https://kalenderwoche.info/2348/kw-6
CATEGORIES:Kalenderwoche
TRANSP:TRANSPARENT
END:VEVENT
BEGIN:VEVENT
UID:kw-2348-7@kalenderwoche.info
DTSTAMP:20260426T035712Z
DTSTART;VALUE=DATE:23480209
DTEND;VALUE=DATE:23480216
SUMMARY:KW 7 (ungerade)
DESCRIPTION:Kalenderwoche 7 im Jahr 2348\nMontag: 09.02.2348\nSonntag: 15.02.2348\nTyp: ungerade Woche\nMehr unter: https://kalenderwoche.info/2348/kw-7
URL:https://kalenderwoche.info/2348/kw-7
CATEGORIES:Kalenderwoche
TRANSP:TRANSPARENT
END:VEVENT
BEGIN:VEVENT
UID:kw-2348-8@kalenderwoche.info
DTSTAMP:20260426T035712Z
DTSTART;VALUE=DATE:23480216
DTEND;VALUE=DATE:23480223
SUMMARY:KW 8 (gerade)
DESCRIPTION:Kalenderwoche 8 im Jahr 2348\nMontag: 16.02.2348\nSonntag: 22.02.2348\nTyp: gerade Woche\nMehr unter: https://kalenderwoche.info/2348/kw-8
URL:https://kalenderwoche.info/2348/kw-8
CATEGORIES:Kalenderwoche
TRANSP:TRANSPARENT
END:VEVENT
BEGIN:VEVENT
UID:kw-2348-9@kalenderwoche.info
DTSTAMP:20260426T035712Z
DTSTART;VALUE=DATE:23480223
DTEND;VALUE=DATE:23480301
SUMMARY:KW 9 (ungerade)
DESCRIPTION:Kalenderwoche 9 im Jahr 2348\nMontag: 23.02.2348\nSonntag: 29.02.2348\nTyp: ungerade Woche\nMehr unter: https://kalenderwoche.info/2348/kw-9
URL:https://kalenderwoche.info/2348/kw-9
CATEGORIES:Kalenderwoche
TRANSP:TRANSPARENT
END:VEVENT
BEGIN:VEVENT
UID:kw-2348-10@kalenderwoche.info
DTSTAMP:20260426T035712Z
DTSTART;VALUE=DATE:23480301
DTEND;VALUE=DATE:23480308
SUMMARY:KW 10 (gerade)
DESCRIPTION:Kalenderwoche 10 im Jahr 2348\nMontag: 01.03.2348\nSonntag: 07.03.2348\nTyp: gerade Woche\nMehr unter: https://kalenderwoche.info/2348/kw-10
URL:https://kalenderwoche.info/2348/kw-10
CATEGORIES:Kalenderwoche
TRANSP:TRANSPARENT
END:VEVENT
BEGIN:VEVENT
UID:kw-2348-11@kalenderwoche.info
DTSTAMP:20260426T035712Z
DTSTART;VALUE=DATE:23480308
DTEND;VALUE=DATE:23480315
SUMMARY:KW 11 (ungerade)
DESCRIPTION:Kalenderwoche 11 im Jahr 2348\nMontag: 08.03.2348\nSonntag: 14.03.2348\nTyp: ungerade Woche\nMehr unter: https://kalenderwoche.info/2348/kw-11
URL:https://kalenderwoche.info/2348/kw-11
CATEGORIES:Kalenderwoche
TRANSP:TRANSPARENT
END:VEVENT
BEGIN:VEVENT
UID:kw-2348-12@kalenderwoche.info
DTSTAMP:20260426T035712Z
DTSTART;VALUE=DATE:23480315
DTEND;VALUE=DATE:23480322
SUMMARY:KW 12 (gerade)
DESCRIPTION:Kalenderwoche 12 im Jahr 2348\nMontag: 15.03.2348\nSonntag: 21.03.2348\nTyp: gerade Woche\nMehr unter: https://kalenderwoche.info/2348/kw-12
URL:https://kalenderwoche.info/2348/kw-12
CATEGORIES:Kalenderwoche
TRANSP:TRANSPARENT
END:VEVENT
BEGIN:VEVENT
UID:kw-2348-13@kalenderwoche.info
DTSTAMP:20260426T035712Z
DTSTART;VALUE=DATE:23480322
DTEND;VALUE=DATE:23480329
SUMMARY:KW 13 (ungerade)
DESCRIPTION:Kalenderwoche 13 im Jahr 2348\nMontag: 22.03.2348\nSonntag: 28.03.2348\nTyp: ungerade Woche\nMehr unter: https://kalenderwoche.info/2348/kw-13
URL:https://kalenderwoche.info/2348/kw-13
CATEGORIES:Kalenderwoche
TRANSP:TRANSPARENT
END:VEVENT
BEGIN:VEVENT
UID:kw-2348-14@kalenderwoche.info
DTSTAMP:20260426T035712Z
DTSTART;VALUE=DATE:23480329
DTEND;VALUE=DATE:23480405
SUMMARY:KW 14 (gerade)
DESCRIPTION:Kalenderwoche 14 im Jahr 2348\nMontag: 29.03.2348\nSonntag: 04.04.2348\nTyp: gerade Woche\nMehr unter: https://kalenderwoche.info/2348/kw-14
URL:https://kalenderwoche.info/2348/kw-14
CATEGORIES:Kalenderwoche
TRANSP:TRANSPARENT
END:VEVENT
BEGIN:VEVENT
UID:kw-2348-15@kalenderwoche.info
DTSTAMP:20260426T035712Z
DTSTART;VALUE=DATE:23480405
DTEND;VALUE=DATE:23480412
SUMMARY:KW 15 (ungerade)
DESCRIPTION:Kalenderwoche 15 im Jahr 2348\nMontag: 05.04.2348\nSonntag: 11.04.2348\nTyp: ungerade Woche\nMehr unter: https://kalenderwoche.info/2348/kw-15
URL:https://kalenderwoche.info/2348/kw-15
CATEGORIES:Kalenderwoche
TRANSP:TRANSPARENT
END:VEVENT
BEGIN:VEVENT
UID:kw-2348-16@kalenderwoche.info
DTSTAMP:20260426T035712Z
DTSTART;VALUE=DATE:23480412
DTEND;VALUE=DATE:23480419
SUMMARY:KW 16 (gerade)
DESCRIPTION:Kalenderwoche 16 im Jahr 2348\nMontag: 12.04.2348\nSonntag: 18.04.2348\nTyp: gerade Woche\nMehr unter: https://kalenderwoche.info/2348/kw-16
URL:https://kalenderwoche.info/2348/kw-16
CATEGORIES:Kalenderwoche
TRANSP:TRANSPARENT
END:VEVENT
BEGIN:VEVENT
UID:kw-2348-17@kalenderwoche.info
DTSTAMP:20260426T035712Z
DTSTART;VALUE=DATE:23480419
DTEND;VALUE=DATE:23480426
SUMMARY:KW 17 (ungerade)
DESCRIPTION:Kalenderwoche 17 im Jahr 2348\nMontag: 19.04.2348\nSonntag: 25.04.2348\nTyp: ungerade Woche\nMehr unter: https://kalenderwoche.info/2348/kw-17
URL:https://kalenderwoche.info/2348/kw-17
CATEGORIES:Kalenderwoche
TRANSP:TRANSPARENT
END:VEVENT
BEGIN:VEVENT
UID:kw-2348-18@kalenderwoche.info
DTSTAMP:20260426T035712Z
DTSTART;VALUE=DATE:23480426
DTEND;VALUE=DATE:23480503
SUMMARY:KW 18 (gerade)
DESCRIPTION:Kalenderwoche 18 im Jahr 2348\nMontag: 26.04.2348\nSonntag: 02.05.2348\nTyp: gerade Woche\nMehr unter: https://kalenderwoche.info/2348/kw-18
URL:https://kalenderwoche.info/2348/kw-18
CATEGORIES:Kalenderwoche
TRANSP:TRANSPARENT
END:VEVENT
BEGIN:VEVENT
UID:kw-2348-19@kalenderwoche.info
DTSTAMP:20260426T035712Z
DTSTART;VALUE=DATE:23480503
DTEND;VALUE=DATE:23480510
SUMMARY:KW 19 (ungerade)
DESCRIPTION:Kalenderwoche 19 im Jahr 2348\nMontag: 03.05.2348\nSonntag: 09.05.2348\nTyp: ungerade Woche\nMehr unter: https://kalenderwoche.info/2348/kw-19
URL:https://kalenderwoche.info/2348/kw-19
CATEGORIES:Kalenderwoche
TRANSP:TRANSPARENT
END:VEVENT
BEGIN:VEVENT
UID:kw-2348-20@kalenderwoche.info
DTSTAMP:20260426T035712Z
DTSTART;VALUE=DATE:23480510
DTEND;VALUE=DATE:23480517
SUMMARY:KW 20 (gerade)
DESCRIPTION:Kalenderwoche 20 im Jahr 2348\nMontag: 10.05.2348\nSonntag: 16.05.2348\nTyp: gerade Woche\nMehr unter: https://kalenderwoche.info/2348/kw-20
URL:https://kalenderwoche.info/2348/kw-20
CATEGORIES:Kalenderwoche
TRANSP:TRANSPARENT
END:VEVENT
BEGIN:VEVENT
UID:kw-2348-21@kalenderwoche.info
DTSTAMP:20260426T035712Z
DTSTART;VALUE=DATE:23480517
DTEND;VALUE=DATE:23480524
SUMMARY:KW 21 (ungerade)
DESCRIPTION:Kalenderwoche 21 im Jahr 2348\nMontag: 17.05.2348\nSonntag: 23.05.2348\nTyp: ungerade Woche\nMehr unter: https://kalenderwoche.info/2348/kw-21
URL:https://kalenderwoche.info/2348/kw-21
CATEGORIES:Kalenderwoche
TRANSP:TRANSPARENT
END:VEVENT
BEGIN:VEVENT
UID:kw-2348-22@kalenderwoche.info
DTSTAMP:20260426T035712Z
DTSTART;VALUE=DATE:23480524
DTEND;VALUE=DATE:23480531
SUMMARY:KW 22 (gerade)
DESCRIPTION:Kalenderwoche 22 im Jahr 2348\nMontag: 24.05.2348\nSonntag: 30.05.2348\nTyp: gerade Woche\nMehr unter: https://kalenderwoche.info/2348/kw-22
URL:https://kalenderwoche.info/2348/kw-22
CATEGORIES:Kalenderwoche
TRANSP:TRANSPARENT
END:VEVENT
BEGIN:VEVENT
UID:kw-2348-23@kalenderwoche.info
DTSTAMP:20260426T035712Z
DTSTART;VALUE=DATE:23480531
DTEND;VALUE=DATE:23480607
SUMMARY:KW 23 (ungerade)
DESCRIPTION:Kalenderwoche 23 im Jahr 2348\nMontag: 31.05.2348\nSonntag: 06.06.2348\nTyp: ungerade Woche\nMehr unter: https://kalenderwoche.info/2348/kw-23
URL:https://kalenderwoche.info/2348/kw-23
CATEGORIES:Kalenderwoche
TRANSP:TRANSPARENT
END:VEVENT
BEGIN:VEVENT
UID:kw-2348-24@kalenderwoche.info
DTSTAMP:20260426T035712Z
DTSTART;VALUE=DATE:23480607
DTEND;VALUE=DATE:23480614
SUMMARY:KW 24 (gerade)
DESCRIPTION:Kalenderwoche 24 im Jahr 2348\nMontag: 07.06.2348\nSonntag: 13.06.2348\nTyp: gerade Woche\nMehr unter: https://kalenderwoche.info/2348/kw-24
URL:https://kalenderwoche.info/2348/kw-24
CATEGORIES:Kalenderwoche
TRANSP:TRANSPARENT
END:VEVENT
BEGIN:VEVENT
UID:kw-2348-25@kalenderwoche.info
DTSTAMP:20260426T035712Z
DTSTART;VALUE=DATE:23480614
DTEND;VALUE=DATE:23480621
SUMMARY:KW 25 (ungerade)
DESCRIPTION:Kalenderwoche 25 im Jahr 2348\nMontag: 14.06.2348\nSonntag: 20.06.2348\nTyp: ungerade Woche\nMehr unter: https://kalenderwoche.info/2348/kw-25
URL:https://kalenderwoche.info/2348/kw-25
CATEGORIES:Kalenderwoche
TRANSP:TRANSPARENT
END:VEVENT
BEGIN:VEVENT
UID:kw-2348-26@kalenderwoche.info
DTSTAMP:20260426T035712Z
DTSTART;VALUE=DATE:23480621
DTEND;VALUE=DATE:23480628
SUMMARY:KW 26 (gerade)
DESCRIPTION:Kalenderwoche 26 im Jahr 2348\nMontag: 21.06.2348\nSonntag: 27.06.2348\nTyp: gerade Woche\nMehr unter: https://kalenderwoche.info/2348/kw-26
URL:https://kalenderwoche.info/2348/kw-26
CATEGORIES:Kalenderwoche
TRANSP:TRANSPARENT
END:VEVENT
BEGIN:VEVENT
UID:kw-2348-27@kalenderwoche.info
DTSTAMP:20260426T035712Z
DTSTART;VALUE=DATE:23480628
DTEND;VALUE=DATE:23480705
SUMMARY:KW 27 (ungerade)
DESCRIPTION:Kalenderwoche 27 im Jahr 2348\nMontag: 28.06.2348\nSonntag: 04.07.2348\nTyp: ungerade Woche\nMehr unter: https://kalenderwoche.info/2348/kw-27
URL:https://kalenderwoche.info/2348/kw-27
CATEGORIES:Kalenderwoche
TRANSP:TRANSPARENT
END:VEVENT
BEGIN:VEVENT
UID:kw-2348-28@kalenderwoche.info
DTSTAMP:20260426T035712Z
DTSTART;VALUE=DATE:23480705
DTEND;VALUE=DATE:23480712
SUMMARY:KW 28 (gerade)
DESCRIPTION:Kalenderwoche 28 im Jahr 2348\nMontag: 05.07.2348\nSonntag: 11.07.2348\nTyp: gerade Woche\nMehr unter: https://kalenderwoche.info/2348/kw-28
URL:https://kalenderwoche.info/2348/kw-28
CATEGORIES:Kalenderwoche
TRANSP:TRANSPARENT
END:VEVENT
BEGIN:VEVENT
UID:kw-2348-29@kalenderwoche.info
DTSTAMP:20260426T035712Z
DTSTART;VALUE=DATE:23480712
DTEND;VALUE=DATE:23480719
SUMMARY:KW 29 (ungerade)
DESCRIPTION:Kalenderwoche 29 im Jahr 2348\nMontag: 12.07.2348\nSonntag: 18.07.2348\nTyp: ungerade Woche\nMehr unter: https://kalenderwoche.info/2348/kw-29
URL:https://kalenderwoche.info/2348/kw-29
CATEGORIES:Kalenderwoche
TRANSP:TRANSPARENT
END:VEVENT
BEGIN:VEVENT
UID:kw-2348-30@kalenderwoche.info
DTSTAMP:20260426T035712Z
DTSTART;VALUE=DATE:23480719
DTEND;VALUE=DATE:23480726
SUMMARY:KW 30 (gerade)
DESCRIPTION:Kalenderwoche 30 im Jahr 2348\nMontag: 19.07.2348\nSonntag: 25.07.2348\nTyp: gerade Woche\nMehr unter: https://kalenderwoche.info/2348/kw-30
URL:https://kalenderwoche.info/2348/kw-30
CATEGORIES:Kalenderwoche
TRANSP:TRANSPARENT
END:VEVENT
BEGIN:VEVENT
UID:kw-2348-31@kalenderwoche.info
DTSTAMP:20260426T035712Z
DTSTART;VALUE=DATE:23480726
DTEND;VALUE=DATE:23480802
SUMMARY:KW 31 (ungerade)
DESCRIPTION:Kalenderwoche 31 im Jahr 2348\nMontag: 26.07.2348\nSonntag: 01.08.2348\nTyp: ungerade Woche\nMehr unter: https://kalenderwoche.info/2348/kw-31
URL:https://kalenderwoche.info/2348/kw-31
CATEGORIES:Kalenderwoche
TRANSP:TRANSPARENT
END:VEVENT
BEGIN:VEVENT
UID:kw-2348-32@kalenderwoche.info
DTSTAMP:20260426T035712Z
DTSTART;VALUE=DATE:23480802
DTEND;VALUE=DATE:23480809
SUMMARY:KW 32 (gerade)
DESCRIPTION:Kalenderwoche 32 im Jahr 2348\nMontag: 02.08.2348\nSonntag: 08.08.2348\nTyp: gerade Woche\nMehr unter: https://kalenderwoche.info/2348/kw-32
URL:https://kalenderwoche.info/2348/kw-32
CATEGORIES:Kalenderwoche
TRANSP:TRANSPARENT
END:VEVENT
BEGIN:VEVENT
UID:kw-2348-33@kalenderwoche.info
DTSTAMP:20260426T035712Z
DTSTART;VALUE=DATE:23480809
DTEND;VALUE=DATE:23480816
SUMMARY:KW 33 (ungerade)
DESCRIPTION:Kalenderwoche 33 im Jahr 2348\nMontag: 09.08.2348\nSonntag: 15.08.2348\nTyp: ungerade Woche\nMehr unter: https://kalenderwoche.info/2348/kw-33
URL:https://kalenderwoche.info/2348/kw-33
CATEGORIES:Kalenderwoche
TRANSP:TRANSPARENT
END:VEVENT
BEGIN:VEVENT
UID:kw-2348-34@kalenderwoche.info
DTSTAMP:20260426T035712Z
DTSTART;VALUE=DATE:23480816
DTEND;VALUE=DATE:23480823
SUMMARY:KW 34 (gerade)
DESCRIPTION:Kalenderwoche 34 im Jahr 2348\nMontag: 16.08.2348\nSonntag: 22.08.2348\nTyp: gerade Woche\nMehr unter: https://kalenderwoche.info/2348/kw-34
URL:https://kalenderwoche.info/2348/kw-34
CATEGORIES:Kalenderwoche
TRANSP:TRANSPARENT
END:VEVENT
BEGIN:VEVENT
UID:kw-2348-35@kalenderwoche.info
DTSTAMP:20260426T035712Z
DTSTART;VALUE=DATE:23480823
DTEND;VALUE=DATE:23480830
SUMMARY:KW 35 (ungerade)
DESCRIPTION:Kalenderwoche 35 im Jahr 2348\nMontag: 23.08.2348\nSonntag: 29.08.2348\nTyp: ungerade Woche\nMehr unter: https://kalenderwoche.info/2348/kw-35
URL:https://kalenderwoche.info/2348/kw-35
CATEGORIES:Kalenderwoche
TRANSP:TRANSPARENT
END:VEVENT
BEGIN:VEVENT
UID:kw-2348-36@kalenderwoche.info
DTSTAMP:20260426T035712Z
DTSTART;VALUE=DATE:23480830
DTEND;VALUE=DATE:23480906
SUMMARY:KW 36 (gerade)
DESCRIPTION:Kalenderwoche 36 im Jahr 2348\nMontag: 30.08.2348\nSonntag: 05.09.2348\nTyp: gerade Woche\nMehr unter: https://kalenderwoche.info/2348/kw-36
URL:https://kalenderwoche.info/2348/kw-36
CATEGORIES:Kalenderwoche
TRANSP:TRANSPARENT
END:VEVENT
BEGIN:VEVENT
UID:kw-2348-37@kalenderwoche.info
DTSTAMP:20260426T035712Z
DTSTART;VALUE=DATE:23480906
DTEND;VALUE=DATE:23480913
SUMMARY:KW 37 (ungerade)
DESCRIPTION:Kalenderwoche 37 im Jahr 2348\nMontag: 06.09.2348\nSonntag: 12.09.2348\nTyp: ungerade Woche\nMehr unter: https://kalenderwoche.info/2348/kw-37
URL:https://kalenderwoche.info/2348/kw-37
CATEGORIES:Kalenderwoche
TRANSP:TRANSPARENT
END:VEVENT
BEGIN:VEVENT
UID:kw-2348-38@kalenderwoche.info
DTSTAMP:20260426T035712Z
DTSTART;VALUE=DATE:23480913
DTEND;VALUE=DATE:23480920
SUMMARY:KW 38 (gerade)
DESCRIPTION:Kalenderwoche 38 im Jahr 2348\nMontag: 13.09.2348\nSonntag: 19.09.2348\nTyp: gerade Woche\nMehr unter: https://kalenderwoche.info/2348/kw-38
URL:https://kalenderwoche.info/2348/kw-38
CATEGORIES:Kalenderwoche
TRANSP:TRANSPARENT
END:VEVENT
BEGIN:VEVENT
UID:kw-2348-39@kalenderwoche.info
DTSTAMP:20260426T035712Z
DTSTART;VALUE=DATE:23480920
DTEND;VALUE=DATE:23480927
SUMMARY:KW 39 (ungerade)
DESCRIPTION:Kalenderwoche 39 im Jahr 2348\nMontag: 20.09.2348\nSonntag: 26.09.2348\nTyp: ungerade Woche\nMehr unter: https://kalenderwoche.info/2348/kw-39
URL:https://kalenderwoche.info/2348/kw-39
CATEGORIES:Kalenderwoche
TRANSP:TRANSPARENT
END:VEVENT
BEGIN:VEVENT
UID:kw-2348-40@kalenderwoche.info
DTSTAMP:20260426T035712Z
DTSTART;VALUE=DATE:23480927
DTEND;VALUE=DATE:23481004
SUMMARY:KW 40 (gerade)
DESCRIPTION:Kalenderwoche 40 im Jahr 2348\nMontag: 27.09.2348\nSonntag: 03.10.2348\nTyp: gerade Woche\nMehr unter: https://kalenderwoche.info/2348/kw-40
URL:https://kalenderwoche.info/2348/kw-40
CATEGORIES:Kalenderwoche
TRANSP:TRANSPARENT
END:VEVENT
BEGIN:VEVENT
UID:kw-2348-41@kalenderwoche.info
DTSTAMP:20260426T035712Z
DTSTART;VALUE=DATE:23481004
DTEND;VALUE=DATE:23481011
SUMMARY:KW 41 (ungerade)
DESCRIPTION:Kalenderwoche 41 im Jahr 2348\nMontag: 04.10.2348\nSonntag: 10.10.2348\nTyp: ungerade Woche\nMehr unter: https://kalenderwoche.info/2348/kw-41
URL:https://kalenderwoche.info/2348/kw-41
CATEGORIES:Kalenderwoche
TRANSP:TRANSPARENT
END:VEVENT
BEGIN:VEVENT
UID:kw-2348-42@kalenderwoche.info
DTSTAMP:20260426T035712Z
DTSTART;VALUE=DATE:23481011
DTEND;VALUE=DATE:23481018
SUMMARY:KW 42 (gerade)
DESCRIPTION:Kalenderwoche 42 im Jahr 2348\nMontag: 11.10.2348\nSonntag: 17.10.2348\nTyp: gerade Woche\nMehr unter: https://kalenderwoche.info/2348/kw-42
URL:https://kalenderwoche.info/2348/kw-42
CATEGORIES:Kalenderwoche
TRANSP:TRANSPARENT
END:VEVENT
BEGIN:VEVENT
UID:kw-2348-43@kalenderwoche.info
DTSTAMP:20260426T035712Z
DTSTART;VALUE=DATE:23481018
DTEND;VALUE=DATE:23481025
SUMMARY:KW 43 (ungerade)
DESCRIPTION:Kalenderwoche 43 im Jahr 2348\nMontag: 18.10.2348\nSonntag: 24.10.2348\nTyp: ungerade Woche\nMehr unter: https://kalenderwoche.info/2348/kw-43
URL:https://kalenderwoche.info/2348/kw-43
CATEGORIES:Kalenderwoche
TRANSP:TRANSPARENT
END:VEVENT
BEGIN:VEVENT
UID:kw-2348-44@kalenderwoche.info
DTSTAMP:20260426T035712Z
DTSTART;VALUE=DATE:23481025
DTEND;VALUE=DATE:23481101
SUMMARY:KW 44 (gerade)
DESCRIPTION:Kalenderwoche 44 im Jahr 2348\nMontag: 25.10.2348\nSonntag: 31.10.2348\nTyp: gerade Woche\nMehr unter: https://kalenderwoche.info/2348/kw-44
URL:https://kalenderwoche.info/2348/kw-44
CATEGORIES:Kalenderwoche
TRANSP:TRANSPARENT
END:VEVENT
BEGIN:VEVENT
UID:kw-2348-45@kalenderwoche.info
DTSTAMP:20260426T035712Z
DTSTART;VALUE=DATE:23481101
DTEND;VALUE=DATE:23481108
SUMMARY:KW 45 (ungerade)
DESCRIPTION:Kalenderwoche 45 im Jahr 2348\nMontag: 01.11.2348\nSonntag: 07.11.2348\nTyp: ungerade Woche\nMehr unter: https://kalenderwoche.info/2348/kw-45
URL:https://kalenderwoche.info/2348/kw-45
CATEGORIES:Kalenderwoche
TRANSP:TRANSPARENT
END:VEVENT
BEGIN:VEVENT
UID:kw-2348-46@kalenderwoche.info
DTSTAMP:20260426T035712Z
DTSTART;VALUE=DATE:23481108
DTEND;VALUE=DATE:23481115
SUMMARY:KW 46 (gerade)
DESCRIPTION:Kalenderwoche 46 im Jahr 2348\nMontag: 08.11.2348\nSonntag: 14.11.2348\nTyp: gerade Woche\nMehr unter: https://kalenderwoche.info/2348/kw-46
URL:https://kalenderwoche.info/2348/kw-46
CATEGORIES:Kalenderwoche
TRANSP:TRANSPARENT
END:VEVENT
BEGIN:VEVENT
UID:kw-2348-47@kalenderwoche.info
DTSTAMP:20260426T035712Z
DTSTART;VALUE=DATE:23481115
DTEND;VALUE=DATE:23481122
SUMMARY:KW 47 (ungerade)
DESCRIPTION:Kalenderwoche 47 im Jahr 2348\nMontag: 15.11.2348\nSonntag: 21.11.2348\nTyp: ungerade Woche\nMehr unter: https://kalenderwoche.info/2348/kw-47
URL:https://kalenderwoche.info/2348/kw-47
CATEGORIES:Kalenderwoche
TRANSP:TRANSPARENT
END:VEVENT
BEGIN:VEVENT
UID:kw-2348-48@kalenderwoche.info
DTSTAMP:20260426T035712Z
DTSTART;VALUE=DATE:23481122
DTEND;VALUE=DATE:23481129
SUMMARY:KW 48 (gerade)
DESCRIPTION:Kalenderwoche 48 im Jahr 2348\nMontag: 22.11.2348\nSonntag: 28.11.2348\nTyp: gerade Woche\nMehr unter: https://kalenderwoche.info/2348/kw-48
URL:https://kalenderwoche.info/2348/kw-48
CATEGORIES:Kalenderwoche
TRANSP:TRANSPARENT
END:VEVENT
BEGIN:VEVENT
UID:kw-2348-49@kalenderwoche.info
DTSTAMP:20260426T035712Z
DTSTART;VALUE=DATE:23481129
DTEND;VALUE=DATE:23481206
SUMMARY:KW 49 (ungerade)
DESCRIPTION:Kalenderwoche 49 im Jahr 2348\nMontag: 29.11.2348\nSonntag: 05.12.2348\nTyp: ungerade Woche\nMehr unter: https://kalenderwoche.info/2348/kw-49
URL:https://kalenderwoche.info/2348/kw-49
CATEGORIES:Kalenderwoche
TRANSP:TRANSPARENT
END:VEVENT
BEGIN:VEVENT
UID:kw-2348-50@kalenderwoche.info
DTSTAMP:20260426T035712Z
DTSTART;VALUE=DATE:23481206
DTEND;VALUE=DATE:23481213
SUMMARY:KW 50 (gerade)
DESCRIPTION:Kalenderwoche 50 im Jahr 2348\nMontag: 06.12.2348\nSonntag: 12.12.2348\nTyp: gerade Woche\nMehr unter: https://kalenderwoche.info/2348/kw-50
URL:https://kalenderwoche.info/2348/kw-50
CATEGORIES:Kalenderwoche
TRANSP:TRANSPARENT
END:VEVENT
BEGIN:VEVENT
UID:kw-2348-51@kalenderwoche.info
DTSTAMP:20260426T035712Z
DTSTART;VALUE=DATE:23481213
DTEND;VALUE=DATE:23481220
SUMMARY:KW 51 (ungerade)
DESCRIPTION:Kalenderwoche 51 im Jahr 2348\nMontag: 13.12.2348\nSonntag: 19.12.2348\nTyp: ungerade Woche\nMehr unter: https://kalenderwoche.info/2348/kw-51
URL:https://kalenderwoche.info/2348/kw-51
CATEGORIES:Kalenderwoche
TRANSP:TRANSPARENT
END:VEVENT
BEGIN:VEVENT
UID:kw-2348-52@kalenderwoche.info
DTSTAMP:20260426T035712Z
DTSTART;VALUE=DATE:23481220
DTEND;VALUE=DATE:23481227
SUMMARY:KW 52 (gerade)
DESCRIPTION:Kalenderwoche 52 im Jahr 2348\nMontag: 20.12.2348\nSonntag: 26.12.2348\nTyp: gerade Woche\nMehr unter: https://kalenderwoche.info/2348/kw-52
URL:https://kalenderwoche.info/2348/kw-52
CATEGORIES:Kalenderwoche
TRANSP:TRANSPARENT
END:VEVENT
BEGIN:VEVENT
UID:kw-2348-53@kalenderwoche.info
DTSTAMP:20260426T035712Z
DTSTART;VALUE=DATE:23481227
DTEND;VALUE=DATE:23490103
SUMMARY:KW 53 (ungerade)
DESCRIPTION:Kalenderwoche 53 im Jahr 2348\nMontag: 27.12.2348\nSonntag: 02.01.2349\nTyp: ungerade Woche\nMehr unter: https://kalenderwoche.info/2348/kw-53
URL:https://kalenderwoche.info/2348/kw-53
CATEGORIES:Kalenderwoche
TRANSP:TRANSPARENT
END:VEVENT
END:VCALENDAR
