BEGIN:VCALENDAR
VERSION:2.0
PRODID:-//kalenderwoche.info//Kalender//DE
CALSCALE:GREGORIAN
METHOD:PUBLISH
X-WR-CALNAME:Feiertage 1791 Deutschland
X-WR-CALDESC:Gesetzliche Feiertage Deutschland 1791
X-WR-TIMEZONE:Europe/Berlin
BEGIN:VEVENT
UID:feiertag-1791-7a61a0a76274d2f234c84e37fdbcc632@kalenderwoche.info
DTSTAMP:20260425T014154Z
DTSTART;VALUE=DATE:17910101
DTEND;VALUE=DATE:17910102
SUMMARY:Neujahr
DESCRIPTION:Gesetzlicher Feiertag in Deutschland\nDatum: 01.01.1791\nWochentag: Samstag\nKalenderwoche: 52\nMehr unter: https://kalenderwoche.info/feiertage/1791
URL:https://kalenderwoche.info/feiertage/1791
CATEGORIES:Feiertag,Deutschland
TRANSP:TRANSPARENT
END:VEVENT
BEGIN:VEVENT
UID:feiertag-1791-7bfc75b02ac1cad656c66d1112ecb054@kalenderwoche.info
DTSTAMP:20260425T014154Z
DTSTART;VALUE=DATE:17910422
DTEND;VALUE=DATE:17910423
SUMMARY:Karfreitag
DESCRIPTION:Gesetzlicher Feiertag in Deutschland\nDatum: 22.04.1791\nWochentag: Freitag\nKalenderwoche: 16\nMehr unter: https://kalenderwoche.info/feiertage/1791
URL:https://kalenderwoche.info/feiertage/1791
CATEGORIES:Feiertag,Deutschland
TRANSP:TRANSPARENT
END:VEVENT
BEGIN:VEVENT
UID:feiertag-1791-3a0d76a6d09e46face98457e0ae667d1@kalenderwoche.info
DTSTAMP:20260425T014154Z
DTSTART;VALUE=DATE:17910425
DTEND;VALUE=DATE:17910426
SUMMARY:Ostermontag
DESCRIPTION:Gesetzlicher Feiertag in Deutschland\nDatum: 25.04.1791\nWochentag: Montag\nKalenderwoche: 17\nMehr unter: https://kalenderwoche.info/feiertage/1791
URL:https://kalenderwoche.info/feiertage/1791
CATEGORIES:Feiertag,Deutschland
TRANSP:TRANSPARENT
END:VEVENT
BEGIN:VEVENT
UID:feiertag-1791-4a382c60d175c64e26e581ac404adb1c@kalenderwoche.info
DTSTAMP:20260425T014154Z
DTSTART;VALUE=DATE:17910501
DTEND;VALUE=DATE:17910502
SUMMARY:Tag der Arbeit
DESCRIPTION:Gesetzlicher Feiertag in Deutschland\nDatum: 01.05.1791\nWochentag: Sonntag\nKalenderwoche: 17\nMehr unter: https://kalenderwoche.info/feiertage/1791
URL:https://kalenderwoche.info/feiertage/1791
CATEGORIES:Feiertag,Deutschland
TRANSP:TRANSPARENT
END:VEVENT
BEGIN:VEVENT
UID:feiertag-1791-d9ea857e13ef4fac55528f384419dd80@kalenderwoche.info
DTSTAMP:20260425T014154Z
DTSTART;VALUE=DATE:17910602
DTEND;VALUE=DATE:17910603
SUMMARY:Christi Himmelfahrt
DESCRIPTION:Gesetzlicher Feiertag in Deutschland\nDatum: 02.06.1791\nWochentag: Donnerstag\nKalenderwoche: 22\nMehr unter: https://kalenderwoche.info/feiertage/1791
URL:https://kalenderwoche.info/feiertage/1791
CATEGORIES:Feiertag,Deutschland
TRANSP:TRANSPARENT
END:VEVENT
BEGIN:VEVENT
UID:feiertag-1791-d9bc3f02503ad98ba6f059c190115421@kalenderwoche.info
DTSTAMP:20260425T014154Z
DTSTART;VALUE=DATE:17910613
DTEND;VALUE=DATE:17910614
SUMMARY:Pfingstmontag
DESCRIPTION:Gesetzlicher Feiertag in Deutschland\nDatum: 13.06.1791\nWochentag: Montag\nKalenderwoche: 24\nMehr unter: https://kalenderwoche.info/feiertage/1791
URL:https://kalenderwoche.info/feiertage/1791
CATEGORIES:Feiertag,Deutschland
TRANSP:TRANSPARENT
END:VEVENT
BEGIN:VEVENT
UID:feiertag-1791-4b9e7d97324e558fd24c90f4613dff58@kalenderwoche.info
DTSTAMP:20260425T014154Z
DTSTART;VALUE=DATE:17911003
DTEND;VALUE=DATE:17911004
SUMMARY:Tag der Deutschen Einheit
DESCRIPTION:Gesetzlicher Feiertag in Deutschland\nDatum: 03.10.1791\nWochentag: Montag\nKalenderwoche: 40\nMehr unter: https://kalenderwoche.info/feiertage/1791
URL:https://kalenderwoche.info/feiertage/1791
CATEGORIES:Feiertag,Deutschland
TRANSP:TRANSPARENT
END:VEVENT
BEGIN:VEVENT
UID:feiertag-1791-aacf3168661fd18333a503eb91848c61@kalenderwoche.info
DTSTAMP:20260425T014154Z
DTSTART;VALUE=DATE:17911225
DTEND;VALUE=DATE:17911226
SUMMARY:1. Weihnachtstag
DESCRIPTION:Gesetzlicher Feiertag in Deutschland\nDatum: 25.12.1791\nWochentag: Sonntag\nKalenderwoche: 51\nMehr unter: https://kalenderwoche.info/feiertage/1791
URL:https://kalenderwoche.info/feiertage/1791
CATEGORIES:Feiertag,Deutschland
TRANSP:TRANSPARENT
END:VEVENT
BEGIN:VEVENT
UID:feiertag-1791-294db9858a5e74c0cf3f0b9127e04e29@kalenderwoche.info
DTSTAMP:20260425T014154Z
DTSTART;VALUE=DATE:17911226
DTEND;VALUE=DATE:17911227
SUMMARY:2. Weihnachtstag
DESCRIPTION:Gesetzlicher Feiertag in Deutschland\nDatum: 26.12.1791\nWochentag: Montag\nKalenderwoche: 52\nMehr unter: https://kalenderwoche.info/feiertage/1791
URL:https://kalenderwoche.info/feiertage/1791
CATEGORIES:Feiertag,Deutschland
TRANSP:TRANSPARENT
END:VEVENT
END:VCALENDAR
