BEGIN:VCALENDAR
VERSION:2.0
PRODID:-//kalenderwoche.info//Kalender//DE
CALSCALE:GREGORIAN
METHOD:PUBLISH
X-WR-CALNAME:Feiertage 1793 Deutschland
X-WR-CALDESC:Gesetzliche Feiertage Deutschland 1793
X-WR-TIMEZONE:Europe/Berlin
BEGIN:VEVENT
UID:feiertag-1793-7a61a0a76274d2f234c84e37fdbcc632@kalenderwoche.info
DTSTAMP:20260424T224855Z
DTSTART;VALUE=DATE:17930101
DTEND;VALUE=DATE:17930102
SUMMARY:Neujahr
DESCRIPTION:Gesetzlicher Feiertag in Deutschland\nDatum: 01.01.1793\nWochentag: Dienstag\nKalenderwoche: 1\nMehr unter: https://kalenderwoche.info/feiertage/1793
URL:https://kalenderwoche.info/feiertage/1793
CATEGORIES:Feiertag,Deutschland
TRANSP:TRANSPARENT
END:VEVENT
BEGIN:VEVENT
UID:feiertag-1793-7bfc75b02ac1cad656c66d1112ecb054@kalenderwoche.info
DTSTAMP:20260424T224855Z
DTSTART;VALUE=DATE:17930329
DTEND;VALUE=DATE:17930330
SUMMARY:Karfreitag
DESCRIPTION:Gesetzlicher Feiertag in Deutschland\nDatum: 29.03.1793\nWochentag: Freitag\nKalenderwoche: 13\nMehr unter: https://kalenderwoche.info/feiertage/1793
URL:https://kalenderwoche.info/feiertage/1793
CATEGORIES:Feiertag,Deutschland
TRANSP:TRANSPARENT
END:VEVENT
BEGIN:VEVENT
UID:feiertag-1793-3a0d76a6d09e46face98457e0ae667d1@kalenderwoche.info
DTSTAMP:20260424T224855Z
DTSTART;VALUE=DATE:17930401
DTEND;VALUE=DATE:17930402
SUMMARY:Ostermontag
DESCRIPTION:Gesetzlicher Feiertag in Deutschland\nDatum: 01.04.1793\nWochentag: Montag\nKalenderwoche: 14\nMehr unter: https://kalenderwoche.info/feiertage/1793
URL:https://kalenderwoche.info/feiertage/1793
CATEGORIES:Feiertag,Deutschland
TRANSP:TRANSPARENT
END:VEVENT
BEGIN:VEVENT
UID:feiertag-1793-4a382c60d175c64e26e581ac404adb1c@kalenderwoche.info
DTSTAMP:20260424T224855Z
DTSTART;VALUE=DATE:17930501
DTEND;VALUE=DATE:17930502
SUMMARY:Tag der Arbeit
DESCRIPTION:Gesetzlicher Feiertag in Deutschland\nDatum: 01.05.1793\nWochentag: Mittwoch\nKalenderwoche: 18\nMehr unter: https://kalenderwoche.info/feiertage/1793
URL:https://kalenderwoche.info/feiertage/1793
CATEGORIES:Feiertag,Deutschland
TRANSP:TRANSPARENT
END:VEVENT
BEGIN:VEVENT
UID:feiertag-1793-d9ea857e13ef4fac55528f384419dd80@kalenderwoche.info
DTSTAMP:20260424T224855Z
DTSTART;VALUE=DATE:17930509
DTEND;VALUE=DATE:17930510
SUMMARY:Christi Himmelfahrt
DESCRIPTION:Gesetzlicher Feiertag in Deutschland\nDatum: 09.05.1793\nWochentag: Donnerstag\nKalenderwoche: 19\nMehr unter: https://kalenderwoche.info/feiertage/1793
URL:https://kalenderwoche.info/feiertage/1793
CATEGORIES:Feiertag,Deutschland
TRANSP:TRANSPARENT
END:VEVENT
BEGIN:VEVENT
UID:feiertag-1793-d9bc3f02503ad98ba6f059c190115421@kalenderwoche.info
DTSTAMP:20260424T224855Z
DTSTART;VALUE=DATE:17930520
DTEND;VALUE=DATE:17930521
SUMMARY:Pfingstmontag
DESCRIPTION:Gesetzlicher Feiertag in Deutschland\nDatum: 20.05.1793\nWochentag: Montag\nKalenderwoche: 21\nMehr unter: https://kalenderwoche.info/feiertage/1793
URL:https://kalenderwoche.info/feiertage/1793
CATEGORIES:Feiertag,Deutschland
TRANSP:TRANSPARENT
END:VEVENT
BEGIN:VEVENT
UID:feiertag-1793-4b9e7d97324e558fd24c90f4613dff58@kalenderwoche.info
DTSTAMP:20260424T224855Z
DTSTART;VALUE=DATE:17931003
DTEND;VALUE=DATE:17931004
SUMMARY:Tag der Deutschen Einheit
DESCRIPTION:Gesetzlicher Feiertag in Deutschland\nDatum: 03.10.1793\nWochentag: Donnerstag\nKalenderwoche: 40\nMehr unter: https://kalenderwoche.info/feiertage/1793
URL:https://kalenderwoche.info/feiertage/1793
CATEGORIES:Feiertag,Deutschland
TRANSP:TRANSPARENT
END:VEVENT
BEGIN:VEVENT
UID:feiertag-1793-aacf3168661fd18333a503eb91848c61@kalenderwoche.info
DTSTAMP:20260424T224855Z
DTSTART;VALUE=DATE:17931225
DTEND;VALUE=DATE:17931226
SUMMARY:1. Weihnachtstag
DESCRIPTION:Gesetzlicher Feiertag in Deutschland\nDatum: 25.12.1793\nWochentag: Mittwoch\nKalenderwoche: 52\nMehr unter: https://kalenderwoche.info/feiertage/1793
URL:https://kalenderwoche.info/feiertage/1793
CATEGORIES:Feiertag,Deutschland
TRANSP:TRANSPARENT
END:VEVENT
BEGIN:VEVENT
UID:feiertag-1793-294db9858a5e74c0cf3f0b9127e04e29@kalenderwoche.info
DTSTAMP:20260424T224855Z
DTSTART;VALUE=DATE:17931226
DTEND;VALUE=DATE:17931227
SUMMARY:2. Weihnachtstag
DESCRIPTION:Gesetzlicher Feiertag in Deutschland\nDatum: 26.12.1793\nWochentag: Donnerstag\nKalenderwoche: 52\nMehr unter: https://kalenderwoche.info/feiertage/1793
URL:https://kalenderwoche.info/feiertage/1793
CATEGORIES:Feiertag,Deutschland
TRANSP:TRANSPARENT
END:VEVENT
END:VCALENDAR
