BEGIN:VCALENDAR
VERSION:2.0
PRODID:-//kalenderwoche.info//Kalender//DE
CALSCALE:GREGORIAN
METHOD:PUBLISH
X-WR-CALNAME:Feiertage 1796 Deutschland
X-WR-CALDESC:Gesetzliche Feiertage Deutschland 1796
X-WR-TIMEZONE:Europe/Berlin
BEGIN:VEVENT
UID:feiertag-1796-7a61a0a76274d2f234c84e37fdbcc632@kalenderwoche.info
DTSTAMP:20260424T180104Z
DTSTART;VALUE=DATE:17960101
DTEND;VALUE=DATE:17960102
SUMMARY:Neujahr
DESCRIPTION:Gesetzlicher Feiertag in Deutschland\nDatum: 01.01.1796\nWochentag: Freitag\nKalenderwoche: 53\nMehr unter: https://kalenderwoche.info/feiertage/1796
URL:https://kalenderwoche.info/feiertage/1796
CATEGORIES:Feiertag,Deutschland
TRANSP:TRANSPARENT
END:VEVENT
BEGIN:VEVENT
UID:feiertag-1796-7bfc75b02ac1cad656c66d1112ecb054@kalenderwoche.info
DTSTAMP:20260424T180104Z
DTSTART;VALUE=DATE:17960325
DTEND;VALUE=DATE:17960326
SUMMARY:Karfreitag
DESCRIPTION:Gesetzlicher Feiertag in Deutschland\nDatum: 25.03.1796\nWochentag: Freitag\nKalenderwoche: 12\nMehr unter: https://kalenderwoche.info/feiertage/1796
URL:https://kalenderwoche.info/feiertage/1796
CATEGORIES:Feiertag,Deutschland
TRANSP:TRANSPARENT
END:VEVENT
BEGIN:VEVENT
UID:feiertag-1796-3a0d76a6d09e46face98457e0ae667d1@kalenderwoche.info
DTSTAMP:20260424T180104Z
DTSTART;VALUE=DATE:17960328
DTEND;VALUE=DATE:17960329
SUMMARY:Ostermontag
DESCRIPTION:Gesetzlicher Feiertag in Deutschland\nDatum: 28.03.1796\nWochentag: Montag\nKalenderwoche: 13\nMehr unter: https://kalenderwoche.info/feiertage/1796
URL:https://kalenderwoche.info/feiertage/1796
CATEGORIES:Feiertag,Deutschland
TRANSP:TRANSPARENT
END:VEVENT
BEGIN:VEVENT
UID:feiertag-1796-4a382c60d175c64e26e581ac404adb1c@kalenderwoche.info
DTSTAMP:20260424T180104Z
DTSTART;VALUE=DATE:17960501
DTEND;VALUE=DATE:17960502
SUMMARY:Tag der Arbeit
DESCRIPTION:Gesetzlicher Feiertag in Deutschland\nDatum: 01.05.1796\nWochentag: Sonntag\nKalenderwoche: 17\nMehr unter: https://kalenderwoche.info/feiertage/1796
URL:https://kalenderwoche.info/feiertage/1796
CATEGORIES:Feiertag,Deutschland
TRANSP:TRANSPARENT
END:VEVENT
BEGIN:VEVENT
UID:feiertag-1796-d9ea857e13ef4fac55528f384419dd80@kalenderwoche.info
DTSTAMP:20260424T180104Z
DTSTART;VALUE=DATE:17960505
DTEND;VALUE=DATE:17960506
SUMMARY:Christi Himmelfahrt
DESCRIPTION:Gesetzlicher Feiertag in Deutschland\nDatum: 05.05.1796\nWochentag: Donnerstag\nKalenderwoche: 18\nMehr unter: https://kalenderwoche.info/feiertage/1796
URL:https://kalenderwoche.info/feiertage/1796
CATEGORIES:Feiertag,Deutschland
TRANSP:TRANSPARENT
END:VEVENT
BEGIN:VEVENT
UID:feiertag-1796-d9bc3f02503ad98ba6f059c190115421@kalenderwoche.info
DTSTAMP:20260424T180104Z
DTSTART;VALUE=DATE:17960516
DTEND;VALUE=DATE:17960517
SUMMARY:Pfingstmontag
DESCRIPTION:Gesetzlicher Feiertag in Deutschland\nDatum: 16.05.1796\nWochentag: Montag\nKalenderwoche: 20\nMehr unter: https://kalenderwoche.info/feiertage/1796
URL:https://kalenderwoche.info/feiertage/1796
CATEGORIES:Feiertag,Deutschland
TRANSP:TRANSPARENT
END:VEVENT
BEGIN:VEVENT
UID:feiertag-1796-4b9e7d97324e558fd24c90f4613dff58@kalenderwoche.info
DTSTAMP:20260424T180104Z
DTSTART;VALUE=DATE:17961003
DTEND;VALUE=DATE:17961004
SUMMARY:Tag der Deutschen Einheit
DESCRIPTION:Gesetzlicher Feiertag in Deutschland\nDatum: 03.10.1796\nWochentag: Montag\nKalenderwoche: 40\nMehr unter: https://kalenderwoche.info/feiertage/1796
URL:https://kalenderwoche.info/feiertage/1796
CATEGORIES:Feiertag,Deutschland
TRANSP:TRANSPARENT
END:VEVENT
BEGIN:VEVENT
UID:feiertag-1796-aacf3168661fd18333a503eb91848c61@kalenderwoche.info
DTSTAMP:20260424T180104Z
DTSTART;VALUE=DATE:17961225
DTEND;VALUE=DATE:17961226
SUMMARY:1. Weihnachtstag
DESCRIPTION:Gesetzlicher Feiertag in Deutschland\nDatum: 25.12.1796\nWochentag: Sonntag\nKalenderwoche: 51\nMehr unter: https://kalenderwoche.info/feiertage/1796
URL:https://kalenderwoche.info/feiertage/1796
CATEGORIES:Feiertag,Deutschland
TRANSP:TRANSPARENT
END:VEVENT
BEGIN:VEVENT
UID:feiertag-1796-294db9858a5e74c0cf3f0b9127e04e29@kalenderwoche.info
DTSTAMP:20260424T180104Z
DTSTART;VALUE=DATE:17961226
DTEND;VALUE=DATE:17961227
SUMMARY:2. Weihnachtstag
DESCRIPTION:Gesetzlicher Feiertag in Deutschland\nDatum: 26.12.1796\nWochentag: Montag\nKalenderwoche: 52\nMehr unter: https://kalenderwoche.info/feiertage/1796
URL:https://kalenderwoche.info/feiertage/1796
CATEGORIES:Feiertag,Deutschland
TRANSP:TRANSPARENT
END:VEVENT
END:VCALENDAR
