BEGIN:VCALENDAR
VERSION:2.0
PRODID:-//kalenderwoche.info//Kalender//DE
CALSCALE:GREGORIAN
METHOD:PUBLISH
X-WR-CALNAME:Feiertage 1797 Deutschland
X-WR-CALDESC:Gesetzliche Feiertage Deutschland 1797
X-WR-TIMEZONE:Europe/Berlin
BEGIN:VEVENT
UID:feiertag-1797-7a61a0a76274d2f234c84e37fdbcc632@kalenderwoche.info
DTSTAMP:20260424T164736Z
DTSTART;VALUE=DATE:17970101
DTEND;VALUE=DATE:17970102
SUMMARY:Neujahr
DESCRIPTION:Gesetzlicher Feiertag in Deutschland\nDatum: 01.01.1797\nWochentag: Sonntag\nKalenderwoche: 52\nMehr unter: https://kalenderwoche.info/feiertage/1797
URL:https://kalenderwoche.info/feiertage/1797
CATEGORIES:Feiertag,Deutschland
TRANSP:TRANSPARENT
END:VEVENT
BEGIN:VEVENT
UID:feiertag-1797-7bfc75b02ac1cad656c66d1112ecb054@kalenderwoche.info
DTSTAMP:20260424T164736Z
DTSTART;VALUE=DATE:17970414
DTEND;VALUE=DATE:17970415
SUMMARY:Karfreitag
DESCRIPTION:Gesetzlicher Feiertag in Deutschland\nDatum: 14.04.1797\nWochentag: Freitag\nKalenderwoche: 15\nMehr unter: https://kalenderwoche.info/feiertage/1797
URL:https://kalenderwoche.info/feiertage/1797
CATEGORIES:Feiertag,Deutschland
TRANSP:TRANSPARENT
END:VEVENT
BEGIN:VEVENT
UID:feiertag-1797-3a0d76a6d09e46face98457e0ae667d1@kalenderwoche.info
DTSTAMP:20260424T164736Z
DTSTART;VALUE=DATE:17970417
DTEND;VALUE=DATE:17970418
SUMMARY:Ostermontag
DESCRIPTION:Gesetzlicher Feiertag in Deutschland\nDatum: 17.04.1797\nWochentag: Montag\nKalenderwoche: 16\nMehr unter: https://kalenderwoche.info/feiertage/1797
URL:https://kalenderwoche.info/feiertage/1797
CATEGORIES:Feiertag,Deutschland
TRANSP:TRANSPARENT
END:VEVENT
BEGIN:VEVENT
UID:feiertag-1797-4a382c60d175c64e26e581ac404adb1c@kalenderwoche.info
DTSTAMP:20260424T164736Z
DTSTART;VALUE=DATE:17970501
DTEND;VALUE=DATE:17970502
SUMMARY:Tag der Arbeit
DESCRIPTION:Gesetzlicher Feiertag in Deutschland\nDatum: 01.05.1797\nWochentag: Montag\nKalenderwoche: 18\nMehr unter: https://kalenderwoche.info/feiertage/1797
URL:https://kalenderwoche.info/feiertage/1797
CATEGORIES:Feiertag,Deutschland
TRANSP:TRANSPARENT
END:VEVENT
BEGIN:VEVENT
UID:feiertag-1797-d9ea857e13ef4fac55528f384419dd80@kalenderwoche.info
DTSTAMP:20260424T164736Z
DTSTART;VALUE=DATE:17970525
DTEND;VALUE=DATE:17970526
SUMMARY:Christi Himmelfahrt
DESCRIPTION:Gesetzlicher Feiertag in Deutschland\nDatum: 25.05.1797\nWochentag: Donnerstag\nKalenderwoche: 21\nMehr unter: https://kalenderwoche.info/feiertage/1797
URL:https://kalenderwoche.info/feiertage/1797
CATEGORIES:Feiertag,Deutschland
TRANSP:TRANSPARENT
END:VEVENT
BEGIN:VEVENT
UID:feiertag-1797-d9bc3f02503ad98ba6f059c190115421@kalenderwoche.info
DTSTAMP:20260424T164736Z
DTSTART;VALUE=DATE:17970605
DTEND;VALUE=DATE:17970606
SUMMARY:Pfingstmontag
DESCRIPTION:Gesetzlicher Feiertag in Deutschland\nDatum: 05.06.1797\nWochentag: Montag\nKalenderwoche: 23\nMehr unter: https://kalenderwoche.info/feiertage/1797
URL:https://kalenderwoche.info/feiertage/1797
CATEGORIES:Feiertag,Deutschland
TRANSP:TRANSPARENT
END:VEVENT
BEGIN:VEVENT
UID:feiertag-1797-4b9e7d97324e558fd24c90f4613dff58@kalenderwoche.info
DTSTAMP:20260424T164736Z
DTSTART;VALUE=DATE:17971003
DTEND;VALUE=DATE:17971004
SUMMARY:Tag der Deutschen Einheit
DESCRIPTION:Gesetzlicher Feiertag in Deutschland\nDatum: 03.10.1797\nWochentag: Dienstag\nKalenderwoche: 40\nMehr unter: https://kalenderwoche.info/feiertage/1797
URL:https://kalenderwoche.info/feiertage/1797
CATEGORIES:Feiertag,Deutschland
TRANSP:TRANSPARENT
END:VEVENT
BEGIN:VEVENT
UID:feiertag-1797-aacf3168661fd18333a503eb91848c61@kalenderwoche.info
DTSTAMP:20260424T164736Z
DTSTART;VALUE=DATE:17971225
DTEND;VALUE=DATE:17971226
SUMMARY:1. Weihnachtstag
DESCRIPTION:Gesetzlicher Feiertag in Deutschland\nDatum: 25.12.1797\nWochentag: Montag\nKalenderwoche: 52\nMehr unter: https://kalenderwoche.info/feiertage/1797
URL:https://kalenderwoche.info/feiertage/1797
CATEGORIES:Feiertag,Deutschland
TRANSP:TRANSPARENT
END:VEVENT
BEGIN:VEVENT
UID:feiertag-1797-294db9858a5e74c0cf3f0b9127e04e29@kalenderwoche.info
DTSTAMP:20260424T164736Z
DTSTART;VALUE=DATE:17971226
DTEND;VALUE=DATE:17971227
SUMMARY:2. Weihnachtstag
DESCRIPTION:Gesetzlicher Feiertag in Deutschland\nDatum: 26.12.1797\nWochentag: Dienstag\nKalenderwoche: 52\nMehr unter: https://kalenderwoche.info/feiertage/1797
URL:https://kalenderwoche.info/feiertage/1797
CATEGORIES:Feiertag,Deutschland
TRANSP:TRANSPARENT
END:VEVENT
END:VCALENDAR
