BEGIN:VCALENDAR
VERSION:2.0
PRODID:-//kalenderwoche.info//Kalender//DE
CALSCALE:GREGORIAN
METHOD:PUBLISH
X-WR-CALNAME:Feiertage 1802 Deutschland
X-WR-CALDESC:Gesetzliche Feiertage Deutschland 1802
X-WR-TIMEZONE:Europe/Berlin
BEGIN:VEVENT
UID:feiertag-1802-7a61a0a76274d2f234c84e37fdbcc632@kalenderwoche.info
DTSTAMP:20260424T103443Z
DTSTART;VALUE=DATE:18020101
DTEND;VALUE=DATE:18020102
SUMMARY:Neujahr
DESCRIPTION:Gesetzlicher Feiertag in Deutschland\nDatum: 01.01.1802\nWochentag: Freitag\nKalenderwoche: 53\nMehr unter: https://kalenderwoche.info/feiertage/1802
URL:https://kalenderwoche.info/feiertage/1802
CATEGORIES:Feiertag,Deutschland
TRANSP:TRANSPARENT
END:VEVENT
BEGIN:VEVENT
UID:feiertag-1802-7bfc75b02ac1cad656c66d1112ecb054@kalenderwoche.info
DTSTAMP:20260424T103443Z
DTSTART;VALUE=DATE:18020416
DTEND;VALUE=DATE:18020417
SUMMARY:Karfreitag
DESCRIPTION:Gesetzlicher Feiertag in Deutschland\nDatum: 16.04.1802\nWochentag: Freitag\nKalenderwoche: 15\nMehr unter: https://kalenderwoche.info/feiertage/1802
URL:https://kalenderwoche.info/feiertage/1802
CATEGORIES:Feiertag,Deutschland
TRANSP:TRANSPARENT
END:VEVENT
BEGIN:VEVENT
UID:feiertag-1802-3a0d76a6d09e46face98457e0ae667d1@kalenderwoche.info
DTSTAMP:20260424T103443Z
DTSTART;VALUE=DATE:18020419
DTEND;VALUE=DATE:18020420
SUMMARY:Ostermontag
DESCRIPTION:Gesetzlicher Feiertag in Deutschland\nDatum: 19.04.1802\nWochentag: Montag\nKalenderwoche: 16\nMehr unter: https://kalenderwoche.info/feiertage/1802
URL:https://kalenderwoche.info/feiertage/1802
CATEGORIES:Feiertag,Deutschland
TRANSP:TRANSPARENT
END:VEVENT
BEGIN:VEVENT
UID:feiertag-1802-4a382c60d175c64e26e581ac404adb1c@kalenderwoche.info
DTSTAMP:20260424T103443Z
DTSTART;VALUE=DATE:18020501
DTEND;VALUE=DATE:18020502
SUMMARY:Tag der Arbeit
DESCRIPTION:Gesetzlicher Feiertag in Deutschland\nDatum: 01.05.1802\nWochentag: Samstag\nKalenderwoche: 17\nMehr unter: https://kalenderwoche.info/feiertage/1802
URL:https://kalenderwoche.info/feiertage/1802
CATEGORIES:Feiertag,Deutschland
TRANSP:TRANSPARENT
END:VEVENT
BEGIN:VEVENT
UID:feiertag-1802-d9ea857e13ef4fac55528f384419dd80@kalenderwoche.info
DTSTAMP:20260424T103443Z
DTSTART;VALUE=DATE:18020527
DTEND;VALUE=DATE:18020528
SUMMARY:Christi Himmelfahrt
DESCRIPTION:Gesetzlicher Feiertag in Deutschland\nDatum: 27.05.1802\nWochentag: Donnerstag\nKalenderwoche: 21\nMehr unter: https://kalenderwoche.info/feiertage/1802
URL:https://kalenderwoche.info/feiertage/1802
CATEGORIES:Feiertag,Deutschland
TRANSP:TRANSPARENT
END:VEVENT
BEGIN:VEVENT
UID:feiertag-1802-d9bc3f02503ad98ba6f059c190115421@kalenderwoche.info
DTSTAMP:20260424T103443Z
DTSTART;VALUE=DATE:18020607
DTEND;VALUE=DATE:18020608
SUMMARY:Pfingstmontag
DESCRIPTION:Gesetzlicher Feiertag in Deutschland\nDatum: 07.06.1802\nWochentag: Montag\nKalenderwoche: 23\nMehr unter: https://kalenderwoche.info/feiertage/1802
URL:https://kalenderwoche.info/feiertage/1802
CATEGORIES:Feiertag,Deutschland
TRANSP:TRANSPARENT
END:VEVENT
BEGIN:VEVENT
UID:feiertag-1802-4b9e7d97324e558fd24c90f4613dff58@kalenderwoche.info
DTSTAMP:20260424T103443Z
DTSTART;VALUE=DATE:18021003
DTEND;VALUE=DATE:18021004
SUMMARY:Tag der Deutschen Einheit
DESCRIPTION:Gesetzlicher Feiertag in Deutschland\nDatum: 03.10.1802\nWochentag: Sonntag\nKalenderwoche: 39\nMehr unter: https://kalenderwoche.info/feiertage/1802
URL:https://kalenderwoche.info/feiertage/1802
CATEGORIES:Feiertag,Deutschland
TRANSP:TRANSPARENT
END:VEVENT
BEGIN:VEVENT
UID:feiertag-1802-aacf3168661fd18333a503eb91848c61@kalenderwoche.info
DTSTAMP:20260424T103443Z
DTSTART;VALUE=DATE:18021225
DTEND;VALUE=DATE:18021226
SUMMARY:1. Weihnachtstag
DESCRIPTION:Gesetzlicher Feiertag in Deutschland\nDatum: 25.12.1802\nWochentag: Samstag\nKalenderwoche: 51\nMehr unter: https://kalenderwoche.info/feiertage/1802
URL:https://kalenderwoche.info/feiertage/1802
CATEGORIES:Feiertag,Deutschland
TRANSP:TRANSPARENT
END:VEVENT
BEGIN:VEVENT
UID:feiertag-1802-294db9858a5e74c0cf3f0b9127e04e29@kalenderwoche.info
DTSTAMP:20260424T103443Z
DTSTART;VALUE=DATE:18021226
DTEND;VALUE=DATE:18021227
SUMMARY:2. Weihnachtstag
DESCRIPTION:Gesetzlicher Feiertag in Deutschland\nDatum: 26.12.1802\nWochentag: Sonntag\nKalenderwoche: 51\nMehr unter: https://kalenderwoche.info/feiertage/1802
URL:https://kalenderwoche.info/feiertage/1802
CATEGORIES:Feiertag,Deutschland
TRANSP:TRANSPARENT
END:VEVENT
END:VCALENDAR
