BEGIN:VCALENDAR
VERSION:2.0
PRODID:-//kalenderwoche.info//Kalender//DE
CALSCALE:GREGORIAN
METHOD:PUBLISH
X-WR-CALNAME:Feiertage 1804 Deutschland
X-WR-CALDESC:Gesetzliche Feiertage Deutschland 1804
X-WR-TIMEZONE:Europe/Berlin
BEGIN:VEVENT
UID:feiertag-1804-7a61a0a76274d2f234c84e37fdbcc632@kalenderwoche.info
DTSTAMP:20260424T075426Z
DTSTART;VALUE=DATE:18040101
DTEND;VALUE=DATE:18040102
SUMMARY:Neujahr
DESCRIPTION:Gesetzlicher Feiertag in Deutschland\nDatum: 01.01.1804\nWochentag: Sonntag\nKalenderwoche: 52\nMehr unter: https://kalenderwoche.info/feiertage/1804
URL:https://kalenderwoche.info/feiertage/1804
CATEGORIES:Feiertag,Deutschland
TRANSP:TRANSPARENT
END:VEVENT
BEGIN:VEVENT
UID:feiertag-1804-7bfc75b02ac1cad656c66d1112ecb054@kalenderwoche.info
DTSTAMP:20260424T075426Z
DTSTART;VALUE=DATE:18040330
DTEND;VALUE=DATE:18040331
SUMMARY:Karfreitag
DESCRIPTION:Gesetzlicher Feiertag in Deutschland\nDatum: 30.03.1804\nWochentag: Freitag\nKalenderwoche: 13\nMehr unter: https://kalenderwoche.info/feiertage/1804
URL:https://kalenderwoche.info/feiertage/1804
CATEGORIES:Feiertag,Deutschland
TRANSP:TRANSPARENT
END:VEVENT
BEGIN:VEVENT
UID:feiertag-1804-3a0d76a6d09e46face98457e0ae667d1@kalenderwoche.info
DTSTAMP:20260424T075426Z
DTSTART;VALUE=DATE:18040402
DTEND;VALUE=DATE:18040403
SUMMARY:Ostermontag
DESCRIPTION:Gesetzlicher Feiertag in Deutschland\nDatum: 02.04.1804\nWochentag: Montag\nKalenderwoche: 14\nMehr unter: https://kalenderwoche.info/feiertage/1804
URL:https://kalenderwoche.info/feiertage/1804
CATEGORIES:Feiertag,Deutschland
TRANSP:TRANSPARENT
END:VEVENT
BEGIN:VEVENT
UID:feiertag-1804-4a382c60d175c64e26e581ac404adb1c@kalenderwoche.info
DTSTAMP:20260424T075426Z
DTSTART;VALUE=DATE:18040501
DTEND;VALUE=DATE:18040502
SUMMARY:Tag der Arbeit
DESCRIPTION:Gesetzlicher Feiertag in Deutschland\nDatum: 01.05.1804\nWochentag: Dienstag\nKalenderwoche: 18\nMehr unter: https://kalenderwoche.info/feiertage/1804
URL:https://kalenderwoche.info/feiertage/1804
CATEGORIES:Feiertag,Deutschland
TRANSP:TRANSPARENT
END:VEVENT
BEGIN:VEVENT
UID:feiertag-1804-d9ea857e13ef4fac55528f384419dd80@kalenderwoche.info
DTSTAMP:20260424T075426Z
DTSTART;VALUE=DATE:18040510
DTEND;VALUE=DATE:18040511
SUMMARY:Christi Himmelfahrt
DESCRIPTION:Gesetzlicher Feiertag in Deutschland\nDatum: 10.05.1804\nWochentag: Donnerstag\nKalenderwoche: 19\nMehr unter: https://kalenderwoche.info/feiertage/1804
URL:https://kalenderwoche.info/feiertage/1804
CATEGORIES:Feiertag,Deutschland
TRANSP:TRANSPARENT
END:VEVENT
BEGIN:VEVENT
UID:feiertag-1804-d9bc3f02503ad98ba6f059c190115421@kalenderwoche.info
DTSTAMP:20260424T075426Z
DTSTART;VALUE=DATE:18040521
DTEND;VALUE=DATE:18040522
SUMMARY:Pfingstmontag
DESCRIPTION:Gesetzlicher Feiertag in Deutschland\nDatum: 21.05.1804\nWochentag: Montag\nKalenderwoche: 21\nMehr unter: https://kalenderwoche.info/feiertage/1804
URL:https://kalenderwoche.info/feiertage/1804
CATEGORIES:Feiertag,Deutschland
TRANSP:TRANSPARENT
END:VEVENT
BEGIN:VEVENT
UID:feiertag-1804-4b9e7d97324e558fd24c90f4613dff58@kalenderwoche.info
DTSTAMP:20260424T075426Z
DTSTART;VALUE=DATE:18041003
DTEND;VALUE=DATE:18041004
SUMMARY:Tag der Deutschen Einheit
DESCRIPTION:Gesetzlicher Feiertag in Deutschland\nDatum: 03.10.1804\nWochentag: Mittwoch\nKalenderwoche: 40\nMehr unter: https://kalenderwoche.info/feiertage/1804
URL:https://kalenderwoche.info/feiertage/1804
CATEGORIES:Feiertag,Deutschland
TRANSP:TRANSPARENT
END:VEVENT
BEGIN:VEVENT
UID:feiertag-1804-aacf3168661fd18333a503eb91848c61@kalenderwoche.info
DTSTAMP:20260424T075426Z
DTSTART;VALUE=DATE:18041225
DTEND;VALUE=DATE:18041226
SUMMARY:1. Weihnachtstag
DESCRIPTION:Gesetzlicher Feiertag in Deutschland\nDatum: 25.12.1804\nWochentag: Dienstag\nKalenderwoche: 52\nMehr unter: https://kalenderwoche.info/feiertage/1804
URL:https://kalenderwoche.info/feiertage/1804
CATEGORIES:Feiertag,Deutschland
TRANSP:TRANSPARENT
END:VEVENT
BEGIN:VEVENT
UID:feiertag-1804-294db9858a5e74c0cf3f0b9127e04e29@kalenderwoche.info
DTSTAMP:20260424T075426Z
DTSTART;VALUE=DATE:18041226
DTEND;VALUE=DATE:18041227
SUMMARY:2. Weihnachtstag
DESCRIPTION:Gesetzlicher Feiertag in Deutschland\nDatum: 26.12.1804\nWochentag: Mittwoch\nKalenderwoche: 52\nMehr unter: https://kalenderwoche.info/feiertage/1804
URL:https://kalenderwoche.info/feiertage/1804
CATEGORIES:Feiertag,Deutschland
TRANSP:TRANSPARENT
END:VEVENT
END:VCALENDAR
