BEGIN:VCALENDAR
VERSION:2.0
PRODID:-//kalenderwoche.info//Kalender//DE
CALSCALE:GREGORIAN
METHOD:PUBLISH
X-WR-CALNAME:Feiertage 1808 Deutschland
X-WR-CALDESC:Gesetzliche Feiertage Deutschland 1808
X-WR-TIMEZONE:Europe/Berlin
BEGIN:VEVENT
UID:feiertag-1808-7a61a0a76274d2f234c84e37fdbcc632@kalenderwoche.info
DTSTAMP:20260424T030223Z
DTSTART;VALUE=DATE:18080101
DTEND;VALUE=DATE:18080102
SUMMARY:Neujahr
DESCRIPTION:Gesetzlicher Feiertag in Deutschland\nDatum: 01.01.1808\nWochentag: Freitag\nKalenderwoche: 53\nMehr unter: https://kalenderwoche.info/feiertage/1808
URL:https://kalenderwoche.info/feiertage/1808
CATEGORIES:Feiertag,Deutschland
TRANSP:TRANSPARENT
END:VEVENT
BEGIN:VEVENT
UID:feiertag-1808-7bfc75b02ac1cad656c66d1112ecb054@kalenderwoche.info
DTSTAMP:20260424T030223Z
DTSTART;VALUE=DATE:18080415
DTEND;VALUE=DATE:18080416
SUMMARY:Karfreitag
DESCRIPTION:Gesetzlicher Feiertag in Deutschland\nDatum: 15.04.1808\nWochentag: Freitag\nKalenderwoche: 15\nMehr unter: https://kalenderwoche.info/feiertage/1808
URL:https://kalenderwoche.info/feiertage/1808
CATEGORIES:Feiertag,Deutschland
TRANSP:TRANSPARENT
END:VEVENT
BEGIN:VEVENT
UID:feiertag-1808-3a0d76a6d09e46face98457e0ae667d1@kalenderwoche.info
DTSTAMP:20260424T030223Z
DTSTART;VALUE=DATE:18080418
DTEND;VALUE=DATE:18080419
SUMMARY:Ostermontag
DESCRIPTION:Gesetzlicher Feiertag in Deutschland\nDatum: 18.04.1808\nWochentag: Montag\nKalenderwoche: 16\nMehr unter: https://kalenderwoche.info/feiertage/1808
URL:https://kalenderwoche.info/feiertage/1808
CATEGORIES:Feiertag,Deutschland
TRANSP:TRANSPARENT
END:VEVENT
BEGIN:VEVENT
UID:feiertag-1808-4a382c60d175c64e26e581ac404adb1c@kalenderwoche.info
DTSTAMP:20260424T030223Z
DTSTART;VALUE=DATE:18080501
DTEND;VALUE=DATE:18080502
SUMMARY:Tag der Arbeit
DESCRIPTION:Gesetzlicher Feiertag in Deutschland\nDatum: 01.05.1808\nWochentag: Sonntag\nKalenderwoche: 17\nMehr unter: https://kalenderwoche.info/feiertage/1808
URL:https://kalenderwoche.info/feiertage/1808
CATEGORIES:Feiertag,Deutschland
TRANSP:TRANSPARENT
END:VEVENT
BEGIN:VEVENT
UID:feiertag-1808-d9ea857e13ef4fac55528f384419dd80@kalenderwoche.info
DTSTAMP:20260424T030223Z
DTSTART;VALUE=DATE:18080526
DTEND;VALUE=DATE:18080527
SUMMARY:Christi Himmelfahrt
DESCRIPTION:Gesetzlicher Feiertag in Deutschland\nDatum: 26.05.1808\nWochentag: Donnerstag\nKalenderwoche: 21\nMehr unter: https://kalenderwoche.info/feiertage/1808
URL:https://kalenderwoche.info/feiertage/1808
CATEGORIES:Feiertag,Deutschland
TRANSP:TRANSPARENT
END:VEVENT
BEGIN:VEVENT
UID:feiertag-1808-d9bc3f02503ad98ba6f059c190115421@kalenderwoche.info
DTSTAMP:20260424T030223Z
DTSTART;VALUE=DATE:18080606
DTEND;VALUE=DATE:18080607
SUMMARY:Pfingstmontag
DESCRIPTION:Gesetzlicher Feiertag in Deutschland\nDatum: 06.06.1808\nWochentag: Montag\nKalenderwoche: 23\nMehr unter: https://kalenderwoche.info/feiertage/1808
URL:https://kalenderwoche.info/feiertage/1808
CATEGORIES:Feiertag,Deutschland
TRANSP:TRANSPARENT
END:VEVENT
BEGIN:VEVENT
UID:feiertag-1808-4b9e7d97324e558fd24c90f4613dff58@kalenderwoche.info
DTSTAMP:20260424T030223Z
DTSTART;VALUE=DATE:18081003
DTEND;VALUE=DATE:18081004
SUMMARY:Tag der Deutschen Einheit
DESCRIPTION:Gesetzlicher Feiertag in Deutschland\nDatum: 03.10.1808\nWochentag: Montag\nKalenderwoche: 40\nMehr unter: https://kalenderwoche.info/feiertage/1808
URL:https://kalenderwoche.info/feiertage/1808
CATEGORIES:Feiertag,Deutschland
TRANSP:TRANSPARENT
END:VEVENT
BEGIN:VEVENT
UID:feiertag-1808-aacf3168661fd18333a503eb91848c61@kalenderwoche.info
DTSTAMP:20260424T030223Z
DTSTART;VALUE=DATE:18081225
DTEND;VALUE=DATE:18081226
SUMMARY:1. Weihnachtstag
DESCRIPTION:Gesetzlicher Feiertag in Deutschland\nDatum: 25.12.1808\nWochentag: Sonntag\nKalenderwoche: 51\nMehr unter: https://kalenderwoche.info/feiertage/1808
URL:https://kalenderwoche.info/feiertage/1808
CATEGORIES:Feiertag,Deutschland
TRANSP:TRANSPARENT
END:VEVENT
BEGIN:VEVENT
UID:feiertag-1808-294db9858a5e74c0cf3f0b9127e04e29@kalenderwoche.info
DTSTAMP:20260424T030223Z
DTSTART;VALUE=DATE:18081226
DTEND;VALUE=DATE:18081227
SUMMARY:2. Weihnachtstag
DESCRIPTION:Gesetzlicher Feiertag in Deutschland\nDatum: 26.12.1808\nWochentag: Montag\nKalenderwoche: 52\nMehr unter: https://kalenderwoche.info/feiertage/1808
URL:https://kalenderwoche.info/feiertage/1808
CATEGORIES:Feiertag,Deutschland
TRANSP:TRANSPARENT
END:VEVENT
END:VCALENDAR
