BEGIN:VCALENDAR
VERSION:2.0
PRODID:-//kalenderwoche.info//Kalender//DE
CALSCALE:GREGORIAN
METHOD:PUBLISH
X-WR-CALNAME:Feiertage 1810 Deutschland
X-WR-CALDESC:Gesetzliche Feiertage Deutschland 1810
X-WR-TIMEZONE:Europe/Berlin
BEGIN:VEVENT
UID:feiertag-1810-7a61a0a76274d2f234c84e37fdbcc632@kalenderwoche.info
DTSTAMP:20260424T003502Z
DTSTART;VALUE=DATE:18100101
DTEND;VALUE=DATE:18100102
SUMMARY:Neujahr
DESCRIPTION:Gesetzlicher Feiertag in Deutschland\nDatum: 01.01.1810\nWochentag: Montag\nKalenderwoche: 1\nMehr unter: https://kalenderwoche.info/feiertage/1810
URL:https://kalenderwoche.info/feiertage/1810
CATEGORIES:Feiertag,Deutschland
TRANSP:TRANSPARENT
END:VEVENT
BEGIN:VEVENT
UID:feiertag-1810-7bfc75b02ac1cad656c66d1112ecb054@kalenderwoche.info
DTSTAMP:20260424T003502Z
DTSTART;VALUE=DATE:18100420
DTEND;VALUE=DATE:18100421
SUMMARY:Karfreitag
DESCRIPTION:Gesetzlicher Feiertag in Deutschland\nDatum: 20.04.1810\nWochentag: Freitag\nKalenderwoche: 16\nMehr unter: https://kalenderwoche.info/feiertage/1810
URL:https://kalenderwoche.info/feiertage/1810
CATEGORIES:Feiertag,Deutschland
TRANSP:TRANSPARENT
END:VEVENT
BEGIN:VEVENT
UID:feiertag-1810-3a0d76a6d09e46face98457e0ae667d1@kalenderwoche.info
DTSTAMP:20260424T003502Z
DTSTART;VALUE=DATE:18100423
DTEND;VALUE=DATE:18100424
SUMMARY:Ostermontag
DESCRIPTION:Gesetzlicher Feiertag in Deutschland\nDatum: 23.04.1810\nWochentag: Montag\nKalenderwoche: 17\nMehr unter: https://kalenderwoche.info/feiertage/1810
URL:https://kalenderwoche.info/feiertage/1810
CATEGORIES:Feiertag,Deutschland
TRANSP:TRANSPARENT
END:VEVENT
BEGIN:VEVENT
UID:feiertag-1810-4a382c60d175c64e26e581ac404adb1c@kalenderwoche.info
DTSTAMP:20260424T003502Z
DTSTART;VALUE=DATE:18100501
DTEND;VALUE=DATE:18100502
SUMMARY:Tag der Arbeit
DESCRIPTION:Gesetzlicher Feiertag in Deutschland\nDatum: 01.05.1810\nWochentag: Dienstag\nKalenderwoche: 18\nMehr unter: https://kalenderwoche.info/feiertage/1810
URL:https://kalenderwoche.info/feiertage/1810
CATEGORIES:Feiertag,Deutschland
TRANSP:TRANSPARENT
END:VEVENT
BEGIN:VEVENT
UID:feiertag-1810-d9ea857e13ef4fac55528f384419dd80@kalenderwoche.info
DTSTAMP:20260424T003502Z
DTSTART;VALUE=DATE:18100531
DTEND;VALUE=DATE:18100601
SUMMARY:Christi Himmelfahrt
DESCRIPTION:Gesetzlicher Feiertag in Deutschland\nDatum: 31.05.1810\nWochentag: Donnerstag\nKalenderwoche: 22\nMehr unter: https://kalenderwoche.info/feiertage/1810
URL:https://kalenderwoche.info/feiertage/1810
CATEGORIES:Feiertag,Deutschland
TRANSP:TRANSPARENT
END:VEVENT
BEGIN:VEVENT
UID:feiertag-1810-d9bc3f02503ad98ba6f059c190115421@kalenderwoche.info
DTSTAMP:20260424T003502Z
DTSTART;VALUE=DATE:18100611
DTEND;VALUE=DATE:18100612
SUMMARY:Pfingstmontag
DESCRIPTION:Gesetzlicher Feiertag in Deutschland\nDatum: 11.06.1810\nWochentag: Montag\nKalenderwoche: 24\nMehr unter: https://kalenderwoche.info/feiertage/1810
URL:https://kalenderwoche.info/feiertage/1810
CATEGORIES:Feiertag,Deutschland
TRANSP:TRANSPARENT
END:VEVENT
BEGIN:VEVENT
UID:feiertag-1810-4b9e7d97324e558fd24c90f4613dff58@kalenderwoche.info
DTSTAMP:20260424T003502Z
DTSTART;VALUE=DATE:18101003
DTEND;VALUE=DATE:18101004
SUMMARY:Tag der Deutschen Einheit
DESCRIPTION:Gesetzlicher Feiertag in Deutschland\nDatum: 03.10.1810\nWochentag: Mittwoch\nKalenderwoche: 40\nMehr unter: https://kalenderwoche.info/feiertage/1810
URL:https://kalenderwoche.info/feiertage/1810
CATEGORIES:Feiertag,Deutschland
TRANSP:TRANSPARENT
END:VEVENT
BEGIN:VEVENT
UID:feiertag-1810-aacf3168661fd18333a503eb91848c61@kalenderwoche.info
DTSTAMP:20260424T003502Z
DTSTART;VALUE=DATE:18101225
DTEND;VALUE=DATE:18101226
SUMMARY:1. Weihnachtstag
DESCRIPTION:Gesetzlicher Feiertag in Deutschland\nDatum: 25.12.1810\nWochentag: Dienstag\nKalenderwoche: 52\nMehr unter: https://kalenderwoche.info/feiertage/1810
URL:https://kalenderwoche.info/feiertage/1810
CATEGORIES:Feiertag,Deutschland
TRANSP:TRANSPARENT
END:VEVENT
BEGIN:VEVENT
UID:feiertag-1810-294db9858a5e74c0cf3f0b9127e04e29@kalenderwoche.info
DTSTAMP:20260424T003502Z
DTSTART;VALUE=DATE:18101226
DTEND;VALUE=DATE:18101227
SUMMARY:2. Weihnachtstag
DESCRIPTION:Gesetzlicher Feiertag in Deutschland\nDatum: 26.12.1810\nWochentag: Mittwoch\nKalenderwoche: 52\nMehr unter: https://kalenderwoche.info/feiertage/1810
URL:https://kalenderwoche.info/feiertage/1810
CATEGORIES:Feiertag,Deutschland
TRANSP:TRANSPARENT
END:VEVENT
END:VCALENDAR
