BEGIN:VCALENDAR
VERSION:2.0
PRODID:-//kalenderwoche.info//Kalender//DE
CALSCALE:GREGORIAN
METHOD:PUBLISH
X-WR-CALNAME:Feiertage 1811 Deutschland
X-WR-CALDESC:Gesetzliche Feiertage Deutschland 1811
X-WR-TIMEZONE:Europe/Berlin
BEGIN:VEVENT
UID:feiertag-1811-7a61a0a76274d2f234c84e37fdbcc632@kalenderwoche.info
DTSTAMP:20260423T231110Z
DTSTART;VALUE=DATE:18110101
DTEND;VALUE=DATE:18110102
SUMMARY:Neujahr
DESCRIPTION:Gesetzlicher Feiertag in Deutschland\nDatum: 01.01.1811\nWochentag: Dienstag\nKalenderwoche: 1\nMehr unter: https://kalenderwoche.info/feiertage/1811
URL:https://kalenderwoche.info/feiertage/1811
CATEGORIES:Feiertag,Deutschland
TRANSP:TRANSPARENT
END:VEVENT
BEGIN:VEVENT
UID:feiertag-1811-7bfc75b02ac1cad656c66d1112ecb054@kalenderwoche.info
DTSTAMP:20260423T231110Z
DTSTART;VALUE=DATE:18110412
DTEND;VALUE=DATE:18110413
SUMMARY:Karfreitag
DESCRIPTION:Gesetzlicher Feiertag in Deutschland\nDatum: 12.04.1811\nWochentag: Freitag\nKalenderwoche: 15\nMehr unter: https://kalenderwoche.info/feiertage/1811
URL:https://kalenderwoche.info/feiertage/1811
CATEGORIES:Feiertag,Deutschland
TRANSP:TRANSPARENT
END:VEVENT
BEGIN:VEVENT
UID:feiertag-1811-3a0d76a6d09e46face98457e0ae667d1@kalenderwoche.info
DTSTAMP:20260423T231110Z
DTSTART;VALUE=DATE:18110415
DTEND;VALUE=DATE:18110416
SUMMARY:Ostermontag
DESCRIPTION:Gesetzlicher Feiertag in Deutschland\nDatum: 15.04.1811\nWochentag: Montag\nKalenderwoche: 16\nMehr unter: https://kalenderwoche.info/feiertage/1811
URL:https://kalenderwoche.info/feiertage/1811
CATEGORIES:Feiertag,Deutschland
TRANSP:TRANSPARENT
END:VEVENT
BEGIN:VEVENT
UID:feiertag-1811-4a382c60d175c64e26e581ac404adb1c@kalenderwoche.info
DTSTAMP:20260423T231110Z
DTSTART;VALUE=DATE:18110501
DTEND;VALUE=DATE:18110502
SUMMARY:Tag der Arbeit
DESCRIPTION:Gesetzlicher Feiertag in Deutschland\nDatum: 01.05.1811\nWochentag: Mittwoch\nKalenderwoche: 18\nMehr unter: https://kalenderwoche.info/feiertage/1811
URL:https://kalenderwoche.info/feiertage/1811
CATEGORIES:Feiertag,Deutschland
TRANSP:TRANSPARENT
END:VEVENT
BEGIN:VEVENT
UID:feiertag-1811-d9ea857e13ef4fac55528f384419dd80@kalenderwoche.info
DTSTAMP:20260423T231110Z
DTSTART;VALUE=DATE:18110523
DTEND;VALUE=DATE:18110524
SUMMARY:Christi Himmelfahrt
DESCRIPTION:Gesetzlicher Feiertag in Deutschland\nDatum: 23.05.1811\nWochentag: Donnerstag\nKalenderwoche: 21\nMehr unter: https://kalenderwoche.info/feiertage/1811
URL:https://kalenderwoche.info/feiertage/1811
CATEGORIES:Feiertag,Deutschland
TRANSP:TRANSPARENT
END:VEVENT
BEGIN:VEVENT
UID:feiertag-1811-d9bc3f02503ad98ba6f059c190115421@kalenderwoche.info
DTSTAMP:20260423T231110Z
DTSTART;VALUE=DATE:18110603
DTEND;VALUE=DATE:18110604
SUMMARY:Pfingstmontag
DESCRIPTION:Gesetzlicher Feiertag in Deutschland\nDatum: 03.06.1811\nWochentag: Montag\nKalenderwoche: 23\nMehr unter: https://kalenderwoche.info/feiertage/1811
URL:https://kalenderwoche.info/feiertage/1811
CATEGORIES:Feiertag,Deutschland
TRANSP:TRANSPARENT
END:VEVENT
BEGIN:VEVENT
UID:feiertag-1811-4b9e7d97324e558fd24c90f4613dff58@kalenderwoche.info
DTSTAMP:20260423T231110Z
DTSTART;VALUE=DATE:18111003
DTEND;VALUE=DATE:18111004
SUMMARY:Tag der Deutschen Einheit
DESCRIPTION:Gesetzlicher Feiertag in Deutschland\nDatum: 03.10.1811\nWochentag: Donnerstag\nKalenderwoche: 40\nMehr unter: https://kalenderwoche.info/feiertage/1811
URL:https://kalenderwoche.info/feiertage/1811
CATEGORIES:Feiertag,Deutschland
TRANSP:TRANSPARENT
END:VEVENT
BEGIN:VEVENT
UID:feiertag-1811-aacf3168661fd18333a503eb91848c61@kalenderwoche.info
DTSTAMP:20260423T231110Z
DTSTART;VALUE=DATE:18111225
DTEND;VALUE=DATE:18111226
SUMMARY:1. Weihnachtstag
DESCRIPTION:Gesetzlicher Feiertag in Deutschland\nDatum: 25.12.1811\nWochentag: Mittwoch\nKalenderwoche: 52\nMehr unter: https://kalenderwoche.info/feiertage/1811
URL:https://kalenderwoche.info/feiertage/1811
CATEGORIES:Feiertag,Deutschland
TRANSP:TRANSPARENT
END:VEVENT
BEGIN:VEVENT
UID:feiertag-1811-294db9858a5e74c0cf3f0b9127e04e29@kalenderwoche.info
DTSTAMP:20260423T231110Z
DTSTART;VALUE=DATE:18111226
DTEND;VALUE=DATE:18111227
SUMMARY:2. Weihnachtstag
DESCRIPTION:Gesetzlicher Feiertag in Deutschland\nDatum: 26.12.1811\nWochentag: Donnerstag\nKalenderwoche: 52\nMehr unter: https://kalenderwoche.info/feiertage/1811
URL:https://kalenderwoche.info/feiertage/1811
CATEGORIES:Feiertag,Deutschland
TRANSP:TRANSPARENT
END:VEVENT
END:VCALENDAR
