BEGIN:VCALENDAR
VERSION:2.0
PRODID:-//kalenderwoche.info//Kalender//DE
CALSCALE:GREGORIAN
METHOD:PUBLISH
X-WR-CALNAME:Feiertage 1812 Deutschland
X-WR-CALDESC:Gesetzliche Feiertage Deutschland 1812
X-WR-TIMEZONE:Europe/Berlin
BEGIN:VEVENT
UID:feiertag-1812-7a61a0a76274d2f234c84e37fdbcc632@kalenderwoche.info
DTSTAMP:20260423T213749Z
DTSTART;VALUE=DATE:18120101
DTEND;VALUE=DATE:18120102
SUMMARY:Neujahr
DESCRIPTION:Gesetzlicher Feiertag in Deutschland\nDatum: 01.01.1812\nWochentag: Mittwoch\nKalenderwoche: 1\nMehr unter: https://kalenderwoche.info/feiertage/1812
URL:https://kalenderwoche.info/feiertage/1812
CATEGORIES:Feiertag,Deutschland
TRANSP:TRANSPARENT
END:VEVENT
BEGIN:VEVENT
UID:feiertag-1812-7bfc75b02ac1cad656c66d1112ecb054@kalenderwoche.info
DTSTAMP:20260423T213749Z
DTSTART;VALUE=DATE:18120327
DTEND;VALUE=DATE:18120328
SUMMARY:Karfreitag
DESCRIPTION:Gesetzlicher Feiertag in Deutschland\nDatum: 27.03.1812\nWochentag: Freitag\nKalenderwoche: 13\nMehr unter: https://kalenderwoche.info/feiertage/1812
URL:https://kalenderwoche.info/feiertage/1812
CATEGORIES:Feiertag,Deutschland
TRANSP:TRANSPARENT
END:VEVENT
BEGIN:VEVENT
UID:feiertag-1812-3a0d76a6d09e46face98457e0ae667d1@kalenderwoche.info
DTSTAMP:20260423T213749Z
DTSTART;VALUE=DATE:18120330
DTEND;VALUE=DATE:18120331
SUMMARY:Ostermontag
DESCRIPTION:Gesetzlicher Feiertag in Deutschland\nDatum: 30.03.1812\nWochentag: Montag\nKalenderwoche: 14\nMehr unter: https://kalenderwoche.info/feiertage/1812
URL:https://kalenderwoche.info/feiertage/1812
CATEGORIES:Feiertag,Deutschland
TRANSP:TRANSPARENT
END:VEVENT
BEGIN:VEVENT
UID:feiertag-1812-4a382c60d175c64e26e581ac404adb1c@kalenderwoche.info
DTSTAMP:20260423T213749Z
DTSTART;VALUE=DATE:18120501
DTEND;VALUE=DATE:18120502
SUMMARY:Tag der Arbeit
DESCRIPTION:Gesetzlicher Feiertag in Deutschland\nDatum: 01.05.1812\nWochentag: Freitag\nKalenderwoche: 18\nMehr unter: https://kalenderwoche.info/feiertage/1812
URL:https://kalenderwoche.info/feiertage/1812
CATEGORIES:Feiertag,Deutschland
TRANSP:TRANSPARENT
END:VEVENT
BEGIN:VEVENT
UID:feiertag-1812-d9ea857e13ef4fac55528f384419dd80@kalenderwoche.info
DTSTAMP:20260423T213749Z
DTSTART;VALUE=DATE:18120507
DTEND;VALUE=DATE:18120508
SUMMARY:Christi Himmelfahrt
DESCRIPTION:Gesetzlicher Feiertag in Deutschland\nDatum: 07.05.1812\nWochentag: Donnerstag\nKalenderwoche: 19\nMehr unter: https://kalenderwoche.info/feiertage/1812
URL:https://kalenderwoche.info/feiertage/1812
CATEGORIES:Feiertag,Deutschland
TRANSP:TRANSPARENT
END:VEVENT
BEGIN:VEVENT
UID:feiertag-1812-d9bc3f02503ad98ba6f059c190115421@kalenderwoche.info
DTSTAMP:20260423T213749Z
DTSTART;VALUE=DATE:18120518
DTEND;VALUE=DATE:18120519
SUMMARY:Pfingstmontag
DESCRIPTION:Gesetzlicher Feiertag in Deutschland\nDatum: 18.05.1812\nWochentag: Montag\nKalenderwoche: 21\nMehr unter: https://kalenderwoche.info/feiertage/1812
URL:https://kalenderwoche.info/feiertage/1812
CATEGORIES:Feiertag,Deutschland
TRANSP:TRANSPARENT
END:VEVENT
BEGIN:VEVENT
UID:feiertag-1812-4b9e7d97324e558fd24c90f4613dff58@kalenderwoche.info
DTSTAMP:20260423T213749Z
DTSTART;VALUE=DATE:18121003
DTEND;VALUE=DATE:18121004
SUMMARY:Tag der Deutschen Einheit
DESCRIPTION:Gesetzlicher Feiertag in Deutschland\nDatum: 03.10.1812\nWochentag: Samstag\nKalenderwoche: 40\nMehr unter: https://kalenderwoche.info/feiertage/1812
URL:https://kalenderwoche.info/feiertage/1812
CATEGORIES:Feiertag,Deutschland
TRANSP:TRANSPARENT
END:VEVENT
BEGIN:VEVENT
UID:feiertag-1812-aacf3168661fd18333a503eb91848c61@kalenderwoche.info
DTSTAMP:20260423T213749Z
DTSTART;VALUE=DATE:18121225
DTEND;VALUE=DATE:18121226
SUMMARY:1. Weihnachtstag
DESCRIPTION:Gesetzlicher Feiertag in Deutschland\nDatum: 25.12.1812\nWochentag: Freitag\nKalenderwoche: 52\nMehr unter: https://kalenderwoche.info/feiertage/1812
URL:https://kalenderwoche.info/feiertage/1812
CATEGORIES:Feiertag,Deutschland
TRANSP:TRANSPARENT
END:VEVENT
BEGIN:VEVENT
UID:feiertag-1812-294db9858a5e74c0cf3f0b9127e04e29@kalenderwoche.info
DTSTAMP:20260423T213749Z
DTSTART;VALUE=DATE:18121226
DTEND;VALUE=DATE:18121227
SUMMARY:2. Weihnachtstag
DESCRIPTION:Gesetzlicher Feiertag in Deutschland\nDatum: 26.12.1812\nWochentag: Samstag\nKalenderwoche: 52\nMehr unter: https://kalenderwoche.info/feiertage/1812
URL:https://kalenderwoche.info/feiertage/1812
CATEGORIES:Feiertag,Deutschland
TRANSP:TRANSPARENT
END:VEVENT
END:VCALENDAR
