BEGIN:VCALENDAR
VERSION:2.0
PRODID:-//kalenderwoche.info//Kalender//DE
CALSCALE:GREGORIAN
METHOD:PUBLISH
X-WR-CALNAME:Feiertage 1813 Deutschland
X-WR-CALDESC:Gesetzliche Feiertage Deutschland 1813
X-WR-TIMEZONE:Europe/Berlin
BEGIN:VEVENT
UID:feiertag-1813-7a61a0a76274d2f234c84e37fdbcc632@kalenderwoche.info
DTSTAMP:20260423T201028Z
DTSTART;VALUE=DATE:18130101
DTEND;VALUE=DATE:18130102
SUMMARY:Neujahr
DESCRIPTION:Gesetzlicher Feiertag in Deutschland\nDatum: 01.01.1813\nWochentag: Freitag\nKalenderwoche: 53\nMehr unter: https://kalenderwoche.info/feiertage/1813
URL:https://kalenderwoche.info/feiertage/1813
CATEGORIES:Feiertag,Deutschland
TRANSP:TRANSPARENT
END:VEVENT
BEGIN:VEVENT
UID:feiertag-1813-7bfc75b02ac1cad656c66d1112ecb054@kalenderwoche.info
DTSTAMP:20260423T201028Z
DTSTART;VALUE=DATE:18130416
DTEND;VALUE=DATE:18130417
SUMMARY:Karfreitag
DESCRIPTION:Gesetzlicher Feiertag in Deutschland\nDatum: 16.04.1813\nWochentag: Freitag\nKalenderwoche: 15\nMehr unter: https://kalenderwoche.info/feiertage/1813
URL:https://kalenderwoche.info/feiertage/1813
CATEGORIES:Feiertag,Deutschland
TRANSP:TRANSPARENT
END:VEVENT
BEGIN:VEVENT
UID:feiertag-1813-3a0d76a6d09e46face98457e0ae667d1@kalenderwoche.info
DTSTAMP:20260423T201028Z
DTSTART;VALUE=DATE:18130419
DTEND;VALUE=DATE:18130420
SUMMARY:Ostermontag
DESCRIPTION:Gesetzlicher Feiertag in Deutschland\nDatum: 19.04.1813\nWochentag: Montag\nKalenderwoche: 16\nMehr unter: https://kalenderwoche.info/feiertage/1813
URL:https://kalenderwoche.info/feiertage/1813
CATEGORIES:Feiertag,Deutschland
TRANSP:TRANSPARENT
END:VEVENT
BEGIN:VEVENT
UID:feiertag-1813-4a382c60d175c64e26e581ac404adb1c@kalenderwoche.info
DTSTAMP:20260423T201028Z
DTSTART;VALUE=DATE:18130501
DTEND;VALUE=DATE:18130502
SUMMARY:Tag der Arbeit
DESCRIPTION:Gesetzlicher Feiertag in Deutschland\nDatum: 01.05.1813\nWochentag: Samstag\nKalenderwoche: 17\nMehr unter: https://kalenderwoche.info/feiertage/1813
URL:https://kalenderwoche.info/feiertage/1813
CATEGORIES:Feiertag,Deutschland
TRANSP:TRANSPARENT
END:VEVENT
BEGIN:VEVENT
UID:feiertag-1813-d9ea857e13ef4fac55528f384419dd80@kalenderwoche.info
DTSTAMP:20260423T201028Z
DTSTART;VALUE=DATE:18130527
DTEND;VALUE=DATE:18130528
SUMMARY:Christi Himmelfahrt
DESCRIPTION:Gesetzlicher Feiertag in Deutschland\nDatum: 27.05.1813\nWochentag: Donnerstag\nKalenderwoche: 21\nMehr unter: https://kalenderwoche.info/feiertage/1813
URL:https://kalenderwoche.info/feiertage/1813
CATEGORIES:Feiertag,Deutschland
TRANSP:TRANSPARENT
END:VEVENT
BEGIN:VEVENT
UID:feiertag-1813-d9bc3f02503ad98ba6f059c190115421@kalenderwoche.info
DTSTAMP:20260423T201028Z
DTSTART;VALUE=DATE:18130607
DTEND;VALUE=DATE:18130608
SUMMARY:Pfingstmontag
DESCRIPTION:Gesetzlicher Feiertag in Deutschland\nDatum: 07.06.1813\nWochentag: Montag\nKalenderwoche: 23\nMehr unter: https://kalenderwoche.info/feiertage/1813
URL:https://kalenderwoche.info/feiertage/1813
CATEGORIES:Feiertag,Deutschland
TRANSP:TRANSPARENT
END:VEVENT
BEGIN:VEVENT
UID:feiertag-1813-4b9e7d97324e558fd24c90f4613dff58@kalenderwoche.info
DTSTAMP:20260423T201028Z
DTSTART;VALUE=DATE:18131003
DTEND;VALUE=DATE:18131004
SUMMARY:Tag der Deutschen Einheit
DESCRIPTION:Gesetzlicher Feiertag in Deutschland\nDatum: 03.10.1813\nWochentag: Sonntag\nKalenderwoche: 39\nMehr unter: https://kalenderwoche.info/feiertage/1813
URL:https://kalenderwoche.info/feiertage/1813
CATEGORIES:Feiertag,Deutschland
TRANSP:TRANSPARENT
END:VEVENT
BEGIN:VEVENT
UID:feiertag-1813-aacf3168661fd18333a503eb91848c61@kalenderwoche.info
DTSTAMP:20260423T201028Z
DTSTART;VALUE=DATE:18131225
DTEND;VALUE=DATE:18131226
SUMMARY:1. Weihnachtstag
DESCRIPTION:Gesetzlicher Feiertag in Deutschland\nDatum: 25.12.1813\nWochentag: Samstag\nKalenderwoche: 51\nMehr unter: https://kalenderwoche.info/feiertage/1813
URL:https://kalenderwoche.info/feiertage/1813
CATEGORIES:Feiertag,Deutschland
TRANSP:TRANSPARENT
END:VEVENT
BEGIN:VEVENT
UID:feiertag-1813-294db9858a5e74c0cf3f0b9127e04e29@kalenderwoche.info
DTSTAMP:20260423T201028Z
DTSTART;VALUE=DATE:18131226
DTEND;VALUE=DATE:18131227
SUMMARY:2. Weihnachtstag
DESCRIPTION:Gesetzlicher Feiertag in Deutschland\nDatum: 26.12.1813\nWochentag: Sonntag\nKalenderwoche: 51\nMehr unter: https://kalenderwoche.info/feiertage/1813
URL:https://kalenderwoche.info/feiertage/1813
CATEGORIES:Feiertag,Deutschland
TRANSP:TRANSPARENT
END:VEVENT
END:VCALENDAR
