BEGIN:VCALENDAR
VERSION:2.0
PRODID:-//kalenderwoche.info//Kalender//DE
CALSCALE:GREGORIAN
METHOD:PUBLISH
X-WR-CALNAME:Feiertage 1822 Deutschland
X-WR-CALDESC:Gesetzliche Feiertage Deutschland 1822
X-WR-TIMEZONE:Europe/Berlin
BEGIN:VEVENT
UID:feiertag-1822-7a61a0a76274d2f234c84e37fdbcc632@kalenderwoche.info
DTSTAMP:20260423T080539Z
DTSTART;VALUE=DATE:18220101
DTEND;VALUE=DATE:18220102
SUMMARY:Neujahr
DESCRIPTION:Gesetzlicher Feiertag in Deutschland\nDatum: 01.01.1822\nWochentag: Dienstag\nKalenderwoche: 1\nMehr unter: https://kalenderwoche.info/feiertage/1822
URL:https://kalenderwoche.info/feiertage/1822
CATEGORIES:Feiertag,Deutschland
TRANSP:TRANSPARENT
END:VEVENT
BEGIN:VEVENT
UID:feiertag-1822-7bfc75b02ac1cad656c66d1112ecb054@kalenderwoche.info
DTSTAMP:20260423T080539Z
DTSTART;VALUE=DATE:18220405
DTEND;VALUE=DATE:18220406
SUMMARY:Karfreitag
DESCRIPTION:Gesetzlicher Feiertag in Deutschland\nDatum: 05.04.1822\nWochentag: Freitag\nKalenderwoche: 14\nMehr unter: https://kalenderwoche.info/feiertage/1822
URL:https://kalenderwoche.info/feiertage/1822
CATEGORIES:Feiertag,Deutschland
TRANSP:TRANSPARENT
END:VEVENT
BEGIN:VEVENT
UID:feiertag-1822-3a0d76a6d09e46face98457e0ae667d1@kalenderwoche.info
DTSTAMP:20260423T080539Z
DTSTART;VALUE=DATE:18220408
DTEND;VALUE=DATE:18220409
SUMMARY:Ostermontag
DESCRIPTION:Gesetzlicher Feiertag in Deutschland\nDatum: 08.04.1822\nWochentag: Montag\nKalenderwoche: 15\nMehr unter: https://kalenderwoche.info/feiertage/1822
URL:https://kalenderwoche.info/feiertage/1822
CATEGORIES:Feiertag,Deutschland
TRANSP:TRANSPARENT
END:VEVENT
BEGIN:VEVENT
UID:feiertag-1822-4a382c60d175c64e26e581ac404adb1c@kalenderwoche.info
DTSTAMP:20260423T080539Z
DTSTART;VALUE=DATE:18220501
DTEND;VALUE=DATE:18220502
SUMMARY:Tag der Arbeit
DESCRIPTION:Gesetzlicher Feiertag in Deutschland\nDatum: 01.05.1822\nWochentag: Mittwoch\nKalenderwoche: 18\nMehr unter: https://kalenderwoche.info/feiertage/1822
URL:https://kalenderwoche.info/feiertage/1822
CATEGORIES:Feiertag,Deutschland
TRANSP:TRANSPARENT
END:VEVENT
BEGIN:VEVENT
UID:feiertag-1822-d9ea857e13ef4fac55528f384419dd80@kalenderwoche.info
DTSTAMP:20260423T080539Z
DTSTART;VALUE=DATE:18220516
DTEND;VALUE=DATE:18220517
SUMMARY:Christi Himmelfahrt
DESCRIPTION:Gesetzlicher Feiertag in Deutschland\nDatum: 16.05.1822\nWochentag: Donnerstag\nKalenderwoche: 20\nMehr unter: https://kalenderwoche.info/feiertage/1822
URL:https://kalenderwoche.info/feiertage/1822
CATEGORIES:Feiertag,Deutschland
TRANSP:TRANSPARENT
END:VEVENT
BEGIN:VEVENT
UID:feiertag-1822-d9bc3f02503ad98ba6f059c190115421@kalenderwoche.info
DTSTAMP:20260423T080539Z
DTSTART;VALUE=DATE:18220527
DTEND;VALUE=DATE:18220528
SUMMARY:Pfingstmontag
DESCRIPTION:Gesetzlicher Feiertag in Deutschland\nDatum: 27.05.1822\nWochentag: Montag\nKalenderwoche: 22\nMehr unter: https://kalenderwoche.info/feiertage/1822
URL:https://kalenderwoche.info/feiertage/1822
CATEGORIES:Feiertag,Deutschland
TRANSP:TRANSPARENT
END:VEVENT
BEGIN:VEVENT
UID:feiertag-1822-4b9e7d97324e558fd24c90f4613dff58@kalenderwoche.info
DTSTAMP:20260423T080539Z
DTSTART;VALUE=DATE:18221003
DTEND;VALUE=DATE:18221004
SUMMARY:Tag der Deutschen Einheit
DESCRIPTION:Gesetzlicher Feiertag in Deutschland\nDatum: 03.10.1822\nWochentag: Donnerstag\nKalenderwoche: 40\nMehr unter: https://kalenderwoche.info/feiertage/1822
URL:https://kalenderwoche.info/feiertage/1822
CATEGORIES:Feiertag,Deutschland
TRANSP:TRANSPARENT
END:VEVENT
BEGIN:VEVENT
UID:feiertag-1822-aacf3168661fd18333a503eb91848c61@kalenderwoche.info
DTSTAMP:20260423T080539Z
DTSTART;VALUE=DATE:18221225
DTEND;VALUE=DATE:18221226
SUMMARY:1. Weihnachtstag
DESCRIPTION:Gesetzlicher Feiertag in Deutschland\nDatum: 25.12.1822\nWochentag: Mittwoch\nKalenderwoche: 52\nMehr unter: https://kalenderwoche.info/feiertage/1822
URL:https://kalenderwoche.info/feiertage/1822
CATEGORIES:Feiertag,Deutschland
TRANSP:TRANSPARENT
END:VEVENT
BEGIN:VEVENT
UID:feiertag-1822-294db9858a5e74c0cf3f0b9127e04e29@kalenderwoche.info
DTSTAMP:20260423T080539Z
DTSTART;VALUE=DATE:18221226
DTEND;VALUE=DATE:18221227
SUMMARY:2. Weihnachtstag
DESCRIPTION:Gesetzlicher Feiertag in Deutschland\nDatum: 26.12.1822\nWochentag: Donnerstag\nKalenderwoche: 52\nMehr unter: https://kalenderwoche.info/feiertage/1822
URL:https://kalenderwoche.info/feiertage/1822
CATEGORIES:Feiertag,Deutschland
TRANSP:TRANSPARENT
END:VEVENT
END:VCALENDAR
