BEGIN:VCALENDAR
VERSION:2.0
PRODID:-//kalenderwoche.info//Kalender//DE
CALSCALE:GREGORIAN
METHOD:PUBLISH
X-WR-CALNAME:Feiertage 1823 Deutschland
X-WR-CALDESC:Gesetzliche Feiertage Deutschland 1823
X-WR-TIMEZONE:Europe/Berlin
BEGIN:VEVENT
UID:feiertag-1823-7a61a0a76274d2f234c84e37fdbcc632@kalenderwoche.info
DTSTAMP:20260423T065811Z
DTSTART;VALUE=DATE:18230101
DTEND;VALUE=DATE:18230102
SUMMARY:Neujahr
DESCRIPTION:Gesetzlicher Feiertag in Deutschland\nDatum: 01.01.1823\nWochentag: Mittwoch\nKalenderwoche: 1\nMehr unter: https://kalenderwoche.info/feiertage/1823
URL:https://kalenderwoche.info/feiertage/1823
CATEGORIES:Feiertag,Deutschland
TRANSP:TRANSPARENT
END:VEVENT
BEGIN:VEVENT
UID:feiertag-1823-7bfc75b02ac1cad656c66d1112ecb054@kalenderwoche.info
DTSTAMP:20260423T065811Z
DTSTART;VALUE=DATE:18230328
DTEND;VALUE=DATE:18230329
SUMMARY:Karfreitag
DESCRIPTION:Gesetzlicher Feiertag in Deutschland\nDatum: 28.03.1823\nWochentag: Freitag\nKalenderwoche: 13\nMehr unter: https://kalenderwoche.info/feiertage/1823
URL:https://kalenderwoche.info/feiertage/1823
CATEGORIES:Feiertag,Deutschland
TRANSP:TRANSPARENT
END:VEVENT
BEGIN:VEVENT
UID:feiertag-1823-3a0d76a6d09e46face98457e0ae667d1@kalenderwoche.info
DTSTAMP:20260423T065811Z
DTSTART;VALUE=DATE:18230331
DTEND;VALUE=DATE:18230401
SUMMARY:Ostermontag
DESCRIPTION:Gesetzlicher Feiertag in Deutschland\nDatum: 31.03.1823\nWochentag: Montag\nKalenderwoche: 14\nMehr unter: https://kalenderwoche.info/feiertage/1823
URL:https://kalenderwoche.info/feiertage/1823
CATEGORIES:Feiertag,Deutschland
TRANSP:TRANSPARENT
END:VEVENT
BEGIN:VEVENT
UID:feiertag-1823-4a382c60d175c64e26e581ac404adb1c@kalenderwoche.info
DTSTAMP:20260423T065811Z
DTSTART;VALUE=DATE:18230501
DTEND;VALUE=DATE:18230502
SUMMARY:Tag der Arbeit
DESCRIPTION:Gesetzlicher Feiertag in Deutschland\nDatum: 01.05.1823\nWochentag: Donnerstag\nKalenderwoche: 18\nMehr unter: https://kalenderwoche.info/feiertage/1823
URL:https://kalenderwoche.info/feiertage/1823
CATEGORIES:Feiertag,Deutschland
TRANSP:TRANSPARENT
END:VEVENT
BEGIN:VEVENT
UID:feiertag-1823-d9ea857e13ef4fac55528f384419dd80@kalenderwoche.info
DTSTAMP:20260423T065811Z
DTSTART;VALUE=DATE:18230508
DTEND;VALUE=DATE:18230509
SUMMARY:Christi Himmelfahrt
DESCRIPTION:Gesetzlicher Feiertag in Deutschland\nDatum: 08.05.1823\nWochentag: Donnerstag\nKalenderwoche: 19\nMehr unter: https://kalenderwoche.info/feiertage/1823
URL:https://kalenderwoche.info/feiertage/1823
CATEGORIES:Feiertag,Deutschland
TRANSP:TRANSPARENT
END:VEVENT
BEGIN:VEVENT
UID:feiertag-1823-d9bc3f02503ad98ba6f059c190115421@kalenderwoche.info
DTSTAMP:20260423T065811Z
DTSTART;VALUE=DATE:18230519
DTEND;VALUE=DATE:18230520
SUMMARY:Pfingstmontag
DESCRIPTION:Gesetzlicher Feiertag in Deutschland\nDatum: 19.05.1823\nWochentag: Montag\nKalenderwoche: 21\nMehr unter: https://kalenderwoche.info/feiertage/1823
URL:https://kalenderwoche.info/feiertage/1823
CATEGORIES:Feiertag,Deutschland
TRANSP:TRANSPARENT
END:VEVENT
BEGIN:VEVENT
UID:feiertag-1823-4b9e7d97324e558fd24c90f4613dff58@kalenderwoche.info
DTSTAMP:20260423T065811Z
DTSTART;VALUE=DATE:18231003
DTEND;VALUE=DATE:18231004
SUMMARY:Tag der Deutschen Einheit
DESCRIPTION:Gesetzlicher Feiertag in Deutschland\nDatum: 03.10.1823\nWochentag: Freitag\nKalenderwoche: 40\nMehr unter: https://kalenderwoche.info/feiertage/1823
URL:https://kalenderwoche.info/feiertage/1823
CATEGORIES:Feiertag,Deutschland
TRANSP:TRANSPARENT
END:VEVENT
BEGIN:VEVENT
UID:feiertag-1823-aacf3168661fd18333a503eb91848c61@kalenderwoche.info
DTSTAMP:20260423T065811Z
DTSTART;VALUE=DATE:18231225
DTEND;VALUE=DATE:18231226
SUMMARY:1. Weihnachtstag
DESCRIPTION:Gesetzlicher Feiertag in Deutschland\nDatum: 25.12.1823\nWochentag: Donnerstag\nKalenderwoche: 52\nMehr unter: https://kalenderwoche.info/feiertage/1823
URL:https://kalenderwoche.info/feiertage/1823
CATEGORIES:Feiertag,Deutschland
TRANSP:TRANSPARENT
END:VEVENT
BEGIN:VEVENT
UID:feiertag-1823-294db9858a5e74c0cf3f0b9127e04e29@kalenderwoche.info
DTSTAMP:20260423T065811Z
DTSTART;VALUE=DATE:18231226
DTEND;VALUE=DATE:18231227
SUMMARY:2. Weihnachtstag
DESCRIPTION:Gesetzlicher Feiertag in Deutschland\nDatum: 26.12.1823\nWochentag: Freitag\nKalenderwoche: 52\nMehr unter: https://kalenderwoche.info/feiertage/1823
URL:https://kalenderwoche.info/feiertage/1823
CATEGORIES:Feiertag,Deutschland
TRANSP:TRANSPARENT
END:VEVENT
END:VCALENDAR
