BEGIN:VCALENDAR
VERSION:2.0
PRODID:-//kalenderwoche.info//Kalender//DE
CALSCALE:GREGORIAN
METHOD:PUBLISH
X-WR-CALNAME:Feiertage 1824 Deutschland
X-WR-CALDESC:Gesetzliche Feiertage Deutschland 1824
X-WR-TIMEZONE:Europe/Berlin
BEGIN:VEVENT
UID:feiertag-1824-7a61a0a76274d2f234c84e37fdbcc632@kalenderwoche.info
DTSTAMP:20260423T052635Z
DTSTART;VALUE=DATE:18240101
DTEND;VALUE=DATE:18240102
SUMMARY:Neujahr
DESCRIPTION:Gesetzlicher Feiertag in Deutschland\nDatum: 01.01.1824\nWochentag: Donnerstag\nKalenderwoche: 1\nMehr unter: https://kalenderwoche.info/feiertage/1824
URL:https://kalenderwoche.info/feiertage/1824
CATEGORIES:Feiertag,Deutschland
TRANSP:TRANSPARENT
END:VEVENT
BEGIN:VEVENT
UID:feiertag-1824-7bfc75b02ac1cad656c66d1112ecb054@kalenderwoche.info
DTSTAMP:20260423T052635Z
DTSTART;VALUE=DATE:18240416
DTEND;VALUE=DATE:18240417
SUMMARY:Karfreitag
DESCRIPTION:Gesetzlicher Feiertag in Deutschland\nDatum: 16.04.1824\nWochentag: Freitag\nKalenderwoche: 16\nMehr unter: https://kalenderwoche.info/feiertage/1824
URL:https://kalenderwoche.info/feiertage/1824
CATEGORIES:Feiertag,Deutschland
TRANSP:TRANSPARENT
END:VEVENT
BEGIN:VEVENT
UID:feiertag-1824-3a0d76a6d09e46face98457e0ae667d1@kalenderwoche.info
DTSTAMP:20260423T052635Z
DTSTART;VALUE=DATE:18240419
DTEND;VALUE=DATE:18240420
SUMMARY:Ostermontag
DESCRIPTION:Gesetzlicher Feiertag in Deutschland\nDatum: 19.04.1824\nWochentag: Montag\nKalenderwoche: 17\nMehr unter: https://kalenderwoche.info/feiertage/1824
URL:https://kalenderwoche.info/feiertage/1824
CATEGORIES:Feiertag,Deutschland
TRANSP:TRANSPARENT
END:VEVENT
BEGIN:VEVENT
UID:feiertag-1824-4a382c60d175c64e26e581ac404adb1c@kalenderwoche.info
DTSTAMP:20260423T052635Z
DTSTART;VALUE=DATE:18240501
DTEND;VALUE=DATE:18240502
SUMMARY:Tag der Arbeit
DESCRIPTION:Gesetzlicher Feiertag in Deutschland\nDatum: 01.05.1824\nWochentag: Samstag\nKalenderwoche: 18\nMehr unter: https://kalenderwoche.info/feiertage/1824
URL:https://kalenderwoche.info/feiertage/1824
CATEGORIES:Feiertag,Deutschland
TRANSP:TRANSPARENT
END:VEVENT
BEGIN:VEVENT
UID:feiertag-1824-d9ea857e13ef4fac55528f384419dd80@kalenderwoche.info
DTSTAMP:20260423T052635Z
DTSTART;VALUE=DATE:18240527
DTEND;VALUE=DATE:18240528
SUMMARY:Christi Himmelfahrt
DESCRIPTION:Gesetzlicher Feiertag in Deutschland\nDatum: 27.05.1824\nWochentag: Donnerstag\nKalenderwoche: 22\nMehr unter: https://kalenderwoche.info/feiertage/1824
URL:https://kalenderwoche.info/feiertage/1824
CATEGORIES:Feiertag,Deutschland
TRANSP:TRANSPARENT
END:VEVENT
BEGIN:VEVENT
UID:feiertag-1824-d9bc3f02503ad98ba6f059c190115421@kalenderwoche.info
DTSTAMP:20260423T052635Z
DTSTART;VALUE=DATE:18240607
DTEND;VALUE=DATE:18240608
SUMMARY:Pfingstmontag
DESCRIPTION:Gesetzlicher Feiertag in Deutschland\nDatum: 07.06.1824\nWochentag: Montag\nKalenderwoche: 24\nMehr unter: https://kalenderwoche.info/feiertage/1824
URL:https://kalenderwoche.info/feiertage/1824
CATEGORIES:Feiertag,Deutschland
TRANSP:TRANSPARENT
END:VEVENT
BEGIN:VEVENT
UID:feiertag-1824-4b9e7d97324e558fd24c90f4613dff58@kalenderwoche.info
DTSTAMP:20260423T052635Z
DTSTART;VALUE=DATE:18241003
DTEND;VALUE=DATE:18241004
SUMMARY:Tag der Deutschen Einheit
DESCRIPTION:Gesetzlicher Feiertag in Deutschland\nDatum: 03.10.1824\nWochentag: Sonntag\nKalenderwoche: 40\nMehr unter: https://kalenderwoche.info/feiertage/1824
URL:https://kalenderwoche.info/feiertage/1824
CATEGORIES:Feiertag,Deutschland
TRANSP:TRANSPARENT
END:VEVENT
BEGIN:VEVENT
UID:feiertag-1824-aacf3168661fd18333a503eb91848c61@kalenderwoche.info
DTSTAMP:20260423T052635Z
DTSTART;VALUE=DATE:18241225
DTEND;VALUE=DATE:18241226
SUMMARY:1. Weihnachtstag
DESCRIPTION:Gesetzlicher Feiertag in Deutschland\nDatum: 25.12.1824\nWochentag: Samstag\nKalenderwoche: 52\nMehr unter: https://kalenderwoche.info/feiertage/1824
URL:https://kalenderwoche.info/feiertage/1824
CATEGORIES:Feiertag,Deutschland
TRANSP:TRANSPARENT
END:VEVENT
BEGIN:VEVENT
UID:feiertag-1824-294db9858a5e74c0cf3f0b9127e04e29@kalenderwoche.info
DTSTAMP:20260423T052635Z
DTSTART;VALUE=DATE:18241226
DTEND;VALUE=DATE:18241227
SUMMARY:2. Weihnachtstag
DESCRIPTION:Gesetzlicher Feiertag in Deutschland\nDatum: 26.12.1824\nWochentag: Sonntag\nKalenderwoche: 52\nMehr unter: https://kalenderwoche.info/feiertage/1824
URL:https://kalenderwoche.info/feiertage/1824
CATEGORIES:Feiertag,Deutschland
TRANSP:TRANSPARENT
END:VEVENT
END:VCALENDAR
